{"text_format":"1","workbook":"xlsx","n_sheets":3,"sheets":["Test File","Sheet1","Conversion Factors"],"not_rendered":{"charts":0,"images":0,"macros":0,"external_links":1,"defined_names":3,"comments":0,"pivot_tables":0},"unopened":[],"bounds":{"document_bytes":16777216,"sheet_cells":100000,"rows_first":2000,"rows_last":500,"rows_between":2000,"halvings":0,"cell_chars":16384,"cell_head_chars":4096},"cells_cut":0,"cells_raw":0,"read":"whole","date_system":"1900"}

{"sheet":"Test File","index":0,"n_rows":55,"n_cols":69,"rows_kept":55,"cut":false,"hidden":false,"merged":[[51,10,53,22],[54,10,56,22],[11,29,11,30],[10,40,10,46],[49,14,49,22],[48,14,48,19],[10,22,10,23],[42,0,42,2],[43,0,43,2],[44,0,44,2],[45,8,45,13],[47,14,47,22],[41,0,41,2],[30,0,30,2],[31,0,31,2],[32,0,32,2],[33,0,33,2],[34,0,34,2],[35,0,35,2],[36,0,36,2],[37,0,37,2],[38,0,38,2],[39,0,39,2],[40,0,40,2],[29,0,29,2],[10,0,10,3],[10,4,10,5],[10,6,10,17],[16,0,16,2],[23,0,23,2],[18,0,18,2],[19,0,19,2],[20,0,20,2],[21,0,21,2],[22,0,22,2],[12,0,12,3],[13,0,13,2],[14,0,14,2],[15,0,15,2],[28,0,28,2],[17,0,17,2],[24,0,24,2],[25,0,25,2],[26,0,26,2],[27,0,27,2],[0,0,0,22],[1,0,1,22],[3,0,3,23],[5,2,5,7],[5,8,5,13],[5,14,5,19],[11,0,11,2],[6,2,6,7],[6,8,6,13],[6,14,6,19],[7,2,7,7],[7,8,7,13],[7,14,7,19],[10,18,10,21]]}
["Mississippi State University"]
["Non-Exempt Employee Semi-Monthly Time Report"]
[]
["Instructions:  The Fair Labor Standards Act requires that a record of hours worked on a weekly basis be maintained for all employees except executive, administrative, managerial, faculty, and professional (non-faculty).  Department/unit heads are responsible for compiling and maintaining this record in department files on each covered employee for a period of at least (3) years."]
[]
["MSU ID #:",null,null,null,null,null,null,null,"Pay period start date:",null,null,null,null,null,"2018-07-01",null,null,null,null,null,null,null,null,null,null,{"$f":"TEXT(O6,\"dddd\")","v":"Sunday"},null,null,null,"Please Select"]
["Name:",null,null,null,null,null,null,null,"Pay period end date:",null,null,null,null,null,"2019-07-28",null,null,null,null,null,null,null,null,null,null,null,null,null,null,"No"]
["Department:",null,null,null,null,null,null,null,"Pay Period Number:",null,null,null,null,null,13,null,null,null,null,null,null,null,null,null,null,null,null,null,null,"Yes"]
[]
[]
["Employee Scheduled Hours Per Week",null,null,null,40,null,"FIELDS MUST BE ENTERED FOR CALULATIONS TO WORK PROPERLY",null,null,null,null,null,null,null,null,null,null,null,"Receive Compensatory Time",null,null,null,"Yes",null,null,null,null,null,null,null,null,null,null,null,"Over 40",null,null,null,null,null,"HOW ANALYSIS"]
["Work Week Dates",null,null,"Day of The Week","Actual Hours Worked","Compensatory Time Used","Holiday","Medical Leave","Personal Leave","Actual Wrk Hrs During  Admin Close Period","Administrative Closing/Leave Period","Jury Duty","Military Leave","Leave Without Pay","Totals","DOC-Payroll Conversion","RTO","RTO-Payroll Conversion","Overtime Hours","Hours Transferred to Comp. Record","HOW-Holiday Pay or Admin/Leave Closing","HOT-Holiday Pay","SST-Payroll","Conversion Factor",null,8,"DOC","RTO",null,"SST",null,null,null,"Cumm Actual HRS",40,"Administrative Leave","HOW-Holiday Pay","Comp. Time","Administrative/Schedule",null,"Holiday=0\n1",2,3,4,null,"<=40\n5",null,"HOT Workup","HOT-Holiday Pay (HOLIDAY PAY)",null,"HOT-Administrative HRS","Administrative=0\n1",2,3,4,null,"<=40\n5",null,null,"Holiday Flag","Up to 40","How","Hot","Actual Hours Worked","Admin Flag","Admin","Admin HOW","Admin OVT"]
["Hours-Previous WK (Due to Split WK)",null,null,null,null,null,null,null,null,null,null,null,null,null,null,null,null,null,null,null,null,null,null,null,null,null,null,null,null,null,null,null,null,null,null,{"$f":"IF(AND(AM13=0,J13=0),AM13,IF(AND(E13>AM13,J13=0),J13,IF(AND(J13<AM13,AI13=0),J13,IF(AND(AM13=J13,AI13<AM13),AM13-AI13,IF(AND(J13=AM13,AI13=AM13),AI13,IF(AND(J13<AM13,AI13>0),AM13-J13,IF(AND(AM13>J13,AI13<E13),E13-AI13,IF(AND(E13>AM13,AI13=E13),O13-AI13,0))))))))","v":0},{"$f":"IF(AND(G13=0,E13>G13),G13,IF(AND(E13>G13,AI13=0),G13,IF(AND(E13<G13,AI13=0),E13,IF(AND(E13=G13,AI13<G13),G13-AI13,IF(AND(E13=G13,AI13=G13),AI13,IF(AND(E13<G13,AI13>0),G13-E13,IF(AND(E13>G13,AI13<E13),E13-AI13,IF(AND(E13>G13,AI13=E13),O13-AI13,0))))))))","v":0},null,{"$f":"K13","v":0}]
[{"$f":"IF(EXACT(D14,$Z$6)=TRUE,$O$6,IF(A12=0,\"\",IF(A12<$O$7,A12+1,IF(A12=$O$7,\"\"))))","v":"2018-07-01"},null,null,"Sunday",null,null,null,null,null,null,null,null,null,null,{"$f":"SUM(E14:N14)-J14","v":0},{"$f":"IF(AND(ISNUMBER(AA14),ISNUMBER(X14)),AA14*X14,\"\")","v":""},null,{"$f":"IF(AND(ISNUMBER(AB14),ISNUMBER(X14)),AB14*X14,\"\")","v":""},null,null,{"$f":"IF(BJ14>0,BJ14,BN14)","v":0},{"$f":"IF(BK14>0,BK14,0)","v":0},null,{"$f":"IF(ISNA(INDEX('Conversion Factors'!$B$6:$B$374,MATCH('Test File'!$A$14:$A$44,'Conversion Factors'!$A$6:$A$374,0))),\"\",INDEX('Conversion Factors'!$B$6:$B$374,MATCH('Test File'!$A$14:$A$44,'Conversion Factors'!$A$6:$A$374,0)))","v":""},null,{"$f":"A14","v":"2018-07-01"},{"$f":"IF(AND(ISNUMBER(N14),ISNUMBER($Z$12)),N14/$Z$12,\"\")","v":""},{"$f":"IF(AND(ISNUMBER(Q14),ISNUMBER($Z$12)),Q14/$Z$12,\"\")","v":""},null,null,null,null,null,{"$f":"E14","v":0},{"$f":"IF(AH14>$AI$12,AH14-$AI$12,0)","v":0},{"$f":"IF(AND(AZ14>0,AZ14),IF(BA14>0,BA14,IF(BB14>0,BB14,IF(BC14>0,BC14,IF(BF14>0,BF14,\"\")))))","v":false},{"$f":"IF(AND(AO14>0,AO14),IF(AP14>0,AP14,IF(AQ14>0,AQ14,IF(AR14>0,AR14,IF(AU14>0,AU14,\"\")))))","v":false},null,{"$f":"J14","v":0},null,{"$f":"IF(G14=0,0,\"\")","v":0},{"$f":"IF(AND(AH14<=40,E14=G14),G14,0)","v":0},{"$f":"IF(AND(AH14<=40,E14>=G14,G14>0),O14-E14,0)","v":0},{"$f":"IF(AND(AH14<=40,E14<G14),O14-G14,0)","v":0},{"$f":"IF(AND(G14=0),G14,IF(AND(G14>0,AI14>0,G14=AT14),AT14,IF(AND(G14>0,AI14>0,G14-AT14),AT14,0)))","v":0},null,{"$f":"AS14","v":0},{"$f":"IF(AND(AH13+AU14=40,AI14>0,AI14>AU14),AI14-AU14,IF(AND(AH13+AU14=40,AI14>0,AI14<AU14,AU14+AI14=G14),AI14,IF(AND(AH13>40,AH14>40,G14=AI14),AI14,0)))","v":0},{"$f":"AV14","v":0},null,{"$f":"IF(AND(J14>0,AI14>=J14,BB14=0),O14-AI14,IF(AND(J14>0,AI14>0,BB14<=AI14),AI14-BB14,IF(AND(J14>0,AI14>0,BB14>AI14),J14-BB14,0)))","v":0},{"$f":"IF(J14=0,0,\"\")","v":0},{"$f":"IF(AND(AH14<=40,E14=J14),J14,0)","v":0},{"$f":"IF(AND(AZ14=0),AZ14,IF(AND(AH14>40,E14>=J14),BE14,IF(AND(AH14<=40,E14>J14),J14,0)))","v":0},{"$f":"IF(AND(AH14<=40,E14<J14),O14-J14,0)","v":0},{"$f":"IF(AND(J14=0),J14,IF(AND(J14>0,AI14>0,J14=BC14),BC14,IF(AND(J14>0,AI14>0,J14-BC14),BC14,0)))","v":0},null,{"$f":"BD14","v":0},null,{"$f":"IF(AND(G14>0,E14>0),1,0)","v":0},{"$f":"40-AH14","v":40},{"$f":"IF(AND(BH14=1,40-BL13>0,40-BL13<8),40-BL13,IF(AND(E14<G14),E14,G14))","v":0},{"$f":"IF(AND(BH14=1,BL14>40,E14<G14),E14-BJ14,(IF(AND(BH14=1,BL14>0,E14>=G14),G14-BJ14,0)))","v":0},{"$f":"SUM(E13:E14)","v":0},{"$f":"IF(AND(K14>0,E14>0),1,0)","v":0},{"$f":"IF(AND(BM14=1,J14>8),K14,(IF(AND(BM14=1,J14>0),J14,0)))","v":0},{"$f":"IF(AND(BM14=1,40-BL13>0,40-BL13<8),40-BL13,IF(AND(J14<K14),J14,K14))","v":0},{"$f":"IF(AND(BM14=1,BL14>40,J14<=K14),J14-BO14,IF(AND(BM14=1,BL14>0,J14>K14),K14-BO14,0))","v":0}]
[{"$f":"IF(EXACT(D15,$Z$6)=TRUE,$O$6,IF(A14=0,\"\",IF(A14<$O$7,A14+1,IF(A14=$O$7,\"\"))))","v":"2018-07-02"},null,null,"Monday",null,null,null,null,null,0,null,null,null,null,{"$f":"SUM(E15:N15)-J15","v":0},{"$f":"IF(AND(ISNUMBER(AA15),ISNUMBER(X15)),AA15*X15,\"\")","v":""},null,{"$f":"IF(AND(ISNUMBER(AB15),ISNUMBER(X15)),AB15*X15,\"\")","v":""},null,null,{"$f":"IF(BJ15>0,BJ15,BN15)","v":0},{"$f":"IF(BK15>0,BK15,0)","v":0},null,{"$f":"IF(ISNA(INDEX('Conversion Factors'!$B$6:$B$374,MATCH('Test File'!$A$14:$A$44,'Conversion Factors'!$A$6:$A$374,0))),\"\",INDEX('Conversion Factors'!$B$6:$B$374,MATCH('Test File'!$A$14:$A$44,'Conversion Factors'!$A$6:$A$374,0)))","v":""},null,"2018-07-02","","",null,null,null,null,null,{"$f":"E15+AH14","v":0},{"$f":"IF(AH15>$AI$12,AH15-($AI$12+AI14),0)","v":0},{"$f":"IF(AND(AZ15>0,AZ15),IF(BA15>0,BA15,IF(BB15>0,BB15,IF(BC15>0,BC15,IF(BF15>0,BF15,\"\")))))","v":false},{"$f":"IF(AND(AO15>0,AO15),IF(AP15>0,AP15,IF(AQ15>0,AQ15,IF(AR15>0,AR15,IF(AU15>0,AU15,0)))))","v":false},null,0,null,0,0,0,0,0,{"$f":"IF(AND(AH14<=40),40-AH14,0)","v":40},{"$f":"AS15","v":0},0,{"$f":"AV15","v":0},null,0,0,0,0,0,0,{"$f":"IF(AND(AH14<=40),40-AH14,0)","v":40},{"$f":"BD15","v":0},null,{"$f":"IF(AND(G15>0,E15>0),1,0)","v":0},40,0,0,{"$f":"SUM(E13:E15)","v":0},{"$f":"IF(AND(K15>0,E15>0),1,0)","v":0},{"$f":"IF(AND(BM15=1,J15>8),K15,(IF(AND(BM15=1,J15>0),J15,0)))","v":0},0,0]
["2018-07-03",null,null,"Tuesday",null,null,null,null,null,0,null,null,null,null,{"$f":"SUM(E16:N16)-J16","v":0},"",null,"",null,null,{"$f":"IF(BJ16>0,BJ16,BN16)","v":0},0,null,{"$f":"IF(ISNA(INDEX('Conversion Factors'!$B$6:$B$374,MATCH('Test File'!$A$14:$A$44,'Conversion Factors'!$A$6:$A$374,0))),\"\",INDEX('Conversion Factors'!$B$6:$B$374,MATCH('Test File'!$A$14:$A$44,'Conversion Factors'!$A$6:$A$374,0)))","v":""},null,"2018-07-03","","",null,null,null,null,null,0,{"$f":"IF(AH16>$AI$12,AH16-($AI$12+AI15+AI14),0)","v":0},false,false,null,0,null,0,0,0,0,0,40,0,0,0,null,0,0,0,0,0,0,{"$f":"IF(AND(AH15<=40),40-AH15,0)","v":40},0,null,{"$f":"IF(AND(G16>0,E16>0),1,0)","v":0},40,0,0,{"$f":"SUM(E13:E16)","v":0},0,{"$f":"IF(AND(BM16=1,J16>8),K16,(IF(AND(BM16=1,J16>0),J16,0)))","v":0},{"$f":"IF(AND(BM16=1,40-BL15>0,40-BL15<8),40-BL15,IF(AND(J16<K16),J16,K16))","v":0},0]
["2018-07-04",null,null,"Wednesday",null,null,null,null,null,0,null,null,null,null,0,"",null,"",null,null,0,0,null,{"$f":"IF(ISNA(INDEX('Conversion Factors'!$B$6:$B$374,MATCH('Test File'!$A$14:$A$44,'Conversion Factors'!$A$6:$A$374,0))),\"\",INDEX('Conversion Factors'!$B$6:$B$374,MATCH('Test File'!$A$14:$A$44,'Conversion Factors'!$A$6:$A$374,0)))","v":""},null,"2018-07-04","","",null,null,null,null,null,0,{"$f":"IF(AH17>$AI$12,AH17-($AI$12+AI16+AI15+AI14),0)","v":0},false,false,null,0,null,0,0,0,0,0,40,0,0,0,null,0,0,0,0,0,0,40,0,null,0,40,0,0,{"$f":"SUM(E13:E17)","v":0},0,{"$f":"IF(AND(BM17=1,J17>8),K17,(IF(AND(BM17=1,J17>0),J17,0)))","v":0},{"$f":"IF(AND(BM17=1,40-BL16>0,40-BL16<8),40-BL16,IF(AND(J17<K17),J17,K17))","v":0},0]
["2018-07-05",null,null,"Thursday",null,null,null,null,null,0,null,null,null,null,0,"",null,"",null,null,0,0,null,{"$f":"IF(ISNA(INDEX('Conversion Factors'!$B$6:$B$374,MATCH('Test File'!$A$14:$A$44,'Conversion Factors'!$A$6:$A$374,0))),\"\",INDEX('Conversion Factors'!$B$6:$B$374,MATCH('Test File'!$A$14:$A$44,'Conversion Factors'!$A$6:$A$374,0)))","v":""},null,"2018-07-05","","",null,null,null,null,null,0,{"$f":"IF(AH18>$AI$12,AH18-($AI$12+AI17+AI16+AI15+AI14),0)","v":0},false,false,null,0,null,0,0,0,0,0,{"$f":"IF(AND(AH17<=40),40-AH17,0)","v":40},0,0,0,null,0,0,0,0,0,0,40,0,null,0,40,0,0,{"$f":"SUM(E13:E18)","v":0},0,0,0,0]
["2018-07-06",null,null,"Friday",null,null,null,null,null,0,null,null,null,null,0,"",null,"",null,null,0,0,null,{"$f":"IF(ISNA(INDEX('Conversion Factors'!$B$6:$B$374,MATCH('Test File'!$A$14:$A$44,'Conversion Factors'!$A$6:$A$374,0))),\"\",INDEX('Conversion Factors'!$B$6:$B$374,MATCH('Test File'!$A$14:$A$44,'Conversion Factors'!$A$6:$A$374,0)))","v":""},null,"2018-07-06","","",null,null,null,null,null,0,{"$f":"IF(AH19>$AI$12,AH19-($AI$12+AI18+AI17+AI16+AI15+AI14),0)","v":0},false,false,null,0,null,0,0,0,0,0,{"$f":"IF(AND(AH18<=40),40-AH18,0)","v":40},0,0,0,null,0,0,0,0,0,0,40,0,null,0,40,0,0,{"$f":"SUM(E13:E19)","v":0},0,0,0,{"$f":"IF(AND(BM19=1,BL19>40,J19<=K19),J19-BO19,IF(AND(BM19=1,BL19>0,J19>K19),K19-BO19,0))","v":0}]
["2018-07-07",null,null,"Saturday",0,null,null,null,null,null,null,null,null,null,{"$f":"SUM(E20:N20)-J20","v":0},"",null,"",null,null,0,0,null,{"$f":"IF(ISNA(INDEX('Conversion Factors'!$B$6:$B$374,MATCH('Test File'!$A$14:$A$44,'Conversion Factors'!$A$6:$A$374,0))),\"\",INDEX('Conversion Factors'!$B$6:$B$374,MATCH('Test File'!$A$14:$A$44,'Conversion Factors'!$A$6:$A$374,0)))","v":""},null,"2018-07-07","","",null,null,null,null,null,0,{"$f":"IF(AH20>$AI$12,AH20-($AI$12+AI19+AI18+AI17+AI16+AI15+AI14),0)","v":0},false,false,null,0,null,0,0,0,0,0,40,0,0,0,null,0,0,0,0,0,0,40,0,null,0,40,0,0,{"$f":"SUM(E13:E20)","v":0},0,0,0,{"$f":"IF(AND(BM20=1,BL20>40,J20<=K20),J20-BO20,IF(AND(BM20=1,BL20>0,J20>K20),K20-BO20,0))","v":0}]
["Week 1 Totals",null,null,null,{"$f":"SUM(E14:E20)","v":0},{"$f":"SUM(F14:F20)","v":0},0,0,0,null,0,0,0,0,{"$f":"SUM(O14:O20)","v":0},{"$f":"-SUM(P14:P20)","v":0},{"$f":"SUM(Q14:Q20)","v":0},{"$f":"SUM(R14:R20)","v":0},{"$f":"IF(E21>40,(E21-40)-V21-BP21,0)","v":0},{"$f":"MROUND(AL21,0.25)","v":0},{"$f":"SUM(U14:U20)","v":0},{"$f":"SUM(V14:V20)","v":0},{"$f":"IF(E21-(E11-(G21+K21+F21+H21+I21+L21+M21))-(S21+U21+V21)>0,E21-(E11-(G21+K21+F21+H21+I21+L21+M21))-(S21+U21+V21),0)","v":0},null,null,null,null,null,{"$f":"SUM(F21:N21)","v":0},{"$f":"IF(AND(AG21<40,O21>=AG21),O21-(AG21+S21),IF(AND(O21<AG21,E21=O21),O21-E21,IF(AND(E21>AG21,E21<40),E21-AG21,IF(AND(O21>AG21,E21<AG21),E21-(AG21-AC21),IF(AND(O21>AG21,E21>40),E21-(AG21-AC21+S21),IF(AND(O21>AG21,O21>40),O21-(S21+AG21),0))))))","v":0},{"$f":"AD21-U21-V21","v":0},{"$f":"$W$11","v":"Yes"},{"$f":"$E$11","v":40},null,{"$f":"IF(AH21>$AI$12,-$AI$12,0)","v":0},null,null,{"$f":"IF(AF21=\"Yes\",S21*1.5,0)","v":0},null,null,null,null,null,null,null,null,null,null,null,null,null,null,null,null,null,null,null,null,null,null,null,null,null,null,null,null,null,{"$f":"SUM(BP14:BP20)","v":0},{"$f":"E11+U21","v":40}]
[{"$f":"IF(A20=0,\"\",IF(A20<$O$7,A20+1,IF(A20=$O$7,\"\")))","v":"2018-07-08"},null,null,"Sunday",0,null,null,null,null,null,null,null,null,null,{"$f":"SUM(E22:N22)-J22","v":0},{"$f":"IF(AND(ISNUMBER(AA22),ISNUMBER(X22)),AA22*X22,\"\")","v":""},null,{"$f":"IF(AND(ISNUMBER(AB22),ISNUMBER(X22)),AB22*X22,\"\")","v":""},null,null,0,{"$f":"IF(BK22>0,BK22,0)","v":0},null,{"$f":"IF(ISNA(INDEX('Conversion Factors'!$B$6:$B$374,MATCH('Test File'!$A$14:$A$44,'Conversion Factors'!$A$6:$A$374,0))),\"\",INDEX('Conversion Factors'!$B$6:$B$374,MATCH('Test File'!$A$14:$A$44,'Conversion Factors'!$A$6:$A$374,0)))","v":""},null,{"$f":"A22","v":"2018-07-08"},{"$f":"IF(AND(ISNUMBER(N22),ISNUMBER($Z$12)),N22/$Z$12,\"\")","v":""},{"$f":"IF(AND(ISNUMBER(Q22),ISNUMBER($Z$12)),Q22/$Z$12,\"\")","v":""},null,null,null,null,null,{"$f":"E22+AH21","v":0},{"$f":"IF(AH22>$AI$12,AH22-($AI$12+AI21),0)","v":0},{"$f":"IF(AND(AZ22>0,AZ22),IF(BA22>0,BA22,IF(BB22>0,BB22,IF(BC22>0,BC22,IF(BF22>0,BF22,\"\")))))","v":false},{"$f":"IF(AND(AO22>0,AO22),IF(AP22>0,AP22,IF(AQ22>0,AQ22,IF(AR22>0,AR22,IF(AU22>0,AU22,\"\")))))","v":false},null,{"$f":"J22","v":0},null,{"$f":"IF(G22=0,0,\"\")","v":0},{"$f":"IF(AND(AH22<=40,E22=G22),G22,0)","v":0},{"$f":"IF(AND(AH22<=40,E22>=G22,G22>0),O22-E22,0)","v":0},{"$f":"IF(AND(AH22<=40,E22<G22),O22-G22,0)","v":0},{"$f":"IF(AND(G22=0),G22,IF(AND(G22>0,AI22>0,G22=AT22),AT22,IF(AND(G22>0,AI22>0,G22-AT22),AT22,0)))","v":0},null,{"$f":"AS22","v":0},{"$f":"IF(AND(AH21+AU22=40,AI22>0,AI22>AU22),AI22-AU22,IF(AND(AH21+AU22=40,AI22>0,AI22<AU22,AU22+AI22=G22),AI22,IF(AND(AH21>40,AH22>40,G22=AI22),AI22,0)))","v":0},{"$f":"AV22","v":0},null,{"$f":"IF(AND(J22>0,AI22>0,BB22<=AI22),AI22-BB22,IF(AND(J22>0,AI22>0,BB22>AI22),J22-BB22,0))","v":0},{"$f":"IF(J22=0,0,\"\")","v":0},{"$f":"IF(AND(AH22<=40,E22=J22),J22,0)","v":0},{"$f":"IF(AND(AZ22=0),AZ22,IF(AND(AH22>40,E22>=J22),BE22,IF(AND(AH22<=40,E22>J22),J22,0)))","v":0},{"$f":"IF(AND(AH22<=40,E22<J22),O22-J22,0)","v":0},{"$f":"IF(AND(J22=0),J22,IF(AND(J22>0,AI22>0,J22=BC22),BC22,IF(AND(J22>0,AI22>0,J22-BC22),BC22,0)))","v":0},null,{"$f":"BD22","v":0},null,{"$f":"IF(AND(G22>0,E22>0),1,0)","v":0},{"$f":"40-AH22","v":40},{"$f":"IF(AND(BH22=1,40-BL21>0,40-BL21<8),40-BL21,IF(AND(E22<G22),E22,G22))","v":0},{"$f":"IF(AND(BH22=1,BL22>40,E22<G22),E22-BJ22,(IF(AND(BH22=1,BL22>0,E22>=G22),G22-BJ22,0)))","v":0},{"$f":"E22","v":0},{"$f":"IF(AND(K22>0,E22>0),1,0)","v":0},{"$f":"IF(AND(BM22=1,J22>8),K22,(IF(AND(BM22=1,J22>0),J22,0)))","v":0},{"$f":"IF(AND(BM22=1,40-BL21>0,40-BL21<8),40-BL21,IF(AND(J22<K22),J22,K22))","v":0},{"$f":"IF(AND(BM22=1,BL22>40,J22<=K22),J22-BO22,IF(AND(BM22=1,BL22>0,J22>K22),K22-BO22,0))","v":0}]
[{"$f":"IF(A22<$O$7,A22+1,IF(A22=$O$7,\"\"))","v":"2018-07-09"},null,null,"Monday",null,null,null,null,null,null,null,null,null,null,{"$f":"SUM(E23:N23)-J23","v":0},{"$f":"IF(AND(ISNUMBER(AA23),ISNUMBER(X23)),AA23*X23,\"\")","v":""},null,{"$f":"IF(AND(ISNUMBER(AB23),ISNUMBER(X23)),AB23*X23,\"\")","v":""},null,null,0,{"$f":"IF(BK23>0,BK23,0)","v":0},null,{"$f":"IF(ISNA(INDEX('Conversion Factors'!$B$6:$B$374,MATCH('Test File'!$A$14:$A$44,'Conversion Factors'!$A$6:$A$374,0))),\"\",INDEX('Conversion Factors'!$B$6:$B$374,MATCH('Test File'!$A$14:$A$44,'Conversion Factors'!$A$6:$A$374,0)))","v":""},null,"2018-07-09","","",null,null,null,null,null,0,{"$f":"IF(AH23>$AI$12,AH23-($AI$12+AI22+AI21),0)","v":0},false,{"$f":"IF(AND(AO23>0,AO23),IF(AP23>0,AP23,IF(AQ23>0,AQ23,IF(AR23>0,AR23,IF(AU23>0,AU23,0)))))","v":false},null,0,null,0,0,0,0,0,{"$f":"IF(AND(AH22<=40),40-AH22,0)","v":40},{"$f":"AS23","v":0},0,{"$f":"AV23","v":0},null,{"$f":"IF(AND(J23>0,AI23>0,BB23<=AI23),AI23-BB23,IF(AND(J23>0,AI23>0,BB23>AI23),J23-BB23,0))","v":0},0,0,0,0,0,{"$f":"IF(AND(AH22<=40),40-AH22,0)","v":40},{"$f":"BD23","v":0},null,{"$f":"IF(AND(G23>0,E23>0),1,0)","v":0},40,0,0,{"$f":"SUM(E22:E23)","v":0},{"$f":"IF(AND(K23>0,E23>0),1,0)","v":0},{"$f":"IF(AND(BM23=1,J23>8),K23,(IF(AND(BM23=1,J23>0),J23,0)))","v":0},0,0]
["2018-07-10",null,null,"Tuesday",null,null,null,null,null,null,null,null,null,null,{"$f":"SUM(E24:N24)-J24","v":0},"",null,"",null,null,0,0,null,{"$f":"IF(ISNA(INDEX('Conversion Factors'!$B$6:$B$374,MATCH('Test File'!$A$14:$A$44,'Conversion Factors'!$A$6:$A$374,0))),\"\",INDEX('Conversion Factors'!$B$6:$B$374,MATCH('Test File'!$A$14:$A$44,'Conversion Factors'!$A$6:$A$374,0)))","v":""},null,"2018-07-10","","",null,null,null,null,null,0,{"$f":"IF(AH24>$AI$12,AH24-($AI$12+AI23+AI22+AI21),0)","v":0},false,false,null,0,null,0,0,0,0,0,40,0,0,0,null,{"$f":"IF(AND(J24>0,AI24>0,BB24<=AI24),AI24-BB24,IF(AND(J24>0,AI24>0,BB24>AI24),J24-BB24,0))","v":0},0,0,0,0,0,{"$f":"IF(AND(AH23<=40),40-AH23,0)","v":40},0,null,{"$f":"IF(AND(G24>0,E24>0),1,0)","v":0},40,0,0,{"$f":"SUM(E22:E24)","v":0},0,{"$f":"IF(AND(BM24=1,J24>8),K24,(IF(AND(BM24=1,J24>0),J24,0)))","v":0},{"$f":"IF(AND(BM24=1,40-BL23>0,40-BL23<8),40-BL23,IF(AND(J24<K24),J24,K24))","v":0},0]
["2018-07-11",null,null,"Wednesday",null,null,null,null,null,null,null,null,null,null,0,"",null,"",null,null,0,0,null,{"$f":"IF(ISNA(INDEX('Conversion Factors'!$B$6:$B$374,MATCH('Test File'!$A$14:$A$44,'Conversion Factors'!$A$6:$A$374,0))),\"\",INDEX('Conversion Factors'!$B$6:$B$374,MATCH('Test File'!$A$14:$A$44,'Conversion Factors'!$A$6:$A$374,0)))","v":""},null,"2018-07-11","","",null,null,null,null,null,0,{"$f":"IF(AH25>$AI$12,AH25-($AI$12+AI24+AI23+AI22+AI21),0)","v":0},false,false,null,0,null,0,0,0,0,0,40,0,0,0,null,{"$f":"IF(AND(J25>0,AI25>0,BB25<=AI25),AI25-BB25,IF(AND(J25>0,AI25>0,BB25>AI25),J25-BB25,0))","v":0},0,0,0,0,0,40,0,null,0,40,0,0,{"$f":"SUM(E22:E25)","v":0},0,{"$f":"IF(AND(BM25=1,J25>8),K25,(IF(AND(BM25=1,J25>0),J25,0)))","v":0},{"$f":"IF(AND(BM25=1,40-BL24>0,40-BL24<8),40-BL24,IF(AND(J25<K25),J25,K25))","v":0},0]
["2018-07-12",null,null,"Thursday",null,null,null,null,null,null,null,null,null,null,0,"",null,"",null,null,0,0,null,{"$f":"IF(ISNA(INDEX('Conversion Factors'!$B$6:$B$374,MATCH('Test File'!$A$14:$A$44,'Conversion Factors'!$A$6:$A$374,0))),\"\",INDEX('Conversion Factors'!$B$6:$B$374,MATCH('Test File'!$A$14:$A$44,'Conversion Factors'!$A$6:$A$374,0)))","v":""},null,"2018-07-12","","",null,null,null,null,null,0,{"$f":"IF(AH26>$AI$12,AH26-($AI$12+AI25+AI24+AI23+AI22+AI21),0)","v":0},false,false,null,0,null,0,0,0,0,0,{"$f":"IF(AND(AH25<=40),40-AH25,0)","v":40},0,0,0,null,{"$f":"IF(AND(J26>0,AI26>=J26,BB26=0),O26-AI26,IF(AND(J26>0,AI26>0,BB26<=AI26),AI26-BB26,IF(AND(J26>0,AI26>0,BB26>AI26),J26-BB26,0)))","v":0},0,0,0,0,0,40,0,null,0,40,0,0,{"$f":"SUM(E22:E26)","v":0},0,0,0,0]
["2018-07-13",null,null,"Friday",null,null,null,null,null,null,null,null,null,null,0,"",null,"",null,null,0,0,null,{"$f":"IF(ISNA(INDEX('Conversion Factors'!$B$6:$B$374,MATCH('Test File'!$A$14:$A$44,'Conversion Factors'!$A$6:$A$374,0))),\"\",INDEX('Conversion Factors'!$B$6:$B$374,MATCH('Test File'!$A$14:$A$44,'Conversion Factors'!$A$6:$A$374,0)))","v":""},null,"2018-07-13","","",null,null,null,null,null,0,{"$f":"IF(AH27>$AI$12,AH27-($AI$12+AI26+AI25+AI24+AI23+AI22+AI21),0)","v":0},false,false,null,0,null,0,0,0,0,0,{"$f":"IF(AND(AH26<=40),40-AH26,0)","v":40},0,0,0,null,{"$f":"IF(AND(J27>0,AI27>=J27,BB27=0),O27-AI27,IF(AND(J27>0,AI27>0,BB27<=AI27),AI27-BB27,IF(AND(J27>0,AI27>0,BB27>AI27),J27-BB27,0)))","v":0},0,0,0,0,0,40,0,null,0,40,0,0,{"$f":"SUM(E22:E27)","v":0},0,0,0,{"$f":"IF(AND(BM27=1,BL27>40,J27<=K27),J27-BO27,IF(AND(BM27=1,BL27>0,J27>K27),K27-BO27,0))","v":0}]
["2018-07-14",null,null,"Saturday",null,null,null,null,null,null,null,null,null,null,{"$f":"SUM(E28:N28)-J28","v":0},"",null,"",null,null,0,0,null,{"$f":"IF(ISNA(INDEX('Conversion Factors'!$B$6:$B$374,MATCH('Test File'!$A$14:$A$44,'Conversion Factors'!$A$6:$A$374,0))),\"\",INDEX('Conversion Factors'!$B$6:$B$374,MATCH('Test File'!$A$14:$A$44,'Conversion Factors'!$A$6:$A$374,0)))","v":""},null,"2018-07-14","","",null,null,null,null,null,0,{"$f":"IF(AH28>$AI$12,AH28-($AI$12+AI27+AI26+AI25+AI24+AI23+AI22+AI21),0)","v":0},false,false,null,0,null,0,0,0,0,0,40,0,0,0,null,{"$f":"IF(AND(J28>0,AI28>=J28,BB28=0),O28-AI28,IF(AND(J28>0,AI28>0,BB28<=AI28),AI28-BB28,IF(AND(J28>0,AI28>0,BB28>AI28),J28-BB28,0)))","v":0},0,0,0,0,0,40,0,null,0,40,0,0,{"$f":"SUM(E22:E28)","v":0},0,0,0,{"$f":"IF(AND(BM28=1,BL28>40,J28<=K28),J28-BO28,IF(AND(BM28=1,BL28>0,J28>K28),K28-BO28,0))","v":0}]
["Week 2 Totals",null,null,null,{"$f":"SUM(E22:E28)","v":0},0,0,0,0,null,0,0,0,0,{"$f":"SUM(O22:O28)","v":0},{"$f":"-SUM(P22:P28)","v":0},{"$f":"SUM(Q22:Q28)","v":0},{"$f":"SUM(R22:R28)","v":0},{"$f":"IF(E29>40,(E29-40)-V29,0)","v":0},{"$f":"MROUND(AL29,0.25)","v":0},{"$f":"SUM(U22:U28)","v":0},{"$f":"SUM(V22:V28)","v":0},{"$f":"IF(E29-(E11-(G29+K29+F29+H29+I29+L29+M29))-(S29+U29+V29)>0,E29-(E11-(G29+K29+F29+H29+I29+L29+M29))-(S29+U29+V29),0)","v":0},null,null,null,null,null,{"$f":"SUM(F29:N29)","v":0},{"$f":"IF(AND(AG29<40,O29>=AG29),O29-(AG29+S29),IF(AND(O29<AG29,E29=O29),O29-E29,IF(AND(E29>AG29,E29<40),E29-AG29,IF(AND(O29>AG29,E29<AG29),E29-(AG29-AC29),IF(AND(O29>AG29,E29>40),E29-(AG29-AC29+S29),IF(AND(O29>AG29,O29>40),O29-(S29+AG29),0))))))","v":0},{"$f":"AD29-U29-V29","v":0},{"$f":"$W$11","v":"Yes"},{"$f":"$E$11","v":40},null,{"$f":"IF(AH29>$AI$12,-$AI$12,0)","v":0},null,null,{"$f":"IF(AF29=\"Yes\",S29*1.5,0)","v":0},null,null,null,null,null,null,null,null,null,null,null,null,null,null,null,null,null,null,null,null,null,null,null,null,null,null,null,null,null,{"$f":"SUM(BP22:BP28)","v":0},{"$f":"U29+E11","v":40}]
[{"$f":"IF(A28<$O$7,A28+1,IF(A28=$O$7,\"\"))","v":"2018-07-15"},null,null,"Sunday",null,null,null,null,null,null,null,null,null,null,{"$f":"SUM(E30:N30)-J30","v":0},{"$f":"IF(AND(ISNUMBER(AA30),ISNUMBER(X30)),AA30*X30,\"\")","v":""},null,{"$f":"IF(AND(ISNUMBER(AB30),ISNUMBER(X30)),AB30*X30,\"\")","v":""},null,null,0,{"$f":"IF(BK30>0,BK30,0)","v":0},null,{"$f":"IF(ISNA(INDEX('Conversion Factors'!$B$6:$B$374,MATCH('Test File'!$A$14:$A$44,'Conversion Factors'!$A$6:$A$374,0))),\"\",INDEX('Conversion Factors'!$B$6:$B$374,MATCH('Test File'!$A$14:$A$44,'Conversion Factors'!$A$6:$A$374,0)))","v":""},null,{"$f":"A30","v":"2018-07-15"},{"$f":"IF(AND(ISNUMBER(N30),ISNUMBER($Z$12)),N30/$Z$12,\"\")","v":""},{"$f":"IF(AND(ISNUMBER(Q30),ISNUMBER($Z$12)),Q30/$Z$12,\"\")","v":""},null,null,null,null,null,{"$f":"E30+AH29","v":0},{"$f":"IF(AH30>$AI$12,AH30-($AI$12+AI29),0)","v":0},{"$f":"IF(AND(AZ30>0,AZ30),IF(BA30>0,BA30,IF(BB30>0,BB30,IF(BC30>0,BC30,IF(BF30>0,BF30,\"\")))))","v":false},{"$f":"IF(AND(AO30>0,AO30),IF(AP30>0,AP30,IF(AQ30>0,AQ30,IF(AR30>0,AR30,IF(AU30>0,AU30,\"\")))))","v":false},null,{"$f":"J30","v":0},null,{"$f":"IF(G30=0,0,\"\")","v":0},{"$f":"IF(AND(AH30<=40,E30=G30),G30,0)","v":0},{"$f":"IF(AND(AH30<=40,E30>=G30,G30>0),O30-E30,0)","v":0},{"$f":"IF(AND(AH30<=40,E30<G30),O30-G30,0)","v":0},{"$f":"IF(AND(G30=0),G30,IF(AND(G30>0,AI30>0,G30=AT30),AT30,IF(AND(G30>0,AI30>0,G30-AT30),AT30,0)))","v":0},null,{"$f":"AS30","v":0},{"$f":"IF(AND(AH29+AU30=40,AI30>0,AI30>AU30),AI30-AU30,IF(AND(AH29+AU30=40,AI30>0,AI30<AU30,AU30+AI30=G30),AI30,IF(AND(AH29>40,AH30>40,G30=AI30),AI30,0)))","v":0},{"$f":"AV30","v":0},null,{"$f":"IF(AND(J30>0,AI30>=J30,BB30=0),O30-AI30,IF(AND(J30>0,AI30>0,BB30<=AI30),AI30-BB30,IF(AND(J30>0,AI30>0,BB30>AI30),J30-BB30,0)))","v":0},{"$f":"IF(J30=0,0,\"\")","v":0},{"$f":"IF(AND(AH30<=40,E30=J30),J30,0)","v":0},{"$f":"IF(AND(AZ30=0),AZ30,IF(AND(AH30>40,E30>=J30),BE30,IF(AND(AH30<=40,E30>J30),J30,0)))","v":0},{"$f":"IF(AND(AH30<=40,E30<J30),O30-J30,0)","v":0},{"$f":"IF(AND(J30=0),J30,IF(AND(J30>0,AI30>0,J30=BC30),BC30,IF(AND(J30>0,AI30>0,J30-BC30),BC30,0)))","v":0},null,{"$f":"BD30","v":0},null,{"$f":"IF(AND(G30>0,E30>0),1,0)","v":0},{"$f":"40-AH30","v":40},{"$f":"IF(AND(BH30=1,40-BL29>0,40-BL29<8),40-BL29,IF(AND(E30<G30),E30,G30))","v":0},{"$f":"IF(AND(BH30=1,BL30>40,E30<G30),E30-BJ30,(IF(AND(BH30=1,BL30>0,E30>=G30),G30-BJ30,0)))","v":0},{"$f":"E30","v":0},{"$f":"IF(AND(K30>0,E30>0),1,0)","v":0},{"$f":"IF(AND(BM30=1,J30>8),K30,(IF(AND(BM30=1,J30>0),J30,0)))","v":0},{"$f":"IF(AND(BM30=1,40-BL29>0,40-BL29<8),40-BL29,IF(AND(J30<K30),J30,K30))","v":0},{"$f":"IF(AND(BM30=1,BL30>40,J30<=K30),J30-BO30,IF(AND(BM30=1,BL30>0,J30>K30),K30-BO30,0))","v":0}]
[{"$f":"IF(A30<$O$7,A30+1,IF(A30=$O$7,\"\"))","v":"2018-07-16"},null,null,"Monday",null,null,null,null,null,null,null,null,null,null,null,{"$f":"IF(AND(ISNUMBER(AA31),ISNUMBER(X31)),AA31*X31,\"\")","v":""},null,{"$f":"IF(AND(ISNUMBER(AB31),ISNUMBER(X31)),AB31*X31,\"\")","v":""},null,null,0,{"$f":"IF(BK31>0,BK31,0)","v":0},null,{"$f":"IF(ISNA(INDEX('Conversion Factors'!$B$6:$B$374,MATCH('Test File'!$A$14:$A$44,'Conversion Factors'!$A$6:$A$374,0))),\"\",INDEX('Conversion Factors'!$B$6:$B$374,MATCH('Test File'!$A$14:$A$44,'Conversion Factors'!$A$6:$A$374,0)))","v":""},null,"2018-07-16","","",null,null,null,null,null,0,{"$f":"IF(AH31>$AI$12,AH31-($AI$12+AI30+AI29),0)","v":0},false,{"$f":"IF(AND(AO31>0,AO31),IF(AP31>0,AP31,IF(AQ31>0,AQ31,IF(AR31>0,AR31,IF(AU31>0,AU31,0)))))","v":false},null,0,null,0,0,0,0,0,{"$f":"IF(AND(AH30<=40),40-AH30,0)","v":40},{"$f":"AS31","v":0},0,{"$f":"AV31","v":0},null,0,0,0,0,0,0,{"$f":"IF(AND(AH30<=40),40-AH30,0)","v":40},{"$f":"BD31","v":0},null,{"$f":"IF(AND(G31>0,E31>0),1,0)","v":0},40,0,0,{"$f":"SUM(E30:E31)","v":0},{"$f":"IF(AND(K31>0,E31>0),1,0)","v":0},{"$f":"IF(AND(BM31=1,J31>8),K31,(IF(AND(BM31=1,J31>0),J31,0)))","v":0},0,0]
["2018-07-17",null,null,"Tuesday",null,null,null,null,null,null,null,null,null,null,null,"",null,"",null,null,0,0,null,{"$f":"IF(ISNA(INDEX('Conversion Factors'!$B$6:$B$374,MATCH('Test File'!$A$14:$A$44,'Conversion Factors'!$A$6:$A$374,0))),\"\",INDEX('Conversion Factors'!$B$6:$B$374,MATCH('Test File'!$A$14:$A$44,'Conversion Factors'!$A$6:$A$374,0)))","v":""},null,"2018-07-17","","",null,null,null,null,null,0,{"$f":"IF(AH32>$AI$12,AH32-($AI$12+AI31+AI30+AI29),0)","v":0},false,false,null,0,null,0,0,0,0,0,40,0,0,0,null,0,0,0,0,0,0,{"$f":"IF(AND(AH31<=40),40-AH31,0)","v":40},0,null,{"$f":"IF(AND(G32>0,E32>0),1,0)","v":0},40,0,0,{"$f":"SUM(E30:E32)","v":0},0,{"$f":"IF(AND(BM32=1,J32>8),K32,(IF(AND(BM32=1,J32>0),J32,0)))","v":0},{"$f":"IF(AND(BM32=1,40-BL31>0,40-BL31<8),40-BL31,IF(AND(J32<K32),J32,K32))","v":0},0]
["2018-07-18",null,null,"Wednesday",null,null,null,null,null,null,null,null,null,null,null,"",null,"",null,null,0,0,null,{"$f":"IF(ISNA(INDEX('Conversion Factors'!$B$6:$B$374,MATCH('Test File'!$A$14:$A$44,'Conversion Factors'!$A$6:$A$374,0))),\"\",INDEX('Conversion Factors'!$B$6:$B$374,MATCH('Test File'!$A$14:$A$44,'Conversion Factors'!$A$6:$A$374,0)))","v":""},null,"2018-07-18","","",null,null,null,null,null,0,{"$f":"IF(AH33>$AI$12,AH33-($AI$12+AI32+AI31+AI30+AI29),0)","v":0},false,false,null,0,null,0,0,0,0,0,40,0,0,0,null,0,0,0,0,0,0,40,0,null,{"$f":"IF(AND(G33>0,E33>0),1,0)","v":0},40,0,0,{"$f":"SUM(E30:E33)","v":0},0,{"$f":"IF(AND(BM33=1,J33>8),K33,(IF(AND(BM33=1,J33>0),J33,0)))","v":0},{"$f":"IF(AND(BM33=1,40-BL32>0,40-BL32<8),40-BL32,IF(AND(J33<K33),J33,K33))","v":0},0]
["2018-07-19",null,null,"Thursday",null,null,null,null,null,null,null,null,null,null,null,"",null,"",null,null,0,0,null,{"$f":"IF(ISNA(INDEX('Conversion Factors'!$B$6:$B$374,MATCH('Test File'!$A$14:$A$44,'Conversion Factors'!$A$6:$A$374,0))),\"\",INDEX('Conversion Factors'!$B$6:$B$374,MATCH('Test File'!$A$14:$A$44,'Conversion Factors'!$A$6:$A$374,0)))","v":""},null,"2018-07-19","","",null,null,null,null,null,0,{"$f":"IF(AH34>$AI$12,AH34-($AI$12+AI33+AI32+AI31+AI30+AI29),0)","v":0},false,false,null,0,null,0,0,0,0,0,{"$f":"IF(AND(AH33<=40),40-AH33,0)","v":40},0,0,0,null,0,0,0,0,0,0,40,0,null,0,40,0,0,{"$f":"SUM(E30:E34)","v":0},0,0,0,0]
["2018-07-20",null,null,"Friday",null,null,null,null,null,null,null,null,null,null,null,"",null,"",null,null,0,0,null,{"$f":"IF(ISNA(INDEX('Conversion Factors'!$B$6:$B$374,MATCH('Test File'!$A$14:$A$44,'Conversion Factors'!$A$6:$A$374,0))),\"\",INDEX('Conversion Factors'!$B$6:$B$374,MATCH('Test File'!$A$14:$A$44,'Conversion Factors'!$A$6:$A$374,0)))","v":""},null,"2018-07-20","","",null,null,null,null,null,0,{"$f":"IF(AH35>$AI$12,AH35-($AI$12+AI34+AI33+AI32+AI31+AI30+AI29),0)","v":0},false,false,null,0,null,0,0,0,0,0,{"$f":"IF(AND(AH34<=40),40-AH34,0)","v":40},0,0,0,null,0,0,0,0,0,0,40,0,null,0,40,0,0,{"$f":"SUM(E30:E35)","v":0},0,0,0,{"$f":"IF(AND(BM35=1,BL35>40,J35<=K35),J35-BO35,IF(AND(BM35=1,BL35>0,J35>K35),K35-BO35,0))","v":0}]
["2018-07-21",null,null,"Saturday",null,null,null,null,null,null,null,null,null,null,{"$f":"SUM(E36:N36)-J36","v":0},"",null,"",null,null,0,0,null,{"$f":"IF(ISNA(INDEX('Conversion Factors'!$B$6:$B$374,MATCH('Test File'!$A$14:$A$44,'Conversion Factors'!$A$6:$A$374,0))),\"\",INDEX('Conversion Factors'!$B$6:$B$374,MATCH('Test File'!$A$14:$A$44,'Conversion Factors'!$A$6:$A$374,0)))","v":""},null,"2018-07-21","","",null,null,null,null,null,0,{"$f":"IF(AH36>$AI$12,AH36-($AI$12+AI35+AI34+AI33+AI32+AI31+AI30+AI29),0)","v":0},false,false,null,0,null,0,0,0,0,0,{"$f":"IF(AND(AH35<=40),40-AH35,0)","v":40},0,0,0,null,0,0,0,0,0,0,40,0,null,0,40,0,0,{"$f":"SUM(E30:E36)","v":0},0,0,0,{"$f":"IF(AND(BM36=1,BL36>40,J36<=K36),J36-BO36,IF(AND(BM36=1,BL36>0,J36>K36),K36-BO36,0))","v":0}]
["Week 3 Totals",null,null,null,{"$f":"SUM(E30:E36)","v":0},0,0,0,0,null,0,0,0,0,{"$f":"SUM(O30:O36)","v":0},{"$f":"-SUM(P30:P36)","v":0},{"$f":"SUM(Q30:Q36)","v":0},{"$f":"SUM(R30:R36)","v":0},{"$f":"IF(E37>40,(E37-40)-V37,0)","v":0},{"$f":"MROUND(AL37,0.25)","v":0},{"$f":"SUM(U30:U36)","v":0},{"$f":"SUM(V30:V36)","v":0},{"$f":"IF(E37-(E11-(G37+K37+F37+H37+I37+L37+M3))-(S37+U37+V37)>0,E37-(E11-(G37+K37+F37+H37+I37+L37+M37))-(S37+U37+V37),0)","v":0},null,null,null,null,null,{"$f":"SUM(F37:N37)","v":0},{"$f":"IF(AND(AG37<40,O37>=AG37),O37-(AG37+S37),IF(AND(O37<AG37,E37=O37),O37-E37,IF(AND(E37>AG37,E37<40),E37-AG37,IF(AND(O37>AG37,E37<AG37),E37-(AG37-AC37),IF(AND(O37>AG37,E37>40),E37-(AG37-AC37+S37),IF(AND(O37>AG37,O37>40),O37-(S37+AG37),0))))))","v":0},{"$f":"AD37-U37-V37","v":0},{"$f":"$W$11","v":"Yes"},{"$f":"$E$11","v":40},null,{"$f":"IF(AH37>$AI$12,-$AI$12,0)","v":0},null,null,{"$f":"IF(AF37=\"Yes\",S37*1.5,0)","v":0},null,null,null,null,null,null,null,null,null,null,null,null,null,null,null,null,null,null,null,null,null,0,null,null,null,null,null,null,null,{"$f":"SUM(BP30:BP36)","v":0},{"$f":"U37+E11","v":40}]
[{"$f":"IF(A36<$O$7,A36+1,IF(A36=$O$7,\"\"))","v":"2018-07-22"},null,null,"Sunday",null,null,null,null,null,null,null,null,null,null,{"$f":"SUM(E38:N38)-J38","v":0},{"$f":"IF(AND(ISNUMBER(AA38),ISNUMBER(X38)),AA38*X38,\"\")","v":""},null,{"$f":"IF(AND(ISNUMBER(AB38),ISNUMBER(X38)),AB38*X38,\"\")","v":""},null,null,0,{"$f":"IF(BK38>0,BK38,0)","v":0},null,{"$f":"IF(ISNA(INDEX('Conversion Factors'!$B$6:$B$374,MATCH('Test File'!$A$14:$A$44,'Conversion Factors'!$A$6:$A$374,0))),\"\",INDEX('Conversion Factors'!$B$6:$B$374,MATCH('Test File'!$A$14:$A$44,'Conversion Factors'!$A$6:$A$374,0)))","v":""},null,{"$f":"A38","v":"2018-07-22"},{"$f":"IF(AND(ISNUMBER(N38),ISNUMBER($Z$12)),N38/$Z$12,\"\")","v":""},{"$f":"IF(AND(ISNUMBER(Q38),ISNUMBER($Z$12)),Q38/$Z$12,\"\")","v":""},null,null,null,null,null,{"$f":"E38+AH37","v":0},{"$f":"IF(AH38>$AI$12,AH38-($AI$12+AI37),0)","v":0},{"$f":"IF(AND(AZ38>0,AZ38),IF(BA38>0,BA38,IF(BB38>0,BB38,IF(BC38>0,BC38,IF(BF38>0,BF38,\"\")))))","v":false},{"$f":"IF(AND(AO38>0,AO38),IF(AP38>0,AP38,IF(AQ38>0,AQ38,IF(AR38>0,AR38,IF(AU38>0,AU38,\"\")))))","v":false},null,{"$f":"J38","v":0},null,{"$f":"IF(G38=0,0,\"\")","v":0},{"$f":"IF(AND(AH38<=40,E38=G38),G38,0)","v":0},{"$f":"IF(AND(AH38<=40,E38>=G38,G38>0),O38-E38,0)","v":0},{"$f":"IF(AND(AH38<=40,E38<G38),O38-G38,0)","v":0},{"$f":"IF(AND(G38=0),G38,IF(AND(G38>0,AI38>0,G38=AT38),AT38,IF(AND(G38>0,AI38>0,G38-AT38),AT38,0)))","v":0},null,{"$f":"AS38","v":0},{"$f":"IF(AND(AH37+AU38=40,AI38>0,AI38>AU38),AI38-AU38,IF(AND(AH37+AU38=40,AI38>0,AI38<AU38,AU38+AI38=G38),AI38,IF(AND(AH37>40,AH38>40,G38=AI38),AI38,0)))","v":0},{"$f":"AV38","v":0},null,{"$f":"IF(AND(J38>0,AI38>=J38,BB38=0),O38-AI38,IF(AND(J38>0,AI38>0,BB38<=AI38),AI38-BB38,IF(AND(J38>0,AI38>0,BB38>AI38),J38-BB38,0)))","v":0},{"$f":"IF(J38=0,0,\"\")","v":0},{"$f":"IF(AND(AH38<=40,E38=J38),J38,0)","v":0},{"$f":"IF(AND(AZ38=0),AZ38,IF(AND(AH38>40,E38>=J38),BE38,IF(AND(AH38<=40,E38>J38),J38,0)))","v":0},{"$f":"IF(AND(AH38<=40,E38<J38),O38-J38,0)","v":0},{"$f":"IF(AND(J38=0),J38,IF(AND(J38>0,AI38>0,J38=BC38),BC38,IF(AND(J38>0,AI38>0,J38-BC38),BC38,0)))","v":0},null,{"$f":"BD38","v":0},null,{"$f":"IF(AND(G38>0,E38>0),1,0)","v":0},{"$f":"40-AH38","v":40},{"$f":"IF(AND(BH38=1,40-BL37>0,40-BL37<8),40-BL37,IF(AND(E38<G38),E38,G38))","v":0},{"$f":"IF(AND(BH38=1,BL38>40,E38<G38),E38-BJ38,(IF(AND(BH38=1,BL38>0,E38>=G38),G38-BJ38,0)))","v":0},{"$f":"E38","v":0},{"$f":"IF(AND(K38>0,E38>0),1,0)","v":0},{"$f":"IF(AND(BM38=1,J38>8),K38,(IF(AND(BM38=1,J38>0),J38,0)))","v":0},{"$f":"IF(AND(BM38=1,40-BL37>0,40-BL37<8),40-BL37,IF(AND(J38<K38),J38,K38))","v":0},{"$f":"IF(AND(BM38=1,BL38>40,J38<=K38),J38-BO38,IF(AND(BM38=1,BL38>0,J38>K38),K38-BO38,0))","v":0}]
[{"$f":"IF(A38<$O$7,A38+1,IF(A38=$O$7,\"\"))","v":"2018-07-23"},null,null,"Monday",null,null,null,0,null,null,null,null,null,null,{"$f":"SUM(E39:N39)-J39","v":0},{"$f":"IF(AND(ISNUMBER(AA39),ISNUMBER(X39)),AA39*X39,\"\")","v":""},null,{"$f":"IF(AND(ISNUMBER(AB39),ISNUMBER(X39)),AB39*X39,\"\")","v":""},null,null,0,{"$f":"IF(BK39>0,BK39,0)","v":0},null,{"$f":"IF(ISNA(INDEX('Conversion Factors'!$B$6:$B$374,MATCH('Test File'!$A$14:$A$44,'Conversion Factors'!$A$6:$A$374,0))),\"\",INDEX('Conversion Factors'!$B$6:$B$374,MATCH('Test File'!$A$14:$A$44,'Conversion Factors'!$A$6:$A$374,0)))","v":""},null,"2018-07-23","","",null,null,null,null,null,0,{"$f":"IF(AH39>$AI$12,AH39-($AI$12+AI38+AI37),0)","v":0},false,{"$f":"IF(AND(AO39>0,AO39),IF(AP39>0,AP39,IF(AQ39>0,AQ39,IF(AR39>0,AR39,IF(AU39>0,AU39,0)))))","v":false},null,0,null,0,0,0,0,0,{"$f":"IF(AND(AH38<=40),40-AH38,0)","v":40},{"$f":"AS39","v":0},0,{"$f":"AV39","v":0},null,0,0,0,0,0,0,{"$f":"IF(AND(AH38<=40),40-AH38,0)","v":40},{"$f":"BD39","v":0},null,{"$f":"IF(AND(G39>0,E39>0),1,0)","v":0},40,0,0,{"$f":"SUM(E38:E39)","v":0},{"$f":"IF(AND(K39>0,E39>0),1,0)","v":0},{"$f":"IF(AND(BM39=1,J39>8),K39,(IF(AND(BM39=1,J39>0),J39,0)))","v":0},0,0]
["2018-07-24",null,null,"Tuesday",null,null,null,null,null,0,0,null,null,null,{"$f":"SUM(E40:N40)-J40","v":0},"",null,"",null,null,0,0,null,{"$f":"IF(ISNA(INDEX('Conversion Factors'!$B$6:$B$374,MATCH('Test File'!$A$14:$A$44,'Conversion Factors'!$A$6:$A$374,0))),\"\",INDEX('Conversion Factors'!$B$6:$B$374,MATCH('Test File'!$A$14:$A$44,'Conversion Factors'!$A$6:$A$374,0)))","v":""},null,"2018-07-24","","",null,null,null,null,null,0,{"$f":"IF(AH40>$AI$12,AH40-($AI$12+AI39+AI38+AI37),0)","v":0},false,false,null,0,null,0,0,0,0,0,40,0,0,0,null,0,0,0,0,0,0,{"$f":"IF(AND(AH39<=40),40-AH39,0)","v":40},0,null,{"$f":"IF(AND(G40>0,E40>0),1,0)","v":0},40,0,0,{"$f":"SUM(E38:E40)","v":0},0,{"$f":"IF(AND(BM40=1,J40>8),K40,(IF(AND(BM40=1,J40>0),J40,0)))","v":0},{"$f":"IF(AND(BM40=1,40-BL39>0,40-BL39<8),40-BL39,IF(AND(J40<K40),J40,K40))","v":0},0]
["2018-07-25",null,null,"Wednesday",null,null,null,null,null,null,null,null,null,null,0,"",null,"",null,null,0,0,null,{"$f":"IF(ISNA(INDEX('Conversion Factors'!$B$6:$B$374,MATCH('Test File'!$A$14:$A$44,'Conversion Factors'!$A$6:$A$374,0))),\"\",INDEX('Conversion Factors'!$B$6:$B$374,MATCH('Test File'!$A$14:$A$44,'Conversion Factors'!$A$6:$A$374,0)))","v":""},null,"2018-07-25","","",null,null,null,null,null,0,{"$f":"IF(AH41>$AI$12,AH41-($AI$12+AI40+AI39+AI38+AI37),0)","v":0},false,false,null,0,null,0,0,0,0,0,40,0,0,0,null,0,0,0,0,0,0,40,0,null,{"$f":"IF(AND(G41>0,E41>0),1,0)","v":0},40,0,0,{"$f":"SUM(E38:E41)","v":0},0,{"$f":"IF(AND(BM41=1,J41>8),K41,(IF(AND(BM41=1,J41>0),J41,0)))","v":0},{"$f":"IF(AND(BM41=1,40-BL40>0,40-BL40<8),40-BL40,IF(AND(J41<K41),J41,K41))","v":0},0]
["2018-07-26",null,null,"Thursday",null,null,null,null,null,null,null,null,null,null,0,"",null,"",null,null,0,0,null,{"$f":"IF(ISNA(INDEX('Conversion Factors'!$B$6:$B$374,MATCH('Test File'!$A$14:$A$44,'Conversion Factors'!$A$6:$A$374,0))),\"\",INDEX('Conversion Factors'!$B$6:$B$374,MATCH('Test File'!$A$14:$A$44,'Conversion Factors'!$A$6:$A$374,0)))","v":""},null,"2018-07-26","","",null,null,null,null,null,0,{"$f":"IF(AH42>$AI$12,AH42-($AI$12+AI41+AI40+AI39+AI38+AI37),0)","v":0},false,false,null,0,null,0,0,0,0,0,{"$f":"IF(AND(AH41<=40),40-AH41,0)","v":40},0,0,0,null,0,0,0,0,0,0,40,0,null,0,40,0,0,{"$f":"SUM(E38:E42)","v":0},0,0,0,0]
["2018-07-27",null,null,"Friday",null,null,null,null,null,null,null,null,null,null,0,"",null,"",null,null,0,0,null,{"$f":"IF(ISNA(INDEX('Conversion Factors'!$B$6:$B$374,MATCH('Test File'!$A$14:$A$44,'Conversion Factors'!$A$6:$A$374,0))),\"\",INDEX('Conversion Factors'!$B$6:$B$374,MATCH('Test File'!$A$14:$A$44,'Conversion Factors'!$A$6:$A$374,0)))","v":""},null,"2018-07-27","","",null,null,null,null,null,0,{"$f":"IF(AH43>$AI$12,AH43-($AI$12+AI42+AI41+AI40+AI39+AI38+AI37),0)","v":0},false,false,null,0,null,0,0,0,0,0,{"$f":"IF(AND(AH42<=40),40-AH42,0)","v":40},0,0,0,null,0,0,0,0,0,0,40,0,null,0,40,0,0,{"$f":"SUM(E38:E43)","v":0},0,0,0,{"$f":"IF(AND(BM43=1,BL43>40,J43<=K43),J43-BO43,IF(AND(BM43=1,BL43>0,J43>K43),K43-BO43,0))","v":0}]
["2018-07-28",null,null,"Saturday",null,null,null,null,null,null,null,null,null,null,{"$f":"SUM(E44:N44)-J44","v":0},"",null,"",null,null,0,0,null,{"$f":"IF(ISNA(INDEX('Conversion Factors'!$B$6:$B$374,MATCH('Test File'!$A$14:$A$44,'Conversion Factors'!$A$6:$A$374,0))),\"\",INDEX('Conversion Factors'!$B$6:$B$374,MATCH('Test File'!$A$14:$A$44,'Conversion Factors'!$A$6:$A$374,0)))","v":""},null,"2018-07-28","","",null,null,null,null,null,0,{"$f":"IF(AH44>$AI$12,AH44-($AI$12+AI43+AI42+AI41+AI40+AI39+AI38+AI37),0)","v":0},false,false,null,0,null,0,0,0,0,0,40,0,0,0,null,0,0,0,0,0,0,40,0,null,0,40,0,0,{"$f":"SUM(E38:E44)","v":0},0,0,0,{"$f":"IF(AND(BM44=1,BL44>40,J44<=K44),J44-BO44,IF(AND(BM44=1,BL44>0,J44>K44),K44-BO44,0))","v":0}]
["Week 4 Totals",null,null,null,{"$f":"SUM(E38:E44)","v":0},{"$f":"SUM(F38:F44)","v":0},0,0,0,null,0,0,0,0,{"$f":"SUM(O38:O44)","v":0},{"$f":"-SUM(P38:P44)","v":0},{"$f":"SUM(Q38:Q44)","v":0},{"$f":"SUM(R38:R44)","v":0},{"$f":"IF(E45>40,(E45-40)-V45,0)","v":0},{"$f":"MROUND(AL45,0.25)","v":0},{"$f":"SUM(U38:U44)","v":0},{"$f":"SUM(V38:V44)","v":0},{"$f":"IF(E45-(E11-(G45+K45+F45+H45+I45+L45+M45))-(S45+U45+V45)>0,E45-(E11-(G45+K45+F45+H45+I45+L45+M45))-(S45+U45+V45),0)","v":0},null,null,null,null,null,{"$f":"SUM(F45:N45)","v":0},{"$f":"IF(AND(AG45<40,O45>=AG45),O45-(AG45+S45),IF(AND(O45<AG45,E45=O45),O45-E45,IF(AND(E45>AG45,E45<40),E45-AG45,IF(AND(O45>AG45,E45<AG45),E45-(AG45-AC45),IF(AND(O45>AG45,E45>40),E45-(AG45-AC45+S45),IF(AND(O45>AG45,O45>40),O45-(S45+AG45),0))))))","v":0},{"$f":"AD45-U45-V45","v":0},{"$f":"$W$11","v":"Yes"},{"$f":"$E$11","v":40},null,{"$f":"IF(AH45>$AI$12,-$AI$12,0)","v":0},null,null,{"$f":"IF(AF45=\"Yes\",S45*1.5,0)","v":0},null,null,null,null,null,null,null,null,null,null,null,null,null,null,null,null,null,null,null,null,null,null,null,null,null,null,null,null,null,{"$f":"SUM(BP38:BP44)","v":0},{"$f":"E44+E11","v":40}]
[null,null,null,null,null,null,null,null,"Total-Net Previous Week",null,null,null,null,null,{"$f":"(O21+O29+O37+O45)-O13","v":0},{"$f":"(P21+P29+P37+P45)-P13","v":0},0,0,0,0,0,0,0,0]
[]
[null,null,null,null,null,null,null,null,null,null,null,null,null,null,"Leave/Leave Without Pay Policy"]
["Employee signature",null,null,null,null,null,"Date",null,null,null,null,null,null,null,"Overtime/Compensatory Time"]
["I certify this record is accurate and accounts for my time during the indicated period.",null,null,null,null,null,null,null,null,null,null,null,null,null,"Time Sheet Definitions/Policies"]
[]
[null,null,null,null,null,null,null,null,null,null,"“Actual Work Hours During Administrative Close Period” – Only key the hours actually worked during the admministrative closing period into this field. "]
[]
["Manager signature",null,null,null,null,null,"Date"]
["I certify the hours recorded and coded on this form are correct and in compliance with University policy.",null,null,null,null,null,null,null,null,null,"“Administrative Closing/Leave Period field.”  Entter the number of hours of the declared period of administrative closing. (The total hours worked during the entire day will be entered into the “Actual Hours Worked” field.)"]

{"sheet":"Sheet1","index":1,"n_rows":0,"n_cols":0,"rows_kept":0,"cut":false,"hidden":true,"merged":[]}

{"sheet":"Conversion Factors","index":2,"n_rows":377,"n_cols":2,"rows_kept":377,"cut":false,"hidden":true,"merged":[]}
["Pay period start date:",{"$f":"'[1]Conversion Factors'!$B$1","v":"2019-07-01"}]
[]
["Pay period end date:",{"$f":"'[1]Conversion Factors'!$B$3","v":"2020-06-30"}]
[]
["Payroll Dates","Conversion Factor"]
[{"$f":"'[1]Conversion Factors'!A6","v":"2019-07-01"},{"$f":"'[1]Conversion Factors'!B6","v":7.8789999999999996}]
[{"$f":"'[1]Conversion Factors'!A7","v":"2019-07-02"},{"$f":"'[1]Conversion Factors'!B7","v":7.8789999999999996}]
[{"$f":"'[1]Conversion Factors'!A8","v":"2019-07-03"},{"$f":"'[1]Conversion Factors'!B8","v":7.8789999999999996}]
[{"$f":"'[1]Conversion Factors'!A9","v":"2019-07-04"},{"$f":"'[1]Conversion Factors'!B9","v":7.8789999999999996}]
[{"$f":"'[1]Conversion Factors'!A10","v":"2019-07-05"},{"$f":"'[1]Conversion Factors'!B10","v":7.8789999999999996}]
[{"$f":"'[1]Conversion Factors'!A11","v":"2019-07-06"},{"$f":"'[1]Conversion Factors'!B11","v":7.8789999999999996}]
[{"$f":"'[1]Conversion Factors'!A12","v":"2019-07-07"},{"$f":"'[1]Conversion Factors'!B12","v":7.8789999999999996}]
[{"$f":"'[1]Conversion Factors'!A13","v":"2019-07-08"},{"$f":"'[1]Conversion Factors'!B13","v":7.8789999999999996}]
[{"$f":"'[1]Conversion Factors'!A14","v":"2019-07-09"},{"$f":"'[1]Conversion Factors'!B14","v":7.8789999999999996}]
[{"$f":"'[1]Conversion Factors'!A15","v":"2019-07-10"},{"$f":"'[1]Conversion Factors'!B15","v":7.8789999999999996}]
[{"$f":"'[1]Conversion Factors'!A16","v":"2019-07-11"},{"$f":"'[1]Conversion Factors'!B16","v":7.8789999999999996}]
[{"$f":"'[1]Conversion Factors'!A17","v":"2019-07-12"},{"$f":"'[1]Conversion Factors'!B17","v":7.8789999999999996}]
[{"$f":"'[1]Conversion Factors'!A18","v":"2019-07-13"},{"$f":"'[1]Conversion Factors'!B18","v":7.8789999999999996}]
[{"$f":"'[1]Conversion Factors'!A19","v":"2019-07-14"},{"$f":"'[1]Conversion Factors'!B19","v":7.8789999999999996}]
[{"$f":"'[1]Conversion Factors'!A20","v":"2019-07-15"},{"$f":"'[1]Conversion Factors'!B20","v":7.8789999999999996}]
[{"$f":"'[1]Conversion Factors'!A21","v":"2019-07-16"},{"$f":"'[1]Conversion Factors'!B21","v":7.2229999999999999}]
[{"$f":"'[1]Conversion Factors'!A22","v":"2019-07-17"},{"$f":"'[1]Conversion Factors'!B22","v":7.2229999999999999}]
[{"$f":"'[1]Conversion Factors'!A23","v":"2019-07-18"},{"$f":"'[1]Conversion Factors'!B23","v":7.2229999999999999}]
[{"$f":"'[1]Conversion Factors'!A24","v":"2019-07-19"},{"$f":"'[1]Conversion Factors'!B24","v":7.2229999999999999}]
[{"$f":"'[1]Conversion Factors'!A25","v":"2019-07-20"},{"$f":"'[1]Conversion Factors'!B25","v":7.2229999999999999}]
[{"$f":"'[1]Conversion Factors'!A26","v":"2019-07-21"},{"$f":"'[1]Conversion Factors'!B26","v":7.2229999999999999}]
[{"$f":"'[1]Conversion Factors'!A27","v":"2019-07-22"},{"$f":"'[1]Conversion Factors'!B27","v":7.2229999999999999}]
[{"$f":"'[1]Conversion Factors'!A28","v":"2019-07-23"},{"$f":"'[1]Conversion Factors'!B28","v":7.2229999999999999}]
[{"$f":"'[1]Conversion Factors'!A29","v":"2019-07-24"},{"$f":"'[1]Conversion Factors'!B29","v":7.2229999999999999}]
[{"$f":"'[1]Conversion Factors'!A30","v":"2019-07-25"},{"$f":"'[1]Conversion Factors'!B30","v":7.2229999999999999}]
[{"$f":"'[1]Conversion Factors'!A31","v":"2019-07-26"},{"$f":"'[1]Conversion Factors'!B31","v":7.2229999999999999}]
[{"$f":"'[1]Conversion Factors'!A32","v":"2019-07-27"},{"$f":"'[1]Conversion Factors'!B32","v":7.2229999999999999}]
[{"$f":"'[1]Conversion Factors'!A33","v":"2019-07-28"},{"$f":"'[1]Conversion Factors'!B33","v":7.2229999999999999}]
[{"$f":"'[1]Conversion Factors'!A34","v":"2019-07-29"},{"$f":"'[1]Conversion Factors'!B34","v":7.2229999999999999}]
[{"$f":"'[1]Conversion Factors'!A35","v":"2019-07-30"},{"$f":"'[1]Conversion Factors'!B35","v":7.2229999999999999}]
[{"$f":"'[1]Conversion Factors'!A36","v":"2019-07-31"},{"$f":"'[1]Conversion Factors'!B36","v":7.2229999999999999}]
[{"$f":"'[1]Conversion Factors'!A37","v":"2019-08-01"},{"$f":"'[1]Conversion Factors'!B37","v":7.8789999999999996}]
[{"$f":"'[1]Conversion Factors'!A38","v":"2019-08-02"},{"$f":"'[1]Conversion Factors'!B38","v":7.8789999999999996}]
[{"$f":"'[1]Conversion Factors'!A39","v":"2019-08-03"},{"$f":"'[1]Conversion Factors'!B39","v":7.8789999999999996}]
[{"$f":"'[1]Conversion Factors'!A40","v":"2019-08-04"},{"$f":"'[1]Conversion Factors'!B40","v":7.8789999999999996}]
[{"$f":"'[1]Conversion Factors'!A41","v":"2019-08-05"},{"$f":"'[1]Conversion Factors'!B41","v":7.8789999999999996}]
[{"$f":"'[1]Conversion Factors'!A42","v":"2019-08-06"},{"$f":"'[1]Conversion Factors'!B42","v":7.8789999999999996}]
[{"$f":"'[1]Conversion Factors'!A43","v":"2019-08-07"},{"$f":"'[1]Conversion Factors'!B43","v":7.8789999999999996}]
[{"$f":"'[1]Conversion Factors'!A44","v":"2019-08-08"},{"$f":"'[1]Conversion Factors'!B44","v":7.8789999999999996}]
[{"$f":"'[1]Conversion Factors'!A45","v":"2019-08-09"},{"$f":"'[1]Conversion Factors'!B45","v":7.8789999999999996}]
[{"$f":"'[1]Conversion Factors'!A46","v":"2019-08-10"},{"$f":"'[1]Conversion Factors'!B46","v":7.8789999999999996}]
[{"$f":"'[1]Conversion Factors'!A47","v":"2019-08-11"},{"$f":"'[1]Conversion Factors'!B47","v":7.8789999999999996}]
[{"$f":"'[1]Conversion Factors'!A48","v":"2019-08-12"},{"$f":"'[1]Conversion Factors'!B48","v":7.8789999999999996}]
[{"$f":"'[1]Conversion Factors'!A49","v":"2019-08-13"},{"$f":"'[1]Conversion Factors'!B49","v":7.8789999999999996}]
[{"$f":"'[1]Conversion Factors'!A50","v":"2019-08-14"},{"$f":"'[1]Conversion Factors'!B50","v":7.8789999999999996}]
[{"$f":"'[1]Conversion Factors'!A51","v":"2019-08-15"},{"$f":"'[1]Conversion Factors'!B51","v":7.8789999999999996}]
[{"$f":"'[1]Conversion Factors'!A52","v":"2019-08-16"},{"$f":"'[1]Conversion Factors'!B52","v":7.8789999999999996}]
[{"$f":"'[1]Conversion Factors'!A53","v":"2019-08-17"},{"$f":"'[1]Conversion Factors'!B53","v":7.8789999999999996}]
[{"$f":"'[1]Conversion Factors'!A54","v":"2019-08-18"},{"$f":"'[1]Conversion Factors'!B54","v":7.8789999999999996}]
[{"$f":"'[1]Conversion Factors'!A55","v":"2019-08-19"},{"$f":"'[1]Conversion Factors'!B55","v":7.8789999999999996}]
[{"$f":"'[1]Conversion Factors'!A56","v":"2019-08-20"},{"$f":"'[1]Conversion Factors'!B56","v":7.8789999999999996}]
[{"$f":"'[1]Conversion Factors'!A57","v":"2019-08-21"},{"$f":"'[1]Conversion Factors'!B57","v":7.8789999999999996}]
[{"$f":"'[1]Conversion Factors'!A58","v":"2019-08-22"},{"$f":"'[1]Conversion Factors'!B58","v":7.8789999999999996}]
[{"$f":"'[1]Conversion Factors'!A59","v":"2019-08-23"},{"$f":"'[1]Conversion Factors'!B59","v":7.8789999999999996}]
[{"$f":"'[1]Conversion Factors'!A60","v":"2019-08-24"},{"$f":"'[1]Conversion Factors'!B60","v":7.8789999999999996}]
[{"$f":"'[1]Conversion Factors'!A61","v":"2019-08-25"},{"$f":"'[1]Conversion Factors'!B61","v":7.8789999999999996}]
[{"$f":"'[1]Conversion Factors'!A62","v":"2019-08-26"},{"$f":"'[1]Conversion Factors'!B62","v":7.8789999999999996}]
[{"$f":"'[1]Conversion Factors'!A63","v":"2019-08-27"},{"$f":"'[1]Conversion Factors'!B63","v":7.8789999999999996}]
[{"$f":"'[1]Conversion Factors'!A64","v":"2019-08-28"},{"$f":"'[1]Conversion Factors'!B64","v":7.8789999999999996}]
[{"$f":"'[1]Conversion Factors'!A65","v":"2019-08-29"},{"$f":"'[1]Conversion Factors'!B65","v":7.8789999999999996}]
[{"$f":"'[1]Conversion Factors'!A66","v":"2019-08-30"},{"$f":"'[1]Conversion Factors'!B66","v":7.8789999999999996}]
[{"$f":"'[1]Conversion Factors'!A67","v":"2019-08-31"},{"$f":"'[1]Conversion Factors'!B67","v":7.8789999999999996}]
[{"$f":"'[1]Conversion Factors'!A68","v":"2019-09-01"},{"$f":"'[1]Conversion Factors'!B68","v":8.6669999999999998}]
[{"$f":"'[1]Conversion Factors'!A69","v":"2019-09-02"},{"$f":"'[1]Conversion Factors'!B69","v":8.6669999999999998}]
[{"$f":"'[1]Conversion Factors'!A70","v":"2019-09-03"},{"$f":"'[1]Conversion Factors'!B70","v":8.6669999999999998}]
[{"$f":"'[1]Conversion Factors'!A71","v":"2019-09-04"},{"$f":"'[1]Conversion Factors'!B71","v":8.6669999999999998}]
[{"$f":"'[1]Conversion Factors'!A72","v":"2019-09-05"},{"$f":"'[1]Conversion Factors'!B72","v":8.6669999999999998}]
[{"$f":"'[1]Conversion Factors'!A73","v":"2019-09-06"},{"$f":"'[1]Conversion Factors'!B73","v":8.6669999999999998}]
[{"$f":"'[1]Conversion Factors'!A74","v":"2019-09-07"},{"$f":"'[1]Conversion Factors'!B74","v":8.6669999999999998}]
[{"$f":"'[1]Conversion Factors'!A75","v":"2019-09-08"},{"$f":"'[1]Conversion Factors'!B75","v":8.6669999999999998}]
[{"$f":"'[1]Conversion Factors'!A76","v":"2019-09-09"},{"$f":"'[1]Conversion Factors'!B76","v":8.6669999999999998}]
[{"$f":"'[1]Conversion Factors'!A77","v":"2019-09-10"},{"$f":"'[1]Conversion Factors'!B77","v":8.6669999999999998}]
[{"$f":"'[1]Conversion Factors'!A78","v":"2019-09-11"},{"$f":"'[1]Conversion Factors'!B78","v":8.6669999999999998}]
[{"$f":"'[1]Conversion Factors'!A79","v":"2019-09-12"},{"$f":"'[1]Conversion Factors'!B79","v":8.6669999999999998}]
[{"$f":"'[1]Conversion Factors'!A80","v":"2019-09-13"},{"$f":"'[1]Conversion Factors'!B80","v":8.6669999999999998}]
[{"$f":"'[1]Conversion Factors'!A81","v":"2019-09-14"},{"$f":"'[1]Conversion Factors'!B81","v":8.6669999999999998}]
[{"$f":"'[1]Conversion Factors'!A82","v":"2019-09-15"},{"$f":"'[1]Conversion Factors'!B82","v":8.6669999999999998}]
[{"$f":"'[1]Conversion Factors'!A83","v":"2019-09-16"},{"$f":"'[1]Conversion Factors'!B83","v":7.8789999999999996}]
[{"$f":"'[1]Conversion Factors'!A84","v":"2019-09-17"},{"$f":"'[1]Conversion Factors'!B84","v":7.8789999999999996}]
[{"$f":"'[1]Conversion Factors'!A85","v":"2019-09-18"},{"$f":"'[1]Conversion Factors'!B85","v":7.8789999999999996}]
[{"$f":"'[1]Conversion Factors'!A86","v":"2019-09-19"},{"$f":"'[1]Conversion Factors'!B86","v":7.8789999999999996}]
[{"$f":"'[1]Conversion Factors'!A87","v":"2019-09-20"},{"$f":"'[1]Conversion Factors'!B87","v":7.8789999999999996}]
[{"$f":"'[1]Conversion Factors'!A88","v":"2019-09-21"},{"$f":"'[1]Conversion Factors'!B88","v":7.8789999999999996}]
[{"$f":"'[1]Conversion Factors'!A89","v":"2019-09-22"},{"$f":"'[1]Conversion Factors'!B89","v":7.8789999999999996}]
[{"$f":"'[1]Conversion Factors'!A90","v":"2019-09-23"},{"$f":"'[1]Conversion Factors'!B90","v":7.8789999999999996}]
[{"$f":"'[1]Conversion Factors'!A91","v":"2019-09-24"},{"$f":"'[1]Conversion Factors'!B91","v":7.8789999999999996}]
[{"$f":"'[1]Conversion Factors'!A92","v":"2019-09-25"},{"$f":"'[1]Conversion Factors'!B92","v":7.8789999999999996}]
[{"$f":"'[1]Conversion Factors'!A93","v":"2019-09-26"},{"$f":"'[1]Conversion Factors'!B93","v":7.8789999999999996}]
[{"$f":"'[1]Conversion Factors'!A94","v":"2019-09-27"},{"$f":"'[1]Conversion Factors'!B94","v":7.8789999999999996}]
[{"$f":"'[1]Conversion Factors'!A95","v":"2019-09-28"},{"$f":"'[1]Conversion Factors'!B95","v":7.8789999999999996}]
[{"$f":"'[1]Conversion Factors'!A96","v":"2019-09-29"},{"$f":"'[1]Conversion Factors'!B96","v":7.8789999999999996}]
[{"$f":"'[1]Conversion Factors'!A97","v":"2019-09-30"},{"$f":"'[1]Conversion Factors'!B97","v":7.8789999999999996}]
[{"$f":"'[1]Conversion Factors'!A98","v":"2019-10-01"},{"$f":"'[1]Conversion Factors'!B98","v":7.8789999999999996}]
[{"$f":"'[1]Conversion Factors'!A99","v":"2019-10-02"},{"$f":"'[1]Conversion Factors'!B99","v":7.8789999999999996}]
[{"$f":"'[1]Conversion Factors'!A100","v":"2019-10-03"},{"$f":"'[1]Conversion Factors'!B100","v":7.8789999999999996}]
[{"$f":"'[1]Conversion Factors'!A101","v":"2019-10-04"},{"$f":"'[1]Conversion Factors'!B101","v":7.8789999999999996}]
[{"$f":"'[1]Conversion Factors'!A102","v":"2019-10-05"},{"$f":"'[1]Conversion Factors'!B102","v":7.8789999999999996}]
[{"$f":"'[1]Conversion Factors'!A103","v":"2019-10-06"},{"$f":"'[1]Conversion Factors'!B103","v":7.8789999999999996}]
[{"$f":"'[1]Conversion Factors'!A104","v":"2019-10-07"},{"$f":"'[1]Conversion Factors'!B104","v":7.8789999999999996}]
[{"$f":"'[1]Conversion Factors'!A105","v":"2019-10-08"},{"$f":"'[1]Conversion Factors'!B105","v":7.8789999999999996}]
[{"$f":"'[1]Conversion Factors'!A106","v":"2019-10-09"},{"$f":"'[1]Conversion Factors'!B106","v":7.8789999999999996}]
[{"$f":"'[1]Conversion Factors'!A107","v":"2019-10-10"},{"$f":"'[1]Conversion Factors'!B107","v":7.8789999999999996}]
[{"$f":"'[1]Conversion Factors'!A108","v":"2019-10-11"},{"$f":"'[1]Conversion Factors'!B108","v":7.8789999999999996}]
[{"$f":"'[1]Conversion Factors'!A109","v":"2019-10-12"},{"$f":"'[1]Conversion Factors'!B109","v":7.8789999999999996}]
[{"$f":"'[1]Conversion Factors'!A110","v":"2019-10-13"},{"$f":"'[1]Conversion Factors'!B110","v":7.8789999999999996}]
[{"$f":"'[1]Conversion Factors'!A111","v":"2019-10-14"},{"$f":"'[1]Conversion Factors'!B111","v":7.8789999999999996}]
[{"$f":"'[1]Conversion Factors'!A112","v":"2019-10-15"},{"$f":"'[1]Conversion Factors'!B112","v":7.8789999999999996}]
[{"$f":"'[1]Conversion Factors'!A113","v":"2019-10-16"},{"$f":"'[1]Conversion Factors'!B113","v":7.2229999999999999}]
[{"$f":"'[1]Conversion Factors'!A114","v":"2019-10-17"},{"$f":"'[1]Conversion Factors'!B114","v":7.2229999999999999}]
[{"$f":"'[1]Conversion Factors'!A115","v":"2019-10-18"},{"$f":"'[1]Conversion Factors'!B115","v":7.2229999999999999}]
[{"$f":"'[1]Conversion Factors'!A116","v":"2019-10-19"},{"$f":"'[1]Conversion Factors'!B116","v":7.2229999999999999}]
[{"$f":"'[1]Conversion Factors'!A117","v":"2019-10-20"},{"$f":"'[1]Conversion Factors'!B117","v":7.2229999999999999}]
[{"$f":"'[1]Conversion Factors'!A118","v":"2019-10-21"},{"$f":"'[1]Conversion Factors'!B118","v":7.2229999999999999}]
[{"$f":"'[1]Conversion Factors'!A119","v":"2019-10-22"},{"$f":"'[1]Conversion Factors'!B119","v":7.2229999999999999}]
[{"$f":"'[1]Conversion Factors'!A120","v":"2019-10-23"},{"$f":"'[1]Conversion Factors'!B120","v":7.2229999999999999}]
[{"$f":"'[1]Conversion Factors'!A121","v":"2019-10-24"},{"$f":"'[1]Conversion Factors'!B121","v":7.2229999999999999}]
[{"$f":"'[1]Conversion Factors'!A122","v":"2019-10-25"},{"$f":"'[1]Conversion Factors'!B122","v":7.2229999999999999}]
[{"$f":"'[1]Conversion Factors'!A123","v":"2019-10-26"},{"$f":"'[1]Conversion Factors'!B123","v":7.2229999999999999}]
[{"$f":"'[1]Conversion Factors'!A124","v":"2019-10-27"},{"$f":"'[1]Conversion Factors'!B124","v":7.2229999999999999}]
[{"$f":"'[1]Conversion Factors'!A125","v":"2019-10-28"},{"$f":"'[1]Conversion Factors'!B125","v":7.2229999999999999}]
[{"$f":"'[1]Conversion Factors'!A126","v":"2019-10-29"},{"$f":"'[1]Conversion Factors'!B126","v":7.2229999999999999}]
[{"$f":"'[1]Conversion Factors'!A127","v":"2019-10-30"},{"$f":"'[1]Conversion Factors'!B127","v":7.2229999999999999}]
[{"$f":"'[1]Conversion Factors'!A128","v":"2019-10-31"},{"$f":"'[1]Conversion Factors'!B128","v":7.2229999999999999}]
[{"$f":"'[1]Conversion Factors'!A129","v":"2019-11-01"},{"$f":"'[1]Conversion Factors'!B129","v":7.8789999999999996}]
[{"$f":"'[1]Conversion Factors'!A130","v":"2019-11-02"},{"$f":"'[1]Conversion Factors'!B130","v":7.8789999999999996}]
[{"$f":"'[1]Conversion Factors'!A131","v":"2019-11-03"},{"$f":"'[1]Conversion Factors'!B131","v":7.8789999999999996}]
[{"$f":"'[1]Conversion Factors'!A132","v":"2019-11-04"},{"$f":"'[1]Conversion Factors'!B132","v":7.8789999999999996}]
[{"$f":"'[1]Conversion Factors'!A133","v":"2019-11-05"},{"$f":"'[1]Conversion Factors'!B133","v":7.8789999999999996}]
[{"$f":"'[1]Conversion Factors'!A134","v":"2019-11-06"},{"$f":"'[1]Conversion Factors'!B134","v":7.8789999999999996}]
[{"$f":"'[1]Conversion Factors'!A135","v":"2019-11-07"},{"$f":"'[1]Conversion Factors'!B135","v":7.8789999999999996}]
[{"$f":"'[1]Conversion Factors'!A136","v":"2019-11-08"},{"$f":"'[1]Conversion Factors'!B136","v":7.8789999999999996}]
[{"$f":"'[1]Conversion Factors'!A137","v":"2019-11-09"},{"$f":"'[1]Conversion Factors'!B137","v":7.8789999999999996}]
[{"$f":"'[1]Conversion Factors'!A138","v":"2019-11-10"},{"$f":"'[1]Conversion Factors'!B138","v":7.8789999999999996}]
[{"$f":"'[1]Conversion Factors'!A139","v":"2019-11-11"},{"$f":"'[1]Conversion Factors'!B139","v":7.8789999999999996}]
[{"$f":"'[1]Conversion Factors'!A140","v":"2019-11-12"},{"$f":"'[1]Conversion Factors'!B140","v":7.8789999999999996}]
[{"$f":"'[1]Conversion Factors'!A141","v":"2019-11-13"},{"$f":"'[1]Conversion Factors'!B141","v":7.8789999999999996}]
[{"$f":"'[1]Conversion Factors'!A142","v":"2019-11-14"},{"$f":"'[1]Conversion Factors'!B142","v":7.8789999999999996}]
[{"$f":"'[1]Conversion Factors'!A143","v":"2019-11-15"},{"$f":"'[1]Conversion Factors'!B143","v":7.8789999999999996}]
[{"$f":"'[1]Conversion Factors'!A144","v":"2019-11-16"},{"$f":"'[1]Conversion Factors'!B144","v":8.6669999999999998}]
[{"$f":"'[1]Conversion Factors'!A145","v":"2019-11-17"},{"$f":"'[1]Conversion Factors'!B145","v":8.6669999999999998}]
[{"$f":"'[1]Conversion Factors'!A146","v":"2019-11-18"},{"$f":"'[1]Conversion Factors'!B146","v":8.6669999999999998}]
[{"$f":"'[1]Conversion Factors'!A147","v":"2019-11-19"},{"$f":"'[1]Conversion Factors'!B147","v":8.6669999999999998}]
[{"$f":"'[1]Conversion Factors'!A148","v":"2019-11-20"},{"$f":"'[1]Conversion Factors'!B148","v":8.6669999999999998}]
[{"$f":"'[1]Conversion Factors'!A149","v":"2019-11-21"},{"$f":"'[1]Conversion Factors'!B149","v":8.6669999999999998}]
[{"$f":"'[1]Conversion Factors'!A150","v":"2019-11-22"},{"$f":"'[1]Conversion Factors'!B150","v":8.6669999999999998}]
[{"$f":"'[1]Conversion Factors'!A151","v":"2019-11-23"},{"$f":"'[1]Conversion Factors'!B151","v":8.6669999999999998}]
[{"$f":"'[1]Conversion Factors'!A152","v":"2019-11-24"},{"$f":"'[1]Conversion Factors'!B152","v":8.6669999999999998}]
[{"$f":"'[1]Conversion Factors'!A153","v":"2019-11-25"},{"$f":"'[1]Conversion Factors'!B153","v":8.6669999999999998}]
[{"$f":"'[1]Conversion Factors'!A154","v":"2019-11-26"},{"$f":"'[1]Conversion Factors'!B154","v":8.6669999999999998}]
[{"$f":"'[1]Conversion Factors'!A155","v":"2019-11-27"},{"$f":"'[1]Conversion Factors'!B155","v":8.6669999999999998}]
[{"$f":"'[1]Conversion Factors'!A156","v":"2019-11-28"},{"$f":"'[1]Conversion Factors'!B156","v":8.6669999999999998}]
[{"$f":"'[1]Conversion Factors'!A157","v":"2019-11-29"},{"$f":"'[1]Conversion Factors'!B157","v":8.6669999999999998}]
[{"$f":"'[1]Conversion Factors'!A158","v":"2019-11-30"},{"$f":"'[1]Conversion Factors'!B158","v":8.6669999999999998}]
[{"$f":"'[1]Conversion Factors'!A159","v":"2019-12-01"},{"$f":"'[1]Conversion Factors'!B159","v":8.6669999999999998}]
[{"$f":"'[1]Conversion Factors'!A160","v":"2019-12-02"},{"$f":"'[1]Conversion Factors'!B160","v":8.6669999999999998}]
[{"$f":"'[1]Conversion Factors'!A161","v":"2019-12-03"},{"$f":"'[1]Conversion Factors'!B161","v":8.6669999999999998}]
[{"$f":"'[1]Conversion Factors'!A162","v":"2019-12-04"},{"$f":"'[1]Conversion Factors'!B162","v":8.6669999999999998}]
[{"$f":"'[1]Conversion Factors'!A163","v":"2019-12-05"},{"$f":"'[1]Conversion Factors'!B163","v":8.6669999999999998}]
[{"$f":"'[1]Conversion Factors'!A164","v":"2019-12-06"},{"$f":"'[1]Conversion Factors'!B164","v":8.6669999999999998}]
[{"$f":"'[1]Conversion Factors'!A165","v":"2019-12-07"},{"$f":"'[1]Conversion Factors'!B165","v":8.6669999999999998}]
[{"$f":"'[1]Conversion Factors'!A166","v":"2019-12-08"},{"$f":"'[1]Conversion Factors'!B166","v":8.6669999999999998}]
[{"$f":"'[1]Conversion Factors'!A167","v":"2019-12-09"},{"$f":"'[1]Conversion Factors'!B167","v":8.6669999999999998}]
[{"$f":"'[1]Conversion Factors'!A168","v":"2019-12-10"},{"$f":"'[1]Conversion Factors'!B168","v":8.6669999999999998}]
[{"$f":"'[1]Conversion Factors'!A169","v":"2019-12-11"},{"$f":"'[1]Conversion Factors'!B169","v":8.6669999999999998}]
[{"$f":"'[1]Conversion Factors'!A170","v":"2019-12-12"},{"$f":"'[1]Conversion Factors'!B170","v":8.6669999999999998}]
[{"$f":"'[1]Conversion Factors'!A171","v":"2019-12-13"},{"$f":"'[1]Conversion Factors'!B171","v":8.6669999999999998}]
[{"$f":"'[1]Conversion Factors'!A172","v":"2019-12-14"},{"$f":"'[1]Conversion Factors'!B172","v":8.6669999999999998}]
[{"$f":"'[1]Conversion Factors'!A173","v":"2019-12-15"},{"$f":"'[1]Conversion Factors'!B173","v":8.6669999999999998}]
[{"$f":"'[1]Conversion Factors'!A174","v":"2019-12-16"},{"$f":"'[1]Conversion Factors'!B174","v":7.2229999999999999}]
[{"$f":"'[1]Conversion Factors'!A175","v":"2019-12-17"},{"$f":"'[1]Conversion Factors'!B175","v":7.2229999999999999}]
[{"$f":"'[1]Conversion Factors'!A176","v":"2019-12-18"},{"$f":"'[1]Conversion Factors'!B176","v":7.2229999999999999}]
[{"$f":"'[1]Conversion Factors'!A177","v":"2019-12-19"},{"$f":"'[1]Conversion Factors'!B177","v":7.2229999999999999}]
[{"$f":"'[1]Conversion Factors'!A178","v":"2019-12-20"},{"$f":"'[1]Conversion Factors'!B178","v":7.2229999999999999}]
[{"$f":"'[1]Conversion Factors'!A179","v":"2019-12-21"},{"$f":"'[1]Conversion Factors'!B179","v":7.2229999999999999}]
[{"$f":"'[1]Conversion Factors'!A180","v":"2019-12-22"},{"$f":"'[1]Conversion Factors'!B180","v":7.2229999999999999}]
[{"$f":"'[1]Conversion Factors'!A181","v":"2019-12-23"},{"$f":"'[1]Conversion Factors'!B181","v":7.2229999999999999}]
[{"$f":"'[1]Conversion Factors'!A182","v":"2019-12-24"},{"$f":"'[1]Conversion Factors'!B182","v":7.2229999999999999}]
[{"$f":"'[1]Conversion Factors'!A183","v":"2019-12-25"},{"$f":"'[1]Conversion Factors'!B183","v":7.2229999999999999}]
[{"$f":"'[1]Conversion Factors'!A184","v":"2019-12-26"},{"$f":"'[1]Conversion Factors'!B184","v":7.2229999999999999}]
[{"$f":"'[1]Conversion Factors'!A185","v":"2019-12-27"},{"$f":"'[1]Conversion Factors'!B185","v":7.2229999999999999}]
[{"$f":"'[1]Conversion Factors'!A186","v":"2019-12-28"},{"$f":"'[1]Conversion Factors'!B186","v":7.2229999999999999}]
[{"$f":"'[1]Conversion Factors'!A187","v":"2019-12-29"},{"$f":"'[1]Conversion Factors'!B187","v":7.2229999999999999}]
[{"$f":"'[1]Conversion Factors'!A188","v":"2019-12-30"},{"$f":"'[1]Conversion Factors'!B188","v":7.2229999999999999}]
[{"$f":"'[1]Conversion Factors'!A189","v":"2019-12-31"},{"$f":"'[1]Conversion Factors'!B189","v":7.2229999999999999}]
[{"$f":"'[1]Conversion Factors'!A190","v":"2020-01-01"},{"$f":"'[1]Conversion Factors'!B190","v":7.8789999999999996}]
[{"$f":"'[1]Conversion Factors'!A191","v":"2020-01-02"},{"$f":"'[1]Conversion Factors'!B191","v":7.8789999999999996}]
[{"$f":"'[1]Conversion Factors'!A192","v":"2020-01-03"},{"$f":"'[1]Conversion Factors'!B192","v":7.8789999999999996}]
[{"$f":"'[1]Conversion Factors'!A193","v":"2020-01-04"},{"$f":"'[1]Conversion Factors'!B193","v":7.8789999999999996}]
[{"$f":"'[1]Conversion Factors'!A194","v":"2020-01-05"},{"$f":"'[1]Conversion Factors'!B194","v":7.8789999999999996}]
[{"$f":"'[1]Conversion Factors'!A195","v":"2020-01-06"},{"$f":"'[1]Conversion Factors'!B195","v":7.8789999999999996}]
[{"$f":"'[1]Conversion Factors'!A196","v":"2020-01-07"},{"$f":"'[1]Conversion Factors'!B196","v":7.8789999999999996}]
[{"$f":"'[1]Conversion Factors'!A197","v":"2020-01-08"},{"$f":"'[1]Conversion Factors'!B197","v":7.8789999999999996}]
[{"$f":"'[1]Conversion Factors'!A198","v":"2020-01-09"},{"$f":"'[1]Conversion Factors'!B198","v":7.8789999999999996}]
[{"$f":"'[1]Conversion Factors'!A199","v":"2020-01-10"},{"$f":"'[1]Conversion Factors'!B199","v":7.8789999999999996}]
[{"$f":"'[1]Conversion Factors'!A200","v":"2020-01-11"},{"$f":"'[1]Conversion Factors'!B200","v":7.8789999999999996}]
[{"$f":"'[1]Conversion Factors'!A201","v":"2020-01-12"},{"$f":"'[1]Conversion Factors'!B201","v":7.8789999999999996}]
[{"$f":"'[1]Conversion Factors'!A202","v":"2020-01-13"},{"$f":"'[1]Conversion Factors'!B202","v":7.8789999999999996}]
[{"$f":"'[1]Conversion Factors'!A203","v":"2020-01-14"},{"$f":"'[1]Conversion Factors'!B203","v":7.8789999999999996}]
[{"$f":"'[1]Conversion Factors'!A204","v":"2020-01-15"},{"$f":"'[1]Conversion Factors'!B204","v":7.8789999999999996}]
[{"$f":"'[1]Conversion Factors'!A205","v":"2020-01-16"},{"$f":"'[1]Conversion Factors'!B205","v":7.2229999999999999}]
[{"$f":"'[1]Conversion Factors'!A206","v":"2020-01-17"},{"$f":"'[1]Conversion Factors'!B206","v":7.2229999999999999}]
[{"$f":"'[1]Conversion Factors'!A207","v":"2020-01-18"},{"$f":"'[1]Conversion Factors'!B207","v":7.2229999999999999}]
[{"$f":"'[1]Conversion Factors'!A208","v":"2020-01-19"},{"$f":"'[1]Conversion Factors'!B208","v":7.2229999999999999}]
[{"$f":"'[1]Conversion Factors'!A209","v":"2020-01-20"},{"$f":"'[1]Conversion Factors'!B209","v":7.2229999999999999}]
[{"$f":"'[1]Conversion Factors'!A210","v":"2020-01-21"},{"$f":"'[1]Conversion Factors'!B210","v":7.2229999999999999}]
[{"$f":"'[1]Conversion Factors'!A211","v":"2020-01-22"},{"$f":"'[1]Conversion Factors'!B211","v":7.2229999999999999}]
[{"$f":"'[1]Conversion Factors'!A212","v":"2020-01-23"},{"$f":"'[1]Conversion Factors'!B212","v":7.2229999999999999}]
[{"$f":"'[1]Conversion Factors'!A213","v":"2020-01-24"},{"$f":"'[1]Conversion Factors'!B213","v":7.2229999999999999}]
[{"$f":"'[1]Conversion Factors'!A214","v":"2020-01-25"},{"$f":"'[1]Conversion Factors'!B214","v":7.2229999999999999}]
[{"$f":"'[1]Conversion Factors'!A215","v":"2020-01-26"},{"$f":"'[1]Conversion Factors'!B215","v":7.2229999999999999}]
[{"$f":"'[1]Conversion Factors'!A216","v":"2020-01-27"},{"$f":"'[1]Conversion Factors'!B216","v":7.2229999999999999}]
[{"$f":"'[1]Conversion Factors'!A217","v":"2020-01-28"},{"$f":"'[1]Conversion Factors'!B217","v":7.2229999999999999}]
[{"$f":"'[1]Conversion Factors'!A218","v":"2020-01-29"},{"$f":"'[1]Conversion Factors'!B218","v":7.2229999999999999}]
[{"$f":"'[1]Conversion Factors'!A219","v":"2020-01-30"},{"$f":"'[1]Conversion Factors'!B219","v":7.2229999999999999}]
[{"$f":"'[1]Conversion Factors'!A220","v":"2020-01-31"},{"$f":"'[1]Conversion Factors'!B220","v":7.2229999999999999}]
[{"$f":"'[1]Conversion Factors'!A221","v":"2020-02-01"},{"$f":"'[1]Conversion Factors'!B221","v":8.6669999999999998}]
[{"$f":"'[1]Conversion Factors'!A222","v":"2020-02-02"},{"$f":"'[1]Conversion Factors'!B222","v":8.6669999999999998}]
[{"$f":"'[1]Conversion Factors'!A223","v":"2020-02-03"},{"$f":"'[1]Conversion Factors'!B223","v":8.6669999999999998}]
[{"$f":"'[1]Conversion Factors'!A224","v":"2020-02-04"},{"$f":"'[1]Conversion Factors'!B224","v":8.6669999999999998}]
[{"$f":"'[1]Conversion Factors'!A225","v":"2020-02-05"},{"$f":"'[1]Conversion Factors'!B225","v":8.6669999999999998}]
[{"$f":"'[1]Conversion Factors'!A226","v":"2020-02-06"},{"$f":"'[1]Conversion Factors'!B226","v":8.6669999999999998}]
[{"$f":"'[1]Conversion Factors'!A227","v":"2020-02-07"},{"$f":"'[1]Conversion Factors'!B227","v":8.6669999999999998}]
[{"$f":"'[1]Conversion Factors'!A228","v":"2020-02-08"},{"$f":"'[1]Conversion Factors'!B228","v":8.6669999999999998}]
[{"$f":"'[1]Conversion Factors'!A229","v":"2020-02-09"},{"$f":"'[1]Conversion Factors'!B229","v":8.6669999999999998}]
[{"$f":"'[1]Conversion Factors'!A230","v":"2020-02-10"},{"$f":"'[1]Conversion Factors'!B230","v":8.6669999999999998}]
[{"$f":"'[1]Conversion Factors'!A231","v":"2020-02-11"},{"$f":"'[1]Conversion Factors'!B231","v":8.6669999999999998}]
[{"$f":"'[1]Conversion Factors'!A232","v":"2020-02-12"},{"$f":"'[1]Conversion Factors'!B232","v":8.6669999999999998}]
[{"$f":"'[1]Conversion Factors'!A233","v":"2020-02-13"},{"$f":"'[1]Conversion Factors'!B233","v":8.6669999999999998}]
[{"$f":"'[1]Conversion Factors'!A234","v":"2020-02-14"},{"$f":"'[1]Conversion Factors'!B234","v":8.6669999999999998}]
[{"$f":"'[1]Conversion Factors'!A235","v":"2020-02-15"},{"$f":"'[1]Conversion Factors'!B235","v":8.6669999999999998}]
[{"$f":"'[1]Conversion Factors'!A236","v":"2020-02-16"},{"$f":"'[1]Conversion Factors'!B236","v":8.6669999999999998}]
[{"$f":"'[1]Conversion Factors'!A237","v":"2020-02-17"},{"$f":"'[1]Conversion Factors'!B237","v":8.6669999999999998}]
[{"$f":"'[1]Conversion Factors'!A238","v":"2020-02-18"},{"$f":"'[1]Conversion Factors'!B238","v":8.6669999999999998}]
[{"$f":"'[1]Conversion Factors'!A239","v":"2020-02-19"},{"$f":"'[1]Conversion Factors'!B239","v":8.6669999999999998}]
[{"$f":"'[1]Conversion Factors'!A240","v":"2020-02-20"},{"$f":"'[1]Conversion Factors'!B240","v":8.6669999999999998}]
[{"$f":"'[1]Conversion Factors'!A241","v":"2020-02-21"},{"$f":"'[1]Conversion Factors'!B241","v":8.6669999999999998}]
[{"$f":"'[1]Conversion Factors'!A242","v":"2020-02-22"},{"$f":"'[1]Conversion Factors'!B242","v":8.6669999999999998}]
[{"$f":"'[1]Conversion Factors'!A243","v":"2020-02-23"},{"$f":"'[1]Conversion Factors'!B243","v":8.6669999999999998}]
[{"$f":"'[1]Conversion Factors'!A244","v":"2020-02-24"},{"$f":"'[1]Conversion Factors'!B244","v":8.6669999999999998}]
[{"$f":"'[1]Conversion Factors'!A245","v":"2020-02-25"},{"$f":"'[1]Conversion Factors'!B245","v":8.6669999999999998}]
[{"$f":"'[1]Conversion Factors'!A246","v":"2020-02-26"},{"$f":"'[1]Conversion Factors'!B246","v":8.6669999999999998}]
[{"$f":"'[1]Conversion Factors'!A247","v":"2020-02-27"},{"$f":"'[1]Conversion Factors'!B247","v":8.6669999999999998}]
[{"$f":"'[1]Conversion Factors'!A248","v":"2020-02-28"},{"$f":"'[1]Conversion Factors'!B248","v":8.6669999999999998}]
[{"$f":"'[1]Conversion Factors'!A249","v":"2020-02-29"},{"$f":"'[1]Conversion Factors'!B249","v":8.6669999999999998}]
[{"$f":"'[1]Conversion Factors'!A250","v":"2020-03-01"},{"$f":"'[1]Conversion Factors'!B250","v":8.6669999999999998}]
[{"$f":"'[1]Conversion Factors'!A251","v":"2020-03-02"},{"$f":"'[1]Conversion Factors'!B251","v":8.6669999999999998}]
[{"$f":"'[1]Conversion Factors'!A252","v":"2020-03-03"},{"$f":"'[1]Conversion Factors'!B252","v":8.6669999999999998}]
[{"$f":"'[1]Conversion Factors'!A253","v":"2020-03-04"},{"$f":"'[1]Conversion Factors'!B253","v":8.6669999999999998}]
[{"$f":"'[1]Conversion Factors'!A254","v":"2020-03-05"},{"$f":"'[1]Conversion Factors'!B254","v":8.6669999999999998}]
[{"$f":"'[1]Conversion Factors'!A255","v":"2020-03-06"},{"$f":"'[1]Conversion Factors'!B255","v":8.6669999999999998}]
[{"$f":"'[1]Conversion Factors'!A256","v":"2020-03-07"},{"$f":"'[1]Conversion Factors'!B256","v":8.6669999999999998}]
[{"$f":"'[1]Conversion Factors'!A257","v":"2020-03-08"},{"$f":"'[1]Conversion Factors'!B257","v":8.6669999999999998}]
[{"$f":"'[1]Conversion Factors'!A258","v":"2020-03-09"},{"$f":"'[1]Conversion Factors'!B258","v":8.6669999999999998}]
[{"$f":"'[1]Conversion Factors'!A259","v":"2020-03-10"},{"$f":"'[1]Conversion Factors'!B259","v":8.6669999999999998}]
[{"$f":"'[1]Conversion Factors'!A260","v":"2020-03-11"},{"$f":"'[1]Conversion Factors'!B260","v":8.6669999999999998}]
[{"$f":"'[1]Conversion Factors'!A261","v":"2020-03-12"},{"$f":"'[1]Conversion Factors'!B261","v":8.6669999999999998}]
[{"$f":"'[1]Conversion Factors'!A262","v":"2020-03-13"},{"$f":"'[1]Conversion Factors'!B262","v":8.6669999999999998}]
[{"$f":"'[1]Conversion Factors'!A263","v":"2020-03-14"},{"$f":"'[1]Conversion Factors'!B263","v":8.6669999999999998}]
[{"$f":"'[1]Conversion Factors'!A264","v":"2020-03-15"},{"$f":"'[1]Conversion Factors'!B264","v":8.6669999999999998}]
[{"$f":"'[1]Conversion Factors'!A265","v":"2020-03-16"},{"$f":"'[1]Conversion Factors'!B265","v":7.2229999999999999}]
[{"$f":"'[1]Conversion Factors'!A266","v":"2020-03-17"},{"$f":"'[1]Conversion Factors'!B266","v":7.2229999999999999}]
[{"$f":"'[1]Conversion Factors'!A267","v":"2020-03-18"},{"$f":"'[1]Conversion Factors'!B267","v":7.2229999999999999}]
[{"$f":"'[1]Conversion Factors'!A268","v":"2020-03-19"},{"$f":"'[1]Conversion Factors'!B268","v":7.2229999999999999}]
[{"$f":"'[1]Conversion Factors'!A269","v":"2020-03-20"},{"$f":"'[1]Conversion Factors'!B269","v":7.2229999999999999}]
[{"$f":"'[1]Conversion Factors'!A270","v":"2020-03-21"},{"$f":"'[1]Conversion Factors'!B270","v":7.2229999999999999}]
[{"$f":"'[1]Conversion Factors'!A271","v":"2020-03-22"},{"$f":"'[1]Conversion Factors'!B271","v":7.2229999999999999}]
[{"$f":"'[1]Conversion Factors'!A272","v":"2020-03-23"},{"$f":"'[1]Conversion Factors'!B272","v":7.2229999999999999}]
[{"$f":"'[1]Conversion Factors'!A273","v":"2020-03-24"},{"$f":"'[1]Conversion Factors'!B273","v":7.2229999999999999}]
[{"$f":"'[1]Conversion Factors'!A274","v":"2020-03-25"},{"$f":"'[1]Conversion Factors'!B274","v":7.2229999999999999}]
[{"$f":"'[1]Conversion Factors'!A275","v":"2020-03-26"},{"$f":"'[1]Conversion Factors'!B275","v":7.2229999999999999}]
[{"$f":"'[1]Conversion Factors'!A276","v":"2020-03-27"},{"$f":"'[1]Conversion Factors'!B276","v":7.2229999999999999}]
[{"$f":"'[1]Conversion Factors'!A277","v":"2020-03-28"},{"$f":"'[1]Conversion Factors'!B277","v":7.2229999999999999}]
[{"$f":"'[1]Conversion Factors'!A278","v":"2020-03-29"},{"$f":"'[1]Conversion Factors'!B278","v":7.2229999999999999}]
[{"$f":"'[1]Conversion Factors'!A279","v":"2020-03-30"},{"$f":"'[1]Conversion Factors'!B279","v":7.2229999999999999}]
[{"$f":"'[1]Conversion Factors'!A280","v":"2020-03-31"},{"$f":"'[1]Conversion Factors'!B280","v":7.2229999999999999}]
[{"$f":"'[1]Conversion Factors'!A281","v":"2020-04-01"},{"$f":"'[1]Conversion Factors'!B281","v":7.8789999999999996}]
[{"$f":"'[1]Conversion Factors'!A282","v":"2020-04-02"},{"$f":"'[1]Conversion Factors'!B282","v":7.8789999999999996}]
[{"$f":"'[1]Conversion Factors'!A283","v":"2020-04-03"},{"$f":"'[1]Conversion Factors'!B283","v":7.8789999999999996}]
[{"$f":"'[1]Conversion Factors'!A284","v":"2020-04-04"},{"$f":"'[1]Conversion Factors'!B284","v":7.8789999999999996}]
[{"$f":"'[1]Conversion Factors'!A285","v":"2020-04-05"},{"$f":"'[1]Conversion Factors'!B285","v":7.8789999999999996}]
[{"$f":"'[1]Conversion Factors'!A286","v":"2020-04-06"},{"$f":"'[1]Conversion Factors'!B286","v":7.8789999999999996}]
[{"$f":"'[1]Conversion Factors'!A287","v":"2020-04-07"},{"$f":"'[1]Conversion Factors'!B287","v":7.8789999999999996}]
[{"$f":"'[1]Conversion Factors'!A288","v":"2020-04-08"},{"$f":"'[1]Conversion Factors'!B288","v":7.8789999999999996}]
[{"$f":"'[1]Conversion Factors'!A289","v":"2020-04-09"},{"$f":"'[1]Conversion Factors'!B289","v":7.8789999999999996}]
[{"$f":"'[1]Conversion Factors'!A290","v":"2020-04-10"},{"$f":"'[1]Conversion Factors'!B290","v":7.8789999999999996}]
[{"$f":"'[1]Conversion Factors'!A291","v":"2020-04-11"},{"$f":"'[1]Conversion Factors'!B291","v":7.8789999999999996}]
[{"$f":"'[1]Conversion Factors'!A292","v":"2020-04-12"},{"$f":"'[1]Conversion Factors'!B292","v":7.8789999999999996}]
[{"$f":"'[1]Conversion Factors'!A293","v":"2020-04-13"},{"$f":"'[1]Conversion Factors'!B293","v":7.8789999999999996}]
[{"$f":"'[1]Conversion Factors'!A294","v":"2020-04-14"},{"$f":"'[1]Conversion Factors'!B294","v":7.8789999999999996}]
[{"$f":"'[1]Conversion Factors'!A295","v":"2020-04-15"},{"$f":"'[1]Conversion Factors'!B295","v":7.8789999999999996}]
[{"$f":"'[1]Conversion Factors'!A296","v":"2020-04-16"},{"$f":"'[1]Conversion Factors'!B296","v":7.8789999999999996}]
[{"$f":"'[1]Conversion Factors'!A297","v":"2020-04-17"},{"$f":"'[1]Conversion Factors'!B297","v":7.8789999999999996}]
[{"$f":"'[1]Conversion Factors'!A298","v":"2020-04-18"},{"$f":"'[1]Conversion Factors'!B298","v":7.8789999999999996}]
[{"$f":"'[1]Conversion Factors'!A299","v":"2020-04-19"},{"$f":"'[1]Conversion Factors'!B299","v":7.8789999999999996}]
[{"$f":"'[1]Conversion Factors'!A300","v":"2020-04-20"},{"$f":"'[1]Conversion Factors'!B300","v":7.8789999999999996}]
[{"$f":"'[1]Conversion Factors'!A301","v":"2020-04-21"},{"$f":"'[1]Conversion Factors'!B301","v":7.8789999999999996}]
[{"$f":"'[1]Conversion Factors'!A302","v":"2020-04-22"},{"$f":"'[1]Conversion Factors'!B302","v":7.8789999999999996}]
[{"$f":"'[1]Conversion Factors'!A303","v":"2020-04-23"},{"$f":"'[1]Conversion Factors'!B303","v":7.8789999999999996}]
[{"$f":"'[1]Conversion Factors'!A304","v":"2020-04-24"},{"$f":"'[1]Conversion Factors'!B304","v":7.8789999999999996}]
[{"$f":"'[1]Conversion Factors'!A305","v":"2020-04-25"},{"$f":"'[1]Conversion Factors'!B305","v":7.8789999999999996}]
[{"$f":"'[1]Conversion Factors'!A306","v":"2020-04-26"},{"$f":"'[1]Conversion Factors'!B306","v":7.8789999999999996}]
[{"$f":"'[1]Conversion Factors'!A307","v":"2020-04-27"},{"$f":"'[1]Conversion Factors'!B307","v":7.8789999999999996}]
[{"$f":"'[1]Conversion Factors'!A308","v":"2020-04-28"},{"$f":"'[1]Conversion Factors'!B308","v":7.8789999999999996}]
[{"$f":"'[1]Conversion Factors'!A309","v":"2020-04-29"},{"$f":"'[1]Conversion Factors'!B309","v":7.8789999999999996}]
[{"$f":"'[1]Conversion Factors'!A310","v":"2020-04-30"},{"$f":"'[1]Conversion Factors'!B310","v":7.8789999999999996}]
[{"$f":"'[1]Conversion Factors'!A311","v":"2020-05-01"},{"$f":"'[1]Conversion Factors'!B311","v":7.8789999999999996}]
[{"$f":"'[1]Conversion Factors'!A312","v":"2020-05-02"},{"$f":"'[1]Conversion Factors'!B312","v":7.8789999999999996}]
[{"$f":"'[1]Conversion Factors'!A313","v":"2020-05-03"},{"$f":"'[1]Conversion Factors'!B313","v":7.8789999999999996}]
[{"$f":"'[1]Conversion Factors'!A314","v":"2020-05-04"},{"$f":"'[1]Conversion Factors'!B314","v":7.8789999999999996}]
[{"$f":"'[1]Conversion Factors'!A315","v":"2020-05-05"},{"$f":"'[1]Conversion Factors'!B315","v":7.8789999999999996}]
[{"$f":"'[1]Conversion Factors'!A316","v":"2020-05-06"},{"$f":"'[1]Conversion Factors'!B316","v":7.8789999999999996}]
[{"$f":"'[1]Conversion Factors'!A317","v":"2020-05-07"},{"$f":"'[1]Conversion Factors'!B317","v":7.8789999999999996}]
[{"$f":"'[1]Conversion Factors'!A318","v":"2020-05-08"},{"$f":"'[1]Conversion Factors'!B318","v":7.8789999999999996}]
[{"$f":"'[1]Conversion Factors'!A319","v":"2020-05-09"},{"$f":"'[1]Conversion Factors'!B319","v":7.8789999999999996}]
[{"$f":"'[1]Conversion Factors'!A320","v":"2020-05-10"},{"$f":"'[1]Conversion Factors'!B320","v":7.8789999999999996}]
[{"$f":"'[1]Conversion Factors'!A321","v":"2020-05-11"},{"$f":"'[1]Conversion Factors'!B321","v":7.8789999999999996}]
[{"$f":"'[1]Conversion Factors'!A322","v":"2020-05-12"},{"$f":"'[1]Conversion Factors'!B322","v":7.8789999999999996}]
[{"$f":"'[1]Conversion Factors'!A323","v":"2020-05-13"},{"$f":"'[1]Conversion Factors'!B323","v":7.8789999999999996}]
[{"$f":"'[1]Conversion Factors'!A324","v":"2020-05-14"},{"$f":"'[1]Conversion Factors'!B324","v":7.8789999999999996}]
[{"$f":"'[1]Conversion Factors'!A325","v":"2020-05-15"},{"$f":"'[1]Conversion Factors'!B325","v":7.8789999999999996}]
[{"$f":"'[1]Conversion Factors'!A326","v":"2020-05-16"},{"$f":"'[1]Conversion Factors'!B326","v":8.6669999999999998}]
[{"$f":"'[1]Conversion Factors'!A327","v":"2020-05-17"},{"$f":"'[1]Conversion Factors'!B327","v":8.6669999999999998}]
[{"$f":"'[1]Conversion Factors'!A328","v":"2020-05-18"},{"$f":"'[1]Conversion Factors'!B328","v":8.6669999999999998}]
[{"$f":"'[1]Conversion Factors'!A329","v":"2020-05-19"},{"$f":"'[1]Conversion Factors'!B329","v":8.6669999999999998}]
[{"$f":"'[1]Conversion Factors'!A330","v":"2020-05-20"},{"$f":"'[1]Conversion Factors'!B330","v":8.6669999999999998}]
[{"$f":"'[1]Conversion Factors'!A331","v":"2020-05-21"},{"$f":"'[1]Conversion Factors'!B331","v":8.6669999999999998}]
[{"$f":"'[1]Conversion Factors'!A332","v":"2020-05-22"},{"$f":"'[1]Conversion Factors'!B332","v":8.6669999999999998}]
[{"$f":"'[1]Conversion Factors'!A333","v":"2020-05-23"},{"$f":"'[1]Conversion Factors'!B333","v":8.6669999999999998}]
[{"$f":"'[1]Conversion Factors'!A334","v":"2020-05-24"},{"$f":"'[1]Conversion Factors'!B334","v":8.6669999999999998}]
[{"$f":"'[1]Conversion Factors'!A335","v":"2020-05-25"},{"$f":"'[1]Conversion Factors'!B335","v":8.6669999999999998}]
[{"$f":"'[1]Conversion Factors'!A336","v":"2020-05-26"},{"$f":"'[1]Conversion Factors'!B336","v":8.6669999999999998}]
[{"$f":"'[1]Conversion Factors'!A337","v":"2020-05-27"},{"$f":"'[1]Conversion Factors'!B337","v":8.6669999999999998}]
[{"$f":"'[1]Conversion Factors'!A338","v":"2020-05-28"},{"$f":"'[1]Conversion Factors'!B338","v":8.6669999999999998}]
[{"$f":"'[1]Conversion Factors'!A339","v":"2020-05-29"},{"$f":"'[1]Conversion Factors'!B339","v":8.6669999999999998}]
[{"$f":"'[1]Conversion Factors'!A340","v":"2020-05-30"},{"$f":"'[1]Conversion Factors'!B340","v":8.6669999999999998}]
[{"$f":"'[1]Conversion Factors'!A341","v":"2020-05-31"},{"$f":"'[1]Conversion Factors'!B341","v":8.6669999999999998}]
[{"$f":"'[1]Conversion Factors'!A342","v":"2020-06-01"},{"$f":"'[1]Conversion Factors'!B342","v":7.8789999999999996}]
[{"$f":"'[1]Conversion Factors'!A343","v":"2020-06-02"},{"$f":"'[1]Conversion Factors'!B343","v":7.8789999999999996}]
[{"$f":"'[1]Conversion Factors'!A344","v":"2020-06-03"},{"$f":"'[1]Conversion Factors'!B344","v":7.8789999999999996}]
[{"$f":"'[1]Conversion Factors'!A345","v":"2020-06-04"},{"$f":"'[1]Conversion Factors'!B345","v":7.8789999999999996}]
[{"$f":"'[1]Conversion Factors'!A346","v":"2020-06-05"},{"$f":"'[1]Conversion Factors'!B346","v":7.8789999999999996}]
[{"$f":"'[1]Conversion Factors'!A347","v":"2020-06-06"},{"$f":"'[1]Conversion Factors'!B347","v":7.8789999999999996}]
[{"$f":"'[1]Conversion Factors'!A348","v":"2020-06-07"},{"$f":"'[1]Conversion Factors'!B348","v":7.8789999999999996}]
[{"$f":"'[1]Conversion Factors'!A349","v":"2020-06-08"},{"$f":"'[1]Conversion Factors'!B349","v":7.8789999999999996}]
[{"$f":"'[1]Conversion Factors'!A350","v":"2020-06-09"},{"$f":"'[1]Conversion Factors'!B350","v":7.8789999999999996}]
[{"$f":"'[1]Conversion Factors'!A351","v":"2020-06-10"},{"$f":"'[1]Conversion Factors'!B351","v":7.8789999999999996}]
[{"$f":"'[1]Conversion Factors'!A352","v":"2020-06-11"},{"$f":"'[1]Conversion Factors'!B352","v":7.8789999999999996}]
[{"$f":"'[1]Conversion Factors'!A353","v":"2020-06-12"},{"$f":"'[1]Conversion Factors'!B353","v":7.8789999999999996}]
[{"$f":"'[1]Conversion Factors'!A354","v":"2020-06-13"},{"$f":"'[1]Conversion Factors'!B354","v":7.8789999999999996}]
[{"$f":"'[1]Conversion Factors'!A355","v":"2020-06-14"},{"$f":"'[1]Conversion Factors'!B355","v":7.8789999999999996}]
[{"$f":"'[1]Conversion Factors'!A356","v":"2020-06-15"},{"$f":"'[1]Conversion Factors'!B356","v":7.8789999999999996}]
[{"$f":"'[1]Conversion Factors'!A357","v":"2020-06-16"},{"$f":"'[1]Conversion Factors'!B357","v":7.8789999999999996}]
[{"$f":"'[1]Conversion Factors'!A358","v":"2020-06-17"},{"$f":"'[1]Conversion Factors'!B358","v":7.8789999999999996}]
[{"$f":"'[1]Conversion Factors'!A359","v":"2020-06-18"},{"$f":"'[1]Conversion Factors'!B359","v":7.8789999999999996}]
[{"$f":"'[1]Conversion Factors'!A360","v":"2020-06-19"},{"$f":"'[1]Conversion Factors'!B360","v":7.8789999999999996}]
[{"$f":"'[1]Conversion Factors'!A361","v":"2020-06-20"},{"$f":"'[1]Conversion Factors'!B361","v":7.8789999999999996}]
[{"$f":"'[1]Conversion Factors'!A362","v":"2020-06-21"},{"$f":"'[1]Conversion Factors'!B362","v":7.8789999999999996}]
[{"$f":"'[1]Conversion Factors'!A363","v":"2020-06-22"},{"$f":"'[1]Conversion Factors'!B363","v":7.8789999999999996}]
[{"$f":"'[1]Conversion Factors'!A364","v":"2020-06-23"},{"$f":"'[1]Conversion Factors'!B364","v":7.8789999999999996}]
[{"$f":"'[1]Conversion Factors'!A365","v":"2020-06-24"},{"$f":"'[1]Conversion Factors'!B365","v":7.8789999999999996}]
[{"$f":"'[1]Conversion Factors'!A366","v":"2020-06-25"},{"$f":"'[1]Conversion Factors'!B366","v":7.8789999999999996}]
[{"$f":"'[1]Conversion Factors'!A367","v":"2020-06-26"},{"$f":"'[1]Conversion Factors'!B367","v":7.8789999999999996}]
[{"$f":"'[1]Conversion Factors'!A368","v":"2020-06-27"},{"$f":"'[1]Conversion Factors'!B368","v":7.8789999999999996}]
[{"$f":"'[1]Conversion Factors'!A369","v":"2020-06-28"},{"$f":"'[1]Conversion Factors'!B369","v":7.8789999999999996}]
[{"$f":"'[1]Conversion Factors'!A370","v":"2020-06-29"},{"$f":"'[1]Conversion Factors'!B370","v":7.8789999999999996}]
[{"$f":"'[1]Conversion Factors'!A371","v":"2020-06-30"},{"$f":"'[1]Conversion Factors'!B371","v":7.8789999999999996}]
[{"$f":"'[1]Conversion Factors'!A372","v":""},{"$f":"'[1]Conversion Factors'!B372","v":0}]
[{"$f":"'[1]Conversion Factors'!A373","v":false},{"$f":"'[1]Conversion Factors'!B373","v":0}]
[{"$f":"'[1]Conversion Factors'!A374","v":false},{"$f":"'[1]Conversion Factors'!B374","v":0}]
[]
[]
["NEED NEW CONVERSION FACTORS FOR FY20.  USING OLD FACTORS TO TEST TIME REPORTS."]