{"text_format":"1","workbook":"xlsx","n_sheets":31,"sheets":["Conversion Factors-Print  Copy","Admn Closing Instructions","Previous June Split WK HRS","Notes for New Year","Conversion Factors","Dates & Notes","Instructions to Update","July 1 - July 15","July 16 - July 31","Aug 1 - Aug 15","Aug 16 - Aug 31","Sept 1 - Sept 15","Sept 16 - Sept 30","Oct 1 - Oct 15","Oct 16 - Oct 31","Nov 1 - Nov 15","Nov 16 - Nov 30","Dec 1 - Dec 15","Dec 16 - Dec 31","Jan 1 - Jan 15","Jan 16 - Jan 31","Feb 1 - Feb 15","Feb 16 - Feb 28","Mar 1 - Mar 15","Mar 16 - Mar 31","April 1 - April 15","April 16 - April 30","May 1 - May 15","May 16 - May 31","June 1 - June 15","June 16 - June 30"],"not_rendered":{"charts":0,"images":0,"macros":1,"external_links":0,"defined_names":30,"comments":0,"pivot_tables":0},"unopened":[],"bounds":{"document_bytes":16777216,"sheet_cells":100000,"rows_first":2000,"rows_last":500,"rows_between":2000,"halvings":0,"cell_chars":16384,"cell_head_chars":4096},"cells_cut":0,"cells_raw":0,"read":"whole","date_system":"1900"}

{"sheet":"Conversion Factors-Print  Copy","index":0,"n_rows":55,"n_cols":23,"rows_kept":55,"cut":false,"hidden":true,"merged":[]}
["Pay period start date:","2018-07-01",null,"Pay period start date:","2018-07-01",null,"Pay period start date:","2018-07-01",null,"Pay period start date:","2018-07-01",null,"Pay period start date:","2018-07-01",null,"Pay period start date:","2018-07-01",null,"Pay period start date:","2018-07-01",null,"Pay period start date:","2018-07-01"]
[]
["Pay period end date:","2019-06-30",null,"Pay period end date:","2019-06-30",null,"Pay period end date:","2019-06-30",null,"Pay period end date:","2019-06-30",null,"Pay period end date:","2019-06-30",null,"Pay period end date:","2019-06-30",null,"Pay period end date:","2019-06-30",null,"Pay period end date:","2019-06-30"]
[]
["Payroll Dates","RATE",null,"Payroll Dates","RATE",null,"Payroll Dates","RATE",null,"Payroll Dates","RATE",null,"Payroll Dates","RATE",null,"Payroll Dates","RATE",null,"Payroll Dates","RATE",null,"Payroll Dates","RATE"]
[{"$f":"'Conversion Factors'!A6","v":"2022-07-01"},{"$f":"'Conversion Factors'!B6","v":7.8789999999999996},null,{"$f":"'Conversion Factors'!A56","v":"2022-08-20"},{"$f":"'Conversion Factors'!B56","v":7.2229999999999999},null,{"$f":"'Conversion Factors'!A106","v":"2022-10-09"},{"$f":"'Conversion Factors'!B106","v":8.6669999999999998},null,{"$f":"'Conversion Factors'!A156","v":"2022-11-28"},{"$f":"'Conversion Factors'!B156","v":7.8789999999999996},null,{"$f":"'Conversion Factors'!A206","v":"2023-01-17"},{"$f":"'Conversion Factors'!B206","v":7.2229999999999999},null,{"$f":"'Conversion Factors'!A256","v":"2023-03-08"},{"$f":"'Conversion Factors'!B256","v":7.8789999999999996},null,{"$f":"'Conversion Factors'!A306","v":"2023-04-27"},{"$f":"'Conversion Factors'!B306","v":8.6669999999999998},null,{"$f":"'Conversion Factors'!A356","v":"2023-06-16"},{"$f":"'Conversion Factors'!B356","v":7.8789999999999996}]
[{"$f":"'Conversion Factors'!A7","v":"2022-07-02"},{"$f":"'Conversion Factors'!B7","v":7.8789999999999996},null,{"$f":"'Conversion Factors'!A57","v":"2022-08-21"},{"$f":"'Conversion Factors'!B57","v":7.2229999999999999},null,{"$f":"'Conversion Factors'!A107","v":"2022-10-10"},{"$f":"'Conversion Factors'!B107","v":8.6669999999999998},null,{"$f":"'Conversion Factors'!A157","v":"2022-11-29"},{"$f":"'Conversion Factors'!B157","v":7.8789999999999996},null,{"$f":"'Conversion Factors'!A207","v":"2023-01-18"},{"$f":"'Conversion Factors'!B207","v":7.2229999999999999},null,{"$f":"'Conversion Factors'!A257","v":"2023-03-09"},{"$f":"'Conversion Factors'!B257","v":7.8789999999999996},null,{"$f":"'Conversion Factors'!A307","v":"2023-04-28"},{"$f":"'Conversion Factors'!B307","v":8.6669999999999998},null,{"$f":"'Conversion Factors'!A357","v":"2023-06-17"},{"$f":"'Conversion Factors'!B357","v":7.8789999999999996}]
[{"$f":"'Conversion Factors'!A8","v":"2022-07-03"},{"$f":"'Conversion Factors'!B8","v":7.8789999999999996},null,{"$f":"'Conversion Factors'!A58","v":"2022-08-22"},{"$f":"'Conversion Factors'!B58","v":7.2229999999999999},null,{"$f":"'Conversion Factors'!A108","v":"2022-10-11"},{"$f":"'Conversion Factors'!B108","v":8.6669999999999998},null,{"$f":"'Conversion Factors'!A158","v":"2022-11-30"},{"$f":"'Conversion Factors'!B158","v":7.8789999999999996},null,{"$f":"'Conversion Factors'!A208","v":"2023-01-19"},{"$f":"'Conversion Factors'!B208","v":7.2229999999999999},null,{"$f":"'Conversion Factors'!A258","v":"2023-03-10"},{"$f":"'Conversion Factors'!B258","v":7.8789999999999996},null,{"$f":"'Conversion Factors'!A308","v":"2023-04-29"},{"$f":"'Conversion Factors'!B308","v":8.6669999999999998},null,{"$f":"'Conversion Factors'!A358","v":"2023-06-18"},{"$f":"'Conversion Factors'!B358","v":7.8789999999999996}]
[{"$f":"'Conversion Factors'!A9","v":"2022-07-04"},{"$f":"'Conversion Factors'!B9","v":7.8789999999999996},null,{"$f":"'Conversion Factors'!A59","v":"2022-08-23"},{"$f":"'Conversion Factors'!B59","v":7.2229999999999999},null,{"$f":"'Conversion Factors'!A109","v":"2022-10-12"},{"$f":"'Conversion Factors'!B109","v":8.6669999999999998},null,{"$f":"'Conversion Factors'!A159","v":"2022-12-01"},{"$f":"'Conversion Factors'!B159","v":7.8789999999999996},null,{"$f":"'Conversion Factors'!A209","v":"2023-01-20"},{"$f":"'Conversion Factors'!B209","v":7.2229999999999999},null,{"$f":"'Conversion Factors'!A259","v":"2023-03-11"},{"$f":"'Conversion Factors'!B259","v":7.8789999999999996},null,{"$f":"'Conversion Factors'!A309","v":"2023-04-30"},{"$f":"'Conversion Factors'!B309","v":8.6669999999999998},null,{"$f":"'Conversion Factors'!A359","v":"2023-06-19"},{"$f":"'Conversion Factors'!B359","v":7.8789999999999996}]
[{"$f":"'Conversion Factors'!A10","v":"2022-07-05"},{"$f":"'Conversion Factors'!B10","v":7.8789999999999996},null,{"$f":"'Conversion Factors'!A60","v":"2022-08-24"},{"$f":"'Conversion Factors'!B60","v":7.2229999999999999},null,{"$f":"'Conversion Factors'!A110","v":"2022-10-13"},{"$f":"'Conversion Factors'!B110","v":8.6669999999999998},null,{"$f":"'Conversion Factors'!A160","v":"2022-12-02"},{"$f":"'Conversion Factors'!B160","v":7.8789999999999996},null,{"$f":"'Conversion Factors'!A210","v":"2023-01-21"},{"$f":"'Conversion Factors'!B210","v":7.2229999999999999},null,{"$f":"'Conversion Factors'!A260","v":"2023-03-12"},{"$f":"'Conversion Factors'!B260","v":7.8789999999999996},null,{"$f":"'Conversion Factors'!A310","v":"2023-05-01"},{"$f":"'Conversion Factors'!B310","v":7.8789999999999996},null,{"$f":"'Conversion Factors'!A360","v":"2023-06-20"},{"$f":"'Conversion Factors'!B360","v":7.8789999999999996}]
[{"$f":"'Conversion Factors'!A11","v":"2022-07-06"},{"$f":"'Conversion Factors'!B11","v":7.8789999999999996},null,{"$f":"'Conversion Factors'!A61","v":"2022-08-25"},{"$f":"'Conversion Factors'!B61","v":7.2229999999999999},null,{"$f":"'Conversion Factors'!A111","v":"2022-10-14"},{"$f":"'Conversion Factors'!B111","v":8.6669999999999998},null,{"$f":"'Conversion Factors'!A161","v":"2022-12-03"},{"$f":"'Conversion Factors'!B161","v":7.8789999999999996},null,{"$f":"'Conversion Factors'!A211","v":"2023-01-22"},{"$f":"'Conversion Factors'!B211","v":7.2229999999999999},null,{"$f":"'Conversion Factors'!A261","v":"2023-03-13"},{"$f":"'Conversion Factors'!B261","v":7.8789999999999996},null,{"$f":"'Conversion Factors'!A311","v":"2023-05-02"},{"$f":"'Conversion Factors'!B311","v":7.8789999999999996},null,{"$f":"'Conversion Factors'!A361","v":"2023-06-21"},{"$f":"'Conversion Factors'!B361","v":7.8789999999999996}]
[{"$f":"'Conversion Factors'!A12","v":"2022-07-07"},{"$f":"'Conversion Factors'!B12","v":7.8789999999999996},null,{"$f":"'Conversion Factors'!A62","v":"2022-08-26"},{"$f":"'Conversion Factors'!B62","v":7.2229999999999999},null,{"$f":"'Conversion Factors'!A112","v":"2022-10-15"},{"$f":"'Conversion Factors'!B112","v":8.6669999999999998},null,{"$f":"'Conversion Factors'!A162","v":"2022-12-04"},{"$f":"'Conversion Factors'!B162","v":7.8789999999999996},null,{"$f":"'Conversion Factors'!A212","v":"2023-01-23"},{"$f":"'Conversion Factors'!B212","v":7.2229999999999999},null,{"$f":"'Conversion Factors'!A262","v":"2023-03-14"},{"$f":"'Conversion Factors'!B262","v":7.8789999999999996},null,{"$f":"'Conversion Factors'!A312","v":"2023-05-03"},{"$f":"'Conversion Factors'!B312","v":7.8789999999999996},null,{"$f":"'Conversion Factors'!A362","v":"2023-06-22"},{"$f":"'Conversion Factors'!B362","v":7.8789999999999996}]
[{"$f":"'Conversion Factors'!A13","v":"2022-07-08"},{"$f":"'Conversion Factors'!B13","v":7.8789999999999996},null,{"$f":"'Conversion Factors'!A63","v":"2022-08-27"},{"$f":"'Conversion Factors'!B63","v":7.2229999999999999},null,{"$f":"'Conversion Factors'!A113","v":"2022-10-16"},{"$f":"'Conversion Factors'!B113","v":7.8789999999999996},null,{"$f":"'Conversion Factors'!A163","v":"2022-12-05"},{"$f":"'Conversion Factors'!B163","v":7.8789999999999996},null,{"$f":"'Conversion Factors'!A213","v":"2023-01-24"},{"$f":"'Conversion Factors'!B213","v":7.2229999999999999},null,{"$f":"'Conversion Factors'!A263","v":"2023-03-15"},{"$f":"'Conversion Factors'!B263","v":7.8789999999999996},null,{"$f":"'Conversion Factors'!A313","v":"2023-05-04"},{"$f":"'Conversion Factors'!B313","v":7.8789999999999996},null,{"$f":"'Conversion Factors'!A363","v":"2023-06-23"},{"$f":"'Conversion Factors'!B363","v":7.8789999999999996}]
[{"$f":"'Conversion Factors'!A14","v":"2022-07-09"},{"$f":"'Conversion Factors'!B14","v":7.8789999999999996},null,{"$f":"'Conversion Factors'!A64","v":"2022-08-28"},{"$f":"'Conversion Factors'!B64","v":7.2229999999999999},null,{"$f":"'Conversion Factors'!A114","v":"2022-10-17"},{"$f":"'Conversion Factors'!B114","v":7.8789999999999996},null,{"$f":"'Conversion Factors'!A164","v":"2022-12-06"},{"$f":"'Conversion Factors'!B164","v":7.8789999999999996},null,{"$f":"'Conversion Factors'!A214","v":"2023-01-25"},{"$f":"'Conversion Factors'!B214","v":7.2229999999999999},null,{"$f":"'Conversion Factors'!A264","v":"2023-03-16"},{"$f":"'Conversion Factors'!B264","v":7.2229999999999999},null,{"$f":"'Conversion Factors'!A314","v":"2023-05-05"},{"$f":"'Conversion Factors'!B314","v":7.8789999999999996},null,{"$f":"'Conversion Factors'!A364","v":"2023-06-24"},{"$f":"'Conversion Factors'!B364","v":7.8789999999999996}]
[{"$f":"'Conversion Factors'!A15","v":"2022-07-10"},{"$f":"'Conversion Factors'!B15","v":7.8789999999999996},null,{"$f":"'Conversion Factors'!A65","v":"2022-08-29"},{"$f":"'Conversion Factors'!B65","v":7.2229999999999999},null,{"$f":"'Conversion Factors'!A115","v":"2022-10-18"},{"$f":"'Conversion Factors'!B115","v":7.8789999999999996},null,{"$f":"'Conversion Factors'!A165","v":"2022-12-07"},{"$f":"'Conversion Factors'!B165","v":7.8789999999999996},null,{"$f":"'Conversion Factors'!A215","v":"2023-01-26"},{"$f":"'Conversion Factors'!B215","v":7.2229999999999999},null,{"$f":"'Conversion Factors'!A265","v":"2023-03-17"},{"$f":"'Conversion Factors'!B265","v":7.2229999999999999},null,{"$f":"'Conversion Factors'!A315","v":"2023-05-06"},{"$f":"'Conversion Factors'!B315","v":7.8789999999999996},null,{"$f":"'Conversion Factors'!A365","v":"2023-06-25"},{"$f":"'Conversion Factors'!B365","v":7.8789999999999996}]
[{"$f":"'Conversion Factors'!A16","v":"2022-07-11"},{"$f":"'Conversion Factors'!B16","v":7.8789999999999996},null,{"$f":"'Conversion Factors'!A66","v":"2022-08-30"},{"$f":"'Conversion Factors'!B66","v":7.2229999999999999},null,{"$f":"'Conversion Factors'!A116","v":"2022-10-19"},{"$f":"'Conversion Factors'!B116","v":7.8789999999999996},null,{"$f":"'Conversion Factors'!A166","v":"2022-12-08"},{"$f":"'Conversion Factors'!B166","v":7.8789999999999996},null,{"$f":"'Conversion Factors'!A216","v":"2023-01-27"},{"$f":"'Conversion Factors'!B216","v":7.2229999999999999},null,{"$f":"'Conversion Factors'!A266","v":"2023-03-18"},{"$f":"'Conversion Factors'!B266","v":7.2229999999999999},null,{"$f":"'Conversion Factors'!A316","v":"2023-05-07"},{"$f":"'Conversion Factors'!B316","v":7.8789999999999996},null,{"$f":"'Conversion Factors'!A366","v":"2023-06-26"},{"$f":"'Conversion Factors'!B366","v":7.8789999999999996}]
[{"$f":"'Conversion Factors'!A17","v":"2022-07-12"},{"$f":"'Conversion Factors'!B17","v":7.8789999999999996},null,{"$f":"'Conversion Factors'!A67","v":"2022-08-31"},{"$f":"'Conversion Factors'!B67","v":7.2229999999999999},null,{"$f":"'Conversion Factors'!A117","v":"2022-10-20"},{"$f":"'Conversion Factors'!B117","v":7.8789999999999996},null,{"$f":"'Conversion Factors'!A167","v":"2022-12-09"},{"$f":"'Conversion Factors'!B167","v":7.8789999999999996},null,{"$f":"'Conversion Factors'!A217","v":"2023-01-28"},{"$f":"'Conversion Factors'!B217","v":7.2229999999999999},null,{"$f":"'Conversion Factors'!A267","v":"2023-03-19"},{"$f":"'Conversion Factors'!B267","v":7.2229999999999999},null,{"$f":"'Conversion Factors'!A317","v":"2023-05-08"},{"$f":"'Conversion Factors'!B317","v":7.8789999999999996},null,{"$f":"'Conversion Factors'!A367","v":"2023-06-27"},{"$f":"'Conversion Factors'!B367","v":7.8789999999999996}]
[{"$f":"'Conversion Factors'!A18","v":"2022-07-13"},{"$f":"'Conversion Factors'!B18","v":7.8789999999999996},null,{"$f":"'Conversion Factors'!A68","v":"2022-09-01"},{"$f":"'Conversion Factors'!B68","v":7.8789999999999996},null,{"$f":"'Conversion Factors'!A118","v":"2022-10-21"},{"$f":"'Conversion Factors'!B118","v":7.8789999999999996},null,{"$f":"'Conversion Factors'!A168","v":"2022-12-10"},{"$f":"'Conversion Factors'!B168","v":7.8789999999999996},null,{"$f":"'Conversion Factors'!A218","v":"2023-01-29"},{"$f":"'Conversion Factors'!B218","v":7.2229999999999999},null,{"$f":"'Conversion Factors'!A268","v":"2023-03-20"},{"$f":"'Conversion Factors'!B268","v":7.2229999999999999},null,{"$f":"'Conversion Factors'!A318","v":"2023-05-09"},{"$f":"'Conversion Factors'!B318","v":7.8789999999999996},null,{"$f":"'Conversion Factors'!A368","v":"2023-06-28"},{"$f":"'Conversion Factors'!B368","v":7.8789999999999996}]
[{"$f":"'Conversion Factors'!A19","v":"2022-07-14"},{"$f":"'Conversion Factors'!B19","v":7.8789999999999996},null,{"$f":"'Conversion Factors'!A69","v":"2022-09-02"},{"$f":"'Conversion Factors'!B69","v":7.8789999999999996},null,{"$f":"'Conversion Factors'!A119","v":"2022-10-22"},{"$f":"'Conversion Factors'!B119","v":7.8789999999999996},null,{"$f":"'Conversion Factors'!A169","v":"2022-12-11"},{"$f":"'Conversion Factors'!B169","v":7.8789999999999996},null,{"$f":"'Conversion Factors'!A219","v":"2023-01-30"},{"$f":"'Conversion Factors'!B219","v":7.2229999999999999},null,{"$f":"'Conversion Factors'!A269","v":"2023-03-21"},{"$f":"'Conversion Factors'!B269","v":7.2229999999999999},null,{"$f":"'Conversion Factors'!A319","v":"2023-05-10"},{"$f":"'Conversion Factors'!B319","v":7.8789999999999996},null,{"$f":"'Conversion Factors'!A369","v":"2023-06-29"},{"$f":"'Conversion Factors'!B369","v":7.8789999999999996}]
[{"$f":"'Conversion Factors'!A20","v":"2022-07-15"},{"$f":"'Conversion Factors'!B20","v":7.8789999999999996},null,{"$f":"'Conversion Factors'!A70","v":"2022-09-03"},{"$f":"'Conversion Factors'!B70","v":7.8789999999999996},null,{"$f":"'Conversion Factors'!A120","v":"2022-10-23"},{"$f":"'Conversion Factors'!B120","v":7.8789999999999996},null,{"$f":"'Conversion Factors'!A170","v":"2022-12-12"},{"$f":"'Conversion Factors'!B170","v":7.8789999999999996},null,{"$f":"'Conversion Factors'!A220","v":"2023-01-31"},{"$f":"'Conversion Factors'!B220","v":7.2229999999999999},null,{"$f":"'Conversion Factors'!A270","v":"2023-03-22"},{"$f":"'Conversion Factors'!B270","v":7.2229999999999999},null,{"$f":"'Conversion Factors'!A320","v":"2023-05-11"},{"$f":"'Conversion Factors'!B320","v":7.8789999999999996},null,{"$f":"'Conversion Factors'!A370","v":"2023-06-30"},{"$f":"'Conversion Factors'!B370","v":7.8789999999999996}]
[{"$f":"'Conversion Factors'!A21","v":"2022-07-16"},{"$f":"'Conversion Factors'!B21","v":8.6669999999999998},null,{"$f":"'Conversion Factors'!A71","v":"2022-09-04"},{"$f":"'Conversion Factors'!B71","v":7.8789999999999996},null,{"$f":"'Conversion Factors'!A121","v":"2022-10-24"},{"$f":"'Conversion Factors'!B121","v":7.8789999999999996},null,{"$f":"'Conversion Factors'!A171","v":"2022-12-13"},{"$f":"'Conversion Factors'!B171","v":7.8789999999999996},null,{"$f":"'Conversion Factors'!A221","v":"2023-02-01"},{"$f":"'Conversion Factors'!B221","v":7.8789999999999996},null,{"$f":"'Conversion Factors'!A271","v":"2023-03-23"},{"$f":"'Conversion Factors'!B271","v":7.2229999999999999},null,{"$f":"'Conversion Factors'!A321","v":"2023-05-12"},{"$f":"'Conversion Factors'!B321","v":7.8789999999999996},null,{"$f":"'Conversion Factors'!A371","v":""},{"$f":"'Conversion Factors'!B371","v":7.8789999999999996}]
[{"$f":"'Conversion Factors'!A22","v":"2022-07-17"},{"$f":"'Conversion Factors'!B22","v":8.6669999999999998},null,{"$f":"'Conversion Factors'!A72","v":"2022-09-05"},{"$f":"'Conversion Factors'!B72","v":7.8789999999999996},null,{"$f":"'Conversion Factors'!A122","v":"2022-10-25"},{"$f":"'Conversion Factors'!B122","v":7.8789999999999996},null,{"$f":"'Conversion Factors'!A172","v":"2022-12-14"},{"$f":"'Conversion Factors'!B172","v":7.8789999999999996},null,{"$f":"'Conversion Factors'!A222","v":"2023-02-02"},{"$f":"'Conversion Factors'!B222","v":7.8789999999999996},null,{"$f":"'Conversion Factors'!A272","v":"2023-03-24"},{"$f":"'Conversion Factors'!B272","v":7.2229999999999999},null,{"$f":"'Conversion Factors'!A322","v":"2023-05-13"},{"$f":"'Conversion Factors'!B322","v":7.8789999999999996},null,{"$f":"'Conversion Factors'!A372","v":false},{"$f":"'Conversion Factors'!B372","v":0}]
[{"$f":"'Conversion Factors'!A23","v":"2022-07-18"},{"$f":"'Conversion Factors'!B23","v":8.6669999999999998},null,{"$f":"'Conversion Factors'!A73","v":"2022-09-06"},{"$f":"'Conversion Factors'!B73","v":7.8789999999999996},null,{"$f":"'Conversion Factors'!A123","v":"2022-10-26"},{"$f":"'Conversion Factors'!B123","v":7.8789999999999996},null,{"$f":"'Conversion Factors'!A173","v":"2022-12-15"},{"$f":"'Conversion Factors'!B173","v":7.8789999999999996},null,{"$f":"'Conversion Factors'!A223","v":"2023-02-03"},{"$f":"'Conversion Factors'!B223","v":7.8789999999999996},null,{"$f":"'Conversion Factors'!A273","v":"2023-03-25"},{"$f":"'Conversion Factors'!B273","v":7.2229999999999999},null,{"$f":"'Conversion Factors'!A323","v":"2023-05-14"},{"$f":"'Conversion Factors'!B323","v":7.8789999999999996},null,{"$f":"'Conversion Factors'!A373","v":false},{"$f":"'Conversion Factors'!B373","v":0}]
[{"$f":"'Conversion Factors'!A24","v":"2022-07-19"},{"$f":"'Conversion Factors'!B24","v":8.6669999999999998},null,{"$f":"'Conversion Factors'!A74","v":"2022-09-07"},{"$f":"'Conversion Factors'!B74","v":7.8789999999999996},null,{"$f":"'Conversion Factors'!A124","v":"2022-10-27"},{"$f":"'Conversion Factors'!B124","v":7.8789999999999996},null,{"$f":"'Conversion Factors'!A174","v":"2022-12-16"},{"$f":"'Conversion Factors'!B174","v":7.8789999999999996},null,{"$f":"'Conversion Factors'!A224","v":"2023-02-04"},{"$f":"'Conversion Factors'!B224","v":7.8789999999999996},null,{"$f":"'Conversion Factors'!A274","v":"2023-03-26"},{"$f":"'Conversion Factors'!B274","v":7.2229999999999999},null,{"$f":"'Conversion Factors'!A324","v":"2023-05-15"},{"$f":"'Conversion Factors'!B324","v":7.8789999999999996},null,{"$f":"'Conversion Factors'!A374","v":false},{"$f":"'Conversion Factors'!B374","v":0}]
[{"$f":"'Conversion Factors'!A25","v":"2022-07-20"},{"$f":"'Conversion Factors'!B25","v":8.6669999999999998},null,{"$f":"'Conversion Factors'!A75","v":"2022-09-08"},{"$f":"'Conversion Factors'!B75","v":7.8789999999999996},null,{"$f":"'Conversion Factors'!A125","v":"2022-10-28"},{"$f":"'Conversion Factors'!B125","v":7.8789999999999996},null,{"$f":"'Conversion Factors'!A175","v":"2022-12-17"},{"$f":"'Conversion Factors'!B175","v":7.8789999999999996},null,{"$f":"'Conversion Factors'!A225","v":"2023-02-05"},{"$f":"'Conversion Factors'!B225","v":7.8789999999999996},null,{"$f":"'Conversion Factors'!A275","v":"2023-03-27"},{"$f":"'Conversion Factors'!B275","v":7.2229999999999999},null,{"$f":"'Conversion Factors'!A325","v":"2023-05-16"},{"$f":"'Conversion Factors'!B325","v":7.2229999999999999}]
[{"$f":"'Conversion Factors'!A26","v":"2022-07-21"},{"$f":"'Conversion Factors'!B26","v":8.6669999999999998},null,{"$f":"'Conversion Factors'!A76","v":"2022-09-09"},{"$f":"'Conversion Factors'!B76","v":7.8789999999999996},null,{"$f":"'Conversion Factors'!A126","v":"2022-10-29"},{"$f":"'Conversion Factors'!B126","v":7.8789999999999996},null,{"$f":"'Conversion Factors'!A176","v":"2022-12-18"},{"$f":"'Conversion Factors'!B176","v":7.8789999999999996},null,{"$f":"'Conversion Factors'!A226","v":"2023-02-06"},{"$f":"'Conversion Factors'!B226","v":7.8789999999999996},null,{"$f":"'Conversion Factors'!A276","v":"2023-03-28"},{"$f":"'Conversion Factors'!B276","v":7.2229999999999999},null,{"$f":"'Conversion Factors'!A326","v":"2023-05-17"},{"$f":"'Conversion Factors'!B326","v":7.2229999999999999}]
[{"$f":"'Conversion Factors'!A27","v":"2022-07-22"},{"$f":"'Conversion Factors'!B27","v":8.6669999999999998},null,{"$f":"'Conversion Factors'!A77","v":"2022-09-10"},{"$f":"'Conversion Factors'!B77","v":7.8789999999999996},null,{"$f":"'Conversion Factors'!A127","v":"2022-10-30"},{"$f":"'Conversion Factors'!B127","v":7.8789999999999996},null,{"$f":"'Conversion Factors'!A177","v":"2022-12-19"},{"$f":"'Conversion Factors'!B177","v":7.8789999999999996},null,{"$f":"'Conversion Factors'!A227","v":"2023-02-07"},{"$f":"'Conversion Factors'!B227","v":7.8789999999999996},null,{"$f":"'Conversion Factors'!A277","v":"2023-03-29"},{"$f":"'Conversion Factors'!B277","v":7.2229999999999999},null,{"$f":"'Conversion Factors'!A327","v":"2023-05-18"},{"$f":"'Conversion Factors'!B327","v":7.2229999999999999}]
[{"$f":"'Conversion Factors'!A28","v":"2022-07-23"},{"$f":"'Conversion Factors'!B28","v":8.6669999999999998},null,{"$f":"'Conversion Factors'!A78","v":"2022-09-11"},{"$f":"'Conversion Factors'!B78","v":7.8789999999999996},null,{"$f":"'Conversion Factors'!A128","v":"2022-10-31"},{"$f":"'Conversion Factors'!B128","v":7.8789999999999996},null,{"$f":"'Conversion Factors'!A178","v":"2022-12-20"},{"$f":"'Conversion Factors'!B178","v":7.8789999999999996},null,{"$f":"'Conversion Factors'!A228","v":"2023-02-08"},{"$f":"'Conversion Factors'!B228","v":7.8789999999999996},null,{"$f":"'Conversion Factors'!A278","v":"2023-03-30"},{"$f":"'Conversion Factors'!B278","v":7.2229999999999999},null,{"$f":"'Conversion Factors'!A328","v":"2023-05-19"},{"$f":"'Conversion Factors'!B328","v":7.2229999999999999}]
[{"$f":"'Conversion Factors'!A29","v":"2022-07-24"},{"$f":"'Conversion Factors'!B29","v":8.6669999999999998},null,{"$f":"'Conversion Factors'!A79","v":"2022-09-12"},{"$f":"'Conversion Factors'!B79","v":7.8789999999999996},null,{"$f":"'Conversion Factors'!A129","v":"2022-11-01"},{"$f":"'Conversion Factors'!B129","v":7.8789999999999996},null,{"$f":"'Conversion Factors'!A179","v":"2022-12-21"},{"$f":"'Conversion Factors'!B179","v":7.8789999999999996},null,{"$f":"'Conversion Factors'!A229","v":"2023-02-09"},{"$f":"'Conversion Factors'!B229","v":7.8789999999999996},null,{"$f":"'Conversion Factors'!A279","v":"2023-03-31"},{"$f":"'Conversion Factors'!B279","v":7.2229999999999999},null,{"$f":"'Conversion Factors'!A329","v":"2023-05-20"},{"$f":"'Conversion Factors'!B329","v":7.2229999999999999}]
[{"$f":"'Conversion Factors'!A30","v":"2022-07-25"},{"$f":"'Conversion Factors'!B30","v":8.6669999999999998},null,{"$f":"'Conversion Factors'!A80","v":"2022-09-13"},{"$f":"'Conversion Factors'!B80","v":7.8789999999999996},null,{"$f":"'Conversion Factors'!A130","v":"2022-11-02"},{"$f":"'Conversion Factors'!B130","v":7.8789999999999996},null,{"$f":"'Conversion Factors'!A180","v":"2022-12-22"},{"$f":"'Conversion Factors'!B180","v":7.8789999999999996},null,{"$f":"'Conversion Factors'!A230","v":"2023-02-10"},{"$f":"'Conversion Factors'!B230","v":7.8789999999999996},null,{"$f":"'Conversion Factors'!A280","v":"2023-04-01"},{"$f":"'Conversion Factors'!B280","v":8.6669999999999998},null,{"$f":"'Conversion Factors'!A330","v":"2023-05-21"},{"$f":"'Conversion Factors'!B330","v":7.2229999999999999}]
[{"$f":"'Conversion Factors'!A31","v":"2022-07-26"},{"$f":"'Conversion Factors'!B31","v":8.6669999999999998},null,{"$f":"'Conversion Factors'!A81","v":"2022-09-14"},{"$f":"'Conversion Factors'!B81","v":7.8789999999999996},null,{"$f":"'Conversion Factors'!A131","v":"2022-11-03"},{"$f":"'Conversion Factors'!B131","v":7.8789999999999996},null,{"$f":"'Conversion Factors'!A181","v":"2022-12-23"},{"$f":"'Conversion Factors'!B181","v":7.8789999999999996},null,{"$f":"'Conversion Factors'!A231","v":"2023-02-11"},{"$f":"'Conversion Factors'!B231","v":7.8789999999999996},null,{"$f":"'Conversion Factors'!A281","v":"2023-04-02"},{"$f":"'Conversion Factors'!B281","v":8.6669999999999998},null,{"$f":"'Conversion Factors'!A331","v":"2023-05-22"},{"$f":"'Conversion Factors'!B331","v":7.2229999999999999}]
[{"$f":"'Conversion Factors'!A32","v":"2022-07-27"},{"$f":"'Conversion Factors'!B32","v":8.6669999999999998},null,{"$f":"'Conversion Factors'!A82","v":"2022-09-15"},{"$f":"'Conversion Factors'!B82","v":7.8789999999999996},null,{"$f":"'Conversion Factors'!A132","v":"2022-11-04"},{"$f":"'Conversion Factors'!B132","v":7.8789999999999996},null,{"$f":"'Conversion Factors'!A182","v":"2022-12-24"},{"$f":"'Conversion Factors'!B182","v":7.8789999999999996},null,{"$f":"'Conversion Factors'!A232","v":"2023-02-12"},{"$f":"'Conversion Factors'!B232","v":7.8789999999999996},null,{"$f":"'Conversion Factors'!A282","v":"2023-04-03"},{"$f":"'Conversion Factors'!B282","v":8.6669999999999998},null,{"$f":"'Conversion Factors'!A332","v":"2023-05-23"},{"$f":"'Conversion Factors'!B332","v":7.2229999999999999}]
[{"$f":"'Conversion Factors'!A33","v":"2022-07-28"},{"$f":"'Conversion Factors'!B33","v":8.6669999999999998},null,{"$f":"'Conversion Factors'!A83","v":"2022-09-16"},{"$f":"'Conversion Factors'!B83","v":7.8789999999999996},null,{"$f":"'Conversion Factors'!A133","v":"2022-11-05"},{"$f":"'Conversion Factors'!B133","v":7.8789999999999996},null,{"$f":"'Conversion Factors'!A183","v":"2022-12-25"},{"$f":"'Conversion Factors'!B183","v":7.8789999999999996},null,{"$f":"'Conversion Factors'!A233","v":"2023-02-13"},{"$f":"'Conversion Factors'!B233","v":7.8789999999999996},null,{"$f":"'Conversion Factors'!A283","v":"2023-04-04"},{"$f":"'Conversion Factors'!B283","v":8.6669999999999998},null,{"$f":"'Conversion Factors'!A333","v":"2023-05-24"},{"$f":"'Conversion Factors'!B333","v":7.2229999999999999}]
[{"$f":"'Conversion Factors'!A34","v":"2022-07-29"},{"$f":"'Conversion Factors'!B34","v":8.6669999999999998},null,{"$f":"'Conversion Factors'!A84","v":"2022-09-17"},{"$f":"'Conversion Factors'!B84","v":7.8789999999999996},null,{"$f":"'Conversion Factors'!A134","v":"2022-11-06"},{"$f":"'Conversion Factors'!B134","v":7.8789999999999996},null,{"$f":"'Conversion Factors'!A184","v":"2022-12-26"},{"$f":"'Conversion Factors'!B184","v":7.8789999999999996},null,{"$f":"'Conversion Factors'!A234","v":"2023-02-14"},{"$f":"'Conversion Factors'!B234","v":7.8789999999999996},null,{"$f":"'Conversion Factors'!A284","v":"2023-04-05"},{"$f":"'Conversion Factors'!B284","v":8.6669999999999998},null,{"$f":"'Conversion Factors'!A334","v":"2023-05-25"},{"$f":"'Conversion Factors'!B334","v":7.2229999999999999}]
[{"$f":"'Conversion Factors'!A35","v":"2022-07-30"},{"$f":"'Conversion Factors'!B35","v":8.6669999999999998},null,{"$f":"'Conversion Factors'!A85","v":"2022-09-18"},{"$f":"'Conversion Factors'!B85","v":7.8789999999999996},null,{"$f":"'Conversion Factors'!A135","v":"2022-11-07"},{"$f":"'Conversion Factors'!B135","v":7.8789999999999996},null,{"$f":"'Conversion Factors'!A185","v":"2022-12-27"},{"$f":"'Conversion Factors'!B185","v":7.8789999999999996},null,{"$f":"'Conversion Factors'!A235","v":"2023-02-15"},{"$f":"'Conversion Factors'!B235","v":7.8789999999999996},null,{"$f":"'Conversion Factors'!A285","v":"2023-04-06"},{"$f":"'Conversion Factors'!B285","v":8.6669999999999998},null,{"$f":"'Conversion Factors'!A335","v":"2023-05-26"},{"$f":"'Conversion Factors'!B335","v":7.2229999999999999}]
[{"$f":"'Conversion Factors'!A36","v":"2022-07-31"},{"$f":"'Conversion Factors'!B36","v":8.6669999999999998},null,{"$f":"'Conversion Factors'!A86","v":"2022-09-19"},{"$f":"'Conversion Factors'!B86","v":7.8789999999999996},null,{"$f":"'Conversion Factors'!A136","v":"2022-11-08"},{"$f":"'Conversion Factors'!B136","v":7.8789999999999996},null,{"$f":"'Conversion Factors'!A186","v":"2022-12-28"},{"$f":"'Conversion Factors'!B186","v":7.8789999999999996},null,{"$f":"'Conversion Factors'!A236","v":"2023-02-16"},{"$f":"'Conversion Factors'!B236","v":9.6300000000000008},null,{"$f":"'Conversion Factors'!A286","v":"2023-04-07"},{"$f":"'Conversion Factors'!B286","v":8.6669999999999998},null,{"$f":"'Conversion Factors'!A336","v":"2023-05-27"},{"$f":"'Conversion Factors'!B336","v":7.2229999999999999}]
[{"$f":"'Conversion Factors'!A37","v":"2022-08-01"},{"$f":"'Conversion Factors'!B37","v":7.8789999999999996},null,{"$f":"'Conversion Factors'!A87","v":"2022-09-20"},{"$f":"'Conversion Factors'!B87","v":7.8789999999999996},null,{"$f":"'Conversion Factors'!A137","v":"2022-11-09"},{"$f":"'Conversion Factors'!B137","v":7.8789999999999996},null,{"$f":"'Conversion Factors'!A187","v":"2022-12-29"},{"$f":"'Conversion Factors'!B187","v":7.8789999999999996},null,{"$f":"'Conversion Factors'!A237","v":"2023-02-17"},{"$f":"'Conversion Factors'!B237","v":9.6300000000000008},null,{"$f":"'Conversion Factors'!A287","v":"2023-04-08"},{"$f":"'Conversion Factors'!B287","v":8.6669999999999998},null,{"$f":"'Conversion Factors'!A337","v":"2023-05-28"},{"$f":"'Conversion Factors'!B337","v":7.2229999999999999}]
[{"$f":"'Conversion Factors'!A38","v":"2022-08-02"},{"$f":"'Conversion Factors'!B38","v":7.8789999999999996},null,{"$f":"'Conversion Factors'!A88","v":"2022-09-21"},{"$f":"'Conversion Factors'!B88","v":7.8789999999999996},null,{"$f":"'Conversion Factors'!A138","v":"2022-11-10"},{"$f":"'Conversion Factors'!B138","v":7.8789999999999996},null,{"$f":"'Conversion Factors'!A188","v":"2022-12-30"},{"$f":"'Conversion Factors'!B188","v":7.8789999999999996},null,{"$f":"'Conversion Factors'!A238","v":"2023-02-18"},{"$f":"'Conversion Factors'!B238","v":9.6300000000000008},null,{"$f":"'Conversion Factors'!A288","v":"2023-04-09"},{"$f":"'Conversion Factors'!B288","v":8.6669999999999998},null,{"$f":"'Conversion Factors'!A338","v":"2023-05-29"},{"$f":"'Conversion Factors'!B338","v":7.2229999999999999}]
[{"$f":"'Conversion Factors'!A39","v":"2022-08-03"},{"$f":"'Conversion Factors'!B39","v":7.8789999999999996},null,{"$f":"'Conversion Factors'!A89","v":"2022-09-22"},{"$f":"'Conversion Factors'!B89","v":7.8789999999999996},null,{"$f":"'Conversion Factors'!A139","v":"2022-11-11"},{"$f":"'Conversion Factors'!B139","v":7.8789999999999996},null,{"$f":"'Conversion Factors'!A189","v":"2022-12-31"},{"$f":"'Conversion Factors'!B189","v":7.8789999999999996},null,{"$f":"'Conversion Factors'!A239","v":"2023-02-19"},{"$f":"'Conversion Factors'!B239","v":9.6300000000000008},null,{"$f":"'Conversion Factors'!A289","v":"2023-04-10"},{"$f":"'Conversion Factors'!B289","v":8.6669999999999998},null,{"$f":"'Conversion Factors'!A339","v":"2023-05-30"},{"$f":"'Conversion Factors'!B339","v":7.2229999999999999}]
[{"$f":"'Conversion Factors'!A40","v":"2022-08-04"},{"$f":"'Conversion Factors'!B40","v":7.8789999999999996},null,{"$f":"'Conversion Factors'!A90","v":"2022-09-23"},{"$f":"'Conversion Factors'!B90","v":7.8789999999999996},null,{"$f":"'Conversion Factors'!A140","v":"2022-11-12"},{"$f":"'Conversion Factors'!B140","v":7.8789999999999996},null,{"$f":"'Conversion Factors'!A190","v":"2023-01-01"},{"$f":"'Conversion Factors'!B190","v":8.6669999999999998},null,{"$f":"'Conversion Factors'!A240","v":"2023-02-20"},{"$f":"'Conversion Factors'!B240","v":9.6300000000000008},null,{"$f":"'Conversion Factors'!A290","v":"2023-04-11"},{"$f":"'Conversion Factors'!B290","v":8.6669999999999998},null,{"$f":"'Conversion Factors'!A340","v":"2023-05-31"},{"$f":"'Conversion Factors'!B340","v":7.2229999999999999}]
[{"$f":"'Conversion Factors'!A41","v":"2022-08-05"},{"$f":"'Conversion Factors'!B41","v":7.8789999999999996},null,{"$f":"'Conversion Factors'!A91","v":"2022-09-24"},{"$f":"'Conversion Factors'!B91","v":7.8789999999999996},null,{"$f":"'Conversion Factors'!A141","v":"2022-11-13"},{"$f":"'Conversion Factors'!B141","v":7.8789999999999996},null,{"$f":"'Conversion Factors'!A191","v":"2023-01-02"},{"$f":"'Conversion Factors'!B191","v":8.6669999999999998},null,{"$f":"'Conversion Factors'!A241","v":"2023-02-21"},{"$f":"'Conversion Factors'!B241","v":9.6300000000000008},null,{"$f":"'Conversion Factors'!A291","v":"2023-04-12"},{"$f":"'Conversion Factors'!B291","v":8.6669999999999998},null,{"$f":"'Conversion Factors'!A341","v":"2023-06-01"},{"$f":"'Conversion Factors'!B341","v":7.8789999999999996}]
[{"$f":"'Conversion Factors'!A42","v":"2022-08-06"},{"$f":"'Conversion Factors'!B42","v":7.8789999999999996},null,{"$f":"'Conversion Factors'!A92","v":"2022-09-25"},{"$f":"'Conversion Factors'!B92","v":7.8789999999999996},null,{"$f":"'Conversion Factors'!A142","v":"2022-11-14"},{"$f":"'Conversion Factors'!B142","v":7.8789999999999996},null,{"$f":"'Conversion Factors'!A192","v":"2023-01-03"},{"$f":"'Conversion Factors'!B192","v":8.6669999999999998},null,{"$f":"'Conversion Factors'!A242","v":"2023-02-22"},{"$f":"'Conversion Factors'!B242","v":9.6300000000000008},null,{"$f":"'Conversion Factors'!A292","v":"2023-04-13"},{"$f":"'Conversion Factors'!B292","v":8.6669999999999998},null,{"$f":"'Conversion Factors'!A342","v":"2023-06-02"},{"$f":"'Conversion Factors'!B342","v":7.8789999999999996}]
[{"$f":"'Conversion Factors'!A43","v":"2022-08-07"},{"$f":"'Conversion Factors'!B43","v":7.8789999999999996},null,{"$f":"'Conversion Factors'!A93","v":"2022-09-26"},{"$f":"'Conversion Factors'!B93","v":7.8789999999999996},null,{"$f":"'Conversion Factors'!A143","v":"2022-11-15"},{"$f":"'Conversion Factors'!B143","v":7.8789999999999996},null,{"$f":"'Conversion Factors'!A193","v":"2023-01-04"},{"$f":"'Conversion Factors'!B193","v":8.6669999999999998},null,{"$f":"'Conversion Factors'!A243","v":"2023-02-23"},{"$f":"'Conversion Factors'!B243","v":9.6300000000000008},null,{"$f":"'Conversion Factors'!A293","v":"2023-04-14"},{"$f":"'Conversion Factors'!B293","v":8.6669999999999998},null,{"$f":"'Conversion Factors'!A343","v":"2023-06-03"},{"$f":"'Conversion Factors'!B343","v":7.8789999999999996}]
[{"$f":"'Conversion Factors'!A44","v":"2022-08-08"},{"$f":"'Conversion Factors'!B44","v":7.8789999999999996},null,{"$f":"'Conversion Factors'!A94","v":"2022-09-27"},{"$f":"'Conversion Factors'!B94","v":7.8789999999999996},null,{"$f":"'Conversion Factors'!A144","v":"2022-11-16"},{"$f":"'Conversion Factors'!B144","v":7.8789999999999996},null,{"$f":"'Conversion Factors'!A194","v":"2023-01-05"},{"$f":"'Conversion Factors'!B194","v":8.6669999999999998},null,{"$f":"'Conversion Factors'!A244","v":"2023-02-24"},{"$f":"'Conversion Factors'!B244","v":9.6300000000000008},null,{"$f":"'Conversion Factors'!A294","v":"2023-04-15"},{"$f":"'Conversion Factors'!B294","v":8.6669999999999998},null,{"$f":"'Conversion Factors'!A344","v":"2023-06-04"},{"$f":"'Conversion Factors'!B344","v":7.8789999999999996}]
[{"$f":"'Conversion Factors'!A45","v":"2022-08-09"},{"$f":"'Conversion Factors'!B45","v":7.8789999999999996},null,{"$f":"'Conversion Factors'!A95","v":"2022-09-28"},{"$f":"'Conversion Factors'!B95","v":7.8789999999999996},null,{"$f":"'Conversion Factors'!A145","v":"2022-11-17"},{"$f":"'Conversion Factors'!B145","v":7.8789999999999996},null,{"$f":"'Conversion Factors'!A195","v":"2023-01-06"},{"$f":"'Conversion Factors'!B195","v":8.6669999999999998},null,{"$f":"'Conversion Factors'!A245","v":"2023-02-25"},{"$f":"'Conversion Factors'!B245","v":9.6300000000000008},null,{"$f":"'Conversion Factors'!A295","v":"2023-04-16"},{"$f":"'Conversion Factors'!B295","v":8.6669999999999998},null,{"$f":"'Conversion Factors'!A345","v":"2023-06-05"},{"$f":"'Conversion Factors'!B345","v":7.8789999999999996}]
[{"$f":"'Conversion Factors'!A46","v":"2022-08-10"},{"$f":"'Conversion Factors'!B46","v":7.8789999999999996},null,{"$f":"'Conversion Factors'!A96","v":"2022-09-29"},{"$f":"'Conversion Factors'!B96","v":7.8789999999999996},null,{"$f":"'Conversion Factors'!A146","v":"2022-11-18"},{"$f":"'Conversion Factors'!B146","v":7.8789999999999996},null,{"$f":"'Conversion Factors'!A196","v":"2023-01-07"},{"$f":"'Conversion Factors'!B196","v":8.6669999999999998},null,{"$f":"'Conversion Factors'!A246","v":"2023-02-26"},{"$f":"'Conversion Factors'!B246","v":9.6300000000000008},null,{"$f":"'Conversion Factors'!A296","v":"2023-04-17"},{"$f":"'Conversion Factors'!B296","v":8.6669999999999998},null,{"$f":"'Conversion Factors'!A346","v":"2023-06-06"},{"$f":"'Conversion Factors'!B346","v":7.8789999999999996}]
[{"$f":"'Conversion Factors'!A47","v":"2022-08-11"},{"$f":"'Conversion Factors'!B47","v":7.8789999999999996},null,{"$f":"'Conversion Factors'!A97","v":"2022-09-30"},{"$f":"'Conversion Factors'!B97","v":7.8789999999999996},null,{"$f":"'Conversion Factors'!A147","v":"2022-11-19"},{"$f":"'Conversion Factors'!B147","v":7.8789999999999996},null,{"$f":"'Conversion Factors'!A197","v":"2023-01-08"},{"$f":"'Conversion Factors'!B197","v":8.6669999999999998},null,{"$f":"'Conversion Factors'!A247","v":"2023-02-27"},{"$f":"'Conversion Factors'!B247","v":9.6300000000000008},null,{"$f":"'Conversion Factors'!A297","v":"2023-04-18"},{"$f":"'Conversion Factors'!B297","v":8.6669999999999998},null,{"$f":"'Conversion Factors'!A347","v":"2023-06-07"},{"$f":"'Conversion Factors'!B347","v":7.8789999999999996}]
[{"$f":"'Conversion Factors'!A48","v":"2022-08-12"},{"$f":"'Conversion Factors'!B48","v":7.8789999999999996},null,{"$f":"'Conversion Factors'!A98","v":"2022-10-01"},{"$f":"'Conversion Factors'!B98","v":8.6669999999999998},null,{"$f":"'Conversion Factors'!A148","v":"2022-11-20"},{"$f":"'Conversion Factors'!B148","v":7.8789999999999996},null,{"$f":"'Conversion Factors'!A198","v":"2023-01-09"},{"$f":"'Conversion Factors'!B198","v":8.6669999999999998},null,{"$f":"'Conversion Factors'!A248","v":"2023-02-28"},{"$f":"'Conversion Factors'!B248","v":9.6300000000000008},null,{"$f":"'Conversion Factors'!A298","v":"2023-04-19"},{"$f":"'Conversion Factors'!B298","v":8.6669999999999998},null,{"$f":"'Conversion Factors'!A348","v":"2023-06-08"},{"$f":"'Conversion Factors'!B348","v":7.8789999999999996}]
[{"$f":"'Conversion Factors'!A49","v":"2022-08-13"},{"$f":"'Conversion Factors'!B49","v":7.8789999999999996},null,{"$f":"'Conversion Factors'!A99","v":"2022-10-02"},{"$f":"'Conversion Factors'!B99","v":8.6669999999999998},null,{"$f":"'Conversion Factors'!A149","v":"2022-11-21"},{"$f":"'Conversion Factors'!B149","v":7.8789999999999996},null,{"$f":"'Conversion Factors'!A199","v":"2023-01-10"},{"$f":"'Conversion Factors'!B199","v":8.6669999999999998},null,{"$f":"'Conversion Factors'!A249","v":"2023-03-01"},{"$f":"'Conversion Factors'!B249","v":7.8789999999999996},null,{"$f":"'Conversion Factors'!A299","v":"2023-04-20"},{"$f":"'Conversion Factors'!B299","v":8.6669999999999998},null,{"$f":"'Conversion Factors'!A349","v":"2023-06-09"},{"$f":"'Conversion Factors'!B349","v":7.8789999999999996}]
[{"$f":"'Conversion Factors'!A50","v":"2022-08-14"},{"$f":"'Conversion Factors'!B50","v":7.8789999999999996},null,{"$f":"'Conversion Factors'!A100","v":"2022-10-03"},{"$f":"'Conversion Factors'!B100","v":8.6669999999999998},null,{"$f":"'Conversion Factors'!A150","v":"2022-11-22"},{"$f":"'Conversion Factors'!B150","v":7.8789999999999996},null,{"$f":"'Conversion Factors'!A200","v":"2023-01-11"},{"$f":"'Conversion Factors'!B200","v":8.6669999999999998},null,{"$f":"'Conversion Factors'!A250","v":"2023-03-02"},{"$f":"'Conversion Factors'!B250","v":7.8789999999999996},null,{"$f":"'Conversion Factors'!A300","v":"2023-04-21"},{"$f":"'Conversion Factors'!B300","v":8.6669999999999998},null,{"$f":"'Conversion Factors'!A350","v":"2023-06-10"},{"$f":"'Conversion Factors'!B350","v":7.8789999999999996}]
[{"$f":"'Conversion Factors'!A51","v":"2022-08-15"},{"$f":"'Conversion Factors'!B51","v":7.8789999999999996},null,{"$f":"'Conversion Factors'!A101","v":"2022-10-04"},{"$f":"'Conversion Factors'!B101","v":8.6669999999999998},null,{"$f":"'Conversion Factors'!A151","v":"2022-11-23"},{"$f":"'Conversion Factors'!B151","v":7.8789999999999996},null,{"$f":"'Conversion Factors'!A201","v":"2023-01-12"},{"$f":"'Conversion Factors'!B201","v":8.6669999999999998},null,{"$f":"'Conversion Factors'!A251","v":"2023-03-03"},{"$f":"'Conversion Factors'!B251","v":7.8789999999999996},null,{"$f":"'Conversion Factors'!A301","v":"2023-04-22"},{"$f":"'Conversion Factors'!B301","v":8.6669999999999998},null,{"$f":"'Conversion Factors'!A351","v":"2023-06-11"},{"$f":"'Conversion Factors'!B351","v":7.8789999999999996}]
[{"$f":"'Conversion Factors'!A52","v":"2022-08-16"},{"$f":"'Conversion Factors'!B52","v":7.2229999999999999},null,{"$f":"'Conversion Factors'!A102","v":"2022-10-05"},{"$f":"'Conversion Factors'!B102","v":8.6669999999999998},null,{"$f":"'Conversion Factors'!A152","v":"2022-11-24"},{"$f":"'Conversion Factors'!B152","v":7.8789999999999996},null,{"$f":"'Conversion Factors'!A202","v":"2023-01-13"},{"$f":"'Conversion Factors'!B202","v":8.6669999999999998},null,{"$f":"'Conversion Factors'!A252","v":"2023-03-04"},{"$f":"'Conversion Factors'!B252","v":7.8789999999999996},null,{"$f":"'Conversion Factors'!A302","v":"2023-04-23"},{"$f":"'Conversion Factors'!B302","v":8.6669999999999998},null,{"$f":"'Conversion Factors'!A352","v":"2023-06-12"},{"$f":"'Conversion Factors'!B352","v":7.8789999999999996}]
[{"$f":"'Conversion Factors'!A53","v":"2022-08-17"},{"$f":"'Conversion Factors'!B53","v":7.2229999999999999},null,{"$f":"'Conversion Factors'!A103","v":"2022-10-06"},{"$f":"'Conversion Factors'!B103","v":8.6669999999999998},null,{"$f":"'Conversion Factors'!A153","v":"2022-11-25"},{"$f":"'Conversion Factors'!B153","v":7.8789999999999996},null,{"$f":"'Conversion Factors'!A203","v":"2023-01-14"},{"$f":"'Conversion Factors'!B203","v":8.6669999999999998},null,{"$f":"'Conversion Factors'!A253","v":"2023-03-05"},{"$f":"'Conversion Factors'!B253","v":7.8789999999999996},null,{"$f":"'Conversion Factors'!A303","v":"2023-04-24"},{"$f":"'Conversion Factors'!B303","v":8.6669999999999998},null,{"$f":"'Conversion Factors'!A353","v":"2023-06-13"},{"$f":"'Conversion Factors'!B353","v":7.8789999999999996}]
[{"$f":"'Conversion Factors'!A54","v":"2022-08-18"},{"$f":"'Conversion Factors'!B54","v":7.2229999999999999},null,{"$f":"'Conversion Factors'!A104","v":"2022-10-07"},{"$f":"'Conversion Factors'!B104","v":8.6669999999999998},null,{"$f":"'Conversion Factors'!A154","v":"2022-11-26"},{"$f":"'Conversion Factors'!B154","v":7.8789999999999996},null,{"$f":"'Conversion Factors'!A204","v":"2023-01-15"},{"$f":"'Conversion Factors'!B204","v":8.6669999999999998},null,{"$f":"'Conversion Factors'!A254","v":"2023-03-06"},{"$f":"'Conversion Factors'!B254","v":7.8789999999999996},null,{"$f":"'Conversion Factors'!A304","v":"2023-04-25"},{"$f":"'Conversion Factors'!B304","v":8.6669999999999998},null,{"$f":"'Conversion Factors'!A354","v":"2023-06-14"},{"$f":"'Conversion Factors'!B354","v":7.8789999999999996}]
[{"$f":"'Conversion Factors'!A55","v":"2022-08-19"},{"$f":"'Conversion Factors'!B55","v":7.2229999999999999},null,{"$f":"'Conversion Factors'!A105","v":"2022-10-08"},{"$f":"'Conversion Factors'!B105","v":8.6669999999999998},null,{"$f":"'Conversion Factors'!A155","v":"2022-11-27"},{"$f":"'Conversion Factors'!B155","v":7.8789999999999996},null,{"$f":"'Conversion Factors'!A205","v":"2023-01-16"},{"$f":"'Conversion Factors'!B205","v":7.2229999999999999},null,{"$f":"'Conversion Factors'!A255","v":"2023-03-07"},{"$f":"'Conversion Factors'!B255","v":7.8789999999999996},null,{"$f":"'Conversion Factors'!A305","v":"2023-04-26"},{"$f":"'Conversion Factors'!B305","v":8.6669999999999998},null,{"$f":"'Conversion Factors'!A355","v":"2023-06-15"},{"$f":"'Conversion Factors'!B355","v":7.8789999999999996}]

{"sheet":"Admn Closing Instructions","index":1,"n_rows":0,"n_cols":0,"rows_kept":0,"cut":false,"hidden":true,"merged":[]}

{"sheet":"Previous June Split WK HRS","index":2,"n_rows":11,"n_cols":23,"rows_kept":11,"cut":false,"hidden":false,"merged":[]}
["Day of The Week","Actual Hours Worked","Compensatory Time Used","Holiday","Medical Leave","Personal Leave","Administrative Closing/SCHD HRS","Administrative Closing/Leave","Jury Duty","Military Leave","Leave Without Pay","Totals"]
["Sunday",null,null,null,null,null,null,null,null,null,null,{"$f":"SUM(Table1[[#This Row],[Actual Hours Worked]:[Leave Without Pay]])","v":0}]
["Monday",null,null,null,null,null,null,null,null,null,null,{"$f":"SUM(Table1[[#This Row],[Actual Hours Worked]:[Leave Without Pay]])","v":0}]
["Tuesday",null,null,null,null,null,null,null,null,null,null,{"$f":"SUM(Table1[[#This Row],[Actual Hours Worked]:[Leave Without Pay]])","v":0}]
["Wednesday",null,null,null,null,null,null,null,null,null,null,{"$f":"SUM(Table1[[#This Row],[Actual Hours Worked]:[Leave Without Pay]])","v":0}]
["Thursday",null,null,null,null,null,null,null,null,null,null,{"$f":"SUM(Table1[[#This Row],[Actual Hours Worked]:[Leave Without Pay]])","v":0}]
["Friday",null,null,null,null,null,null,null,null,null,null,{"$f":"SUM(Table1[[#This Row],[Actual Hours Worked]:[Leave Without Pay]])","v":0}]
["Saturday",null,null,null,null,null,null,null,null,null,null,{"$f":"SUM(Table1[[#This Row],[Actual Hours Worked]:[Leave Without Pay]])","v":0}]
[]
[]
[null,null,null,null,40,null,null,null,null,null,null,null,null,null,null,null,null,null,null,null,null,null,"Yes"]

{"sheet":"Notes for New Year","index":3,"n_rows":3,"n_cols":1,"rows_kept":3,"cut":false,"hidden":true,"merged":[]}
["Need to add an additional column for Administrative Leave "]
["If the University closes for a half a day, you will need a column for Administrative Leave Schedule Worked HRS"]
["This column will be used to subtract from HOW hours because they were suppose to work half of that day and not be off the whole day."]

{"sheet":"Conversion Factors","index":4,"n_rows":374,"n_cols":2,"rows_kept":374,"cut":false,"hidden":true,"merged":[]}
["Pay period start date:","2022-07-01"]
[]
["Pay period end date:","2023-06-30"]
[]
["Payroll Dates","Conversion Factor"]
[{"$f":"B1","v":"2022-07-01"},7.8789999999999996]
[{"$f":"IF(A6<$B$3,A6+1,IF(A6=$B$3,\"\"))","v":"2022-07-02"},7.8789999999999996]
[{"$f":"IF(A7<$B$3,A7+1,IF(A7=$B$3,\"\"))","v":"2022-07-03"},7.8789999999999996]
["2022-07-04",7.8789999999999996]
["2022-07-05",7.8789999999999996]
["2022-07-06",7.8789999999999996]
["2022-07-07",7.8789999999999996]
["2022-07-08",7.8789999999999996]
["2022-07-09",7.8789999999999996]
["2022-07-10",7.8789999999999996]
["2022-07-11",7.8789999999999996]
["2022-07-12",7.8789999999999996]
["2022-07-13",7.8789999999999996]
["2022-07-14",7.8789999999999996]
["2022-07-15",7.8789999999999996]
["2022-07-16",8.6669999999999998]
["2022-07-17",8.6669999999999998]
["2022-07-18",8.6669999999999998]
["2022-07-19",8.6669999999999998]
["2022-07-20",8.6669999999999998]
["2022-07-21",8.6669999999999998]
["2022-07-22",8.6669999999999998]
["2022-07-23",8.6669999999999998]
["2022-07-24",8.6669999999999998]
["2022-07-25",8.6669999999999998]
["2022-07-26",8.6669999999999998]
["2022-07-27",8.6669999999999998]
["2022-07-28",8.6669999999999998]
["2022-07-29",8.6669999999999998]
["2022-07-30",8.6669999999999998]
["2022-07-31",8.6669999999999998]
["2022-08-01",7.8789999999999996]
["2022-08-02",7.8789999999999996]
["2022-08-03",7.8789999999999996]
["2022-08-04",7.8789999999999996]
["2022-08-05",7.8789999999999996]
["2022-08-06",7.8789999999999996]
["2022-08-07",7.8789999999999996]
["2022-08-08",7.8789999999999996]
["2022-08-09",7.8789999999999996]
["2022-08-10",7.8789999999999996]
["2022-08-11",7.8789999999999996]
["2022-08-12",7.8789999999999996]
["2022-08-13",7.8789999999999996]
["2022-08-14",7.8789999999999996]
["2022-08-15",7.8789999999999996]
["2022-08-16",7.2229999999999999]
["2022-08-17",7.2229999999999999]
["2022-08-18",7.2229999999999999]
["2022-08-19",7.2229999999999999]
["2022-08-20",7.2229999999999999]
["2022-08-21",7.2229999999999999]
["2022-08-22",7.2229999999999999]
["2022-08-23",7.2229999999999999]
["2022-08-24",7.2229999999999999]
["2022-08-25",7.2229999999999999]
["2022-08-26",7.2229999999999999]
["2022-08-27",7.2229999999999999]
["2022-08-28",7.2229999999999999]
["2022-08-29",7.2229999999999999]
["2022-08-30",7.2229999999999999]
["2022-08-31",7.2229999999999999]
["2022-09-01",7.8789999999999996]
["2022-09-02",7.8789999999999996]
["2022-09-03",7.8789999999999996]
["2022-09-04",7.8789999999999996]
[{"$f":"IF(A71<$B$3,A71+1,IF(A71=$B$3,\"\"))","v":"2022-09-05"},7.8789999999999996]
["2022-09-06",7.8789999999999996]
["2022-09-07",7.8789999999999996]
["2022-09-08",7.8789999999999996]
["2022-09-09",7.8789999999999996]
["2022-09-10",7.8789999999999996]
["2022-09-11",7.8789999999999996]
["2022-09-12",7.8789999999999996]
["2022-09-13",7.8789999999999996]
["2022-09-14",7.8789999999999996]
["2022-09-15",7.8789999999999996]
["2022-09-16",7.8789999999999996]
["2022-09-17",7.8789999999999996]
["2022-09-18",7.8789999999999996]
["2022-09-19",7.8789999999999996]
["2022-09-20",7.8789999999999996]
["2022-09-21",7.8789999999999996]
["2022-09-22",7.8789999999999996]
["2022-09-23",7.8789999999999996]
["2022-09-24",7.8789999999999996]
["2022-09-25",7.8789999999999996]
["2022-09-26",7.8789999999999996]
["2022-09-27",7.8789999999999996]
["2022-09-28",7.8789999999999996]
["2022-09-29",7.8789999999999996]
["2022-09-30",7.8789999999999996]
["2022-10-01",8.6669999999999998]
["2022-10-02",8.6669999999999998]
["2022-10-03",8.6669999999999998]
["2022-10-04",8.6669999999999998]
["2022-10-05",8.6669999999999998]
["2022-10-06",8.6669999999999998]
["2022-10-07",8.6669999999999998]
["2022-10-08",8.6669999999999998]
["2022-10-09",8.6669999999999998]
["2022-10-10",8.6669999999999998]
["2022-10-11",8.6669999999999998]
["2022-10-12",8.6669999999999998]
["2022-10-13",8.6669999999999998]
["2022-10-14",8.6669999999999998]
["2022-10-15",8.6669999999999998]
["2022-10-16",7.8789999999999996]
["2022-10-17",7.8789999999999996]
["2022-10-18",7.8789999999999996]
["2022-10-19",7.8789999999999996]
["2022-10-20",7.8789999999999996]
["2022-10-21",7.8789999999999996]
["2022-10-22",7.8789999999999996]
["2022-10-23",7.8789999999999996]
["2022-10-24",7.8789999999999996]
["2022-10-25",7.8789999999999996]
["2022-10-26",7.8789999999999996]
["2022-10-27",7.8789999999999996]
["2022-10-28",7.8789999999999996]
["2022-10-29",7.8789999999999996]
["2022-10-30",7.8789999999999996]
["2022-10-31",7.8789999999999996]
["2022-11-01",7.8789999999999996]
["2022-11-02",7.8789999999999996]
["2022-11-03",7.8789999999999996]
["2022-11-04",7.8789999999999996]
["2022-11-05",7.8789999999999996]
["2022-11-06",7.8789999999999996]
["2022-11-07",7.8789999999999996]
[{"$f":"IF(A135<$B$3,A135+1,IF(A135=$B$3,\"\"))","v":"2022-11-08"},7.8789999999999996]
["2022-11-09",7.8789999999999996]
["2022-11-10",7.8789999999999996]
["2022-11-11",7.8789999999999996]
["2022-11-12",7.8789999999999996]
["2022-11-13",7.8789999999999996]
["2022-11-14",7.8789999999999996]
["2022-11-15",7.8789999999999996]
["2022-11-16",7.8789999999999996]
["2022-11-17",7.8789999999999996]
["2022-11-18",7.8789999999999996]
["2022-11-19",7.8789999999999996]
["2022-11-20",7.8789999999999996]
["2022-11-21",7.8789999999999996]
["2022-11-22",7.8789999999999996]
["2022-11-23",7.8789999999999996]
["2022-11-24",7.8789999999999996]
["2022-11-25",7.8789999999999996]
["2022-11-26",7.8789999999999996]
["2022-11-27",7.8789999999999996]
["2022-11-28",7.8789999999999996]
["2022-11-29",7.8789999999999996]
["2022-11-30",7.8789999999999996]
["2022-12-01",7.8789999999999996]
["2022-12-02",7.8789999999999996]
["2022-12-03",7.8789999999999996]
["2022-12-04",7.8789999999999996]
["2022-12-05",7.8789999999999996]
["2022-12-06",7.8789999999999996]
["2022-12-07",7.8789999999999996]
["2022-12-08",7.8789999999999996]
["2022-12-09",7.8789999999999996]
["2022-12-10",7.8789999999999996]
["2022-12-11",7.8789999999999996]
["2022-12-12",7.8789999999999996]
["2022-12-13",7.8789999999999996]
["2022-12-14",7.8789999999999996]
["2022-12-15",7.8789999999999996]
["2022-12-16",7.8789999999999996]
["2022-12-17",7.8789999999999996]
["2022-12-18",7.8789999999999996]
["2022-12-19",7.8789999999999996]
["2022-12-20",7.8789999999999996]
["2022-12-21",7.8789999999999996]
["2022-12-22",7.8789999999999996]
["2022-12-23",7.8789999999999996]
["2022-12-24",7.8789999999999996]
["2022-12-25",7.8789999999999996]
["2022-12-26",7.8789999999999996]
["2022-12-27",7.8789999999999996]
["2022-12-28",7.8789999999999996]
["2022-12-29",7.8789999999999996]
["2022-12-30",7.8789999999999996]
["2022-12-31",7.8789999999999996]
["2023-01-01",8.6669999999999998]
["2023-01-02",8.6669999999999998]
["2023-01-03",8.6669999999999998]
["2023-01-04",8.6669999999999998]
["2023-01-05",8.6669999999999998]
["2023-01-06",8.6669999999999998]
["2023-01-07",8.6669999999999998]
["2023-01-08",8.6669999999999998]
["2023-01-09",8.6669999999999998]
["2023-01-10",8.6669999999999998]
[{"$f":"IF(A199<$B$3,A199+1,IF(A199=$B$3,\"\"))","v":"2023-01-11"},8.6669999999999998]
["2023-01-12",8.6669999999999998]
["2023-01-13",8.6669999999999998]
["2023-01-14",8.6669999999999998]
["2023-01-15",8.6669999999999998]
["2023-01-16",7.2229999999999999]
["2023-01-17",7.2229999999999999]
["2023-01-18",7.2229999999999999]
["2023-01-19",7.2229999999999999]
["2023-01-20",7.2229999999999999]
["2023-01-21",7.2229999999999999]
["2023-01-22",7.2229999999999999]
["2023-01-23",7.2229999999999999]
["2023-01-24",7.2229999999999999]
["2023-01-25",7.2229999999999999]
["2023-01-26",7.2229999999999999]
["2023-01-27",7.2229999999999999]
["2023-01-28",7.2229999999999999]
["2023-01-29",7.2229999999999999]
["2023-01-30",7.2229999999999999]
["2023-01-31",7.2229999999999999]
["2023-02-01",7.8789999999999996]
["2023-02-02",7.8789999999999996]
["2023-02-03",7.8789999999999996]
["2023-02-04",7.8789999999999996]
["2023-02-05",7.8789999999999996]
["2023-02-06",7.8789999999999996]
["2023-02-07",7.8789999999999996]
["2023-02-08",7.8789999999999996]
["2023-02-09",7.8789999999999996]
["2023-02-10",7.8789999999999996]
["2023-02-11",7.8789999999999996]
["2023-02-12",7.8789999999999996]
["2023-02-13",7.8789999999999996]
["2023-02-14",7.8789999999999996]
["2023-02-15",7.8789999999999996]
["2023-02-16",9.6300000000000008]
["2023-02-17",9.6300000000000008]
["2023-02-18",9.6300000000000008]
["2023-02-19",9.6300000000000008]
["2023-02-20",9.6300000000000008]
["2023-02-21",9.6300000000000008]
["2023-02-22",9.6300000000000008]
["2023-02-23",9.6300000000000008]
["2023-02-24",9.6300000000000008]
["2023-02-25",9.6300000000000008]
["2023-02-26",9.6300000000000008]
["2023-02-27",9.6300000000000008]
["2023-02-28",9.6300000000000008]
["2023-03-01",7.8789999999999996]
["2023-03-02",7.8789999999999996]
["2023-03-03",7.8789999999999996]
["2023-03-04",7.8789999999999996]
["2023-03-05",7.8789999999999996]
["2023-03-06",7.8789999999999996]
["2023-03-07",7.8789999999999996]
["2023-03-08",7.8789999999999996]
["2023-03-09",7.8789999999999996]
["2023-03-10",7.8789999999999996]
["2023-03-11",7.8789999999999996]
["2023-03-12",7.8789999999999996]
["2023-03-13",7.8789999999999996]
["2023-03-14",7.8789999999999996]
["2023-03-15",7.8789999999999996]
[{"$f":"IF(A263<$B$3,A263+1,IF(A263=$B$3,\"\"))","v":"2023-03-16"},7.2229999999999999]
["2023-03-17",7.2229999999999999]
["2023-03-18",7.2229999999999999]
["2023-03-19",7.2229999999999999]
["2023-03-20",7.2229999999999999]
["2023-03-21",7.2229999999999999]
["2023-03-22",7.2229999999999999]
["2023-03-23",7.2229999999999999]
["2023-03-24",7.2229999999999999]
["2023-03-25",7.2229999999999999]
["2023-03-26",7.2229999999999999]
["2023-03-27",7.2229999999999999]
["2023-03-28",7.2229999999999999]
["2023-03-29",7.2229999999999999]
["2023-03-30",7.2229999999999999]
["2023-03-31",7.2229999999999999]
["2023-04-01",8.6669999999999998]
["2023-04-02",8.6669999999999998]
["2023-04-03",8.6669999999999998]
["2023-04-04",8.6669999999999998]
["2023-04-05",8.6669999999999998]
["2023-04-06",8.6669999999999998]
["2023-04-07",8.6669999999999998]
["2023-04-08",8.6669999999999998]
["2023-04-09",8.6669999999999998]
["2023-04-10",8.6669999999999998]
["2023-04-11",8.6669999999999998]
["2023-04-12",8.6669999999999998]
["2023-04-13",8.6669999999999998]
["2023-04-14",8.6669999999999998]
["2023-04-15",8.6669999999999998]
["2023-04-16",8.6669999999999998]
["2023-04-17",8.6669999999999998]
["2023-04-18",8.6669999999999998]
["2023-04-19",8.6669999999999998]
["2023-04-20",8.6669999999999998]
["2023-04-21",8.6669999999999998]
["2023-04-22",8.6669999999999998]
["2023-04-23",8.6669999999999998]
["2023-04-24",8.6669999999999998]
["2023-04-25",8.6669999999999998]
["2023-04-26",8.6669999999999998]
["2023-04-27",8.6669999999999998]
["2023-04-28",8.6669999999999998]
["2023-04-29",8.6669999999999998]
["2023-04-30",8.6669999999999998]
["2023-05-01",7.8789999999999996]
["2023-05-02",7.8789999999999996]
["2023-05-03",7.8789999999999996]
["2023-05-04",7.8789999999999996]
["2023-05-05",7.8789999999999996]
["2023-05-06",7.8789999999999996]
["2023-05-07",7.8789999999999996]
["2023-05-08",7.8789999999999996]
["2023-05-09",7.8789999999999996]
["2023-05-10",7.8789999999999996]
["2023-05-11",7.8789999999999996]
["2023-05-12",7.8789999999999996]
["2023-05-13",7.8789999999999996]
["2023-05-14",7.8789999999999996]
["2023-05-15",7.8789999999999996]
["2023-05-16",7.2229999999999999]
["2023-05-17",7.2229999999999999]
["2023-05-18",7.2229999999999999]
[{"$f":"IF(A327<$B$3,A327+1,IF(A327=$B$3,\"\"))","v":"2023-05-19"},7.2229999999999999]
["2023-05-20",7.2229999999999999]
["2023-05-21",7.2229999999999999]
["2023-05-22",7.2229999999999999]
["2023-05-23",7.2229999999999999]
["2023-05-24",7.2229999999999999]
["2023-05-25",7.2229999999999999]
["2023-05-26",7.2229999999999999]
["2023-05-27",7.2229999999999999]
["2023-05-28",7.2229999999999999]
["2023-05-29",7.2229999999999999]
["2023-05-30",7.2229999999999999]
["2023-05-31",7.2229999999999999]
["2023-06-01",7.8789999999999996]
["2023-06-02",7.8789999999999996]
["2023-06-03",7.8789999999999996]
["2023-06-04",7.8789999999999996]
["2023-06-05",7.8789999999999996]
["2023-06-06",7.8789999999999996]
["2023-06-07",7.8789999999999996]
["2023-06-08",7.8789999999999996]
["2023-06-09",7.8789999999999996]
["2023-06-10",7.8789999999999996]
["2023-06-11",7.8789999999999996]
["2023-06-12",7.8789999999999996]
["2023-06-13",7.8789999999999996]
["2023-06-14",7.8789999999999996]
["2023-06-15",7.8789999999999996]
["2023-06-16",7.8789999999999996]
["2023-06-17",7.8789999999999996]
["2023-06-18",7.8789999999999996]
["2023-06-19",7.8789999999999996]
["2023-06-20",7.8789999999999996]
["2023-06-21",7.8789999999999996]
["2023-06-22",7.8789999999999996]
["2023-06-23",7.8789999999999996]
["2023-06-24",7.8789999999999996]
["2023-06-25",7.8789999999999996]
["2023-06-26",7.8789999999999996]
["2023-06-27",7.8789999999999996]
["2023-06-28",7.8789999999999996]
["2023-06-29",7.8789999999999996]
["2023-06-30",7.8789999999999996]
["",7.8789999999999996]
[false]
[false]
[false]

{"sheet":"Dates & Notes","index":5,"n_rows":31,"n_cols":5,"rows_kept":31,"cut":false,"hidden":true,"merged":[[30,0,31,4],[58,3,59,4]]}
["From","To","Pay #","Beginning Holiday Date","Ending Holiday Date"]
["2022-07-01","2022-07-15",13,"2022-07-04","2022-07-04"]
["2022-07-16","2022-07-31",{"$f":"C2+1","v":14}]
["2022-08-01","2022-08-15",{"$f":"C3+1","v":15}]
["2022-08-16","2022-08-31",16]
["2022-09-01","2022-09-15",17,"2022-09-05","2022-09-05"]
["2022-09-16","2022-09-30",18]
["2022-10-01","2022-10-15",19]
["2022-10-16","2022-10-31",20]
["2022-11-01","2022-11-15",21,"2022-11-24","2022-11-25"]
["2022-11-16","2022-11-30",22]
["2022-12-01","2022-12-15",23]
["2022-12-16","2022-12-31",24,"2022-12-21","2022-12-30"]
["2023-01-01","2023-01-15",1,"2023-01-16","2023-01-16"]
["2023-01-16","2023-01-31",{"$f":"C14+1","v":2}]
["2023-02-01","2023-02-15",{"$f":"C15+1","v":3}]
["2023-02-16","2023-02-28",4]
["2023-03-01","2023-03-15",5]
["2023-03-16","2023-03-31",6]
["2023-04-01","2023-04-15",7,"2023-04-07","2023-04-07"]
["2023-04-16","2023-04-30",8]
["2023-05-01","2023-05-15",9]
["2023-05-16","2023-05-31",10,"2023-05-29","2023-05-29"]
["2023-06-01","2023-06-15",11]
["2023-06-16","2023-06-30",12]
[]
[]
["MAKE SURE YOU CHECK LINKS FOR PREVIOUS WEEKS AND LOCK/UNLOCK NECESSARY CELL FOR EACH NEW FISCAL YEAR."]
["When you link the previous week days, do a custom format to not show the data.  (Select Format Cell, Custom, ;;;).  This will hide the data."]
[]
["The straight time calculations and overtime calculations are different if the time carries over to the next time sheet to keep the straight time and overtime correct.  Make sure you check your calculations each fiscal year to make the approprate changes."]

{"sheet":"Instructions to Update","index":6,"n_rows":4,"n_cols":1,"rows_kept":4,"cut":false,"hidden":true,"merged":[]}
["1. Unhide tabs."]
["2.  Each tab is already populated with payroll period.  Dates and payroll period link back to Dates & Notes tab."]
["3.  Update Dates & Notes tab with payroll dates and new year.  The day of the week will automatically update and will populate the new tabls.  Could add holidays to this tab."]
["4.  Update previous split workweek tab based on when the fiscal year starts on July 1."]

{"sheet":"July 1 - July 15","index":7,"n_rows":55,"n_cols":69,"rows_kept":55,"cut":false,"hidden":false,"merged":[[0,0,0,22],[1,0,1,22],[3,0,3,23],[5,2,5,7],[5,8,5,13],[5,14,5,19],[10,40,10,46],[6,2,6,7],[6,8,6,13],[6,14,6,19],[7,2,7,7],[7,8,7,13],[7,14,7,19],[10,0,10,3],[10,4,10,5],[10,6,10,17],[10,18,10,21],[10,22,10,23],[21,0,21,2],[11,0,11,2],[11,29,11,30],[12,0,12,3],[13,0,13,2],[14,0,14,2],[15,0,15,2],[16,0,16,2],[17,0,17,2],[18,0,18,2],[19,0,19,2],[20,0,20,2],[33,0,33,2],[22,0,22,2],[23,0,23,2],[24,0,24,2],[25,0,25,2],[26,0,26,2],[27,0,27,2],[28,0,28,2],[29,0,29,2],[30,0,30,2],[31,0,31,2],[32,0,32,2],[45,8,45,13],[34,0,34,2],[35,0,35,2],[36,0,36,2],[37,0,37,2],[38,0,38,2],[39,0,39,2],[40,0,40,2],[41,0,41,2],[42,0,42,2],[43,0,43,2],[44,0,44,2],[47,14,47,22],[48,14,48,19],[49,14,49,22],[51,10,53,22],[54,10,56,22]]}
["Mississippi State University"]
["Non-Exempt Employee Semi-Monthly Time Report"]
[]
["Instructions:  The Fair Labor Standards Act requires that a record of hours worked on a weekly basis be maintained for all employees except executive, administrative, managerial, faculty, and professional (non-faculty).  Department/unit heads are responsible for compiling and maintaining this record in department files on each covered employee for a period of at least (3) years."]
[]
["MSU ID #:",null,0,null,null,null,null,null,"Pay period start date:",null,null,null,null,null,{"$f":"'Dates & Notes'!$A$2","v":"2022-07-01"},null,null,null,null,null,null,null,null,null,null,{"$f":"TEXT(O6,\"dddd\")","v":"Friday"},null,null,null,"Please Select"]
["Name:",null,null,null,null,null,null,null,"Pay period end date:",null,null,null,null,null,{"$f":"'Dates & Notes'!$B$2","v":"2022-07-15"},null,null,null,null,null,null,null,null,null,null,null,null,null,null,"No"]
["Department:",null,null,null,null,null,null,null,"Pay Period Number:",null,null,null,null,null,{"$f":"'Dates & Notes'!$C$2","v":13},null,null,null,null,null,null,null,null,null,null,null,null,null,null,"Yes"]
[]
[]
["Employee Scheduled Hours Per Week",null,null,null,40,null,"FIELDS MUST BE ENTERED FOR CALULATIONS TO WORK PROPERLY",null,null,null,null,null,null,null,null,null,null,null,"Receive Compensatory Time",null,null,null,"Please Select",null,null,null,null,null,null,null,null,null,null,null,"Over 40",null,null,null,null,null,"HOW ANALYSIS"]
["Work Week Dates",null,null,"Day of The Week","Actual Hours Worked","Compensatory Time Used","Holiday","Medical Leave","Personal Leave","Actual Wrk Hrs During  Admin Close Period","Administrative Closing/Leave Period","Jury Duty","Military Leave","Leave Without Pay","Totals","DOC-Payroll Conversion","RTO","RTO-Payroll Conversion","Overtime Hours","Hours Transferred to Comp. Record","HOW-Holiday Pay or Admin/Leave Closing","HOT-Holiday Pay","SST-Payroll","Conversion Factor",null,8,"DOC","RTO",null,"SST",null,null,null,"Cumm Actual HRS",40,"Administrative Leave","HOW-Holiday Pay","Comp. Time","Administrative/Schedule",null,"Holiday=0\n1",2,3,4,null,"<=40\n5",null,"HOT Workup","HOT-Holiday Pay (HOLIDAY PAY)",null,"HOT-Administrative HRS","Administrative=0\n1",2,3,4,null,"<=40\n5",null,null,"Holiday Flag","Up to 40","How","Hot","Actual Hours Worked","Admin Flag","Admin","Admin HOW","Admin OVT"]
["Hours-Previous WK (Due to Split WK)",null,null,null,{"$f":"SUM(E14:E18)","v":0},{"$f":"SUM(F14:F18)","v":0},{"$f":"SUM(G14:G18)","v":0},0,0,0,0,0,0,0,{"$f":"SUM(E13:N13)-J13","v":0},null,null,null,null,null,null,null,null,null,null,null,null,null,null,null,null,null,null,null,null,{"$f":"IF(AND(AM13=0,J13=0),AM13,IF(AND(E13>AM13,J13=0),J13,IF(AND(J13<AM13,AI13=0),J13,IF(AND(AM13=J13,AI13<AM13),AM13-AI13,IF(AND(J13=AM13,AI13=AM13),AI13,IF(AND(J13<AM13,AI13>0),AM13-J13,IF(AND(AM13>J13,AI13<E13),E13-AI13,IF(AND(E13>AM13,AI13=E13),O13-AI13,0))))))))","v":0},{"$f":"IF(AND(G13=0,E13>G13),G13,IF(AND(E13>G13,AI13=0),G13,IF(AND(E13<G13,AI13=0),E13,IF(AND(E13=G13,AI13<G13),G13-AI13,IF(AND(E13=G13,AI13=G13),AI13,IF(AND(E13<G13,AI13>0),G13-E13,IF(AND(E13>G13,AI13<E13),E13-AI13,IF(AND(E13>G13,AI13=E13),O13-AI13,0))))))))","v":0},null,{"$f":"K13","v":0}]
[{"$f":"IF(EXACT(D14,$Z$6)=TRUE,$O$6,IF(A12=0,\"\",IF(A12<$O$7,A12+1,IF(A12=$O$7,\"\"))))","v":false},null,null,"Sunday",{"$f":"'Previous June Split WK HRS'!B2","v":0},{"$f":"'Previous June Split WK HRS'!C2","v":0},{"$f":"'Previous June Split WK HRS'!D2","v":0},{"$f":"'Previous June Split WK HRS'!E2","v":0},{"$f":"'Previous June Split WK HRS'!F2","v":0},{"$f":"'Previous June Split WK HRS'!G2","v":0},{"$f":"'Previous June Split WK HRS'!H2","v":0},{"$f":"'Previous June Split WK HRS'!I2","v":0},{"$f":"'Previous June Split WK HRS'!J2","v":0},{"$f":"'Previous June Split WK HRS'!K2","v":0},{"$f":"SUM(E14:N14)-J14","v":0},{"$f":"IF(AND(ISNUMBER(AA14),ISNUMBER(X14)),AA14*X14,\"\")","v":""},null,{"$f":"IF(AND(ISNUMBER(AB14),ISNUMBER(X14)),AB14*X14,\"\")","v":""},null,null,{"$f":"IF(BJ14>0,BJ14,BN14)","v":0},{"$f":"IF(BK14>0,BK14,0)","v":0},null,{"$f":"IF(ISNA(INDEX('Conversion Factors'!$B$6:$B$371,MATCH('July 1 - July 15'!$Z$14:$Z$20,'Conversion Factors'!$A$6:$A$371,0))),\"\",INDEX('Conversion Factors'!$B$6:$B$371,MATCH('July 1 - July 15'!$Z$14:$Z$20,'Conversion Factors'!$A$6:$A$371,0)))","v":""},null,{"$f":"A14","v":false},{"$f":"IF(AND(ISNUMBER(N14),ISNUMBER($Z$12)),N14/$Z$12,\"\")","v":0},{"$f":"IF(AND(ISNUMBER(Q14),ISNUMBER($Z$12)),Q14/$Z$12,\"\")","v":""},null,null,null,null,null,{"$f":"E14","v":0},{"$f":"IF(AH14>$AI$12,AH14-$AI$12,0)","v":0},{"$f":"IF(AND(AZ14>0,AZ14),IF(BA14>0,BA14,IF(BB14>0,BB14,IF(BC14>0,BC14,IF(BF14>0,BF14,\"\")))))","v":false},{"$f":"IF(AND(AO14>0,AO14),IF(AP14>0,AP14,IF(AQ14>0,AQ14,IF(AR14>0,AR14,IF(AU14>0,AU14,\"\")))))","v":false},null,{"$f":"J14","v":0},null,{"$f":"IF(G14=0,0,\"\")","v":0},{"$f":"IF(AND(AH14<=40,E14=G14),G14,0)","v":0},{"$f":"IF(AND(AH14<=40,E14>=G14,G14>0),O14-E14,0)","v":0},{"$f":"IF(AND(AH14<=40,E14<G14),O14-G14,0)","v":0},{"$f":"IF(AND(G14=0),G14,IF(AND(G14>0,AI14>0,G14=AT14),AT14,IF(AND(G14>0,AI14>0,G14-AT14),AT14,0)))","v":0},null,{"$f":"AS14","v":0},{"$f":"IF(AND(AH13+AU14=40,AI14>0,AI14>AU14),AI14-AU14,IF(AND(AH13+AU14=40,AI14>0,AI14<AU14,AU14+AI14=G14),AI14,IF(AND(AH13>40,AH14>40,G14=AI14),AI14,0)))","v":0},{"$f":"AV14","v":0},null,{"$f":"IF(AND(J14>0,AI14>=J14,BB14=0),O14-AI14,IF(AND(J14>0,AI14>0,BB14<=AI14),AI14-BB14,IF(AND(J14>0,AI14>0,BB14>AI14),J14-BB14,0)))","v":0},{"$f":"IF(J14=0,0,\"\")","v":0},{"$f":"IF(AND(AH14<=40,E14=J14),J14,0)","v":0},{"$f":"IF(AND(AZ14=0),AZ14,IF(AND(AH14>40,E14>=J14),BE14,IF(AND(AH14<=40,E14>J14),J14,0)))","v":0},{"$f":"IF(AND(AH14<=40,E14<J14),O14-J14,0)","v":0},{"$f":"IF(AND(J14=0),J14,IF(AND(J14>0,AI14>0,J14=BC14),BC14,IF(AND(J14>0,AI14>0,J14-BC14),BC14,0)))","v":0},null,{"$f":"BD14","v":0},null,{"$f":"IF(AND(G14>0,E14>0),1,0)","v":0},{"$f":"40-AH14","v":40},{"$f":"IF(AND(BH14=1,E14<8),E14,(IF(AND(BH14=1,E14>0),G14,0)))","v":0},{"$f":"IF(AND(BH14=1,BL14>40,E14<G14),E14-BJ14,(IF(AND(BH14=1,BL14>0,E14>=G14),G14-BJ14,0)))","v":0},{"$f":"E14","v":0},{"$f":"IF(AND(K14>0,E14>0),1,0)","v":0},{"$f":"IF(AND(BM14=1,J14>8),K14,(IF(AND(BM14=1,J14>0),J14,0)))","v":0},{"$f":"IF(AND(BM14=1,40-BL13>0,40-BL13<8),40-BL13,IF(AND(J14<K14),J14,K14))","v":0},{"$f":"IF(AND(BM14=1,BL14>40,J14<=K14),J14-BO14,IF(AND(BM14=1,BL14>0,J14>K14),K14-BO14,0))","v":0}]
[{"$f":"IF(EXACT(D15,$Z$6)=TRUE,$O$6,IF(A14=0,\"\",IF(A14<$O$7,A14+1,IF(A14=$O$7,\"\"))))","v":false},null,null,"Monday",{"$f":"'Previous June Split WK HRS'!B3","v":0},{"$f":"'Previous June Split WK HRS'!C3","v":0},{"$f":"'Previous June Split WK HRS'!D3","v":0},{"$f":"'Previous June Split WK HRS'!E3","v":0},{"$f":"'Previous June Split WK HRS'!F3","v":0},{"$f":"'Previous June Split WK HRS'!G3","v":0},{"$f":"'Previous June Split WK HRS'!H3","v":0},{"$f":"'Previous June Split WK HRS'!I3","v":0},{"$f":"'Previous June Split WK HRS'!J3","v":0},{"$f":"'Previous June Split WK HRS'!K3","v":0},{"$f":"SUM(E15:N15)-J15","v":0},{"$f":"IF(AND(ISNUMBER(AA15),ISNUMBER(X15)),AA15*X15,\"\")","v":""},null,{"$f":"IF(AND(ISNUMBER(AB15),ISNUMBER(X15)),AB15*X15,\"\")","v":""},null,null,{"$f":"IF(BJ15>0,BJ15,BN15)","v":0},{"$f":"IF(BK15>0,BK15,0)","v":0},null,{"$f":"IF(ISNA(INDEX('Conversion Factors'!$B$6:$B$371,MATCH('July 1 - July 15'!$Z$14:$Z$20,'Conversion Factors'!$A$6:$A$371,0))),\"\",INDEX('Conversion Factors'!$B$6:$B$371,MATCH('July 1 - July 15'!$Z$14:$Z$20,'Conversion Factors'!$A$6:$A$371,0)))","v":""},null,false,0,"",null,null,null,null,null,{"$f":"E15+AH14","v":0},{"$f":"IF(AH15>$AI$12,AH15-($AI$12+AI14),0)","v":0},{"$f":"IF(AND(AZ15>0,AZ15),IF(BA15>0,BA15,IF(BB15>0,BB15,IF(BC15>0,BC15,IF(BF15>0,BF15,\"\")))))","v":false},{"$f":"IF(AND(AO15>0,AO15),IF(AP15>0,AP15,IF(AQ15>0,AQ15,IF(AR15>0,AR15,IF(AU15>0,AU15,0)))))","v":false},null,0,null,0,0,0,0,0,{"$f":"IF(AND(AH14<=40),40-AH14,0)","v":40},{"$f":"AS15","v":0},0,{"$f":"AV15","v":0},null,0,0,0,0,0,0,{"$f":"IF(AND(AH14<=40),40-AH14,0)","v":40},{"$f":"BD15","v":0},null,{"$f":"IF(AND(G15>0,E15>0),1,0)","v":0},40,0,0,{"$f":"SUM(E14:E15)","v":0},{"$f":"IF(AND(K15>0,E15>0),1,0)","v":0},{"$f":"IF(AND(BM15=1,J15>8),K15,(IF(AND(BM15=1,J15>0),J15,0)))","v":0},0,0]
[false,null,null,"Tuesday",{"$f":"'Previous June Split WK HRS'!B4","v":0},{"$f":"'Previous June Split WK HRS'!C4","v":0},{"$f":"'Previous June Split WK HRS'!D4","v":0},{"$f":"'Previous June Split WK HRS'!E4","v":0},{"$f":"'Previous June Split WK HRS'!F4","v":0},{"$f":"'Previous June Split WK HRS'!G4","v":0},{"$f":"'Previous June Split WK HRS'!H4","v":0},{"$f":"'Previous June Split WK HRS'!I4","v":0},{"$f":"'Previous June Split WK HRS'!J4","v":0},{"$f":"'Previous June Split WK HRS'!K4","v":0},{"$f":"SUM(E16:N16)-J16","v":0},"",null,"",null,null,{"$f":"IF(BJ16>0,BJ16,BN16)","v":0},0,null,{"$f":"IF(ISNA(INDEX('Conversion Factors'!$B$6:$B$371,MATCH('July 1 - July 15'!$Z$14:$Z$20,'Conversion Factors'!$A$6:$A$371,0))),\"\",INDEX('Conversion Factors'!$B$6:$B$371,MATCH('July 1 - July 15'!$Z$14:$Z$20,'Conversion Factors'!$A$6:$A$371,0)))","v":""},null,false,0,"",null,null,null,null,null,0,{"$f":"IF(AH16>$AI$12,AH16-($AI$12+AI15+AI14),0)","v":0},false,false,null,0,null,0,0,0,0,0,40,0,0,0,null,0,0,0,0,0,0,{"$f":"IF(AND(AH15<=40),40-AH15,0)","v":40},0,null,{"$f":"IF(AND(G16>0,E16>0),1,0)","v":0},40,0,0,{"$f":"SUM(E14:E16)","v":0},0,{"$f":"IF(AND(BM16=1,J16>8),K16,(IF(AND(BM16=1,J16>0),J16,0)))","v":0},{"$f":"IF(AND(BM16=1,40-BL15>0,40-BL15<8),40-BL15,IF(AND(J16<K16),J16,K16))","v":0},0]
[false,null,null,"Wednesday",{"$f":"'Previous June Split WK HRS'!B5","v":0},{"$f":"'Previous June Split WK HRS'!C5","v":0},{"$f":"'Previous June Split WK HRS'!D5","v":0},{"$f":"'Previous June Split WK HRS'!E5","v":0},{"$f":"'Previous June Split WK HRS'!F5","v":0},{"$f":"'Previous June Split WK HRS'!G5","v":0},{"$f":"'Previous June Split WK HRS'!H5","v":0},{"$f":"'Previous June Split WK HRS'!I5","v":0},{"$f":"'Previous June Split WK HRS'!J5","v":0},{"$f":"'Previous June Split WK HRS'!K5","v":0},0,"",null,"",null,null,0,0,null,{"$f":"IF(ISNA(INDEX('Conversion Factors'!$B$6:$B$371,MATCH('July 1 - July 15'!$Z$14:$Z$20,'Conversion Factors'!$A$6:$A$371,0))),\"\",INDEX('Conversion Factors'!$B$6:$B$371,MATCH('July 1 - July 15'!$Z$14:$Z$20,'Conversion Factors'!$A$6:$A$371,0)))","v":""},null,false,0,"",null,null,null,null,null,0,{"$f":"IF(AH17>$AI$12,AH17-($AI$12+AI16+AI15+AI14),0)","v":0},false,false,null,0,null,0,0,0,0,0,40,0,0,0,null,0,0,0,0,0,0,40,0,null,0,40,0,0,{"$f":"SUM(E14:E17)","v":0},0,{"$f":"IF(AND(BM17=1,J17>8),K17,(IF(AND(BM17=1,J17>0),J17,0)))","v":0},{"$f":"IF(AND(BM17=1,40-BL16>0,40-BL16<8),40-BL16,IF(AND(J17<K17),J17,K17))","v":0},0]
[false,null,null,"Thursday",{"$f":"'Previous June Split WK HRS'!B6","v":0},{"$f":"'Previous June Split WK HRS'!C6","v":0},{"$f":"'Previous June Split WK HRS'!D6","v":0},{"$f":"'Previous June Split WK HRS'!E6","v":0},{"$f":"'Previous June Split WK HRS'!F6","v":0},{"$f":"'Previous June Split WK HRS'!G6","v":0},{"$f":"'Previous June Split WK HRS'!H6","v":0},{"$f":"'Previous June Split WK HRS'!I6","v":0},{"$f":"'Previous June Split WK HRS'!J6","v":0},{"$f":"'Previous June Split WK HRS'!K6","v":0},0,"",null,"",null,null,0,0,null,{"$f":"IF(ISNA(INDEX('Conversion Factors'!$B$6:$B$371,MATCH('July 1 - July 15'!$Z$14:$Z$20,'Conversion Factors'!$A$6:$A$371,0))),\"\",INDEX('Conversion Factors'!$B$6:$B$371,MATCH('July 1 - July 15'!$Z$14:$Z$20,'Conversion Factors'!$A$6:$A$371,0)))","v":""},null,false,0,"",null,null,null,null,null,0,{"$f":"IF(AH18>$AI$12,AH18-($AI$12+AI17+AI16+AI15+AI14),0)","v":0},false,false,null,0,null,0,0,0,0,0,{"$f":"IF(AND(AH17<=40),40-AH17,0)","v":40},0,0,0,null,0,0,0,0,0,0,40,0,null,0,40,0,0,{"$f":"SUM(E14:E18)","v":0},0,0,0,0]
["2022-07-01",null,null,"Friday",null,null,null,null,null,null,null,null,null,null,0,"",null,"",null,null,0,0,null,{"$f":"IF(ISNA(INDEX('Conversion Factors'!$B$6:$B$371,MATCH('July 1 - July 15'!$Z$14:$Z$20,'Conversion Factors'!$A$6:$A$371,0))),\"\",INDEX('Conversion Factors'!$B$6:$B$371,MATCH('July 1 - July 15'!$Z$14:$Z$20,'Conversion Factors'!$A$6:$A$371,0)))","v":7.8789999999999996},null,"2022-07-01","","",null,null,null,null,null,0,{"$f":"IF(AH19>$AI$12,AH19-($AI$12+AI18+AI17+AI16+AI15+AI14),0)","v":0},false,false,null,0,null,0,0,0,0,0,{"$f":"IF(AND(AH18<=40),40-AH18,0)","v":40},0,0,0,null,0,0,0,0,0,0,40,0,null,0,40,0,0,{"$f":"SUM(E14:E19)","v":0},0,0,0,{"$f":"IF(AND(BM19=1,BL19>40,J19<=K19),J19-BO19,IF(AND(BM19=1,BL19>0,J19>K19),K19-BO19,0))","v":0}]
["2022-07-02",null,null,"Saturday",null,null,null,null,null,null,null,null,null,null,{"$f":"SUM(E20:N20)-J20","v":0},"",null,"",null,null,0,0,null,{"$f":"IF(ISNA(INDEX('Conversion Factors'!$B$6:$B$371,MATCH('July 1 - July 15'!$Z$14:$Z$20,'Conversion Factors'!$A$6:$A$371,0))),\"\",INDEX('Conversion Factors'!$B$6:$B$371,MATCH('July 1 - July 15'!$Z$14:$Z$20,'Conversion Factors'!$A$6:$A$371,0)))","v":7.8789999999999996},null,"2022-07-02","","",null,null,null,null,null,0,{"$f":"IF(AH20>$AI$12,AH20-($AI$12+AI19+AI18+AI17+AI16+AI15+AI14),0)","v":0},false,false,null,0,null,0,0,0,0,0,40,0,0,0,null,0,0,0,0,0,0,40,0,null,0,40,0,0,{"$f":"SUM(E14:E20)","v":0},0,0,0,{"$f":"IF(AND(BM20=1,BL20>40,J20<=K20),J20-BO20,IF(AND(BM20=1,BL20>0,J20>K20),K20-BO20,0))","v":0}]
["Week 1 Totals",null,null,null,{"$f":"SUM(E14:E20)","v":0},{"$f":"SUM(F14:F20)","v":0},0,0,0,null,0,0,0,0,{"$f":"SUM(O14:O20)","v":0},{"$f":"-SUM(P14:P20)","v":0},{"$f":"SUM(Q14:Q20)","v":0},{"$f":"SUM(R14:R20)","v":0},{"$f":"IF(E21>40,(E21-40)-V21-BP21,0)","v":0},{"$f":"MROUND(AL21,0.25)","v":0},{"$f":"SUM(U14:U20)","v":0},{"$f":"SUM(V14:V20)","v":0},{"$f":"IF(E21-(E11-(G21+K21+F21+H21+I21+L21+M21))-(S21+U21+V21)>0,E21-(E11-(G21+K21+F21+H21+I21+L21+M21))-(S21+U21+V21),0)","v":0},null,null,null,null,null,{"$f":"SUM(F21:N21)","v":0},{"$f":"IF(AND(AG21<40,O21>=AG21),O21-(AG21+S21),IF(AND(O21<AG21,E21=O21),O21-E21,IF(AND(E21>AG21,E21<40),E21-AG21,IF(AND(O21>AG21,E21<AG21),E21-(AG21-AC21),IF(AND(O21>AG21,E21>40),E21-(AG21-AC21+S21),IF(AND(O21>AG21,O21>40),O21-(S21+AG21),0))))))","v":0},{"$f":"AD21-U21-V21","v":0},{"$f":"$W$11","v":"Please Select"},{"$f":"$E$11","v":40},null,{"$f":"IF(AH21>$AI$12,-$AI$12,0)","v":0},null,null,{"$f":"IF(AF21=\"Yes\",S21*1.5,0)","v":0},null,null,null,null,null,null,null,null,null,null,null,null,null,null,null,null,null,null,null,null,null,null,null,null,null,null,null,null,null,{"$f":"SUM(BP14:BP20)","v":0},{"$f":"E11+U21","v":40}]
[{"$f":"IF(A20=0,\"\",IF(A20<$O$7,A20+1,IF(A20=$O$7,\"\")))","v":"2022-07-03"},null,null,"Sunday",null,null,null,null,null,null,null,null,null,null,{"$f":"SUM(E22:N22)-J22","v":0},{"$f":"IF(AND(ISNUMBER(AA22),ISNUMBER(X22)),AA22*X22,\"\")","v":""},null,{"$f":"IF(AND(ISNUMBER(AB22),ISNUMBER(X22)),AB22*X22,\"\")","v":""},null,null,{"$f":"IF(BJ22>0,BJ22,BN22)","v":0},{"$f":"IF(BK22>0,BK22,0)","v":0},null,{"$f":"IF(ISNA(INDEX('Conversion Factors'!$B$6:$B$371,MATCH('July 1 - July 15'!$Z$22:$Z$28,'Conversion Factors'!$A$6:$A$371,0))),\"\",INDEX('Conversion Factors'!$B$6:$B$371,MATCH('July 1 - July 15'!$Z$22:$Z$28,'Conversion Factors'!$A$6:$A$371,0)))","v":7.8789999999999996},null,{"$f":"A22","v":"2022-07-03"},{"$f":"IF(AND(ISNUMBER(N22),ISNUMBER($Z$12)),N22/$Z$12,\"\")","v":""},{"$f":"IF(AND(ISNUMBER(Q22),ISNUMBER($Z$12)),Q22/$Z$12,\"\")","v":""},null,null,null,null,null,{"$f":"E22+AH21","v":0},{"$f":"IF(AH22>$AI$12,AH22-($AI$12+AI21),0)","v":0},{"$f":"IF(AND(AZ22>0,AZ22),IF(BA22>0,BA22,IF(BB22>0,BB22,IF(BC22>0,BC22,IF(BF22>0,BF22,\"\")))))","v":false},{"$f":"IF(AND(AO22>0,AO22),IF(AP22>0,AP22,IF(AQ22>0,AQ22,IF(AR22>0,AR22,IF(AU22>0,AU22,\"\")))))","v":false},null,{"$f":"J22","v":0},null,{"$f":"IF(G22=0,0,\"\")","v":0},{"$f":"IF(AND(AH22<=40,E22=G22),G22,0)","v":0},{"$f":"IF(AND(AH22<=40,E22>=G22,G22>0),O22-E22,0)","v":0},{"$f":"IF(AND(AH22<=40,E22<G22),O22-G22,0)","v":0},{"$f":"IF(AND(G22=0),G22,IF(AND(G22>0,AI22>0,G22=AT22),AT22,IF(AND(G22>0,AI22>0,G22-AT22),AT22,0)))","v":0},null,{"$f":"AS22","v":0},{"$f":"IF(AND(AH21+AU22=40,AI22>0,AI22>AU22),AI22-AU22,IF(AND(AH21+AU22=40,AI22>0,AI22<AU22,AU22+AI22=G22),AI22,IF(AND(AH21>40,AH22>40,G22=AI22),AI22,0)))","v":0},{"$f":"AV22","v":0},null,{"$f":"IF(AND(J22>0,AI22>0,BB22<=AI22),AI22-BB22,IF(AND(J22>0,AI22>0,BB22>AI22),J22-BB22,0))","v":0},{"$f":"IF(J22=0,0,\"\")","v":0},{"$f":"IF(AND(AH22<=40,E22=J22),J22,0)","v":0},{"$f":"IF(AND(AZ22=0),AZ22,IF(AND(AH22>40,E22>=J22),BE22,IF(AND(AH22<=40,E22>J22),J22,0)))","v":0},{"$f":"IF(AND(AH22<=40,E22<J22),O22-J22,0)","v":0},{"$f":"IF(AND(J22=0),J22,IF(AND(J22>0,AI22>0,J22=BC22),BC22,IF(AND(J22>0,AI22>0,J22-BC22),BC22,0)))","v":0},null,{"$f":"BD22","v":0},null,{"$f":"IF(AND(G22>0,E22>0),1,0)","v":0},{"$f":"40-AH22","v":40},0,{"$f":"IF(AND(BH22=1,BL22>40,E22<G22),E22-BJ22,(IF(AND(BH22=1,BL22>0,E22>=G22),G22-BJ22,0)))","v":0},{"$f":"E22","v":0},{"$f":"IF(AND(K22>0,E22>0),1,0)","v":0},{"$f":"IF(AND(BM22=1,J22>8),K22,(IF(AND(BM22=1,J22>0),J22,0)))","v":0},{"$f":"IF(AND(BM22=1,40-BL21>0,40-BL21<8),40-BL21,IF(AND(J22<K22),J22,K22))","v":0},{"$f":"IF(AND(BM22=1,BL22>40,J22<=K22),J22-BO22,IF(AND(BM22=1,BL22>0,J22>K22),K22-BO22,0))","v":0}]
[{"$f":"IF(A22<$O$7,A22+1,IF(A22=$O$7,\"\"))","v":"2022-07-04"},null,null,"Monday",null,null,null,null,null,null,null,null,null,null,{"$f":"SUM(E23:N23)-J23","v":0},{"$f":"IF(AND(ISNUMBER(AA23),ISNUMBER(X23)),AA23*X23,\"\")","v":""},null,{"$f":"IF(AND(ISNUMBER(AB23),ISNUMBER(X23)),AB23*X23,\"\")","v":""},null,null,{"$f":"IF(BJ23>0,BJ23,BN23)","v":0},{"$f":"IF(BK23>0,BK23,0)","v":0},null,{"$f":"IF(ISNA(INDEX('Conversion Factors'!$B$6:$B$371,MATCH('July 1 - July 15'!$Z$22:$Z$28,'Conversion Factors'!$A$6:$A$371,0))),\"\",INDEX('Conversion Factors'!$B$6:$B$371,MATCH('July 1 - July 15'!$Z$22:$Z$28,'Conversion Factors'!$A$6:$A$371,0)))","v":7.8789999999999996},null,"2022-07-04","","",null,null,null,null,null,0,{"$f":"IF(AH23>$AI$12,AH23-($AI$12+AI22+AI21),0)","v":0},false,{"$f":"IF(AND(AO23>0,AO23),IF(AP23>0,AP23,IF(AQ23>0,AQ23,IF(AR23>0,AR23,IF(AU23>0,AU23,0)))))","v":false},null,0,null,0,0,0,0,0,{"$f":"IF(AND(AH22<=40),40-AH22,0)","v":40},{"$f":"AS23","v":0},0,{"$f":"AV23","v":0},null,{"$f":"IF(AND(J23>0,AI23>0,BB23<=AI23),AI23-BB23,IF(AND(J23>0,AI23>0,BB23>AI23),J23-BB23,0))","v":0},0,0,0,0,0,{"$f":"IF(AND(AH22<=40),40-AH22,0)","v":40},{"$f":"BD23","v":0},null,{"$f":"IF(AND(G23>0,E23>0),1,0)","v":0},40,0,0,{"$f":"SUM(E22:E23)","v":0},{"$f":"IF(AND(K23>0,E23>0),1,0)","v":0},{"$f":"IF(AND(BM23=1,J23>8),K23,(IF(AND(BM23=1,J23>0),J23,0)))","v":0},0,0]
["2022-07-05",null,null,"Tuesday",null,null,null,null,null,null,null,null,null,null,{"$f":"SUM(E24:N24)-J24","v":0},"",null,"",null,null,{"$f":"IF(BJ24>0,BJ24,BN24)","v":0},0,null,{"$f":"IF(ISNA(INDEX('Conversion Factors'!$B$6:$B$371,MATCH('July 1 - July 15'!$Z$22:$Z$28,'Conversion Factors'!$A$6:$A$371,0))),\"\",INDEX('Conversion Factors'!$B$6:$B$371,MATCH('July 1 - July 15'!$Z$22:$Z$28,'Conversion Factors'!$A$6:$A$371,0)))","v":7.8789999999999996},null,"2022-07-05","","",null,null,null,null,null,0,{"$f":"IF(AH24>$AI$12,AH24-($AI$12+AI23+AI22+AI21),0)","v":0},false,false,null,0,null,0,0,0,0,0,40,0,0,0,null,{"$f":"IF(AND(J24>0,AI24>0,BB24<=AI24),AI24-BB24,IF(AND(J24>0,AI24>0,BB24>AI24),J24-BB24,0))","v":0},0,0,0,0,0,{"$f":"IF(AND(AH23<=40),40-AH23,0)","v":40},0,null,{"$f":"IF(AND(G24>0,E24>0),1,0)","v":0},40,0,0,{"$f":"SUM(E22:E24)","v":0},0,{"$f":"IF(AND(BM24=1,J24>8),K24,(IF(AND(BM24=1,J24>0),J24,0)))","v":0},{"$f":"IF(AND(BM24=1,40-BL23>0,40-BL23<8),40-BL23,IF(AND(J24<K24),J24,K24))","v":0},0]
["2022-07-06",null,null,"Wednesday",null,null,null,null,null,null,null,null,null,null,0,"",null,"",null,null,0,0,null,{"$f":"IF(ISNA(INDEX('Conversion Factors'!$B$6:$B$371,MATCH('July 1 - July 15'!$Z$22:$Z$28,'Conversion Factors'!$A$6:$A$371,0))),\"\",INDEX('Conversion Factors'!$B$6:$B$371,MATCH('July 1 - July 15'!$Z$22:$Z$28,'Conversion Factors'!$A$6:$A$371,0)))","v":7.8789999999999996},null,"2022-07-06","","",null,null,null,null,null,0,{"$f":"IF(AH25>$AI$12,AH25-($AI$12+AI24+AI23+AI22+AI21),0)","v":0},false,false,null,0,null,0,0,0,0,0,40,0,0,0,null,{"$f":"IF(AND(J25>0,AI25>0,BB25<=AI25),AI25-BB25,IF(AND(J25>0,AI25>0,BB25>AI25),J25-BB25,0))","v":0},0,0,0,0,0,40,0,null,0,40,0,0,{"$f":"SUM(E22:E25)","v":0},0,{"$f":"IF(AND(BM25=1,J25>8),K25,(IF(AND(BM25=1,J25>0),J25,0)))","v":0},{"$f":"IF(AND(BM25=1,40-BL24>0,40-BL24<8),40-BL24,IF(AND(J25<K25),J25,K25))","v":0},0]
["2022-07-07",null,null,"Thursday",null,null,null,null,null,null,null,null,null,null,0,"",null,"",null,null,0,0,null,{"$f":"IF(ISNA(INDEX('Conversion Factors'!$B$6:$B$371,MATCH('July 1 - July 15'!$Z$22:$Z$28,'Conversion Factors'!$A$6:$A$371,0))),\"\",INDEX('Conversion Factors'!$B$6:$B$371,MATCH('July 1 - July 15'!$Z$22:$Z$28,'Conversion Factors'!$A$6:$A$371,0)))","v":7.8789999999999996},null,"2022-07-07","","",null,null,null,null,null,0,{"$f":"IF(AH26>$AI$12,AH26-($AI$12+AI25+AI24+AI23+AI22+AI21),0)","v":0},false,false,null,0,null,0,0,0,0,0,{"$f":"IF(AND(AH25<=40),40-AH25,0)","v":40},0,0,0,null,{"$f":"IF(AND(J26>0,AI26>=J26,BB26=0),O26-AI26,IF(AND(J26>0,AI26>0,BB26<=AI26),AI26-BB26,IF(AND(J26>0,AI26>0,BB26>AI26),J26-BB26,0)))","v":0},0,0,0,0,0,40,0,null,0,40,0,0,{"$f":"SUM(E22:E26)","v":0},0,0,0,0]
["2022-07-08",null,null,"Friday",null,null,null,null,null,null,null,null,null,null,0,"",null,"",null,null,0,0,null,{"$f":"IF(ISNA(INDEX('Conversion Factors'!$B$6:$B$371,MATCH('July 1 - July 15'!$Z$22:$Z$28,'Conversion Factors'!$A$6:$A$371,0))),\"\",INDEX('Conversion Factors'!$B$6:$B$371,MATCH('July 1 - July 15'!$Z$22:$Z$28,'Conversion Factors'!$A$6:$A$371,0)))","v":7.8789999999999996},null,"2022-07-08","","",null,null,null,null,null,0,{"$f":"IF(AH27>$AI$12,AH27-($AI$12+AI26+AI25+AI24+AI23+AI22+AI21),0)","v":0},false,false,null,0,null,0,0,0,0,0,{"$f":"IF(AND(AH26<=40),40-AH26,0)","v":40},0,0,0,null,{"$f":"IF(AND(J27>0,AI27>=J27,BB27=0),O27-AI27,IF(AND(J27>0,AI27>0,BB27<=AI27),AI27-BB27,IF(AND(J27>0,AI27>0,BB27>AI27),J27-BB27,0)))","v":0},0,0,0,0,0,40,0,null,0,40,0,0,{"$f":"SUM(E22:E27)","v":0},0,0,0,{"$f":"IF(AND(BM27=1,BL27>40,J27<=K27),J27-BO27,IF(AND(BM27=1,BL27>0,J27>K27),K27-BO27,0))","v":0}]
["2022-07-09",null,null,"Saturday",null,null,null,null,null,null,null,null,null,null,{"$f":"SUM(E28:N28)-J28","v":0},"",null,"",null,null,0,0,null,{"$f":"IF(ISNA(INDEX('Conversion Factors'!$B$6:$B$371,MATCH('July 1 - July 15'!$Z$22:$Z$28,'Conversion Factors'!$A$6:$A$371,0))),\"\",INDEX('Conversion Factors'!$B$6:$B$371,MATCH('July 1 - July 15'!$Z$22:$Z$28,'Conversion Factors'!$A$6:$A$371,0)))","v":7.8789999999999996},null,"2022-07-09","","",null,null,null,null,null,0,{"$f":"IF(AH28>$AI$12,AH28-($AI$12+AI27+AI26+AI25+AI24+AI23+AI22+AI21),0)","v":0},false,false,null,0,null,0,0,0,0,0,40,0,0,0,null,{"$f":"IF(AND(J28>0,AI28>=J28,BB28=0),O28-AI28,IF(AND(J28>0,AI28>0,BB28<=AI28),AI28-BB28,IF(AND(J28>0,AI28>0,BB28>AI28),J28-BB28,0)))","v":0},0,0,0,0,0,40,0,null,0,40,0,0,{"$f":"SUM(E22:E28)","v":0},0,0,0,{"$f":"IF(AND(BM28=1,BL28>40,J28<=K28),J28-BO28,IF(AND(BM28=1,BL28>0,J28>K28),K28-BO28,0))","v":0}]
["Week 2 Totals",null,null,null,{"$f":"SUM(E22:E28)","v":0},0,0,0,0,0,0,0,0,0,{"$f":"SUM(O22:O28)","v":0},{"$f":"-SUM(P22:P28)","v":0},{"$f":"SUM(Q22:Q28)","v":0},{"$f":"SUM(R22:R28)","v":0},{"$f":"IF(E29>40,(E29-40)-V29,0)","v":0},{"$f":"MROUND(AL29,0.25)","v":0},{"$f":"SUM(U22:U28)","v":0},{"$f":"SUM(V22:V28)","v":0},{"$f":"IF(E29-(E11-(G29+K29+F29+H29+I29+L29+M29))-(S29+U29+V29)>0,E29-(E11-(G29+K29+F29+H29+I29+L29+M29))-(S29+U29+V29),0)","v":0},null,null,null,null,null,{"$f":"SUM(F29:N29)","v":0},{"$f":"IF(AND(AG29<40,O29>=AG29),O29-(AG29+S29),IF(AND(O29<AG29,E29=O29),O29-E29,IF(AND(E29>AG29,E29<40),E29-AG29,IF(AND(O29>AG29,E29<AG29),E29-(AG29-AC29),IF(AND(O29>AG29,E29>40),E29-(AG29-AC29+S29),IF(AND(O29>AG29,O29>40),O29-(S29+AG29),0))))))","v":0},{"$f":"AD29-U29-V29","v":0},{"$f":"$W$11","v":"Please Select"},{"$f":"$E$11","v":40},null,{"$f":"IF(AH29>$AI$12,-$AI$12,0)","v":0},null,null,{"$f":"IF(AF29=\"Yes\",S29*1.5,0)","v":0},null,null,null,null,null,null,null,null,null,null,null,null,null,null,null,null,null,null,null,null,null,null,null,null,null,null,null,null,null,{"$f":"SUM(BP22:BP28)","v":0},{"$f":"U29+E11","v":40}]
[{"$f":"IF(A28<$O$7,A28+1,IF(A28=$O$7,\"\"))","v":"2022-07-10"},null,null,"Sunday",null,null,null,null,null,null,null,null,null,null,{"$f":"SUM(E30:N30)-J30","v":0},{"$f":"IF(AND(ISNUMBER(AA30),ISNUMBER(X30)),AA30*X30,\"\")","v":""},null,{"$f":"IF(AND(ISNUMBER(AB30),ISNUMBER(X30)),AB30*X30,\"\")","v":""},null,null,{"$f":"IFERROR(AJ30+AK30,0)","v":0},{"$f":"IF(BK30>0,BK30,0)","v":0},null,{"$f":"IF(ISNA(INDEX('Conversion Factors'!$B$6:$B$370,MATCH('July 1 - July 15'!$Z$30:$Z$36,'Conversion Factors'!$A$6:$A$370,0))),\"\",INDEX('Conversion Factors'!$B$6:$B$370,MATCH('July 1 - July 15'!$Z$30:$Z$36,'Conversion Factors'!$A$6:$A$370,0)))","v":7.8789999999999996},null,{"$f":"A30","v":"2022-07-10"},{"$f":"IF(AND(ISNUMBER(N30),ISNUMBER($Z$12)),N30/$Z$12,\"\")","v":""},{"$f":"IF(AND(ISNUMBER(Q30),ISNUMBER($Z$12)),Q30/$Z$12,\"\")","v":""},null,null,null,null,null,{"$f":"E30+AH29","v":0},{"$f":"IF(AH30>$AI$12,AH30-($AI$12+AI29),0)","v":0},{"$f":"IF(AND(AZ30>0,AZ30),IF(BA30>0,BA30,IF(BB30>0,BB30,IF(BC30>0,BC30,IF(BF30>0,BF30,\"\")))))","v":false},{"$f":"IF(AND(AO30>0,AO30),IF(AP30>0,AP30,IF(AQ30>0,AQ30,IF(AR30>0,AR30,IF(AU30>0,AU30,\"\")))))","v":false},null,{"$f":"J30","v":0},null,{"$f":"IF(G30=0,0,\"\")","v":0},{"$f":"IF(AND(AH30<=40,E30=G30),G30,0)","v":0},{"$f":"IF(AND(AH30<=40,E30>=G30,G30>0),O30-E30,0)","v":0},{"$f":"IF(AND(AH30<=40,E30<G30),O30-G30,0)","v":0},{"$f":"IF(AND(G30=0),G30,IF(AND(G30>0,AI30>0,G30=AT30),AT30,IF(AND(G30>0,AI30>0,G30-AT30),AT30,0)))","v":0},null,{"$f":"AS30","v":0},{"$f":"IF(AND(AH29+AU30=40,AI30>0,AI30>AU30),AI30-AU30,IF(AND(AH29+AU30=40,AI30>0,AI30<AU30,AU30+AI30=G30),AI30,IF(AND(AH29>40,AH30>40,G30=AI30),AI30,0)))","v":0},{"$f":"AV30","v":0},null,{"$f":"IF(AND(J30>0,AI30>=J30,BB30=0),O30-AI30,IF(AND(J30>0,AI30>0,BB30<=AI30),AI30-BB30,IF(AND(J30>0,AI30>0,BB30>AI30),J30-BB30,0)))","v":0},{"$f":"IF(J30=0,0,\"\")","v":0},{"$f":"IF(AND(AH30<=40,E30=J30),J30,0)","v":0},{"$f":"IF(AND(AZ30=0),AZ30,IF(AND(AH30>40,E30>=J30),BE30,IF(AND(AH30<=40,E30>J30),J30,0)))","v":0},{"$f":"IF(AND(AH30<=40,E30<J30),O30-J30,0)","v":0},{"$f":"IF(AND(J30=0),J30,IF(AND(J30>0,AI30>0,J30=BC30),BC30,IF(AND(J30>0,AI30>0,J30-BC30),BC30,0)))","v":0},null,{"$f":"BD30","v":0},null,{"$f":"IF(AND(G30>0,E30>0),1,0)","v":0},{"$f":"40-AH30","v":40},0,{"$f":"IF(AND(BH30=1,BL30>40,E30<G30),E30-BJ30,(IF(AND(BH30=1,BL30>0,E30>=G30),G30-BJ30,0)))","v":0},{"$f":"E30","v":0},{"$f":"IF(AND(K30>0,E30>0),1,0)","v":0},{"$f":"IF(AND(BM30=1,J30>8),K30,(IF(AND(BM30=1,J30>0),J30,0)))","v":0},{"$f":"IF(AND(BM30=1,40-BL29>0,40-BL29<8),40-BL29,IF(AND(J30<K30),J30,K30))","v":0},{"$f":"IF(AND(BM30=1,BL30>40,J30<=K30),J30-BO30,IF(AND(BM30=1,BL30>0,J30>K30),K30-BO30,0))","v":0}]
[{"$f":"IF(A30<$O$7,A30+1,IF(A30=$O$7,\"\"))","v":"2022-07-11"},null,null,"Monday",null,null,null,null,null,null,null,null,null,null,0,{"$f":"IF(AND(ISNUMBER(AA31),ISNUMBER(X31)),AA31*X31,\"\")","v":""},null,{"$f":"IF(AND(ISNUMBER(AB31),ISNUMBER(X31)),AB31*X31,\"\")","v":""},null,null,{"$f":"IF(BJ31>0,BJ31,BN31)","v":0},{"$f":"IF(BK31>0,BK31,0)","v":0},null,{"$f":"IF(ISNA(INDEX('Conversion Factors'!$B$6:$B$370,MATCH('July 1 - July 15'!$Z$30:$Z$36,'Conversion Factors'!$A$6:$A$370,0))),\"\",INDEX('Conversion Factors'!$B$6:$B$370,MATCH('July 1 - July 15'!$Z$30:$Z$36,'Conversion Factors'!$A$6:$A$370,0)))","v":7.8789999999999996},null,"2022-07-11","","",null,null,null,null,null,0,{"$f":"IF(AH31>$AI$12,AH31-($AI$12+AI30+AI29),0)","v":0},false,{"$f":"IF(AND(AO31>0,AO31),IF(AP31>0,AP31,IF(AQ31>0,AQ31,IF(AR31>0,AR31,IF(AU31>0,AU31,0)))))","v":false},null,0,null,0,0,0,0,0,{"$f":"IF(AND(AH30<=40),40-AH30,0)","v":40},{"$f":"AS31","v":0},0,{"$f":"AV31","v":0},null,0,0,0,0,0,0,{"$f":"IF(AND(AH30<=40),40-AH30,0)","v":40},{"$f":"BD31","v":0},null,{"$f":"IF(AND(G31>0,E31>0),1,0)","v":0},40,0,0,{"$f":"SUM(E30:E31)","v":0},{"$f":"IF(AND(K31>0,E31>0),1,0)","v":0},{"$f":"IF(AND(BM31=1,J31>8),K31,(IF(AND(BM31=1,J31>0),J31,0)))","v":0},0,0]
["2022-07-12",null,null,"Tuesday",null,null,null,null,null,null,null,null,null,null,0,"",null,"",null,null,0,0,null,{"$f":"IF(ISNA(INDEX('Conversion Factors'!$B$6:$B$370,MATCH('July 1 - July 15'!$Z$30:$Z$36,'Conversion Factors'!$A$6:$A$370,0))),\"\",INDEX('Conversion Factors'!$B$6:$B$370,MATCH('July 1 - July 15'!$Z$30:$Z$36,'Conversion Factors'!$A$6:$A$370,0)))","v":7.8789999999999996},null,"2022-07-12","","",null,null,null,null,null,0,{"$f":"IF(AH32>$AI$12,AH32-($AI$12+AI31+AI30+AI29),0)","v":0},false,false,null,0,null,0,0,0,0,0,40,0,0,0,null,0,0,0,0,0,0,{"$f":"IF(AND(AH31<=40),40-AH31,0)","v":40},0,null,{"$f":"IF(AND(G32>0,E32>0),1,0)","v":0},40,0,0,{"$f":"SUM(E30:E32)","v":0},0,{"$f":"IF(AND(BM32=1,J32>8),K32,(IF(AND(BM32=1,J32>0),J32,0)))","v":0},{"$f":"IF(AND(BM32=1,40-BL31>0,40-BL31<8),40-BL31,IF(AND(J32<K32),J32,K32))","v":0},0]
["2022-07-13",null,null,"Wednesday",null,null,null,null,null,null,null,null,null,null,0,"",null,"",null,null,0,0,null,{"$f":"IF(ISNA(INDEX('Conversion Factors'!$B$6:$B$370,MATCH('July 1 - July 15'!$Z$30:$Z$36,'Conversion Factors'!$A$6:$A$370,0))),\"\",INDEX('Conversion Factors'!$B$6:$B$370,MATCH('July 1 - July 15'!$Z$30:$Z$36,'Conversion Factors'!$A$6:$A$370,0)))","v":7.8789999999999996},null,"2022-07-13","","",null,null,null,null,null,0,{"$f":"IF(AH33>$AI$12,AH33-($AI$12+AI32+AI31+AI30+AI29),0)","v":0},false,false,null,0,null,0,0,0,0,0,40,0,0,0,null,0,0,0,0,0,0,40,0,null,{"$f":"IF(AND(G33>0,E33>0),1,0)","v":0},40,0,0,{"$f":"SUM(E30:E33)","v":0},0,{"$f":"IF(AND(BM33=1,J33>8),K33,(IF(AND(BM33=1,J33>0),J33,0)))","v":0},{"$f":"IF(AND(BM33=1,40-BL32>0,40-BL32<8),40-BL32,IF(AND(J33<K33),J33,K33))","v":0},0]
["2022-07-14",null,null,"Thursday",null,null,null,null,null,null,null,null,null,null,0,"",null,"",null,null,0,0,null,{"$f":"IF(ISNA(INDEX('Conversion Factors'!$B$6:$B$370,MATCH('July 1 - July 15'!$Z$30:$Z$36,'Conversion Factors'!$A$6:$A$370,0))),\"\",INDEX('Conversion Factors'!$B$6:$B$370,MATCH('July 1 - July 15'!$Z$30:$Z$36,'Conversion Factors'!$A$6:$A$370,0)))","v":7.8789999999999996},null,"2022-07-14","","",null,null,null,null,null,0,{"$f":"IF(AH34>$AI$12,AH34-($AI$12+AI33+AI32+AI31+AI30+AI29),0)","v":0},false,false,null,0,null,0,0,0,0,0,{"$f":"IF(AND(AH33<=40),40-AH33,0)","v":40},0,0,0,null,0,0,0,0,0,0,40,0,null,0,40,0,0,{"$f":"SUM(E30:E34)","v":0},0,0,0,0]
["2022-07-15",null,null,"Friday",null,null,null,null,null,null,null,null,null,null,0,"",null,"",null,null,0,0,null,{"$f":"IF(ISNA(INDEX('Conversion Factors'!$B$6:$B$370,MATCH('July 1 - July 15'!$Z$30:$Z$36,'Conversion Factors'!$A$6:$A$370,0))),\"\",INDEX('Conversion Factors'!$B$6:$B$370,MATCH('July 1 - July 15'!$Z$30:$Z$36,'Conversion Factors'!$A$6:$A$370,0)))","v":7.8789999999999996},null,"2022-07-15","","",null,null,null,null,null,0,{"$f":"IF(AH35>$AI$12,AH35-($AI$12+AI34+AI33+AI32+AI31+AI30+AI29),0)","v":0},false,false,null,0,null,0,0,0,0,0,{"$f":"IF(AND(AH34<=40),40-AH34,0)","v":40},0,0,0,null,0,0,0,0,0,0,40,0,null,0,40,0,0,{"$f":"SUM(E30:E35)","v":0},0,0,0,{"$f":"IF(AND(BM35=1,BL35>40,J35<=K35),J35-BO35,IF(AND(BM35=1,BL35>0,J35>K35),K35-BO35,0))","v":0}]
["",null,null,"Saturday",null,null,null,null,null,null,null,null,null,null,0,"",null,"",null,null,0,0,null,{"$f":"IF(ISNA(INDEX('Conversion Factors'!$B$6:$B$370,MATCH('July 1 - July 15'!$Z$30:$Z$36,'Conversion Factors'!$A$6:$A$370,0))),\"\",INDEX('Conversion Factors'!$B$6:$B$370,MATCH('July 1 - July 15'!$Z$30:$Z$36,'Conversion Factors'!$A$6:$A$370,0)))","v":""},null,"","","",null,null,null,null,null,0,{"$f":"IF(AH36>$AI$12,AH36-($AI$12+AI35+AI34+AI33+AI32+AI31+AI30+AI29),0)","v":0},false,false,null,0,null,0,0,0,0,0,40,0,0,0,null,0,0,0,0,0,0,40,0,null,0,40,0,0,{"$f":"SUM(E30:E36)","v":0},0,0,0,{"$f":"IF(AND(BM36=1,BL36>40,J36<=K36),J36-BO36,IF(AND(BM36=1,BL36>0,J36>K36),K36-BO36,0))","v":0}]
["Week 3 Totals",null,null,null,{"$f":"SUM(E30:E36)","v":0},0,0,0,0,null,0,0,0,0,{"$f":"SUM(O30:O36)","v":0},{"$f":"-SUM(P30:P36)","v":0},{"$f":"SUM(Q30:Q36)","v":0},{"$f":"SUM(R30:R36)","v":0},{"$f":"IF(E37>40,(E37-40)-V37,0)","v":0},{"$f":"MROUND(AL37,0.25)","v":0},{"$f":"SUM(U30:U36)","v":0},{"$f":"SUM(V30:V36)","v":0},{"$f":"IF(E37-(E11-(G37+K37+F37+H37+I37+L37+M3))-(S37+U37+V37)>0,E37-(E11-(G37+K37+F37+H37+I37+L37+M37))-(S37+U37+V37),0)","v":0},null,null,null,null,null,{"$f":"SUM(F37:N37)","v":0},{"$f":"IF(AND(AG37<40,O37>=AG37),O37-(AG37+S37),IF(AND(O37<AG37,E37=O37),O37-E37,IF(AND(E37>AG37,E37<40),E37-AG37,IF(AND(O37>AG37,E37<AG37),E37-(AG37-AC37),IF(AND(O37>AG37,E37>40),E37-(AG37-AC37+S37),IF(AND(O37>AG37,O37>40),O37-(S37+AG37),0))))))","v":0},{"$f":"AD37-U37-V37","v":0},{"$f":"$W$11","v":"Please Select"},{"$f":"$E$11","v":40},null,{"$f":"IF(AH37>$AI$12,-$AI$12,0)","v":0},null,null,{"$f":"IF(AF37=\"Yes\",S37*1.5,0)","v":0},null,null,null,null,null,null,null,null,null,null,null,null,null,null,null,null,null,null,null,null,null,0,null,null,null,null,null,null,null,{"$f":"SUM(BP30:BP36)","v":0},{"$f":"U37+E11","v":40}]
[{"$f":"IF(A36<$O$7,A36+1,IF(A36=$O$7,\"\"))","v":false},null,null,"Sunday",null,null,null,null,null,null,null,null,null,null,{"$f":"SUM(E38:N38)-J38","v":0},{"$f":"IF(AND(ISNUMBER(AA38),ISNUMBER(X38)),AA38*X38,\"\")","v":""},null,{"$f":"IF(AND(ISNUMBER(AB38),ISNUMBER(X38)),AB38*X38,\"\")","v":""},null,null,0,{"$f":"IF(BK38>0,BK38,0)","v":0},null,{"$f":"IF(ISNA(INDEX('Conversion Factors'!$B$6:$B$370,MATCH('July 1 - July 15'!$Z$38:$Z$44,'Conversion Factors'!$A$6:$A$370,0))),\"\",INDEX('Conversion Factors'!$B$6:$B$370,MATCH('July 1 - July 15'!$Z$38:$Z$44,'Conversion Factors'!$A$6:$A$370,0)))","v":""},null,{"$f":"A38","v":false},{"$f":"IF(AND(ISNUMBER(N38),ISNUMBER($Z$12)),N38/$Z$12,\"\")","v":""},{"$f":"IF(AND(ISNUMBER(Q38),ISNUMBER($Z$12)),Q38/$Z$12,\"\")","v":""},null,null,null,null,null,{"$f":"E38+AH37","v":0},{"$f":"IF(AH38>$AI$12,AH38-($AI$12+AI37),0)","v":0},{"$f":"IF(AND(AZ38>0,AZ38),IF(BA38>0,BA38,IF(BB38>0,BB38,IF(BC38>0,BC38,IF(BF38>0,BF38,\"\")))))","v":false},{"$f":"IF(AND(AO38>0,AO38),IF(AP38>0,AP38,IF(AQ38>0,AQ38,IF(AR38>0,AR38,IF(AU38>0,AU38,\"\")))))","v":false},null,{"$f":"J38","v":0},null,{"$f":"IF(G38=0,0,\"\")","v":0},{"$f":"IF(AND(AH38<=40,E38=G38),G38,0)","v":0},{"$f":"IF(AND(AH38<=40,E38>=G38,G38>0),O38-E38,0)","v":0},{"$f":"IF(AND(AH38<=40,E38<G38),O38-G38,0)","v":0},{"$f":"IF(AND(G38=0),G38,IF(AND(G38>0,AI38>0,G38=AT38),AT38,IF(AND(G38>0,AI38>0,G38-AT38),AT38,0)))","v":0},null,{"$f":"AS38","v":0},{"$f":"IF(AND(AH37+AU38=40,AI38>0,AI38>AU38),AI38-AU38,IF(AND(AH37+AU38=40,AI38>0,AI38<AU38,AU38+AI38=G38),AI38,IF(AND(AH37>40,AH38>40,G38=AI38),AI38,0)))","v":0},{"$f":"AV38","v":0},null,{"$f":"IF(AND(J38>0,AI38>=J38,BB38=0),O38-AI38,IF(AND(J38>0,AI38>0,BB38<=AI38),AI38-BB38,IF(AND(J38>0,AI38>0,BB38>AI38),J38-BB38,0)))","v":0},{"$f":"IF(J38=0,0,\"\")","v":0},{"$f":"IF(AND(AH38<=40,E38=J38),J38,0)","v":0},{"$f":"IF(AND(AZ38=0),AZ38,IF(AND(AH38>40,E38>=J38),BE38,IF(AND(AH38<=40,E38>J38),J38,0)))","v":0},{"$f":"IF(AND(AH38<=40,E38<J38),O38-J38,0)","v":0},{"$f":"IF(AND(J38=0),J38,IF(AND(J38>0,AI38>0,J38=BC38),BC38,IF(AND(J38>0,AI38>0,J38-BC38),BC38,0)))","v":0},null,{"$f":"BD38","v":0},null,{"$f":"IF(AND(G38>0,E38>0),1,0)","v":0},{"$f":"40-AH38","v":40},0,{"$f":"IF(AND(BH38=1,BL38>40,E38<G38),E38-BJ38,(IF(AND(BH38=1,BL38>0,E38>=G38),G38-BJ38,0)))","v":0},{"$f":"E38","v":0},{"$f":"IF(AND(K38>0,E38>0),1,0)","v":0},{"$f":"IF(AND(BM38=1,J38>8),K38,(IF(AND(BM38=1,J38>0),J38,0)))","v":0},{"$f":"IF(AND(BM38=1,40-BL37>0,40-BL37<8),40-BL37,IF(AND(J38<K38),J38,K38))","v":0},{"$f":"IF(AND(BM38=1,BL38>40,J38<=K38),J38-BO38,IF(AND(BM38=1,BL38>0,J38>K38),K38-BO38,0))","v":0}]
[{"$f":"IF(A38<$O$7,A38+1,IF(A38=$O$7,\"\"))","v":false},null,null,"Monday",null,null,null,0,null,null,null,null,null,null,{"$f":"SUM(E39:N39)-J39","v":0},{"$f":"IF(AND(ISNUMBER(AA39),ISNUMBER(X39)),AA39*X39,\"\")","v":""},null,{"$f":"IF(AND(ISNUMBER(AB39),ISNUMBER(X39)),AB39*X39,\"\")","v":""},null,null,0,{"$f":"IF(BK39>0,BK39,0)","v":0},null,{"$f":"IF(ISNA(INDEX('Conversion Factors'!$B$6:$B$370,MATCH('July 1 - July 15'!$Z$38:$Z$44,'Conversion Factors'!$A$6:$A$370,0))),\"\",INDEX('Conversion Factors'!$B$6:$B$370,MATCH('July 1 - July 15'!$Z$38:$Z$44,'Conversion Factors'!$A$6:$A$370,0)))","v":""},null,false,"","",null,null,null,null,null,0,{"$f":"IF(AH39>$AI$12,AH39-($AI$12+AI38+AI37),0)","v":0},false,{"$f":"IF(AND(AO39>0,AO39),IF(AP39>0,AP39,IF(AQ39>0,AQ39,IF(AR39>0,AR39,IF(AU39>0,AU39,0)))))","v":false},null,0,null,0,0,0,0,0,{"$f":"IF(AND(AH38<=40),40-AH38,0)","v":40},{"$f":"AS39","v":0},0,{"$f":"AV39","v":0},null,0,0,0,0,0,0,{"$f":"IF(AND(AH38<=40),40-AH38,0)","v":40},{"$f":"BD39","v":0},null,{"$f":"IF(AND(G39>0,E39>0),1,0)","v":0},40,0,0,{"$f":"SUM(E38:E39)","v":0},{"$f":"IF(AND(K39>0,E39>0),1,0)","v":0},{"$f":"IF(AND(BM39=1,J39>8),K39,(IF(AND(BM39=1,J39>0),J39,0)))","v":0},0,0]
[false,null,null,"Tuesday",null,null,null,null,null,0,0,null,null,null,{"$f":"SUM(E40:N40)-J40","v":0},"",null,"",null,null,0,0,null,{"$f":"IF(ISNA(INDEX('Conversion Factors'!$B$6:$B$370,MATCH('July 1 - July 15'!$Z$38:$Z$44,'Conversion Factors'!$A$6:$A$370,0))),\"\",INDEX('Conversion Factors'!$B$6:$B$370,MATCH('July 1 - July 15'!$Z$38:$Z$44,'Conversion Factors'!$A$6:$A$370,0)))","v":""},null,false,"","",null,null,null,null,null,0,{"$f":"IF(AH40>$AI$12,AH40-($AI$12+AI39+AI38+AI37),0)","v":0},false,false,null,0,null,0,0,0,0,0,40,0,0,0,null,0,0,0,0,0,0,{"$f":"IF(AND(AH39<=40),40-AH39,0)","v":40},0,null,{"$f":"IF(AND(G40>0,E40>0),1,0)","v":0},40,0,0,{"$f":"SUM(E38:E40)","v":0},0,{"$f":"IF(AND(BM40=1,J40>8),K40,(IF(AND(BM40=1,J40>0),J40,0)))","v":0},{"$f":"IF(AND(BM40=1,40-BL39>0,40-BL39<8),40-BL39,IF(AND(J40<K40),J40,K40))","v":0},0]
[false,null,null,"Wednesday",null,null,null,null,null,null,null,null,null,null,0,"",null,"",null,null,0,0,null,{"$f":"IF(ISNA(INDEX('Conversion Factors'!$B$6:$B$370,MATCH('July 1 - July 15'!$Z$38:$Z$44,'Conversion Factors'!$A$6:$A$370,0))),\"\",INDEX('Conversion Factors'!$B$6:$B$370,MATCH('July 1 - July 15'!$Z$38:$Z$44,'Conversion Factors'!$A$6:$A$370,0)))","v":""},null,false,"","",null,null,null,null,null,0,{"$f":"IF(AH41>$AI$12,AH41-($AI$12+AI40+AI39+AI38+AI37),0)","v":0},false,false,null,0,null,0,0,0,0,0,40,0,0,0,null,0,0,0,0,0,0,40,0,null,{"$f":"IF(AND(G41>0,E41>0),1,0)","v":0},40,0,0,{"$f":"SUM(E38:E41)","v":0},0,{"$f":"IF(AND(BM41=1,J41>8),K41,(IF(AND(BM41=1,J41>0),J41,0)))","v":0},{"$f":"IF(AND(BM41=1,40-BL40>0,40-BL40<8),40-BL40,IF(AND(J41<K41),J41,K41))","v":0},0]
[false,null,null,"Thursday",null,null,null,null,null,null,null,null,null,null,0,"",null,"",null,null,0,0,null,{"$f":"IF(ISNA(INDEX('Conversion Factors'!$B$6:$B$370,MATCH('July 1 - July 15'!$Z$38:$Z$44,'Conversion Factors'!$A$6:$A$370,0))),\"\",INDEX('Conversion Factors'!$B$6:$B$370,MATCH('July 1 - July 15'!$Z$38:$Z$44,'Conversion Factors'!$A$6:$A$370,0)))","v":""},null,false,"","",null,null,null,null,null,0,{"$f":"IF(AH42>$AI$12,AH42-($AI$12+AI41+AI40+AI39+AI38+AI37),0)","v":0},false,false,null,0,null,0,0,0,0,0,{"$f":"IF(AND(AH41<=40),40-AH41,0)","v":40},0,0,0,null,0,0,0,0,0,0,40,0,null,0,40,0,0,{"$f":"SUM(E38:E42)","v":0},0,0,0,0]
[false,null,null,"Friday",null,null,null,null,null,null,null,null,null,null,0,"",null,"",null,null,0,0,null,{"$f":"IF(ISNA(INDEX('Conversion Factors'!$B$6:$B$370,MATCH('July 1 - July 15'!$Z$38:$Z$44,'Conversion Factors'!$A$6:$A$370,0))),\"\",INDEX('Conversion Factors'!$B$6:$B$370,MATCH('July 1 - July 15'!$Z$38:$Z$44,'Conversion Factors'!$A$6:$A$370,0)))","v":""},null,false,"","",null,null,null,null,null,0,{"$f":"IF(AH43>$AI$12,AH43-($AI$12+AI42+AI41+AI40+AI39+AI38+AI37),0)","v":0},false,false,null,0,null,0,0,0,0,0,{"$f":"IF(AND(AH42<=40),40-AH42,0)","v":40},0,0,0,null,0,0,0,0,0,0,40,0,null,0,40,0,0,{"$f":"SUM(E38:E43)","v":0},0,0,0,{"$f":"IF(AND(BM43=1,BL43>40,J43<=K43),J43-BO43,IF(AND(BM43=1,BL43>0,J43>K43),K43-BO43,0))","v":0}]
[false,null,null,"Saturday",null,null,null,null,null,null,null,null,null,null,{"$f":"SUM(E44:N44)-J44","v":0},"",null,"",null,null,0,0,null,{"$f":"IF(ISNA(INDEX('Conversion Factors'!$B$6:$B$370,MATCH('July 1 - July 15'!$Z$38:$Z$44,'Conversion Factors'!$A$6:$A$370,0))),\"\",INDEX('Conversion Factors'!$B$6:$B$370,MATCH('July 1 - July 15'!$Z$38:$Z$44,'Conversion Factors'!$A$6:$A$370,0)))","v":""},null,false,"","",null,null,null,null,null,0,{"$f":"IF(AH44>$AI$12,AH44-($AI$12+AI43+AI42+AI41+AI40+AI39+AI38+AI37),0)","v":0},false,false,null,0,null,0,0,0,0,0,40,0,0,0,null,0,0,0,0,0,0,40,0,null,0,40,0,0,{"$f":"SUM(E38:E44)","v":0},0,0,0,{"$f":"IF(AND(BM44=1,BL44>40,J44<=K44),J44-BO44,IF(AND(BM44=1,BL44>0,J44>K44),K44-BO44,0))","v":0}]
["Week 4 Totals",null,null,null,{"$f":"SUM(E38:E44)","v":0},{"$f":"SUM(F38:F44)","v":0},0,0,0,null,0,0,0,0,{"$f":"SUM(O38:O44)","v":0},{"$f":"-SUM(P38:P44)","v":0},{"$f":"SUM(Q38:Q44)","v":0},{"$f":"SUM(R38:R44)","v":0},{"$f":"IF(E45>40,(E45-40)-V45,0)","v":0},{"$f":"MROUND(AL45,0.25)","v":0},{"$f":"SUM(U38:U44)","v":0},{"$f":"SUM(V38:V44)","v":0},{"$f":"IF(E45-(E11-(G45+K45+F45+H45+I45+L45+M45))-(S45+U45+V45)>0,E45-(E11-(G45+K45+F45+H45+I45+L45+M45))-(S45+U45+V45),0)","v":0},null,null,null,null,null,{"$f":"SUM(F45:N45)","v":0},{"$f":"IF(AND(AG45<40,O45>=AG45),O45-(AG45+S45),IF(AND(O45<AG45,E45=O45),O45-E45,IF(AND(E45>AG45,E45<40),E45-AG45,IF(AND(O45>AG45,E45<AG45),E45-(AG45-AC45),IF(AND(O45>AG45,E45>40),E45-(AG45-AC45+S45),IF(AND(O45>AG45,O45>40),O45-(S45+AG45),0))))))","v":0},{"$f":"AD45-U45-V45","v":0},{"$f":"$W$11","v":"Please Select"},{"$f":"$E$11","v":40},null,{"$f":"IF(AH45>$AI$12,-$AI$12,0)","v":0},null,null,{"$f":"IF(AF45=\"Yes\",S45*1.5,0)","v":0},null,null,null,null,null,null,null,null,null,null,null,null,null,null,null,null,null,null,null,null,null,null,null,null,null,null,null,null,null,{"$f":"SUM(BP38:BP44)","v":0},{"$f":"E44+E11","v":40}]
[null,null,null,null,null,null,null,null,"Total-Net Previous Week",null,null,null,null,null,{"$f":"(O21+O29+O37+O45)-O13","v":0},{"$f":"(P21+P29+P37+P45)-P13","v":0},0,0,0,0,0,0,0,0]
[]
[null,null,null,null,null,null,null,null,null,null,null,null,null,null,"Leave/Leave Without Pay Policy"]
["Employee signature",null,null,null,null,null,"Date",null,null,null,null,null,null,null,"Overtime/Compensatory Time"]
["I certify this record is accurate and accounts for my time during the indicated period.",null,null,null,null,null,null,null,null,null,null,null,null,null,"Time Sheet Definitions/Policies"]
[]
[null,null,null,null,null,null,null,null,null,null,"“Actual Work Hours During Administrative Close Period” – Only key the hours actually worked during the admministrative closing period into this field. "]
[]
["Manager signature",null,null,null,null,null,"Date"]
["I certify the hours recorded and coded on this form are correct and in compliance with University policy.",null,null,null,null,null,null,null,null,null,"“Administrative Closing/Leave Period field.”  Entter the number of hours of the declared period of administrative closing. (The total hours worked during the entire day will be entered into the “Actual Hours Worked” field.)"]

{"sheet":"July 16 - July 31","index":8,"n_rows":55,"n_cols":69,"rows_kept":55,"cut":false,"hidden":false,"merged":[[47,14,47,22],[48,14,48,19],[49,14,49,22],[51,10,53,22],[54,10,56,22],[45,8,45,13],[34,0,34,2],[35,0,35,2],[36,0,36,2],[37,0,37,2],[38,0,38,2],[39,0,39,2],[40,0,40,2],[41,0,41,2],[42,0,42,2],[43,0,43,2],[44,0,44,2],[33,0,33,2],[22,0,22,2],[23,0,23,2],[24,0,24,2],[25,0,25,2],[26,0,26,2],[27,0,27,2],[28,0,28,2],[29,0,29,2],[30,0,30,2],[31,0,31,2],[32,0,32,2],[21,0,21,2],[11,0,11,2],[11,29,11,30],[12,0,12,3],[13,0,13,2],[14,0,14,2],[15,0,15,2],[16,0,16,2],[17,0,17,2],[18,0,18,2],[19,0,19,2],[20,0,20,2],[10,40,10,46],[6,2,6,7],[6,8,6,13],[6,14,6,19],[7,2,7,7],[7,8,7,13],[7,14,7,19],[10,0,10,3],[10,4,10,5],[10,6,10,17],[10,18,10,21],[10,22,10,23],[0,0,0,22],[1,0,1,22],[3,0,3,23],[5,2,5,7],[5,8,5,13],[5,14,5,19]]}
["Mississippi State University"]
["Non-Exempt Employee Semi-Monthly Time Report"]
[]
["Instructions:  The Fair Labor Standards Act requires that a record of hours worked on a weekly basis be maintained for all employees except executive, administrative, managerial, faculty, and professional (non-faculty).  Department/unit heads are responsible for compiling and maintaining this record in department files on each covered employee for a period of at least (3) years."]
[]
["MSU ID #:",null,{"$f":"'July 1 - July 15'!C6","v":0},null,null,null,null,null,"Pay period start date:",null,null,null,null,null,{"$f":"'Dates & Notes'!$A$3","v":"2022-07-16"},null,null,null,null,null,null,null,null,null,null,{"$f":"TEXT(O6,\"dddd\")","v":"Saturday"},null,null,null,"Please Select"]
["Name:",null,{"$f":"'July 1 - July 15'!C7","v":0},null,null,null,null,null,"Pay period end date:",null,null,null,null,null,{"$f":"'Dates & Notes'!$B$3","v":"2022-07-31"},null,null,null,null,null,null,null,null,null,null,null,null,null,null,"No"]
["Department:",null,{"$f":"'July 1 - July 15'!C8","v":0},null,null,null,null,null,"Pay Period Number:",null,null,null,null,null,{"$f":"'Dates & Notes'!$C$3","v":14},null,null,null,null,null,null,null,null,null,null,null,null,null,null,"Yes"]
[]
[]
["Employee Scheduled Hours Per Week",null,null,null,40,null,"FIELDS MUST BE ENTERED FOR CALULATIONS TO WORK PROPERLY",null,null,null,null,null,null,null,null,null,null,null,"Receive Compensatory Time",null,null,null,"Please Select",null,null,null,null,null,null,null,null,null,null,null,"Over 40",null,null,null,null,null,"HOW ANALYSIS"]
["Work Week Dates",null,null,"Day of The Week","Actual Hours Worked","Compensatory Time Used","Holiday","Medical Leave","Personal Leave","Actual Wrk Hrs During  Admin Close Period","Administrative Closing/Leave Period","Jury Duty","Military Leave","Leave Without Pay","Totals","DOC-Payroll Conversion","RTO","RTO-Payroll Conversion","Overtime Hours","Hours Transferred to Comp. Record","HOW-Holiday Pay or Admin/Leave Closing","HOT-Holiday Pay","SST-Payroll","Conversion Factor",null,8,"DOC","RTO",null,"SST",null,null,null,"Cumm Actual HRS",40,"Administrative Leave","HOW-Holiday Pay","Comp. Time","Administrative/Schedule",null,"Holiday=0\n1",2,3,4,null,"<=40\n5",null,"HOT Workup","HOT-Holiday Pay (HOLIDAY PAY)",null,"HOT-Administrative HRS","Administrative=0\n1",2,3,4,null,"<=40\n5",null,null,"Holiday Flag","Up to 40","How","Hot","Actual Hours Worked","Admin Flag","Admin","Admin HOW","Admin OVT"]
["Hours-Previous WK (Due to Split WK)",null,null,null,{"$f":"SUM(E14:E19)","v":0},0,0,0,0,0,0,0,0,0,{"$f":"SUM(E13:N13)-J13","v":0},null,null,null,null,null,null,null,null,null,null,null,null,null,null,null,null,null,null,null,null,{"$f":"IF(AND(AM13=0,J13=0),AM13,IF(AND(E13>AM13,J13=0),J13,IF(AND(J13<AM13,AI13=0),J13,IF(AND(AM13=J13,AI13<AM13),AM13-AI13,IF(AND(J13=AM13,AI13=AM13),AI13,IF(AND(J13<AM13,AI13>0),AM13-J13,IF(AND(AM13>J13,AI13<E13),E13-AI13,IF(AND(E13>AM13,AI13=E13),O13-AI13,0))))))))","v":0},{"$f":"IF(AND(G13=0,E13>G13),G13,IF(AND(E13>G13,AI13=0),G13,IF(AND(E13<G13,AI13=0),E13,IF(AND(E13=G13,AI13<G13),G13-AI13,IF(AND(E13=G13,AI13=G13),AI13,IF(AND(E13<G13,AI13>0),G13-E13,IF(AND(E13>G13,AI13<E13),E13-AI13,IF(AND(E13>G13,AI13=E13),O13-AI13,0))))))))","v":0},null,{"$f":"K13","v":0}]
[{"$f":"IF(EXACT(D14,$Z$6)=TRUE,$O$6,IF(A12=0,\"\",IF(A12<$O$7,A12+1,IF(A12=$O$7,\"\"))))","v":false},null,null,"Sunday",{"$f":"'July 1 - July 15'!E30","v":0},{"$f":"'July 1 - July 15'!F30","v":0},{"$f":"'July 1 - July 15'!G30","v":0},{"$f":"'July 1 - July 15'!H30","v":0},{"$f":"'July 1 - July 15'!I30","v":0},{"$f":"'July 1 - July 15'!J30","v":0},{"$f":"'July 1 - July 15'!K30","v":0},{"$f":"'July 1 - July 15'!L30","v":0},{"$f":"'July 1 - July 15'!M30","v":0},{"$f":"'July 1 - July 15'!N30","v":0},{"$f":"SUM(E14:N14)-J14","v":0},{"$f":"IF(AND(ISNUMBER(AA14),ISNUMBER(X14)),AA14*X14,\"\")","v":""},null,{"$f":"IF(AND(ISNUMBER(AB14),ISNUMBER(X14)),AB14*X14,\"\")","v":""},null,null,{"$f":"IF(BJ14>0,BJ14,BN14)","v":0},{"$f":"IF(BK14>0,BK14,0)","v":0},null,{"$f":"IF(ISNA(INDEX('Conversion Factors'!$B$6:$B$371,MATCH('July 16 - July 31'!$Z$14:$Z$20,'Conversion Factors'!$A$6:$A$371,0))),\"\",INDEX('Conversion Factors'!$B$6:$B$371,MATCH('July 16 - July 31'!$Z$14:$Z$20,'Conversion Factors'!$A$6:$A$371,0)))","v":""},null,{"$f":"A14","v":false},{"$f":"IF(AND(ISNUMBER(N14),ISNUMBER($Z$12)),N14/$Z$12,\"\")","v":0},{"$f":"IF(AND(ISNUMBER(Q14),ISNUMBER($Z$12)),Q14/$Z$12,\"\")","v":""},null,null,null,null,null,{"$f":"E14","v":0},{"$f":"IF(AH14>$AI$12,AH14-$AI$12,0)","v":0},{"$f":"IF(AND(AZ14>0,AZ14),IF(BA14>0,BA14,IF(BB14>0,BB14,IF(BC14>0,BC14,IF(BF14>0,BF14,\"\")))))","v":false},{"$f":"IF(AND(AO14>0,AO14),IF(AP14>0,AP14,IF(AQ14>0,AQ14,IF(AR14>0,AR14,IF(AU14>0,AU14,\"\")))))","v":false},null,{"$f":"J14","v":0},null,{"$f":"IF(G14=0,0,\"\")","v":0},{"$f":"IF(AND(AH14<=40,E14=G14),G14,0)","v":0},{"$f":"IF(AND(AH14<=40,E14>=G14,G14>0),O14-E14,0)","v":0},{"$f":"IF(AND(AH14<=40,E14<G14),O14-G14,0)","v":0},{"$f":"IF(AND(G14=0),G14,IF(AND(G14>0,AI14>0,G14=AT14),AT14,IF(AND(G14>0,AI14>0,G14-AT14),AT14,0)))","v":0},null,{"$f":"AS14","v":0},{"$f":"IF(AND(AH13+AU14=40,AI14>0,AI14>AU14),AI14-AU14,IF(AND(AH13+AU14=40,AI14>0,AI14<AU14,AU14+AI14=G14),AI14,IF(AND(AH13>40,AH14>40,G14=AI14),AI14,0)))","v":0},{"$f":"AV14","v":0},null,{"$f":"IF(AND(J14>0,AI14>=J14,BB14=0),O14-AI14,IF(AND(J14>0,AI14>0,BB14<=AI14),AI14-BB14,IF(AND(J14>0,AI14>0,BB14>AI14),J14-BB14,0)))","v":0},{"$f":"IF(J14=0,0,\"\")","v":0},{"$f":"IF(AND(AH14<=40,E14=J14),J14,0)","v":0},{"$f":"IF(AND(AZ14=0),AZ14,IF(AND(AH14>40,E14>=J14),BE14,IF(AND(AH14<=40,E14>J14),J14,0)))","v":0},{"$f":"IF(AND(AH14<=40,E14<J14),O14-J14,0)","v":0},{"$f":"IF(AND(J14=0),J14,IF(AND(J14>0,AI14>0,J14=BC14),BC14,IF(AND(J14>0,AI14>0,J14-BC14),BC14,0)))","v":0},null,{"$f":"BD14","v":0},null,{"$f":"IF(AND(G14>0,E14>0),1,0)","v":0},{"$f":"40-AH14","v":40},{"$f":"IF(AND(BH14=1,E14<8),E14,(IF(AND(BH14=1,E14>0),G14,0)))","v":0},{"$f":"IF(AND(BH14=1,BL14>40,E14<G14),E14-BJ14,(IF(AND(BH14=1,BL14>0,E14>=G14),G14-BJ14,0)))","v":0},{"$f":"E14","v":0},{"$f":"IF(AND(K14>0,E14>0),1,0)","v":0},{"$f":"IF(AND(BM14=1,J14>8),K14,(IF(AND(BM14=1,J14>0),J14,0)))","v":0},{"$f":"IF(AND(BM14=1,40-BL13>0,40-BL13<8),40-BL13,IF(AND(J14<K14),J14,K14))","v":0},{"$f":"IF(AND(BM14=1,BL14>40,J14<=K14),J14-BO14,IF(AND(BM14=1,BL14>0,J14>K14),K14-BO14,0))","v":0}]
[{"$f":"IF(EXACT(D15,$Z$6)=TRUE,$O$6,IF(A14=0,\"\",IF(A14<$O$7,A14+1,IF(A14=$O$7,\"\"))))","v":false},null,null,"Monday",{"$f":"'July 1 - July 15'!E31","v":0},{"$f":"'July 1 - July 15'!F31","v":0},{"$f":"'July 1 - July 15'!G31","v":0},{"$f":"'July 1 - July 15'!H31","v":0},{"$f":"'July 1 - July 15'!I31","v":0},{"$f":"'July 1 - July 15'!J31","v":0},{"$f":"'July 1 - July 15'!K31","v":0},{"$f":"'July 1 - July 15'!L31","v":0},{"$f":"'July 1 - July 15'!M31","v":0},{"$f":"'July 1 - July 15'!N31","v":0},{"$f":"SUM(E15:N15)-J15","v":0},{"$f":"IF(AND(ISNUMBER(AA15),ISNUMBER(X15)),AA15*X15,\"\")","v":""},null,{"$f":"IF(AND(ISNUMBER(AB15),ISNUMBER(X15)),AB15*X15,\"\")","v":""},null,null,{"$f":"IF(BJ15>0,BJ15,BN15)","v":0},{"$f":"IF(BK15>0,BK15,0)","v":0},null,{"$f":"IF(ISNA(INDEX('Conversion Factors'!$B$6:$B$371,MATCH('July 16 - July 31'!$Z$14:$Z$20,'Conversion Factors'!$A$6:$A$371,0))),\"\",INDEX('Conversion Factors'!$B$6:$B$371,MATCH('July 16 - July 31'!$Z$14:$Z$20,'Conversion Factors'!$A$6:$A$371,0)))","v":""},null,false,0,"",null,null,null,null,null,{"$f":"E15+AH14","v":0},{"$f":"IF(AH15>$AI$12,AH15-($AI$12+AI14),0)","v":0},{"$f":"IF(AND(AZ15>0,AZ15),IF(BA15>0,BA15,IF(BB15>0,BB15,IF(BC15>0,BC15,IF(BF15>0,BF15,\"\")))))","v":false},{"$f":"IF(AND(AO15>0,AO15),IF(AP15>0,AP15,IF(AQ15>0,AQ15,IF(AR15>0,AR15,IF(AU15>0,AU15,0)))))","v":false},null,0,null,0,0,0,0,0,{"$f":"IF(AND(AH14<=40),40-AH14,0)","v":40},{"$f":"AS15","v":0},0,{"$f":"AV15","v":0},null,0,0,0,0,0,0,{"$f":"IF(AND(AH14<=40),40-AH14,0)","v":40},{"$f":"BD15","v":0},null,{"$f":"IF(AND(G15>0,E15>0),1,0)","v":0},40,0,0,{"$f":"SUM(E14:E15)","v":0},{"$f":"IF(AND(K15>0,E15>0),1,0)","v":0},{"$f":"IF(AND(BM15=1,J15>8),K15,(IF(AND(BM15=1,J15>0),J15,0)))","v":0},0,0]
[false,null,null,"Tuesday",{"$f":"'July 1 - July 15'!E32","v":0},{"$f":"'July 1 - July 15'!F32","v":0},{"$f":"'July 1 - July 15'!G32","v":0},{"$f":"'July 1 - July 15'!H32","v":0},{"$f":"'July 1 - July 15'!I32","v":0},{"$f":"'July 1 - July 15'!J32","v":0},{"$f":"'July 1 - July 15'!K32","v":0},{"$f":"'July 1 - July 15'!L32","v":0},{"$f":"'July 1 - July 15'!M32","v":0},{"$f":"'July 1 - July 15'!N32","v":0},{"$f":"SUM(E16:N16)-J16","v":0},"",null,"",null,null,{"$f":"IF(BJ16>0,BJ16,BN16)","v":0},0,null,{"$f":"IF(ISNA(INDEX('Conversion Factors'!$B$6:$B$371,MATCH('July 16 - July 31'!$Z$14:$Z$20,'Conversion Factors'!$A$6:$A$371,0))),\"\",INDEX('Conversion Factors'!$B$6:$B$371,MATCH('July 16 - July 31'!$Z$14:$Z$20,'Conversion Factors'!$A$6:$A$371,0)))","v":""},null,false,0,"",null,null,null,null,null,0,{"$f":"IF(AH16>$AI$12,AH16-($AI$12+AI15+AI14),0)","v":0},false,false,null,0,null,0,0,0,0,0,40,0,0,0,null,0,0,0,0,0,0,{"$f":"IF(AND(AH15<=40),40-AH15,0)","v":40},0,null,{"$f":"IF(AND(G16>0,E16>0),1,0)","v":0},40,0,0,{"$f":"SUM(E14:E16)","v":0},0,{"$f":"IF(AND(BM16=1,J16>8),K16,(IF(AND(BM16=1,J16>0),J16,0)))","v":0},{"$f":"IF(AND(BM16=1,40-BL15>0,40-BL15<8),40-BL15,IF(AND(J16<K16),J16,K16))","v":0},0]
[false,null,null,"Wednesday",{"$f":"'July 1 - July 15'!E33","v":0},{"$f":"'July 1 - July 15'!F33","v":0},{"$f":"'July 1 - July 15'!G33","v":0},{"$f":"'July 1 - July 15'!H33","v":0},{"$f":"'July 1 - July 15'!I33","v":0},{"$f":"'July 1 - July 15'!J33","v":0},{"$f":"'July 1 - July 15'!K33","v":0},{"$f":"'July 1 - July 15'!L33","v":0},{"$f":"'July 1 - July 15'!M33","v":0},{"$f":"'July 1 - July 15'!N33","v":0},0,"",null,"",null,null,0,0,null,{"$f":"IF(ISNA(INDEX('Conversion Factors'!$B$6:$B$371,MATCH('July 16 - July 31'!$Z$14:$Z$20,'Conversion Factors'!$A$6:$A$371,0))),\"\",INDEX('Conversion Factors'!$B$6:$B$371,MATCH('July 16 - July 31'!$Z$14:$Z$20,'Conversion Factors'!$A$6:$A$371,0)))","v":""},null,false,0,"",null,null,null,null,null,0,{"$f":"IF(AH17>$AI$12,AH17-($AI$12+AI16+AI15+AI14),0)","v":0},false,false,null,0,null,0,0,0,0,0,40,0,0,0,null,0,0,0,0,0,0,40,0,null,0,40,0,0,{"$f":"SUM(E14:E17)","v":0},0,{"$f":"IF(AND(BM17=1,J17>8),K17,(IF(AND(BM17=1,J17>0),J17,0)))","v":0},{"$f":"IF(AND(BM17=1,40-BL16>0,40-BL16<8),40-BL16,IF(AND(J17<K17),J17,K17))","v":0},0]
[false,null,null,"Thursday",{"$f":"'July 1 - July 15'!E34","v":0},{"$f":"'July 1 - July 15'!F34","v":0},{"$f":"'July 1 - July 15'!G34","v":0},{"$f":"'July 1 - July 15'!H34","v":0},{"$f":"'July 1 - July 15'!I34","v":0},{"$f":"'July 1 - July 15'!J34","v":0},{"$f":"'July 1 - July 15'!K34","v":0},{"$f":"'July 1 - July 15'!L34","v":0},{"$f":"'July 1 - July 15'!M34","v":0},{"$f":"'July 1 - July 15'!N34","v":0},0,"",null,"",null,null,0,0,null,{"$f":"IF(ISNA(INDEX('Conversion Factors'!$B$6:$B$371,MATCH('July 16 - July 31'!$Z$14:$Z$20,'Conversion Factors'!$A$6:$A$371,0))),\"\",INDEX('Conversion Factors'!$B$6:$B$371,MATCH('July 16 - July 31'!$Z$14:$Z$20,'Conversion Factors'!$A$6:$A$371,0)))","v":""},null,false,0,"",null,null,null,null,null,0,{"$f":"IF(AH18>$AI$12,AH18-($AI$12+AI17+AI16+AI15+AI14),0)","v":0},false,false,null,0,null,0,0,0,0,0,{"$f":"IF(AND(AH17<=40),40-AH17,0)","v":40},0,0,0,null,0,0,0,0,0,0,40,0,null,0,40,0,0,{"$f":"SUM(E14:E18)","v":0},0,0,0,0]
[false,null,null,"Friday",{"$f":"'July 1 - July 15'!E35","v":0},{"$f":"'July 1 - July 15'!F35","v":0},{"$f":"'July 1 - July 15'!G35","v":0},{"$f":"'July 1 - July 15'!H35","v":0},{"$f":"'July 1 - July 15'!I35","v":0},{"$f":"'July 1 - July 15'!J35","v":0},{"$f":"'July 1 - July 15'!K35","v":0},{"$f":"'July 1 - July 15'!L35","v":0},{"$f":"'July 1 - July 15'!M35","v":0},{"$f":"'July 1 - July 15'!N35","v":0},0,"",null,"",null,null,0,0,null,{"$f":"IF(ISNA(INDEX('Conversion Factors'!$B$6:$B$371,MATCH('July 16 - July 31'!$Z$14:$Z$20,'Conversion Factors'!$A$6:$A$371,0))),\"\",INDEX('Conversion Factors'!$B$6:$B$371,MATCH('July 16 - July 31'!$Z$14:$Z$20,'Conversion Factors'!$A$6:$A$371,0)))","v":""},null,false,0,"",null,null,null,null,null,0,{"$f":"IF(AH19>$AI$12,AH19-($AI$12+AI18+AI17+AI16+AI15+AI14),0)","v":0},false,false,null,0,null,0,0,0,0,0,{"$f":"IF(AND(AH18<=40),40-AH18,0)","v":40},0,0,0,null,0,0,0,0,0,0,40,0,null,0,40,0,0,{"$f":"SUM(E14:E19)","v":0},0,0,0,{"$f":"IF(AND(BM19=1,BL19>40,J19<=K19),J19-BO19,IF(AND(BM19=1,BL19>0,J19>K19),K19-BO19,0))","v":0}]
["2022-07-16",null,null,"Saturday",null,null,null,null,null,null,null,null,null,null,{"$f":"SUM(E20:N20)-J20","v":0},"",null,"",null,null,0,0,null,{"$f":"IF(ISNA(INDEX('Conversion Factors'!$B$6:$B$371,MATCH('July 16 - July 31'!$Z$14:$Z$20,'Conversion Factors'!$A$6:$A$371,0))),\"\",INDEX('Conversion Factors'!$B$6:$B$371,MATCH('July 16 - July 31'!$Z$14:$Z$20,'Conversion Factors'!$A$6:$A$371,0)))","v":8.6669999999999998},null,"2022-07-16","","",null,null,null,null,null,0,{"$f":"IF(AH20>$AI$12,AH20-($AI$12+AI19+AI18+AI17+AI16+AI15+AI14),0)","v":0},false,false,null,0,null,0,0,0,0,0,40,0,0,0,null,0,0,0,0,0,0,40,0,null,0,40,0,0,{"$f":"SUM(E14:E20)","v":0},0,0,0,{"$f":"IF(AND(BM20=1,BL20>40,J20<=K20),J20-BO20,IF(AND(BM20=1,BL20>0,J20>K20),K20-BO20,0))","v":0}]
["Week 1 Totals",null,null,null,{"$f":"SUM(E14:E20)","v":0},{"$f":"SUM(F14:F20)","v":0},0,0,0,null,0,0,0,0,{"$f":"SUM(O14:O20)","v":0},{"$f":"-SUM(P14:P20)","v":0},{"$f":"SUM(Q14:Q20)","v":0},{"$f":"SUM(R14:R20)","v":0},{"$f":"IF(E21>40,(E21-40)-V21-BP21,0)","v":0},{"$f":"MROUND(AL21,0.25)","v":0},{"$f":"SUM(U14:U20)","v":0},{"$f":"SUM(V14:V20)","v":0},{"$f":"IF(E21-(E11-(G21+K21+F21+H21+I21+L21+M21))-(S21+U21+V21)>0,E21-(E11-(G21+K21+F21+H21+I21+L21+M21))-(S21+U21+V21),0)","v":0},null,null,null,null,null,{"$f":"SUM(F21:N21)","v":0},{"$f":"IF(AND(AG21<40,O21>=AG21),O21-(AG21+S21),IF(AND(O21<AG21,E21=O21),O21-E21,IF(AND(E21>AG21,E21<40),E21-AG21,IF(AND(O21>AG21,E21<AG21),E21-(AG21-AC21),IF(AND(O21>AG21,E21>40),E21-(AG21-AC21+S21),IF(AND(O21>AG21,O21>40),O21-(S21+AG21),0))))))","v":0},{"$f":"AD21-U21-V21","v":0},{"$f":"$W$11","v":"Please Select"},{"$f":"$E$11","v":40},null,{"$f":"IF(AH21>$AI$12,-$AI$12,0)","v":0},null,null,{"$f":"IF(AF21=\"Yes\",S21*1.5,0)","v":0},null,null,null,null,null,null,null,null,null,null,null,null,null,null,null,null,null,null,null,null,null,null,null,null,null,null,null,null,null,{"$f":"SUM(BP14:BP20)","v":0},{"$f":"E11+U21","v":40}]
[{"$f":"IF(A20=0,\"\",IF(A20<$O$7,A20+1,IF(A20=$O$7,\"\")))","v":"2022-07-17"},null,null,"Sunday",null,null,null,null,null,null,null,null,null,null,{"$f":"SUM(E22:N22)-J22","v":0},{"$f":"IF(AND(ISNUMBER(AA22),ISNUMBER(X22)),AA22*X22,\"\")","v":""},null,{"$f":"IF(AND(ISNUMBER(AB22),ISNUMBER(X22)),AB22*X22,\"\")","v":""},null,null,{"$f":"IF(BJ22>0,BJ22,BN22)","v":0},{"$f":"IF(BK22>0,BK22,0)","v":0},null,{"$f":"IF(ISNA(INDEX('Conversion Factors'!$B$6:$B$371,MATCH('July 16 - July 31'!$Z$22:$Z$28,'Conversion Factors'!$A$6:$A$371,0))),\"\",INDEX('Conversion Factors'!$B$6:$B$371,MATCH('July 16 - July 31'!$Z$22:$Z$28,'Conversion Factors'!$A$6:$A$371,0)))","v":8.6669999999999998},null,{"$f":"A22","v":"2022-07-17"},{"$f":"IF(AND(ISNUMBER(N22),ISNUMBER($Z$12)),N22/$Z$12,\"\")","v":""},{"$f":"IF(AND(ISNUMBER(Q22),ISNUMBER($Z$12)),Q22/$Z$12,\"\")","v":""},null,null,null,null,null,{"$f":"E22+AH21","v":0},{"$f":"IF(AH22>$AI$12,AH22-($AI$12+AI21),0)","v":0},{"$f":"IF(AND(AZ22>0,AZ22),IF(BA22>0,BA22,IF(BB22>0,BB22,IF(BC22>0,BC22,IF(BF22>0,BF22,\"\")))))","v":false},{"$f":"IF(AND(AO22>0,AO22),IF(AP22>0,AP22,IF(AQ22>0,AQ22,IF(AR22>0,AR22,IF(AU22>0,AU22,\"\")))))","v":false},null,{"$f":"J22","v":0},null,{"$f":"IF(G22=0,0,\"\")","v":0},{"$f":"IF(AND(AH22<=40,E22=G22),G22,0)","v":0},{"$f":"IF(AND(AH22<=40,E22>=G22,G22>0),O22-E22,0)","v":0},{"$f":"IF(AND(AH22<=40,E22<G22),O22-G22,0)","v":0},{"$f":"IF(AND(G22=0),G22,IF(AND(G22>0,AI22>0,G22=AT22),AT22,IF(AND(G22>0,AI22>0,G22-AT22),AT22,0)))","v":0},null,{"$f":"AS22","v":0},{"$f":"IF(AND(AH21+AU22=40,AI22>0,AI22>AU22),AI22-AU22,IF(AND(AH21+AU22=40,AI22>0,AI22<AU22,AU22+AI22=G22),AI22,IF(AND(AH21>40,AH22>40,G22=AI22),AI22,0)))","v":0},{"$f":"AV22","v":0},null,{"$f":"IF(AND(J22>0,AI22>0,BB22<=AI22),AI22-BB22,IF(AND(J22>0,AI22>0,BB22>AI22),J22-BB22,0))","v":0},{"$f":"IF(J22=0,0,\"\")","v":0},{"$f":"IF(AND(AH22<=40,E22=J22),J22,0)","v":0},{"$f":"IF(AND(AZ22=0),AZ22,IF(AND(AH22>40,E22>=J22),BE22,IF(AND(AH22<=40,E22>J22),J22,0)))","v":0},{"$f":"IF(AND(AH22<=40,E22<J22),O22-J22,0)","v":0},{"$f":"IF(AND(J22=0),J22,IF(AND(J22>0,AI22>0,J22=BC22),BC22,IF(AND(J22>0,AI22>0,J22-BC22),BC22,0)))","v":0},null,{"$f":"BD22","v":0},null,{"$f":"IF(AND(G22>0,E22>0),1,0)","v":0},{"$f":"40-AH22","v":40},0,{"$f":"IF(AND(BH22=1,BL22>40,E22<G22),E22-BJ22,(IF(AND(BH22=1,BL22>0,E22>=G22),G22-BJ22,0)))","v":0},{"$f":"E22","v":0},{"$f":"IF(AND(K22>0,E22>0),1,0)","v":0},{"$f":"IF(AND(BM22=1,J22>8),K22,(IF(AND(BM22=1,J22>0),J22,0)))","v":0},{"$f":"IF(AND(BM22=1,40-BL21>0,40-BL21<8),40-BL21,IF(AND(J22<K22),J22,K22))","v":0},{"$f":"IF(AND(BM22=1,BL22>40,J22<=K22),J22-BO22,IF(AND(BM22=1,BL22>0,J22>K22),K22-BO22,0))","v":0}]
[{"$f":"IF(A22<$O$7,A22+1,IF(A22=$O$7,\"\"))","v":"2022-07-18"},null,null,"Monday",null,null,null,null,null,null,null,null,null,null,{"$f":"SUM(E23:N23)-J23","v":0},{"$f":"IF(AND(ISNUMBER(AA23),ISNUMBER(X23)),AA23*X23,\"\")","v":""},null,{"$f":"IF(AND(ISNUMBER(AB23),ISNUMBER(X23)),AB23*X23,\"\")","v":""},null,null,{"$f":"IF(BJ23>0,BJ23,BN23)","v":0},{"$f":"IF(BK23>0,BK23,0)","v":0},null,{"$f":"IF(ISNA(INDEX('Conversion Factors'!$B$6:$B$371,MATCH('July 16 - July 31'!$Z$22:$Z$28,'Conversion Factors'!$A$6:$A$371,0))),\"\",INDEX('Conversion Factors'!$B$6:$B$371,MATCH('July 16 - July 31'!$Z$22:$Z$28,'Conversion Factors'!$A$6:$A$371,0)))","v":8.6669999999999998},null,"2022-07-18","","",null,null,null,null,null,0,{"$f":"IF(AH23>$AI$12,AH23-($AI$12+AI22+AI21),0)","v":0},false,{"$f":"IF(AND(AO23>0,AO23),IF(AP23>0,AP23,IF(AQ23>0,AQ23,IF(AR23>0,AR23,IF(AU23>0,AU23,0)))))","v":false},null,0,null,0,0,0,0,0,{"$f":"IF(AND(AH22<=40),40-AH22,0)","v":40},{"$f":"AS23","v":0},0,{"$f":"AV23","v":0},null,{"$f":"IF(AND(J23>0,AI23>0,BB23<=AI23),AI23-BB23,IF(AND(J23>0,AI23>0,BB23>AI23),J23-BB23,0))","v":0},0,0,0,0,0,{"$f":"IF(AND(AH22<=40),40-AH22,0)","v":40},{"$f":"BD23","v":0},null,{"$f":"IF(AND(G23>0,E23>0),1,0)","v":0},40,0,0,{"$f":"SUM(E22:E23)","v":0},{"$f":"IF(AND(K23>0,E23>0),1,0)","v":0},{"$f":"IF(AND(BM23=1,J23>8),K23,(IF(AND(BM23=1,J23>0),J23,0)))","v":0},0,0]
["2022-07-19",null,null,"Tuesday",null,null,null,null,null,null,null,null,null,null,{"$f":"SUM(E24:N24)-J24","v":0},"",null,"",null,null,{"$f":"IF(BJ24>0,BJ24,BN24)","v":0},0,null,{"$f":"IF(ISNA(INDEX('Conversion Factors'!$B$6:$B$371,MATCH('July 16 - July 31'!$Z$22:$Z$28,'Conversion Factors'!$A$6:$A$371,0))),\"\",INDEX('Conversion Factors'!$B$6:$B$371,MATCH('July 16 - July 31'!$Z$22:$Z$28,'Conversion Factors'!$A$6:$A$371,0)))","v":8.6669999999999998},null,"2022-07-19","","",null,null,null,null,null,0,{"$f":"IF(AH24>$AI$12,AH24-($AI$12+AI23+AI22+AI21),0)","v":0},false,false,null,0,null,0,0,0,0,0,40,0,0,0,null,{"$f":"IF(AND(J24>0,AI24>0,BB24<=AI24),AI24-BB24,IF(AND(J24>0,AI24>0,BB24>AI24),J24-BB24,0))","v":0},0,0,0,0,0,{"$f":"IF(AND(AH23<=40),40-AH23,0)","v":40},0,null,{"$f":"IF(AND(G24>0,E24>0),1,0)","v":0},40,0,0,{"$f":"SUM(E22:E24)","v":0},0,{"$f":"IF(AND(BM24=1,J24>8),K24,(IF(AND(BM24=1,J24>0),J24,0)))","v":0},{"$f":"IF(AND(BM24=1,40-BL23>0,40-BL23<8),40-BL23,IF(AND(J24<K24),J24,K24))","v":0},0]
["2022-07-20",null,null,"Wednesday",null,null,null,null,null,null,null,null,null,null,0,"",null,"",null,null,0,0,null,{"$f":"IF(ISNA(INDEX('Conversion Factors'!$B$6:$B$371,MATCH('July 16 - July 31'!$Z$22:$Z$28,'Conversion Factors'!$A$6:$A$371,0))),\"\",INDEX('Conversion Factors'!$B$6:$B$371,MATCH('July 16 - July 31'!$Z$22:$Z$28,'Conversion Factors'!$A$6:$A$371,0)))","v":8.6669999999999998},null,"2022-07-20","","",null,null,null,null,null,0,{"$f":"IF(AH25>$AI$12,AH25-($AI$12+AI24+AI23+AI22+AI21),0)","v":0},false,false,null,0,null,0,0,0,0,0,40,0,0,0,null,{"$f":"IF(AND(J25>0,AI25>0,BB25<=AI25),AI25-BB25,IF(AND(J25>0,AI25>0,BB25>AI25),J25-BB25,0))","v":0},0,0,0,0,0,40,0,null,0,40,0,0,{"$f":"SUM(E22:E25)","v":0},0,{"$f":"IF(AND(BM25=1,J25>8),K25,(IF(AND(BM25=1,J25>0),J25,0)))","v":0},{"$f":"IF(AND(BM25=1,40-BL24>0,40-BL24<8),40-BL24,IF(AND(J25<K25),J25,K25))","v":0},0]
["2022-07-21",null,null,"Thursday",null,null,null,null,null,null,null,null,null,null,0,"",null,"",null,null,0,0,null,{"$f":"IF(ISNA(INDEX('Conversion Factors'!$B$6:$B$371,MATCH('July 16 - July 31'!$Z$22:$Z$28,'Conversion Factors'!$A$6:$A$371,0))),\"\",INDEX('Conversion Factors'!$B$6:$B$371,MATCH('July 16 - July 31'!$Z$22:$Z$28,'Conversion Factors'!$A$6:$A$371,0)))","v":8.6669999999999998},null,"2022-07-21","","",null,null,null,null,null,0,{"$f":"IF(AH26>$AI$12,AH26-($AI$12+AI25+AI24+AI23+AI22+AI21),0)","v":0},false,false,null,0,null,0,0,0,0,0,{"$f":"IF(AND(AH25<=40),40-AH25,0)","v":40},0,0,0,null,{"$f":"IF(AND(J26>0,AI26>=J26,BB26=0),O26-AI26,IF(AND(J26>0,AI26>0,BB26<=AI26),AI26-BB26,IF(AND(J26>0,AI26>0,BB26>AI26),J26-BB26,0)))","v":0},0,0,0,0,0,40,0,null,0,40,0,0,{"$f":"SUM(E22:E26)","v":0},0,0,0,0]
["2022-07-22",null,null,"Friday",null,null,null,null,null,null,null,null,null,null,0,"",null,"",null,null,0,0,null,{"$f":"IF(ISNA(INDEX('Conversion Factors'!$B$6:$B$371,MATCH('July 16 - July 31'!$Z$22:$Z$28,'Conversion Factors'!$A$6:$A$371,0))),\"\",INDEX('Conversion Factors'!$B$6:$B$371,MATCH('July 16 - July 31'!$Z$22:$Z$28,'Conversion Factors'!$A$6:$A$371,0)))","v":8.6669999999999998},null,"2022-07-22","","",null,null,null,null,null,0,{"$f":"IF(AH27>$AI$12,AH27-($AI$12+AI26+AI25+AI24+AI23+AI22+AI21),0)","v":0},false,false,null,0,null,0,0,0,0,0,{"$f":"IF(AND(AH26<=40),40-AH26,0)","v":40},0,0,0,null,{"$f":"IF(AND(J27>0,AI27>=J27,BB27=0),O27-AI27,IF(AND(J27>0,AI27>0,BB27<=AI27),AI27-BB27,IF(AND(J27>0,AI27>0,BB27>AI27),J27-BB27,0)))","v":0},0,0,0,0,0,40,0,null,0,40,0,0,{"$f":"SUM(E22:E27)","v":0},0,0,0,{"$f":"IF(AND(BM27=1,BL27>40,J27<=K27),J27-BO27,IF(AND(BM27=1,BL27>0,J27>K27),K27-BO27,0))","v":0}]
["2022-07-23",null,null,"Saturday",null,null,null,null,null,null,null,null,null,null,{"$f":"SUM(E28:N28)-J28","v":0},"",null,"",null,null,0,0,null,{"$f":"IF(ISNA(INDEX('Conversion Factors'!$B$6:$B$371,MATCH('July 16 - July 31'!$Z$22:$Z$28,'Conversion Factors'!$A$6:$A$371,0))),\"\",INDEX('Conversion Factors'!$B$6:$B$371,MATCH('July 16 - July 31'!$Z$22:$Z$28,'Conversion Factors'!$A$6:$A$371,0)))","v":8.6669999999999998},null,"2022-07-23","","",null,null,null,null,null,0,{"$f":"IF(AH28>$AI$12,AH28-($AI$12+AI27+AI26+AI25+AI24+AI23+AI22+AI21),0)","v":0},false,false,null,0,null,0,0,0,0,0,40,0,0,0,null,{"$f":"IF(AND(J28>0,AI28>=J28,BB28=0),O28-AI28,IF(AND(J28>0,AI28>0,BB28<=AI28),AI28-BB28,IF(AND(J28>0,AI28>0,BB28>AI28),J28-BB28,0)))","v":0},0,0,0,0,0,40,0,null,0,40,0,0,{"$f":"SUM(E22:E28)","v":0},0,0,0,{"$f":"IF(AND(BM28=1,BL28>40,J28<=K28),J28-BO28,IF(AND(BM28=1,BL28>0,J28>K28),K28-BO28,0))","v":0}]
["Week 2 Totals",null,null,null,{"$f":"SUM(E22:E28)","v":0},0,0,0,0,null,0,0,0,0,{"$f":"SUM(O22:O28)","v":0},{"$f":"-SUM(P22:P28)","v":0},{"$f":"SUM(Q22:Q28)","v":0},{"$f":"SUM(R22:R28)","v":0},{"$f":"IF(E29>40,(E29-40)-V29,0)","v":0},{"$f":"MROUND(AL29,0.25)","v":0},{"$f":"SUM(U22:U28)","v":0},{"$f":"SUM(V22:V28)","v":0},{"$f":"IF(E29-(E11-(G29+K29+F29+H29+I29+L29+M29))-(S29+U29+V29)>0,E29-(E11-(G29+K29+F29+H29+I29+L29+M29))-(S29+U29+V29),0)","v":0},null,null,null,null,null,{"$f":"SUM(F29:N29)","v":0},{"$f":"IF(AND(AG29<40,O29>=AG29),O29-(AG29+S29),IF(AND(O29<AG29,E29=O29),O29-E29,IF(AND(E29>AG29,E29<40),E29-AG29,IF(AND(O29>AG29,E29<AG29),E29-(AG29-AC29),IF(AND(O29>AG29,E29>40),E29-(AG29-AC29+S29),IF(AND(O29>AG29,O29>40),O29-(S29+AG29),0))))))","v":0},{"$f":"AD29-U29-V29","v":0},{"$f":"$W$11","v":"Please Select"},{"$f":"$E$11","v":40},null,{"$f":"IF(AH29>$AI$12,-$AI$12,0)","v":0},null,null,{"$f":"IF(AF29=\"Yes\",S29*1.5,0)","v":0},0,null,null,null,null,null,null,null,null,null,null,null,null,0,null,null,null,null,null,null,null,null,null,null,null,null,null,null,null,{"$f":"SUM(BP22:BP28)","v":0},{"$f":"U29+E11","v":40}]
[{"$f":"IF(A28<$O$7,A28+1,IF(A28=$O$7,\"\"))","v":"2022-07-24"},null,null,"Sunday",null,null,null,null,null,null,null,null,null,null,{"$f":"SUM(E30:N30)-J30","v":0},{"$f":"IF(AND(ISNUMBER(AA30),ISNUMBER(X30)),AA30*X30,\"\")","v":""},null,{"$f":"IF(AND(ISNUMBER(AB30),ISNUMBER(X30)),AB30*X30,\"\")","v":""},null,null,{"$f":"IF(BJ30>0,BJ30,BN30)","v":0},{"$f":"IF(BK30>0,BK30,0)","v":0},null,{"$f":"IF(ISNA(INDEX('Conversion Factors'!$B$6:$B$370,MATCH('July 16 - July 31'!$Z$30:$Z$36,'Conversion Factors'!$A$6:$A$370,0))),\"\",INDEX('Conversion Factors'!$B$6:$B$370,MATCH('July 16 - July 31'!$Z$30:$Z$36,'Conversion Factors'!$A$6:$A$370,0)))","v":8.6669999999999998},null,{"$f":"A30","v":"2022-07-24"},{"$f":"IF(AND(ISNUMBER(N30),ISNUMBER($Z$12)),N30/$Z$12,\"\")","v":""},{"$f":"IF(AND(ISNUMBER(Q30),ISNUMBER($Z$12)),Q30/$Z$12,\"\")","v":""},null,null,null,null,null,{"$f":"E30+AH29","v":0},{"$f":"IF(AH30>$AI$12,AH30-($AI$12+AI29),0)","v":0},{"$f":"IF(AND(AZ30>0,AZ30),IF(BA30>0,BA30,IF(BB30>0,BB30,IF(BC30>0,BC30,IF(BF30>0,BF30,\"\")))))","v":false},{"$f":"IF(AND(AO30>0,AO30),IF(AP30>0,AP30,IF(AQ30>0,AQ30,IF(AR30>0,AR30,IF(AU30>0,AU30,\"\")))))","v":false},null,{"$f":"J30","v":0},null,{"$f":"IF(G30=0,0,\"\")","v":0},{"$f":"IF(AND(AH30<=40,E30=G30),G30,0)","v":0},{"$f":"IF(AND(AH30<=40,E30>=G30,G30>0),O30-E30,0)","v":0},{"$f":"IF(AND(AH30<=40,E30<G30),O30-G30,0)","v":0},{"$f":"IF(AND(G30=0),G30,IF(AND(G30>0,AI30>0,G30=AT30),AT30,IF(AND(G30>0,AI30>0,G30-AT30),AT30,0)))","v":0},null,{"$f":"AS30","v":0},{"$f":"IF(AND(AH29+AU30=40,AI30>0,AI30>AU30),AI30-AU30,IF(AND(AH29+AU30=40,AI30>0,AI30<AU30,AU30+AI30=G30),AI30,IF(AND(AH29>40,AH30>40,G30=AI30),AI30,0)))","v":0},{"$f":"AV30","v":0},null,{"$f":"IF(AND(J30>0,AI30>=J30,BB30=0),O30-AI30,IF(AND(J30>0,AI30>0,BB30<=AI30),AI30-BB30,IF(AND(J30>0,AI30>0,BB30>AI30),J30-BB30,0)))","v":0},{"$f":"IF(J30=0,0,\"\")","v":0},{"$f":"IF(AND(AH30<=40,E30=J30),J30,0)","v":0},{"$f":"IF(AND(AZ30=0),AZ30,IF(AND(AH30>40,E30>=J30),BE30,IF(AND(AH30<=40,E30>J30),J30,0)))","v":0},{"$f":"IF(AND(AH30<=40,E30<J30),O30-J30,0)","v":0},{"$f":"IF(AND(J30=0),J30,IF(AND(J30>0,AI30>0,J30=BC30),BC30,IF(AND(J30>0,AI30>0,J30-BC30),BC30,0)))","v":0},null,{"$f":"BD30","v":0},null,{"$f":"IF(AND(G30>0,E30>0),1,0)","v":0},{"$f":"40-AH30","v":40},0,{"$f":"IF(AND(BH30=1,BL30>40,E30<G30),E30-BJ30,(IF(AND(BH30=1,BL30>0,E30>=G30),G30-BJ30,0)))","v":0},{"$f":"E30","v":0},{"$f":"IF(AND(K30>0,E30>0),1,0)","v":0},{"$f":"IF(AND(BM30=1,J30>8),K30,(IF(AND(BM30=1,J30>0),J30,0)))","v":0},{"$f":"IF(AND(BM30=1,40-BL29>0,40-BL29<8),40-BL29,IF(AND(J30<K30),J30,K30))","v":0},{"$f":"IF(AND(BM30=1,BL30>40,J30<=K30),J30-BO30,IF(AND(BM30=1,BL30>0,J30>K30),K30-BO30,0))","v":0}]
[{"$f":"IF(A30<$O$7,A30+1,IF(A30=$O$7,\"\"))","v":"2022-07-25"},null,null,"Monday",null,null,null,null,null,null,null,null,null,null,{"$f":"SUM(E31:N31)-J31","v":0},{"$f":"IF(AND(ISNUMBER(AA31),ISNUMBER(X31)),AA31*X31,\"\")","v":""},null,{"$f":"IF(AND(ISNUMBER(AB31),ISNUMBER(X31)),AB31*X31,\"\")","v":""},null,null,0,{"$f":"IF(BK31>0,BK31,0)","v":0},null,{"$f":"IF(ISNA(INDEX('Conversion Factors'!$B$6:$B$370,MATCH('July 16 - July 31'!$Z$30:$Z$36,'Conversion Factors'!$A$6:$A$370,0))),\"\",INDEX('Conversion Factors'!$B$6:$B$370,MATCH('July 16 - July 31'!$Z$30:$Z$36,'Conversion Factors'!$A$6:$A$370,0)))","v":8.6669999999999998},null,"2022-07-25","","",null,null,null,null,null,0,{"$f":"IF(AH31>$AI$12,AH31-($AI$12+AI30+AI29),0)","v":0},false,{"$f":"IF(AND(AO31>0,AO31),IF(AP31>0,AP31,IF(AQ31>0,AQ31,IF(AR31>0,AR31,IF(AU31>0,AU31,0)))))","v":false},null,0,null,0,0,0,0,0,{"$f":"IF(AND(AH30<=40),40-AH30,0)","v":40},{"$f":"AS31","v":0},0,{"$f":"AV31","v":0},null,0,0,0,0,0,0,{"$f":"IF(AND(AH30<=40),40-AH30,0)","v":40},{"$f":"BD31","v":0},null,{"$f":"IF(AND(G31>0,E31>0),1,0)","v":0},40,0,0,{"$f":"SUM(E30:E31)","v":0},{"$f":"IF(AND(K31>0,E31>0),1,0)","v":0},{"$f":"IF(AND(BM31=1,J31>8),K31,(IF(AND(BM31=1,J31>0),J31,0)))","v":0},0,0]
["2022-07-26",null,null,"Tuesday",null,null,null,null,null,null,null,null,null,null,0,"",null,"",null,null,0,0,null,{"$f":"IF(ISNA(INDEX('Conversion Factors'!$B$6:$B$370,MATCH('July 16 - July 31'!$Z$30:$Z$36,'Conversion Factors'!$A$6:$A$370,0))),\"\",INDEX('Conversion Factors'!$B$6:$B$370,MATCH('July 16 - July 31'!$Z$30:$Z$36,'Conversion Factors'!$A$6:$A$370,0)))","v":8.6669999999999998},null,"2022-07-26","","",null,null,null,null,null,0,{"$f":"IF(AH32>$AI$12,AH32-($AI$12+AI31+AI30+AI29),0)","v":0},false,false,null,0,null,0,0,0,0,0,40,0,0,0,null,0,0,0,0,0,0,{"$f":"IF(AND(AH31<=40),40-AH31,0)","v":40},0,null,{"$f":"IF(AND(G32>0,E32>0),1,0)","v":0},40,0,0,{"$f":"SUM(E30:E32)","v":0},0,{"$f":"IF(AND(BM32=1,J32>8),K32,(IF(AND(BM32=1,J32>0),J32,0)))","v":0},{"$f":"IF(AND(BM32=1,40-BL31>0,40-BL31<8),40-BL31,IF(AND(J32<K32),J32,K32))","v":0},0]
["2022-07-27",null,null,"Wednesday",null,null,null,null,null,null,null,null,null,null,0,"",null,"",null,null,0,0,null,{"$f":"IF(ISNA(INDEX('Conversion Factors'!$B$6:$B$370,MATCH('July 16 - July 31'!$Z$30:$Z$36,'Conversion Factors'!$A$6:$A$370,0))),\"\",INDEX('Conversion Factors'!$B$6:$B$370,MATCH('July 16 - July 31'!$Z$30:$Z$36,'Conversion Factors'!$A$6:$A$370,0)))","v":8.6669999999999998},null,"2022-07-27","","",null,null,null,null,null,0,{"$f":"IF(AH33>$AI$12,AH33-($AI$12+AI32+AI31+AI30+AI29),0)","v":0},false,false,null,0,null,0,0,0,0,0,40,0,0,0,null,0,0,0,0,0,0,40,0,null,{"$f":"IF(AND(G33>0,E33>0),1,0)","v":0},40,0,0,{"$f":"SUM(E30:E33)","v":0},0,{"$f":"IF(AND(BM33=1,J33>8),K33,(IF(AND(BM33=1,J33>0),J33,0)))","v":0},{"$f":"IF(AND(BM33=1,40-BL32>0,40-BL32<8),40-BL32,IF(AND(J33<K33),J33,K33))","v":0},0]
["2022-07-28",null,null,"Thursday",null,null,null,null,null,null,null,null,null,null,0,"",null,"",null,null,0,0,null,{"$f":"IF(ISNA(INDEX('Conversion Factors'!$B$6:$B$370,MATCH('July 16 - July 31'!$Z$30:$Z$36,'Conversion Factors'!$A$6:$A$370,0))),\"\",INDEX('Conversion Factors'!$B$6:$B$370,MATCH('July 16 - July 31'!$Z$30:$Z$36,'Conversion Factors'!$A$6:$A$370,0)))","v":8.6669999999999998},null,"2022-07-28","","",null,null,null,null,null,0,{"$f":"IF(AH34>$AI$12,AH34-($AI$12+AI33+AI32+AI31+AI30+AI29),0)","v":0},false,false,null,0,null,0,0,0,0,0,{"$f":"IF(AND(AH33<=40),40-AH33,0)","v":40},0,0,0,null,0,0,0,0,0,0,40,0,null,0,40,0,0,{"$f":"SUM(E30:E34)","v":0},0,0,0,0]
["2022-07-29",null,null,"Friday",null,null,null,null,null,null,null,null,null,null,0,"",null,"",null,null,0,0,null,{"$f":"IF(ISNA(INDEX('Conversion Factors'!$B$6:$B$370,MATCH('July 16 - July 31'!$Z$30:$Z$36,'Conversion Factors'!$A$6:$A$370,0))),\"\",INDEX('Conversion Factors'!$B$6:$B$370,MATCH('July 16 - July 31'!$Z$30:$Z$36,'Conversion Factors'!$A$6:$A$370,0)))","v":8.6669999999999998},null,"2022-07-29","","",null,null,null,null,null,0,{"$f":"IF(AH35>$AI$12,AH35-($AI$12+AI34+AI33+AI32+AI31+AI30+AI29),0)","v":0},false,false,null,0,null,0,0,0,0,0,{"$f":"IF(AND(AH34<=40),40-AH34,0)","v":40},0,0,0,null,0,0,0,0,0,0,40,0,null,0,40,0,0,{"$f":"SUM(E30:E35)","v":0},0,0,0,{"$f":"IF(AND(BM35=1,BL35>40,J35<=K35),J35-BO35,IF(AND(BM35=1,BL35>0,J35>K35),K35-BO35,0))","v":0}]
["2022-07-30",null,null,"Saturday",null,null,null,null,null,null,null,null,null,null,0,"",null,"",null,null,0,0,null,{"$f":"IF(ISNA(INDEX('Conversion Factors'!$B$6:$B$370,MATCH('July 16 - July 31'!$Z$30:$Z$36,'Conversion Factors'!$A$6:$A$370,0))),\"\",INDEX('Conversion Factors'!$B$6:$B$370,MATCH('July 16 - July 31'!$Z$30:$Z$36,'Conversion Factors'!$A$6:$A$370,0)))","v":8.6669999999999998},null,"2022-07-30","","",null,null,null,null,null,0,{"$f":"IF(AH36>$AI$12,AH36-($AI$12+AI35+AI34+AI33+AI32+AI31+AI30+AI29),0)","v":0},false,false,null,0,null,0,0,0,0,0,40,0,0,0,null,0,0,0,0,0,0,40,0,null,0,40,0,0,{"$f":"SUM(E30:E36)","v":0},0,0,0,{"$f":"IF(AND(BM36=1,BL36>40,J36<=K36),J36-BO36,IF(AND(BM36=1,BL36>0,J36>K36),K36-BO36,0))","v":0}]
["Week 3 Totals",null,null,null,{"$f":"SUM(E30:E36)","v":0},0,0,0,0,null,0,0,0,0,{"$f":"SUM(O30:O36)","v":0},{"$f":"-SUM(P30:P36)","v":0},{"$f":"SUM(Q30:Q36)","v":0},{"$f":"SUM(R30:R36)","v":0},{"$f":"IF(E37>40,(E37-40)-V37,0)","v":0},{"$f":"MROUND(AL37,0.25)","v":0},{"$f":"SUM(U30:U36)","v":0},{"$f":"SUM(V30:V36)","v":0},{"$f":"IF(E37-(E11-(G37+K37+F37+H37+I37+L37+M3))-(S37+U37+V37)>0,E37-(E11-(G37+K37+F37+H37+I37+L37+M37))-(S37+U37+V37),0)","v":0},null,null,null,null,null,{"$f":"SUM(F37:N37)","v":0},{"$f":"IF(AND(AG37<40,O37>=AG37),O37-(AG37+S37),IF(AND(O37<AG37,E37=O37),O37-E37,IF(AND(E37>AG37,E37<40),E37-AG37,IF(AND(O37>AG37,E37<AG37),E37-(AG37-AC37),IF(AND(O37>AG37,E37>40),E37-(AG37-AC37+S37),IF(AND(O37>AG37,O37>40),O37-(S37+AG37),0))))))","v":0},{"$f":"AD37-U37-V37","v":0},{"$f":"$W$11","v":"Please Select"},{"$f":"$E$11","v":40},null,{"$f":"IF(AH37>$AI$12,-$AI$12,0)","v":0},null,null,{"$f":"IF(AF37=\"Yes\",S37*1.5,0)","v":0},null,null,null,null,null,null,null,null,null,null,null,null,null,null,null,null,null,null,null,null,null,0,null,null,null,null,null,null,null,{"$f":"SUM(BP30:BP36)","v":0},{"$f":"U37+E11","v":40}]
[{"$f":"IF(A36<$O$7,A36+1,IF(A36=$O$7,\"\"))","v":"2022-07-31"},null,null,"Sunday",null,null,null,null,null,null,null,null,null,null,{"$f":"SUM(E38:N38)-J38","v":0},{"$f":"IF(AND(ISNUMBER(AA38),ISNUMBER(X38)),AA38*X38,\"\")","v":""},null,{"$f":"IF(AND(ISNUMBER(AB38),ISNUMBER(X38)),AB38*X38,\"\")","v":""},null,null,0,{"$f":"IF(BK38>0,BK38,0)","v":0},null,{"$f":"IF(ISNA(INDEX('Conversion Factors'!$B$6:$B$370,MATCH('July 16 - July 31'!$Z$38:$Z$44,'Conversion Factors'!$A$6:$A$370,0))),\"\",INDEX('Conversion Factors'!$B$6:$B$370,MATCH('July 16 - July 31'!$Z$38:$Z$44,'Conversion Factors'!$A$6:$A$370,0)))","v":8.6669999999999998},null,{"$f":"A38","v":"2022-07-31"},{"$f":"IF(AND(ISNUMBER(N38),ISNUMBER($Z$12)),N38/$Z$12,\"\")","v":""},{"$f":"IF(AND(ISNUMBER(Q38),ISNUMBER($Z$12)),Q38/$Z$12,\"\")","v":""},null,null,null,null,null,{"$f":"E38+AH37","v":0},{"$f":"IF(AH38>$AI$12,AH38-($AI$12+AI37),0)","v":0},{"$f":"IF(AND(AZ38>0,AZ38),IF(BA38>0,BA38,IF(BB38>0,BB38,IF(BC38>0,BC38,IF(BF38>0,BF38,\"\")))))","v":false},{"$f":"IF(AND(AO38>0,AO38),IF(AP38>0,AP38,IF(AQ38>0,AQ38,IF(AR38>0,AR38,IF(AU38>0,AU38,\"\")))))","v":false},null,{"$f":"J38","v":0},null,{"$f":"IF(G38=0,0,\"\")","v":0},{"$f":"IF(AND(AH38<=40,E38=G38),G38,0)","v":0},{"$f":"IF(AND(AH38<=40,E38>=G38,G38>0),O38-E38,0)","v":0},{"$f":"IF(AND(AH38<=40,E38<G38),O38-G38,0)","v":0},{"$f":"IF(AND(G38=0),G38,IF(AND(G38>0,AI38>0,G38=AT38),AT38,IF(AND(G38>0,AI38>0,G38-AT38),AT38,0)))","v":0},null,{"$f":"AS38","v":0},{"$f":"IF(AND(AH37+AU38=40,AI38>0,AI38>AU38),AI38-AU38,IF(AND(AH37+AU38=40,AI38>0,AI38<AU38,AU38+AI38=G38),AI38,IF(AND(AH37>40,AH38>40,G38=AI38),AI38,0)))","v":0},{"$f":"AV38","v":0},null,{"$f":"IF(AND(J38>0,AI38>=J38,BB38=0),O38-AI38,IF(AND(J38>0,AI38>0,BB38<=AI38),AI38-BB38,IF(AND(J38>0,AI38>0,BB38>AI38),J38-BB38,0)))","v":0},{"$f":"IF(J38=0,0,\"\")","v":0},{"$f":"IF(AND(AH38<=40,E38=J38),J38,0)","v":0},{"$f":"IF(AND(AZ38=0),AZ38,IF(AND(AH38>40,E38>=J38),BE38,IF(AND(AH38<=40,E38>J38),J38,0)))","v":0},{"$f":"IF(AND(AH38<=40,E38<J38),O38-J38,0)","v":0},{"$f":"IF(AND(J38=0),J38,IF(AND(J38>0,AI38>0,J38=BC38),BC38,IF(AND(J38>0,AI38>0,J38-BC38),BC38,0)))","v":0},null,{"$f":"BD38","v":0},null,{"$f":"IF(AND(G38>0,E38>0),1,0)","v":0},{"$f":"40-AH38","v":40},0,{"$f":"IF(AND(BH38=1,BL38>40,E38<G38),E38-BJ38,(IF(AND(BH38=1,BL38>0,E38>=G38),G38-BJ38,0)))","v":0},{"$f":"E38","v":0},{"$f":"IF(AND(K38>0,E38>0),1,0)","v":0},{"$f":"IF(AND(BM38=1,J38>8),K38,(IF(AND(BM38=1,J38>0),J38,0)))","v":0},{"$f":"IF(AND(BM38=1,40-BL37>0,40-BL37<8),40-BL37,IF(AND(J38<K38),J38,K38))","v":0},{"$f":"IF(AND(BM38=1,BL38>40,J38<=K38),J38-BO38,IF(AND(BM38=1,BL38>0,J38>K38),K38-BO38,0))","v":0}]
[{"$f":"IF(A38<$O$7,A38+1,IF(A38=$O$7,\"\"))","v":""},null,null,"Monday",null,null,null,0,null,null,null,null,null,null,{"$f":"SUM(E39:N39)-J39","v":0},{"$f":"IF(AND(ISNUMBER(AA39),ISNUMBER(X39)),AA39*X39,\"\")","v":""},null,{"$f":"IF(AND(ISNUMBER(AB39),ISNUMBER(X39)),AB39*X39,\"\")","v":""},null,null,0,{"$f":"IF(BK39>0,BK39,0)","v":0},null,{"$f":"IF(ISNA(INDEX('Conversion Factors'!$B$6:$B$370,MATCH('July 16 - July 31'!$Z$38:$Z$44,'Conversion Factors'!$A$6:$A$370,0))),\"\",INDEX('Conversion Factors'!$B$6:$B$370,MATCH('July 16 - July 31'!$Z$38:$Z$44,'Conversion Factors'!$A$6:$A$370,0)))","v":""},null,"","","",null,null,null,null,null,0,{"$f":"IF(AH39>$AI$12,AH39-($AI$12+AI38+AI37),0)","v":0},false,{"$f":"IF(AND(AO39>0,AO39),IF(AP39>0,AP39,IF(AQ39>0,AQ39,IF(AR39>0,AR39,IF(AU39>0,AU39,0)))))","v":false},null,0,null,0,0,0,0,0,{"$f":"IF(AND(AH38<=40),40-AH38,0)","v":40},{"$f":"AS39","v":0},0,{"$f":"AV39","v":0},null,0,0,0,0,0,0,{"$f":"IF(AND(AH38<=40),40-AH38,0)","v":40},{"$f":"BD39","v":0},null,{"$f":"IF(AND(G39>0,E39>0),1,0)","v":0},40,0,0,{"$f":"SUM(E38:E39)","v":0},{"$f":"IF(AND(K39>0,E39>0),1,0)","v":0},{"$f":"IF(AND(BM39=1,J39>8),K39,(IF(AND(BM39=1,J39>0),J39,0)))","v":0},0,0]
[false,null,null,"Tuesday",null,null,null,null,null,0,0,null,null,null,{"$f":"SUM(E40:N40)-J40","v":0},"",null,"",null,null,0,0,null,{"$f":"IF(ISNA(INDEX('Conversion Factors'!$B$6:$B$370,MATCH('July 16 - July 31'!$Z$38:$Z$44,'Conversion Factors'!$A$6:$A$370,0))),\"\",INDEX('Conversion Factors'!$B$6:$B$370,MATCH('July 16 - July 31'!$Z$38:$Z$44,'Conversion Factors'!$A$6:$A$370,0)))","v":""},null,false,"","",null,null,null,null,null,0,{"$f":"IF(AH40>$AI$12,AH40-($AI$12+AI39+AI38+AI37),0)","v":0},false,false,null,0,null,0,0,0,0,0,40,0,0,0,null,0,0,0,0,0,0,{"$f":"IF(AND(AH39<=40),40-AH39,0)","v":40},0,null,{"$f":"IF(AND(G40>0,E40>0),1,0)","v":0},40,0,0,{"$f":"SUM(E38:E40)","v":0},0,{"$f":"IF(AND(BM40=1,J40>8),K40,(IF(AND(BM40=1,J40>0),J40,0)))","v":0},{"$f":"IF(AND(BM40=1,40-BL39>0,40-BL39<8),40-BL39,IF(AND(J40<K40),J40,K40))","v":0},0]
[false,null,null,"Wednesday",null,null,null,null,null,null,null,null,null,null,0,"",null,"",null,null,0,0,null,{"$f":"IF(ISNA(INDEX('Conversion Factors'!$B$6:$B$370,MATCH('July 16 - July 31'!$Z$38:$Z$44,'Conversion Factors'!$A$6:$A$370,0))),\"\",INDEX('Conversion Factors'!$B$6:$B$370,MATCH('July 16 - July 31'!$Z$38:$Z$44,'Conversion Factors'!$A$6:$A$370,0)))","v":""},null,false,"","",null,null,null,null,null,0,{"$f":"IF(AH41>$AI$12,AH41-($AI$12+AI40+AI39+AI38+AI37),0)","v":0},false,false,null,0,null,0,0,0,0,0,40,0,0,0,null,0,0,0,0,0,0,40,0,null,{"$f":"IF(AND(G41>0,E41>0),1,0)","v":0},40,0,0,{"$f":"SUM(E38:E41)","v":0},0,{"$f":"IF(AND(BM41=1,J41>8),K41,(IF(AND(BM41=1,J41>0),J41,0)))","v":0},{"$f":"IF(AND(BM41=1,40-BL40>0,40-BL40<8),40-BL40,IF(AND(J41<K41),J41,K41))","v":0},0]
[false,null,null,"Thursday",null,null,null,null,null,null,null,null,null,null,0,"",null,"",null,null,0,0,null,{"$f":"IF(ISNA(INDEX('Conversion Factors'!$B$6:$B$370,MATCH('July 16 - July 31'!$Z$38:$Z$44,'Conversion Factors'!$A$6:$A$370,0))),\"\",INDEX('Conversion Factors'!$B$6:$B$370,MATCH('July 16 - July 31'!$Z$38:$Z$44,'Conversion Factors'!$A$6:$A$370,0)))","v":""},null,false,"","",null,null,null,null,null,0,{"$f":"IF(AH42>$AI$12,AH42-($AI$12+AI41+AI40+AI39+AI38+AI37),0)","v":0},false,false,null,0,null,0,0,0,0,0,{"$f":"IF(AND(AH41<=40),40-AH41,0)","v":40},0,0,0,null,0,0,0,0,0,0,40,0,null,0,40,0,0,{"$f":"SUM(E38:E42)","v":0},0,0,0,0]
[false,null,null,"Friday",null,null,null,null,null,null,null,null,null,null,0,"",null,"",null,null,0,0,null,{"$f":"IF(ISNA(INDEX('Conversion Factors'!$B$6:$B$370,MATCH('July 16 - July 31'!$Z$38:$Z$44,'Conversion Factors'!$A$6:$A$370,0))),\"\",INDEX('Conversion Factors'!$B$6:$B$370,MATCH('July 16 - July 31'!$Z$38:$Z$44,'Conversion Factors'!$A$6:$A$370,0)))","v":""},null,false,"","",null,null,null,null,null,0,{"$f":"IF(AH43>$AI$12,AH43-($AI$12+AI42+AI41+AI40+AI39+AI38+AI37),0)","v":0},false,false,null,0,null,0,0,0,0,0,{"$f":"IF(AND(AH42<=40),40-AH42,0)","v":40},0,0,0,null,0,0,0,0,0,0,40,0,null,0,40,0,0,{"$f":"SUM(E38:E43)","v":0},0,0,0,{"$f":"IF(AND(BM43=1,BL43>40,J43<=K43),J43-BO43,IF(AND(BM43=1,BL43>0,J43>K43),K43-BO43,0))","v":0}]
[false,null,null,"Saturday",null,null,null,null,null,null,null,null,null,null,{"$f":"SUM(E44:N44)-J44","v":0},"",null,"",null,null,0,0,null,{"$f":"IF(ISNA(INDEX('Conversion Factors'!$B$6:$B$370,MATCH('July 16 - July 31'!$Z$38:$Z$44,'Conversion Factors'!$A$6:$A$370,0))),\"\",INDEX('Conversion Factors'!$B$6:$B$370,MATCH('July 16 - July 31'!$Z$38:$Z$44,'Conversion Factors'!$A$6:$A$370,0)))","v":""},null,false,"","",null,null,null,null,null,0,{"$f":"IF(AH44>$AI$12,AH44-($AI$12+AI43+AI42+AI41+AI40+AI39+AI38+AI37),0)","v":0},false,false,null,0,null,0,0,0,0,0,40,0,0,0,null,0,0,0,0,0,0,40,0,null,0,40,0,0,{"$f":"SUM(E38:E44)","v":0},0,0,0,{"$f":"IF(AND(BM44=1,BL44>40,J44<=K44),J44-BO44,IF(AND(BM44=1,BL44>0,J44>K44),K44-BO44,0))","v":0}]
["Week 4 Totals",null,null,null,{"$f":"SUM(E38:E44)","v":0},{"$f":"SUM(F38:F44)","v":0},0,0,0,null,0,0,0,0,{"$f":"SUM(O38:O44)","v":0},{"$f":"-SUM(P38:P44)","v":0},{"$f":"SUM(Q38:Q44)","v":0},{"$f":"SUM(R38:R44)","v":0},{"$f":"IF(E45>40,(E45-40)-V45,0)","v":0},{"$f":"MROUND(AL45,0.25)","v":0},{"$f":"SUM(U38:U44)","v":0},{"$f":"SUM(V38:V44)","v":0},{"$f":"IF(E45-(E11-(G45+K45+F45+H45+I45+L45+M45))-(S45+U45+V45)>0,E45-(E11-(G45+K45+F45+H45+I45+L45+M45))-(S45+U45+V45),0)","v":0},null,null,null,null,null,{"$f":"SUM(F45:N45)","v":0},{"$f":"IF(AND(AG45<40,O45>=AG45),O45-(AG45+S45),IF(AND(O45<AG45,E45=O45),O45-E45,IF(AND(E45>AG45,E45<40),E45-AG45,IF(AND(O45>AG45,E45<AG45),E45-(AG45-AC45),IF(AND(O45>AG45,E45>40),E45-(AG45-AC45+S45),IF(AND(O45>AG45,O45>40),O45-(S45+AG45),0))))))","v":0},{"$f":"AD45-U45-V45","v":0},{"$f":"$W$11","v":"Please Select"},{"$f":"$E$11","v":40},null,{"$f":"IF(AH45>$AI$12,-$AI$12,0)","v":0},null,null,{"$f":"IF(AF45=\"Yes\",S45*1.5,0)","v":0},null,null,null,null,null,null,null,null,null,null,null,null,null,null,null,null,null,null,null,null,null,null,null,null,null,null,null,null,null,{"$f":"SUM(BP38:BP44)","v":0},{"$f":"E44+E11","v":40}]
[null,null,null,null,null,null,null,null,"Total-Net Previous Week",null,null,null,null,null,{"$f":"(O21+O29+O37+O45)-O13","v":0},0,0,0,0,0,0,0,0,0]
[]
[null,null,null,null,null,null,null,null,null,null,null,null,null,null,"Leave/Leave Without Pay Policy"]
["Employee signature",null,null,null,null,null,"Date",null,null,null,null,null,null,null,"Overtime/Compensatory Time"]
["I certify this record is accurate and accounts for my time during the indicated period.",null,null,null,null,null,null,null,null,null,null,null,null,null,"Time Sheet Definitions/Policies"]
[]
[null,null,null,null,null,null,null,null,null,null,"“Actual Work Hours During Administrative Close Period” – Only key the hours actually worked during the admministrative closing period into this field. "]
[]
["Manager signature",null,null,null,null,null,"Date"]
["I certify the hours recorded and coded on this form are correct and in compliance with University policy.",null,null,null,null,null,null,null,null,null,"“Administrative Closing/Leave Period field.”  Entter the number of hours of the declared period of administrative closing. (The total hours worked during the entire day will be entered into the “Actual Hours Worked” field.)"]

{"sheet":"Aug 1 - Aug 15","index":9,"n_rows":55,"n_cols":69,"rows_kept":55,"cut":false,"hidden":false,"merged":[[47,14,47,22],[48,14,48,19],[49,14,49,22],[51,10,53,22],[54,10,56,22],[45,8,45,13],[34,0,34,2],[35,0,35,2],[36,0,36,2],[37,0,37,2],[38,0,38,2],[39,0,39,2],[40,0,40,2],[41,0,41,2],[42,0,42,2],[43,0,43,2],[44,0,44,2],[33,0,33,2],[22,0,22,2],[23,0,23,2],[24,0,24,2],[25,0,25,2],[26,0,26,2],[27,0,27,2],[28,0,28,2],[29,0,29,2],[30,0,30,2],[31,0,31,2],[32,0,32,2],[21,0,21,2],[11,0,11,2],[11,29,11,30],[12,0,12,3],[13,0,13,2],[14,0,14,2],[15,0,15,2],[16,0,16,2],[17,0,17,2],[18,0,18,2],[19,0,19,2],[20,0,20,2],[10,40,10,46],[6,2,6,7],[6,8,6,13],[6,14,6,19],[7,2,7,7],[7,8,7,13],[7,14,7,19],[10,0,10,3],[10,4,10,5],[10,6,10,17],[10,18,10,21],[10,22,10,23],[0,0,0,22],[1,0,1,22],[3,0,3,23],[5,2,5,7],[5,8,5,13],[5,14,5,19]]}
["Mississippi State University"]
["Non-Exempt Employee Semi-Monthly Time Report"]
[]
["Instructions:  The Fair Labor Standards Act requires that a record of hours worked on a weekly basis be maintained for all employees except executive, administrative, managerial, faculty, and professional (non-faculty).  Department/unit heads are responsible for compiling and maintaining this record in department files on each covered employee for a period of at least (3) years."]
[]
["MSU ID #:",null,{"$f":"'July 1 - July 15'!C6","v":0},null,null,null,null,null,"Pay period start date:",null,null,null,null,null,{"$f":"'Dates & Notes'!$A$4","v":"2022-08-01"},null,null,null,null,null,null,null,null,null,null,{"$f":"TEXT(O6,\"dddd\")","v":"Monday"},null,null,null,"Please Select"]
["Name:",null,{"$f":"'July 1 - July 15'!C7","v":0},null,null,null,null,null,"Pay period end date:",null,null,null,null,null,{"$f":"'Dates & Notes'!$B$4","v":"2022-08-15"},null,null,null,null,null,null,null,null,null,null,null,null,null,null,"No"]
["Department:",null,{"$f":"'July 1 - July 15'!C8","v":0},null,null,null,null,null,"Pay Period Number:",null,null,null,null,null,{"$f":"'Dates & Notes'!$C$4","v":15},null,null,null,null,null,null,null,null,null,null,null,null,null,null,"Yes"]
[]
[]
["Employee Scheduled Hours Per Week",null,null,null,40,null,"FIELDS MUST BE ENTERED FOR CALULATIONS TO WORK PROPERLY",null,null,null,null,null,null,null,null,null,null,null,"Receive Compensatory Time",null,null,null,"Please Select",null,null,null,null,null,null,null,null,null,null,null,"Over 40",null,null,null,null,null,"HOW ANALYSIS"]
["Work Week Dates",null,null,"Day of The Week","Actual Hours Worked","Compensatory Time Used","Holiday","Medical Leave","Personal Leave","Actual Wrk Hrs During  Admin Close Period","Administrative Closing/Leave Period","Jury Duty","Military Leave","Leave Without Pay","Totals","DOC-Payroll Conversion","RTO","RTO-Payroll Conversion","Overtime Hours","Hours Transferred to Comp. Record","HOW-Holiday Pay or Admin/Leave Closing","HOT-Holiday Pay","SST-Payroll","Conversion Factor",null,8,"DOC","RTO",null,"SST",null,null,null,"Cumm Actual HRS",40,"Administrative Leave","HOW-Holiday Pay","Comp. Time","Administrative/Schedule",null,"Holiday=0\n1",2,3,4,null,"<=40\n5",null,"HOT Workup","HOT-Holiday Pay (HOLIDAY PAY)",null,"HOT-Administrative HRS","Administrative=0\n1",2,3,4,null,"<=40\n5",null,null,"Holiday Flag","Up to 40","How","Hot","Actual Hours Worked","Admin Flag","Admin","Admin HOW","Admin OVT"]
["Hours-Previous WK (Due to Split WK)",null,null,null,{"$f":"E14","v":0},0,0,0,0,0,0,0,0,0,{"$f":"SUM(E13:N13)-J13","v":0},null,null,null,null,null,null,null,null,null,null,null,null,null,null,null,null,null,null,null,null,{"$f":"IF(AND(AM13=0,J13=0),AM13,IF(AND(E13>AM13,J13=0),J13,IF(AND(J13<AM13,AI13=0),J13,IF(AND(AM13=J13,AI13<AM13),AM13-AI13,IF(AND(J13=AM13,AI13=AM13),AI13,IF(AND(J13<AM13,AI13>0),AM13-J13,IF(AND(AM13>J13,AI13<E13),E13-AI13,IF(AND(E13>AM13,AI13=E13),O13-AI13,0))))))))","v":0},{"$f":"IF(AND(G13=0,E13>G13),G13,IF(AND(E13>G13,AI13=0),G13,IF(AND(E13<G13,AI13=0),E13,IF(AND(E13=G13,AI13<G13),G13-AI13,IF(AND(E13=G13,AI13=G13),AI13,IF(AND(E13<G13,AI13>0),G13-E13,IF(AND(E13>G13,AI13<E13),E13-AI13,IF(AND(E13>G13,AI13=E13),O13-AI13,0))))))))","v":0},null,{"$f":"K13","v":0}]
[{"$f":"IF(EXACT(D14,$Z$6)=TRUE,$O$6,IF(A12=0,\"\",IF(A12<$O$7,A12+1,IF(A12=$O$7,\"\"))))","v":false},null,null,"Sunday",{"$f":"'July 16 - July 31'!E38","v":0},{"$f":"'July 16 - July 31'!F38","v":0},{"$f":"'July 16 - July 31'!G38","v":0},{"$f":"'July 16 - July 31'!H38","v":0},{"$f":"'July 16 - July 31'!I38","v":0},{"$f":"'July 16 - July 31'!J38","v":0},{"$f":"'July 16 - July 31'!K38","v":0},{"$f":"'July 16 - July 31'!L38","v":0},{"$f":"'July 16 - July 31'!M38","v":0},{"$f":"'July 16 - July 31'!N38","v":0},{"$f":"SUM(E14:N14)-J14","v":0},{"$f":"IF(AND(ISNUMBER(AA14),ISNUMBER(X14)),AA14*X14,\"\")","v":""},null,{"$f":"IF(AND(ISNUMBER(AB14),ISNUMBER(X14)),AB14*X14,\"\")","v":""},null,null,{"$f":"IF(BJ14>0,BJ14,BN14)","v":0},{"$f":"IF(BK14>0,BK14,0)","v":0},null,{"$f":"IF(ISNA(INDEX('Conversion Factors'!$B$6:$B$371,MATCH('Aug 1 - Aug 15'!$Z$14:$Z$20,'Conversion Factors'!$A$6:$A$371,0))),\"\",INDEX('Conversion Factors'!$B$6:$B$371,MATCH('Aug 1 - Aug 15'!$Z$14:$Z$20,'Conversion Factors'!$A$6:$A$371,0)))","v":""},null,{"$f":"A14","v":false},{"$f":"IF(AND(ISNUMBER(N14),ISNUMBER($Z$12)),N14/$Z$12,\"\")","v":0},{"$f":"IF(AND(ISNUMBER(Q14),ISNUMBER($Z$12)),Q14/$Z$12,\"\")","v":""},null,null,null,null,null,{"$f":"E14","v":0},{"$f":"IF(AH14>$AI$12,AH14-$AI$12,0)","v":0},{"$f":"IF(AND(AZ14>0,AZ14),IF(BA14>0,BA14,IF(BB14>0,BB14,IF(BC14>0,BC14,IF(BF14>0,BF14,\"\")))))","v":false},{"$f":"IF(AND(AO14>0,AO14),IF(AP14>0,AP14,IF(AQ14>0,AQ14,IF(AR14>0,AR14,IF(AU14>0,AU14,\"\")))))","v":false},null,{"$f":"J14","v":0},null,{"$f":"IF(G14=0,0,\"\")","v":0},{"$f":"IF(AND(AH14<=40,E14=G14),G14,0)","v":0},{"$f":"IF(AND(AH14<=40,E14>=G14,G14>0),O14-E14,0)","v":0},{"$f":"IF(AND(AH14<=40,E14<G14),O14-G14,0)","v":0},{"$f":"IF(AND(G14=0),G14,IF(AND(G14>0,AI14>0,G14=AT14),AT14,IF(AND(G14>0,AI14>0,G14-AT14),AT14,0)))","v":0},null,{"$f":"AS14","v":0},{"$f":"IF(AND(AH13+AU14=40,AI14>0,AI14>AU14),AI14-AU14,IF(AND(AH13+AU14=40,AI14>0,AI14<AU14,AU14+AI14=G14),AI14,IF(AND(AH13>40,AH14>40,G14=AI14),AI14,0)))","v":0},{"$f":"AV14","v":0},null,{"$f":"IF(AND(J14>0,AI14>=J14,BB14=0),O14-AI14,IF(AND(J14>0,AI14>0,BB14<=AI14),AI14-BB14,IF(AND(J14>0,AI14>0,BB14>AI14),J14-BB14,0)))","v":0},{"$f":"IF(J14=0,0,\"\")","v":0},{"$f":"IF(AND(AH14<=40,E14=J14),J14,0)","v":0},{"$f":"IF(AND(AZ14=0),AZ14,IF(AND(AH14>40,E14>=J14),BE14,IF(AND(AH14<=40,E14>J14),J14,0)))","v":0},{"$f":"IF(AND(AH14<=40,E14<J14),O14-J14,0)","v":0},{"$f":"IF(AND(J14=0),J14,IF(AND(J14>0,AI14>0,J14=BC14),BC14,IF(AND(J14>0,AI14>0,J14-BC14),BC14,0)))","v":0},null,{"$f":"BD14","v":0},null,{"$f":"IF(AND(G14>0,E14>0),1,0)","v":0},{"$f":"40-AH14","v":40},{"$f":"IF(AND(BH14=1,E14<8),E14,(IF(AND(BH14=1,E14>0),G14,0)))","v":0},{"$f":"IF(AND(BH14=1,BL14>40,E14<G14),E14-BJ14,(IF(AND(BH14=1,BL14>0,E14>=G14),G14-BJ14,0)))","v":0},{"$f":"E14","v":0},{"$f":"IF(AND(K14>0,E14>0),1,0)","v":0},{"$f":"IF(AND(BM14=1,J14>8),K14,(IF(AND(BM14=1,J14>0),J14,0)))","v":0},{"$f":"IF(AND(BM14=1,40-BL13>0,40-BL13<8),40-BL13,IF(AND(J14<K14),J14,K14))","v":0},{"$f":"IF(AND(BM14=1,BL14>40,J14<=K14),J14-BO14,IF(AND(BM14=1,BL14>0,J14>K14),K14-BO14,0))","v":0}]
[{"$f":"IF(EXACT(D15,$Z$6)=TRUE,$O$6,IF(A14=0,\"\",IF(A14<$O$7,A14+1,IF(A14=$O$7,\"\"))))","v":"2022-08-01"},null,null,"Monday",null,null,null,null,null,null,null,null,null,null,{"$f":"SUM(E15:N15)-J15","v":0},{"$f":"IF(AND(ISNUMBER(AA15),ISNUMBER(X15)),AA15*X15,\"\")","v":""},null,{"$f":"IF(AND(ISNUMBER(AB15),ISNUMBER(X15)),AB15*X15,\"\")","v":""},null,null,{"$f":"IF(BJ15>0,BJ15,BN15)","v":0},{"$f":"IF(BK15>0,BK15,0)","v":0},null,{"$f":"IF(ISNA(INDEX('Conversion Factors'!$B$6:$B$371,MATCH('Aug 1 - Aug 15'!$Z$14:$Z$20,'Conversion Factors'!$A$6:$A$371,0))),\"\",INDEX('Conversion Factors'!$B$6:$B$371,MATCH('Aug 1 - Aug 15'!$Z$14:$Z$20,'Conversion Factors'!$A$6:$A$371,0)))","v":7.8789999999999996},null,"2022-08-01","","",null,null,null,null,null,{"$f":"E15+AH14","v":0},{"$f":"IF(AH15>$AI$12,AH15-($AI$12+AI14),0)","v":0},{"$f":"IF(AND(AZ15>0,AZ15),IF(BA15>0,BA15,IF(BB15>0,BB15,IF(BC15>0,BC15,IF(BF15>0,BF15,\"\")))))","v":false},{"$f":"IF(AND(AO15>0,AO15),IF(AP15>0,AP15,IF(AQ15>0,AQ15,IF(AR15>0,AR15,IF(AU15>0,AU15,0)))))","v":false},null,0,null,0,0,0,0,0,{"$f":"IF(AND(AH14<=40),40-AH14,0)","v":40},{"$f":"AS15","v":0},0,{"$f":"AV15","v":0},null,0,0,0,0,0,0,{"$f":"IF(AND(AH14<=40),40-AH14,0)","v":40},{"$f":"BD15","v":0},null,{"$f":"IF(AND(G15>0,E15>0),1,0)","v":0},40,0,0,{"$f":"SUM(E14:E15)","v":0},{"$f":"IF(AND(K15>0,E15>0),1,0)","v":0},{"$f":"IF(AND(BM15=1,J15>8),K15,(IF(AND(BM15=1,J15>0),J15,0)))","v":0},0,0]
["2022-08-02",null,null,"Tuesday",null,null,null,null,null,null,null,null,null,null,{"$f":"SUM(E16:N16)-J16","v":0},"",null,"",null,null,{"$f":"IF(BJ16>0,BJ16,BN16)","v":0},0,null,{"$f":"IF(ISNA(INDEX('Conversion Factors'!$B$6:$B$371,MATCH('Aug 1 - Aug 15'!$Z$14:$Z$20,'Conversion Factors'!$A$6:$A$371,0))),\"\",INDEX('Conversion Factors'!$B$6:$B$371,MATCH('Aug 1 - Aug 15'!$Z$14:$Z$20,'Conversion Factors'!$A$6:$A$371,0)))","v":7.8789999999999996},null,"2022-08-02","","",null,null,null,null,null,0,{"$f":"IF(AH16>$AI$12,AH16-($AI$12+AI15+AI14),0)","v":0},false,false,null,0,null,0,0,0,0,0,40,0,0,0,null,0,0,0,0,0,0,{"$f":"IF(AND(AH15<=40),40-AH15,0)","v":40},0,null,{"$f":"IF(AND(G16>0,E16>0),1,0)","v":0},40,0,0,{"$f":"SUM(E14:E16)","v":0},0,{"$f":"IF(AND(BM16=1,J16>8),K16,(IF(AND(BM16=1,J16>0),J16,0)))","v":0},{"$f":"IF(AND(BM16=1,40-BL15>0,40-BL15<8),40-BL15,IF(AND(J16<K16),J16,K16))","v":0},0]
["2022-08-03",null,null,"Wednesday",null,null,null,null,null,null,null,null,null,null,0,"",null,"",null,null,0,0,null,{"$f":"IF(ISNA(INDEX('Conversion Factors'!$B$6:$B$371,MATCH('Aug 1 - Aug 15'!$Z$14:$Z$20,'Conversion Factors'!$A$6:$A$371,0))),\"\",INDEX('Conversion Factors'!$B$6:$B$371,MATCH('Aug 1 - Aug 15'!$Z$14:$Z$20,'Conversion Factors'!$A$6:$A$371,0)))","v":7.8789999999999996},null,"2022-08-03","","",null,null,null,null,null,0,{"$f":"IF(AH17>$AI$12,AH17-($AI$12+AI16+AI15+AI14),0)","v":0},false,false,null,0,null,0,0,0,0,0,40,0,0,0,null,0,0,0,0,0,0,40,0,null,0,40,0,0,{"$f":"SUM(E14:E17)","v":0},0,{"$f":"IF(AND(BM17=1,J17>8),K17,(IF(AND(BM17=1,J17>0),J17,0)))","v":0},{"$f":"IF(AND(BM17=1,40-BL16>0,40-BL16<8),40-BL16,IF(AND(J17<K17),J17,K17))","v":0},0]
["2022-08-04",null,null,"Thursday",null,null,null,null,null,null,null,null,null,null,0,"",null,"",null,null,0,0,null,{"$f":"IF(ISNA(INDEX('Conversion Factors'!$B$6:$B$371,MATCH('Aug 1 - Aug 15'!$Z$14:$Z$20,'Conversion Factors'!$A$6:$A$371,0))),\"\",INDEX('Conversion Factors'!$B$6:$B$371,MATCH('Aug 1 - Aug 15'!$Z$14:$Z$20,'Conversion Factors'!$A$6:$A$371,0)))","v":7.8789999999999996},null,"2022-08-04","","",null,null,null,null,null,0,{"$f":"IF(AH18>$AI$12,AH18-($AI$12+AI17+AI16+AI15+AI14),0)","v":0},false,false,null,0,null,0,0,0,0,0,{"$f":"IF(AND(AH17<=40),40-AH17,0)","v":40},0,0,0,null,0,0,0,0,0,0,40,0,null,0,40,0,0,{"$f":"SUM(E14:E18)","v":0},0,0,0,0]
["2022-08-05",null,null,"Friday",null,null,null,null,null,null,null,null,null,null,0,"",null,"",null,null,0,0,null,{"$f":"IF(ISNA(INDEX('Conversion Factors'!$B$6:$B$371,MATCH('Aug 1 - Aug 15'!$Z$14:$Z$20,'Conversion Factors'!$A$6:$A$371,0))),\"\",INDEX('Conversion Factors'!$B$6:$B$371,MATCH('Aug 1 - Aug 15'!$Z$14:$Z$20,'Conversion Factors'!$A$6:$A$371,0)))","v":7.8789999999999996},null,"2022-08-05","","",null,null,null,null,null,0,{"$f":"IF(AH19>$AI$12,AH19-($AI$12+AI18+AI17+AI16+AI15+AI14),0)","v":0},false,false,null,0,null,0,0,0,0,0,{"$f":"IF(AND(AH18<=40),40-AH18,0)","v":40},0,0,0,null,0,0,0,0,0,0,40,0,null,0,40,0,0,{"$f":"SUM(E14:E19)","v":0},0,0,0,{"$f":"IF(AND(BM19=1,BL19>40,J19<=K19),J19-BO19,IF(AND(BM19=1,BL19>0,J19>K19),K19-BO19,0))","v":0}]
["2022-08-06",null,null,"Saturday",null,null,null,null,null,null,null,null,null,null,{"$f":"SUM(E20:N20)-J20","v":0},"",null,"",null,null,0,0,null,{"$f":"IF(ISNA(INDEX('Conversion Factors'!$B$6:$B$371,MATCH('Aug 1 - Aug 15'!$Z$14:$Z$20,'Conversion Factors'!$A$6:$A$371,0))),\"\",INDEX('Conversion Factors'!$B$6:$B$371,MATCH('Aug 1 - Aug 15'!$Z$14:$Z$20,'Conversion Factors'!$A$6:$A$371,0)))","v":7.8789999999999996},null,"2022-08-06","","",null,null,null,null,null,0,{"$f":"IF(AH20>$AI$12,AH20-($AI$12+AI19+AI18+AI17+AI16+AI15+AI14),0)","v":0},false,false,null,0,null,0,0,0,0,0,40,0,0,0,null,0,0,0,0,0,0,40,0,null,0,40,0,0,{"$f":"SUM(E14:E20)","v":0},0,0,0,{"$f":"IF(AND(BM20=1,BL20>40,J20<=K20),J20-BO20,IF(AND(BM20=1,BL20>0,J20>K20),K20-BO20,0))","v":0}]
["Week 1 Totals",null,null,null,{"$f":"SUM(E14:E20)","v":0},{"$f":"SUM(F14:F20)","v":0},0,0,0,null,0,0,0,0,{"$f":"SUM(O14:O20)","v":0},{"$f":"-SUM(P14:P20)","v":0},{"$f":"SUM(Q14:Q20)","v":0},{"$f":"SUM(R14:R20)","v":0},{"$f":"IF(E21>40,(E21-40)-V21-BP21,0)","v":0},{"$f":"MROUND(AL21,0.25)","v":0},{"$f":"SUM(U14:U20)","v":0},{"$f":"SUM(V14:V20)","v":0},{"$f":"IF(E21-(E11-(G21+K21+F21+H21+I21+L21+M21))-(S21+U21+V21)>0,E21-(E11-(G21+K21+F21+H21+I21+L21+M21))-(S21+U21+V21),0)","v":0},null,null,null,null,null,{"$f":"SUM(F21:N21)","v":0},{"$f":"IF(AND(AG21<40,O21>=AG21),O21-(AG21+S21),IF(AND(O21<AG21,E21=O21),O21-E21,IF(AND(E21>AG21,E21<40),E21-AG21,IF(AND(O21>AG21,E21<AG21),E21-(AG21-AC21),IF(AND(O21>AG21,E21>40),E21-(AG21-AC21+S21),IF(AND(O21>AG21,O21>40),O21-(S21+AG21),0))))))","v":0},{"$f":"AD21-U21-V21","v":0},{"$f":"$W$11","v":"Please Select"},{"$f":"$E$11","v":40},null,{"$f":"IF(AH21>$AI$12,-$AI$12,0)","v":0},null,null,{"$f":"IF(AF21=\"Yes\",S21*1.5,0)","v":0},null,null,null,null,null,null,null,null,null,null,null,null,null,null,null,null,null,null,null,null,null,null,null,null,null,null,null,null,null,{"$f":"SUM(BP14:BP20)","v":0},{"$f":"E11+U21","v":40}]
[{"$f":"IF(A20=0,\"\",IF(A20<$O$7,A20+1,IF(A20=$O$7,\"\")))","v":"2022-08-07"},null,null,"Sunday",null,null,null,null,null,null,null,null,null,null,{"$f":"SUM(E22:N22)-J22","v":0},{"$f":"IF(AND(ISNUMBER(AA22),ISNUMBER(X22)),AA22*X22,\"\")","v":""},null,{"$f":"IF(AND(ISNUMBER(AB22),ISNUMBER(X22)),AB22*X22,\"\")","v":""},null,null,{"$f":"IF(BJ22>0,BJ22,BN22)","v":0},{"$f":"IF(BK22>0,BK22,0)","v":0},null,{"$f":"IF(ISNA(INDEX('Conversion Factors'!$B$6:$B$371,MATCH('Aug 1 - Aug 15'!$Z$22:$Z$28,'Conversion Factors'!$A$6:$A$371,0))),\"\",INDEX('Conversion Factors'!$B$6:$B$371,MATCH('Aug 1 - Aug 15'!$Z$22:$Z$28,'Conversion Factors'!$A$6:$A$371,0)))","v":7.8789999999999996},null,{"$f":"A22","v":"2022-08-07"},{"$f":"IF(AND(ISNUMBER(N22),ISNUMBER($Z$12)),N22/$Z$12,\"\")","v":""},{"$f":"IF(AND(ISNUMBER(Q22),ISNUMBER($Z$12)),Q22/$Z$12,\"\")","v":""},null,null,null,null,null,{"$f":"E22+AH21","v":0},{"$f":"IF(AH22>$AI$12,AH22-($AI$12+AI21),0)","v":0},{"$f":"IF(AND(AZ22>0,AZ22),IF(BA22>0,BA22,IF(BB22>0,BB22,IF(BC22>0,BC22,IF(BF22>0,BF22,\"\")))))","v":false},{"$f":"IF(AND(AO22>0,AO22),IF(AP22>0,AP22,IF(AQ22>0,AQ22,IF(AR22>0,AR22,IF(AU22>0,AU22,\"\")))))","v":false},null,{"$f":"J22","v":0},null,{"$f":"IF(G22=0,0,\"\")","v":0},{"$f":"IF(AND(AH22<=40,E22=G22),G22,0)","v":0},{"$f":"IF(AND(AH22<=40,E22>=G22,G22>0),O22-E22,0)","v":0},{"$f":"IF(AND(AH22<=40,E22<G22),O22-G22,0)","v":0},{"$f":"IF(AND(G22=0),G22,IF(AND(G22>0,AI22>0,G22=AT22),AT22,IF(AND(G22>0,AI22>0,G22-AT22),AT22,0)))","v":0},null,{"$f":"AS22","v":0},{"$f":"IF(AND(AH21+AU22=40,AI22>0,AI22>AU22),AI22-AU22,IF(AND(AH21+AU22=40,AI22>0,AI22<AU22,AU22+AI22=G22),AI22,IF(AND(AH21>40,AH22>40,G22=AI22),AI22,0)))","v":0},{"$f":"AV22","v":0},null,{"$f":"IF(AND(J22>0,AI22>0,BB22<=AI22),AI22-BB22,IF(AND(J22>0,AI22>0,BB22>AI22),J22-BB22,0))","v":0},{"$f":"IF(J22=0,0,\"\")","v":0},{"$f":"IF(AND(AH22<=40,E22=J22),J22,0)","v":0},{"$f":"IF(AND(AZ22=0),AZ22,IF(AND(AH22>40,E22>=J22),BE22,IF(AND(AH22<=40,E22>J22),J22,0)))","v":0},{"$f":"IF(AND(AH22<=40,E22<J22),O22-J22,0)","v":0},{"$f":"IF(AND(J22=0),J22,IF(AND(J22>0,AI22>0,J22=BC22),BC22,IF(AND(J22>0,AI22>0,J22-BC22),BC22,0)))","v":0},null,{"$f":"BD22","v":0},null,{"$f":"IF(AND(G22>0,E22>0),1,0)","v":0},{"$f":"40-AH22","v":40},0,{"$f":"IF(AND(BH22=1,BL22>40,E22<G22),E22-BJ22,(IF(AND(BH22=1,BL22>0,E22>=G22),G22-BJ22,0)))","v":0},{"$f":"E22","v":0},{"$f":"IF(AND(K22>0,E22>0),1,0)","v":0},{"$f":"IF(AND(BM22=1,J22>8),K22,(IF(AND(BM22=1,J22>0),J22,0)))","v":0},{"$f":"IF(AND(BM22=1,40-BL21>0,40-BL21<8),40-BL21,IF(AND(J22<K22),J22,K22))","v":0},{"$f":"IF(AND(BM22=1,BL22>40,J22<=K22),J22-BO22,IF(AND(BM22=1,BL22>0,J22>K22),K22-BO22,0))","v":0}]
[{"$f":"IF(A22<$O$7,A22+1,IF(A22=$O$7,\"\"))","v":"2022-08-08"},null,null,"Monday",null,null,null,null,null,null,null,null,null,null,{"$f":"SUM(E23:N23)-J23","v":0},{"$f":"IF(AND(ISNUMBER(AA23),ISNUMBER(X23)),AA23*X23,\"\")","v":""},null,{"$f":"IF(AND(ISNUMBER(AB23),ISNUMBER(X23)),AB23*X23,\"\")","v":""},null,null,{"$f":"IF(BJ23>0,BJ23,BN23)","v":0},{"$f":"IF(BK23>0,BK23,0)","v":0},null,{"$f":"IF(ISNA(INDEX('Conversion Factors'!$B$6:$B$371,MATCH('Aug 1 - Aug 15'!$Z$22:$Z$28,'Conversion Factors'!$A$6:$A$371,0))),\"\",INDEX('Conversion Factors'!$B$6:$B$371,MATCH('Aug 1 - Aug 15'!$Z$22:$Z$28,'Conversion Factors'!$A$6:$A$371,0)))","v":7.8789999999999996},null,"2022-08-08","","",null,null,null,null,null,0,{"$f":"IF(AH23>$AI$12,AH23-($AI$12+AI22+AI21),0)","v":0},false,{"$f":"IF(AND(AO23>0,AO23),IF(AP23>0,AP23,IF(AQ23>0,AQ23,IF(AR23>0,AR23,IF(AU23>0,AU23,0)))))","v":false},null,0,null,0,0,0,0,0,{"$f":"IF(AND(AH22<=40),40-AH22,0)","v":40},{"$f":"AS23","v":0},0,{"$f":"AV23","v":0},null,{"$f":"IF(AND(J23>0,AI23>0,BB23<=AI23),AI23-BB23,IF(AND(J23>0,AI23>0,BB23>AI23),J23-BB23,0))","v":0},0,0,0,0,0,{"$f":"IF(AND(AH22<=40),40-AH22,0)","v":40},{"$f":"BD23","v":0},null,{"$f":"IF(AND(G23>0,E23>0),1,0)","v":0},40,0,0,{"$f":"SUM(E22:E23)","v":0},{"$f":"IF(AND(K23>0,E23>0),1,0)","v":0},{"$f":"IF(AND(BM23=1,J23>8),K23,(IF(AND(BM23=1,J23>0),J23,0)))","v":0},0,0]
["2022-08-09",null,null,"Tuesday",null,null,null,null,null,null,null,null,null,null,{"$f":"SUM(E24:N24)-J24","v":0},"",null,"",null,null,{"$f":"IF(BJ24>0,BJ24,BN24)","v":0},0,null,{"$f":"IF(ISNA(INDEX('Conversion Factors'!$B$6:$B$371,MATCH('Aug 1 - Aug 15'!$Z$22:$Z$28,'Conversion Factors'!$A$6:$A$371,0))),\"\",INDEX('Conversion Factors'!$B$6:$B$371,MATCH('Aug 1 - Aug 15'!$Z$22:$Z$28,'Conversion Factors'!$A$6:$A$371,0)))","v":7.8789999999999996},null,"2022-08-09","","",null,null,null,null,null,0,{"$f":"IF(AH24>$AI$12,AH24-($AI$12+AI23+AI22+AI21),0)","v":0},false,false,null,0,null,0,0,0,0,0,40,0,0,0,null,{"$f":"IF(AND(J24>0,AI24>0,BB24<=AI24),AI24-BB24,IF(AND(J24>0,AI24>0,BB24>AI24),J24-BB24,0))","v":0},0,0,0,0,0,{"$f":"IF(AND(AH23<=40),40-AH23,0)","v":40},0,null,{"$f":"IF(AND(G24>0,E24>0),1,0)","v":0},40,0,0,{"$f":"SUM(E22:E24)","v":0},0,{"$f":"IF(AND(BM24=1,J24>8),K24,(IF(AND(BM24=1,J24>0),J24,0)))","v":0},{"$f":"IF(AND(BM24=1,40-BL23>0,40-BL23<8),40-BL23,IF(AND(J24<K24),J24,K24))","v":0},0]
["2022-08-10",null,null,"Wednesday",null,null,null,null,null,null,null,null,null,null,0,"",null,"",null,null,0,0,null,{"$f":"IF(ISNA(INDEX('Conversion Factors'!$B$6:$B$371,MATCH('Aug 1 - Aug 15'!$Z$22:$Z$28,'Conversion Factors'!$A$6:$A$371,0))),\"\",INDEX('Conversion Factors'!$B$6:$B$371,MATCH('Aug 1 - Aug 15'!$Z$22:$Z$28,'Conversion Factors'!$A$6:$A$371,0)))","v":7.8789999999999996},null,"2022-08-10","","",null,null,null,null,null,0,{"$f":"IF(AH25>$AI$12,AH25-($AI$12+AI24+AI23+AI22+AI21),0)","v":0},false,false,null,0,null,0,0,0,0,0,40,0,0,0,null,{"$f":"IF(AND(J25>0,AI25>0,BB25<=AI25),AI25-BB25,IF(AND(J25>0,AI25>0,BB25>AI25),J25-BB25,0))","v":0},0,0,0,0,0,40,0,null,0,40,0,0,{"$f":"SUM(E22:E25)","v":0},0,{"$f":"IF(AND(BM25=1,J25>8),K25,(IF(AND(BM25=1,J25>0),J25,0)))","v":0},{"$f":"IF(AND(BM25=1,40-BL24>0,40-BL24<8),40-BL24,IF(AND(J25<K25),J25,K25))","v":0},0]
["2022-08-11",null,null,"Thursday",null,null,null,null,null,null,null,null,null,null,0,"",null,"",null,null,0,0,null,{"$f":"IF(ISNA(INDEX('Conversion Factors'!$B$6:$B$371,MATCH('Aug 1 - Aug 15'!$Z$22:$Z$28,'Conversion Factors'!$A$6:$A$371,0))),\"\",INDEX('Conversion Factors'!$B$6:$B$371,MATCH('Aug 1 - Aug 15'!$Z$22:$Z$28,'Conversion Factors'!$A$6:$A$371,0)))","v":7.8789999999999996},null,"2022-08-11","","",null,null,null,null,null,0,{"$f":"IF(AH26>$AI$12,AH26-($AI$12+AI25+AI24+AI23+AI22+AI21),0)","v":0},false,false,null,0,null,0,0,0,0,0,{"$f":"IF(AND(AH25<=40),40-AH25,0)","v":40},0,0,0,null,{"$f":"IF(AND(J26>0,AI26>=J26,BB26=0),O26-AI26,IF(AND(J26>0,AI26>0,BB26<=AI26),AI26-BB26,IF(AND(J26>0,AI26>0,BB26>AI26),J26-BB26,0)))","v":0},0,0,0,0,0,40,0,null,0,40,0,0,{"$f":"SUM(E22:E26)","v":0},0,0,0,0]
["2022-08-12",null,null,"Friday",null,null,null,null,null,null,null,null,null,null,0,"",null,"",null,null,0,0,null,{"$f":"IF(ISNA(INDEX('Conversion Factors'!$B$6:$B$371,MATCH('Aug 1 - Aug 15'!$Z$22:$Z$28,'Conversion Factors'!$A$6:$A$371,0))),\"\",INDEX('Conversion Factors'!$B$6:$B$371,MATCH('Aug 1 - Aug 15'!$Z$22:$Z$28,'Conversion Factors'!$A$6:$A$371,0)))","v":7.8789999999999996},null,"2022-08-12","","",null,null,null,null,null,0,{"$f":"IF(AH27>$AI$12,AH27-($AI$12+AI26+AI25+AI24+AI23+AI22+AI21),0)","v":0},false,false,null,0,null,0,0,0,0,0,{"$f":"IF(AND(AH26<=40),40-AH26,0)","v":40},0,0,0,null,{"$f":"IF(AND(J27>0,AI27>=J27,BB27=0),O27-AI27,IF(AND(J27>0,AI27>0,BB27<=AI27),AI27-BB27,IF(AND(J27>0,AI27>0,BB27>AI27),J27-BB27,0)))","v":0},0,0,0,0,0,40,0,null,0,40,0,0,{"$f":"SUM(E22:E27)","v":0},0,0,0,{"$f":"IF(AND(BM27=1,BL27>40,J27<=K27),J27-BO27,IF(AND(BM27=1,BL27>0,J27>K27),K27-BO27,0))","v":0}]
["2022-08-13",null,null,"Saturday",null,null,null,null,null,null,null,null,null,null,{"$f":"SUM(E28:N28)-J28","v":0},"",null,"",null,null,0,0,null,{"$f":"IF(ISNA(INDEX('Conversion Factors'!$B$6:$B$371,MATCH('Aug 1 - Aug 15'!$Z$22:$Z$28,'Conversion Factors'!$A$6:$A$371,0))),\"\",INDEX('Conversion Factors'!$B$6:$B$371,MATCH('Aug 1 - Aug 15'!$Z$22:$Z$28,'Conversion Factors'!$A$6:$A$371,0)))","v":7.8789999999999996},null,"2022-08-13","","",null,null,null,null,null,0,{"$f":"IF(AH28>$AI$12,AH28-($AI$12+AI27+AI26+AI25+AI24+AI23+AI22+AI21),0)","v":0},false,false,null,0,null,0,0,0,0,0,40,0,0,0,null,{"$f":"IF(AND(J28>0,AI28>=J28,BB28=0),O28-AI28,IF(AND(J28>0,AI28>0,BB28<=AI28),AI28-BB28,IF(AND(J28>0,AI28>0,BB28>AI28),J28-BB28,0)))","v":0},0,0,0,0,0,40,0,null,0,40,0,0,{"$f":"SUM(E22:E28)","v":0},0,0,0,{"$f":"IF(AND(BM28=1,BL28>40,J28<=K28),J28-BO28,IF(AND(BM28=1,BL28>0,J28>K28),K28-BO28,0))","v":0}]
["Week 2 Totals",null,null,null,{"$f":"SUM(E22:E28)","v":0},0,0,0,0,null,0,0,0,0,{"$f":"SUM(O22:O28)","v":0},{"$f":"-SUM(P22:P28)","v":0},{"$f":"SUM(Q22:Q28)","v":0},{"$f":"SUM(R22:R28)","v":0},{"$f":"IF(E29>40,(E29-40)-V29,0)","v":0},{"$f":"MROUND(AL29,0.25)","v":0},{"$f":"SUM(U22:U28)","v":0},{"$f":"SUM(V22:V28)","v":0},{"$f":"IF(E29-(E11-(G29+K29+F29+H29+I29+L29+M29))-(S29+U29+V29)>0,E29-(E11-(G29+K29+F29+H29+I29+L29+M29))-(S29+U29+V29),0)","v":0},null,null,null,null,null,{"$f":"SUM(F29:N29)","v":0},{"$f":"IF(AND(AG29<40,O29>=AG29),O29-(AG29+S29),IF(AND(O29<AG29,E29=O29),O29-E29,IF(AND(E29>AG29,E29<40),E29-AG29,IF(AND(O29>AG29,E29<AG29),E29-(AG29-AC29),IF(AND(O29>AG29,E29>40),E29-(AG29-AC29+S29),IF(AND(O29>AG29,O29>40),O29-(S29+AG29),0))))))","v":0},{"$f":"AD29-U29-V29","v":0},{"$f":"$W$11","v":"Please Select"},{"$f":"$E$11","v":40},null,{"$f":"IF(AH29>$AI$12,-$AI$12,0)","v":0},null,null,{"$f":"IF(AF29=\"Yes\",S29*1.5,0)","v":0},0,null,null,null,null,null,null,null,null,null,null,null,null,0,null,null,null,null,null,null,null,null,null,null,null,null,null,null,null,{"$f":"SUM(BP22:BP28)","v":0},{"$f":"U29+E11","v":40}]
[{"$f":"IF(A28<$O$7,A28+1,IF(A28=$O$7,\"\"))","v":"2022-08-14"},null,null,"Sunday",null,null,null,null,null,null,null,null,null,null,{"$f":"SUM(E30:N30)-J30","v":0},{"$f":"IF(AND(ISNUMBER(AA30),ISNUMBER(X30)),AA30*X30,\"\")","v":""},null,{"$f":"IF(AND(ISNUMBER(AB30),ISNUMBER(X30)),AB30*X30,\"\")","v":""},null,null,{"$f":"IF(BJ30>0,BJ30,BN30)","v":0},{"$f":"IF(BK30>0,BK30,0)","v":0},null,{"$f":"IF(ISNA(INDEX('Conversion Factors'!$B$6:$B$370,MATCH('Aug 1 - Aug 15'!$Z$30:$Z$36,'Conversion Factors'!$A$6:$A$370,0))),\"\",INDEX('Conversion Factors'!$B$6:$B$370,MATCH('Aug 1 - Aug 15'!$Z$30:$Z$36,'Conversion Factors'!$A$6:$A$370,0)))","v":7.8789999999999996},null,{"$f":"A30","v":"2022-08-14"},{"$f":"IF(AND(ISNUMBER(N30),ISNUMBER($Z$12)),N30/$Z$12,\"\")","v":""},{"$f":"IF(AND(ISNUMBER(Q30),ISNUMBER($Z$12)),Q30/$Z$12,\"\")","v":""},null,null,null,null,null,{"$f":"E30+AH29","v":0},{"$f":"IF(AH30>$AI$12,AH30-($AI$12+AI29),0)","v":0},{"$f":"IF(AND(AZ30>0,AZ30),IF(BA30>0,BA30,IF(BB30>0,BB30,IF(BC30>0,BC30,IF(BF30>0,BF30,\"\")))))","v":false},{"$f":"IF(AND(AO30>0,AO30),IF(AP30>0,AP30,IF(AQ30>0,AQ30,IF(AR30>0,AR30,IF(AU30>0,AU30,\"\")))))","v":false},null,0,null,{"$f":"IF(G30=0,0,\"\")","v":0},{"$f":"IF(AND(AH30<=40,E30=G30),G30,0)","v":0},{"$f":"IF(AND(AH30<=40,E30>=G30,G30>0),O30-E30,0)","v":0},{"$f":"IF(AND(AH30<=40,E30<G30),O30-G30,0)","v":0},{"$f":"IF(AND(G30=0),G30,IF(AND(G30>0,AI30>0,G30=AT30),AT30,IF(AND(G30>0,AI30>0,G30-AT30),AT30,0)))","v":0},null,{"$f":"AS30","v":0},{"$f":"IF(AND(AH29+AU30=40,AI30>0,AI30>AU30),AI30-AU30,IF(AND(AH29+AU30=40,AI30>0,AI30<AU30,AU30+AI30=G30),AI30,IF(AND(AH29>40,AH30>40,G30=AI30),AI30,0)))","v":0},{"$f":"AV30","v":0},null,{"$f":"IF(AND(J30>0,AI30>=J30,BB30=0),O30-AI30,IF(AND(J30>0,AI30>0,BB30<=AI30),AI30-BB30,IF(AND(J30>0,AI30>0,BB30>AI30),J30-BB30,0)))","v":0},0,{"$f":"IF(AND(AH30<=40,E30=J30),J30,0)","v":0},{"$f":"IF(AND(AZ30=0),AZ30,IF(AND(AH30>40,E30>=J30),BE30,IF(AND(AH30<=40,E30>J30),J30,0)))","v":0},{"$f":"IF(AND(AH30<=40,E30<J30),O30-J30,0)","v":0},{"$f":"IF(AND(J30=0),J30,IF(AND(J30>0,AI30>0,J30=BC30),BC30,IF(AND(J30>0,AI30>0,J30-BC30),BC30,0)))","v":0},null,{"$f":"BD30","v":0},null,{"$f":"IF(AND(G30>0,E30>0),1,0)","v":0},{"$f":"40-AH30","v":40},0,{"$f":"IF(AND(BH30=1,BL30>40,E30<G30),E30-BJ30,(IF(AND(BH30=1,BL30>0,E30>=G30),G30-BJ30,0)))","v":0},{"$f":"E30","v":0},{"$f":"IF(AND(K30>0,E30>0),1,0)","v":0},{"$f":"IF(AND(BM30=1,J30>8),K30,(IF(AND(BM30=1,J30>0),J30,0)))","v":0},{"$f":"IF(AND(BM30=1,40-BL29>0,40-BL29<8),40-BL29,IF(AND(J30<K30),J30,K30))","v":0},{"$f":"IF(AND(BM30=1,BL30>40,J30<=K30),J30-BO30,IF(AND(BM30=1,BL30>0,J30>K30),K30-BO30,0))","v":0}]
[{"$f":"IF(A30<$O$7,A30+1,IF(A30=$O$7,\"\"))","v":"2022-08-15"},null,null,"Monday",null,null,null,null,null,null,null,null,null,null,{"$f":"SUM(E31:N31)-J31","v":0},{"$f":"IF(AND(ISNUMBER(AA31),ISNUMBER(X31)),AA31*X31,\"\")","v":""},null,{"$f":"IF(AND(ISNUMBER(AB31),ISNUMBER(X31)),AB31*X31,\"\")","v":""},null,null,0,{"$f":"IF(BK31>0,BK31,0)","v":0},null,{"$f":"IF(ISNA(INDEX('Conversion Factors'!$B$6:$B$370,MATCH('Aug 1 - Aug 15'!$Z$30:$Z$36,'Conversion Factors'!$A$6:$A$370,0))),\"\",INDEX('Conversion Factors'!$B$6:$B$370,MATCH('Aug 1 - Aug 15'!$Z$30:$Z$36,'Conversion Factors'!$A$6:$A$370,0)))","v":7.8789999999999996},null,"2022-08-15","","",null,null,null,null,null,0,{"$f":"IF(AH31>$AI$12,AH31-($AI$12+AI30+AI29),0)","v":0},false,{"$f":"IF(AND(AO31>0,AO31),IF(AP31>0,AP31,IF(AQ31>0,AQ31,IF(AR31>0,AR31,IF(AU31>0,AU31,0)))))","v":false},null,0,null,0,0,0,0,0,{"$f":"IF(AND(AH30<=40),40-AH30,0)","v":40},{"$f":"AS31","v":0},0,{"$f":"AV31","v":0},null,0,0,0,0,0,0,{"$f":"IF(AND(AH30<=40),40-AH30,0)","v":40},{"$f":"BD31","v":0},null,{"$f":"IF(AND(G31>0,E31>0),1,0)","v":0},40,0,0,{"$f":"SUM(E30:E31)","v":0},{"$f":"IF(AND(K31>0,E31>0),1,0)","v":0},{"$f":"IF(AND(BM31=1,J31>8),K31,(IF(AND(BM31=1,J31>0),J31,0)))","v":0},0,0]
["",null,null,"Tuesday",null,null,null,null,null,null,null,null,null,null,0,"",null,"",null,null,0,0,null,{"$f":"IF(ISNA(INDEX('Conversion Factors'!$B$6:$B$370,MATCH('Aug 1 - Aug 15'!$Z$30:$Z$36,'Conversion Factors'!$A$6:$A$370,0))),\"\",INDEX('Conversion Factors'!$B$6:$B$370,MATCH('Aug 1 - Aug 15'!$Z$30:$Z$36,'Conversion Factors'!$A$6:$A$370,0)))","v":""},null,"","","",null,null,null,null,null,0,{"$f":"IF(AH32>$AI$12,AH32-($AI$12+AI31+AI30+AI29),0)","v":0},false,false,null,0,null,0,0,0,0,0,40,0,0,0,null,0,0,0,0,0,0,{"$f":"IF(AND(AH31<=40),40-AH31,0)","v":40},0,null,{"$f":"IF(AND(G32>0,E32>0),1,0)","v":0},40,0,0,{"$f":"SUM(E30:E32)","v":0},0,{"$f":"IF(AND(BM32=1,J32>8),K32,(IF(AND(BM32=1,J32>0),J32,0)))","v":0},{"$f":"IF(AND(BM32=1,40-BL31>0,40-BL31<8),40-BL31,IF(AND(J32<K32),J32,K32))","v":0},0]
[false,null,null,"Wednesday",null,null,null,null,null,null,null,null,null,null,0,"",null,"",null,null,0,0,null,{"$f":"IF(ISNA(INDEX('Conversion Factors'!$B$6:$B$370,MATCH('Aug 1 - Aug 15'!$Z$30:$Z$36,'Conversion Factors'!$A$6:$A$370,0))),\"\",INDEX('Conversion Factors'!$B$6:$B$370,MATCH('Aug 1 - Aug 15'!$Z$30:$Z$36,'Conversion Factors'!$A$6:$A$370,0)))","v":""},null,false,"","",null,null,null,null,null,0,{"$f":"IF(AH33>$AI$12,AH33-($AI$12+AI32+AI31+AI30+AI29),0)","v":0},false,false,null,0,null,0,0,0,0,0,40,0,0,0,null,0,0,0,0,0,0,40,0,null,{"$f":"IF(AND(G33>0,E33>0),1,0)","v":0},40,0,0,{"$f":"SUM(E30:E33)","v":0},0,{"$f":"IF(AND(BM33=1,J33>8),K33,(IF(AND(BM33=1,J33>0),J33,0)))","v":0},{"$f":"IF(AND(BM33=1,40-BL32>0,40-BL32<8),40-BL32,IF(AND(J33<K33),J33,K33))","v":0},0]
[false,null,null,"Thursday",null,null,null,null,null,null,null,null,null,null,0,"",null,"",null,null,0,0,null,{"$f":"IF(ISNA(INDEX('Conversion Factors'!$B$6:$B$370,MATCH('Aug 1 - Aug 15'!$Z$30:$Z$36,'Conversion Factors'!$A$6:$A$370,0))),\"\",INDEX('Conversion Factors'!$B$6:$B$370,MATCH('Aug 1 - Aug 15'!$Z$30:$Z$36,'Conversion Factors'!$A$6:$A$370,0)))","v":""},null,false,"","",null,null,null,null,null,0,{"$f":"IF(AH34>$AI$12,AH34-($AI$12+AI33+AI32+AI31+AI30+AI29),0)","v":0},false,false,null,0,null,0,0,0,0,0,{"$f":"IF(AND(AH33<=40),40-AH33,0)","v":40},0,0,0,null,0,0,0,0,0,0,40,0,null,0,40,0,0,{"$f":"SUM(E30:E34)","v":0},0,0,0,0]
[false,null,null,"Friday",null,null,null,null,null,null,null,null,null,null,0,"",null,"",null,null,0,0,null,{"$f":"IF(ISNA(INDEX('Conversion Factors'!$B$6:$B$370,MATCH('Aug 1 - Aug 15'!$Z$30:$Z$36,'Conversion Factors'!$A$6:$A$370,0))),\"\",INDEX('Conversion Factors'!$B$6:$B$370,MATCH('Aug 1 - Aug 15'!$Z$30:$Z$36,'Conversion Factors'!$A$6:$A$370,0)))","v":""},null,false,"","",null,null,null,null,null,0,{"$f":"IF(AH35>$AI$12,AH35-($AI$12+AI34+AI33+AI32+AI31+AI30+AI29),0)","v":0},false,false,null,0,null,0,0,0,0,0,{"$f":"IF(AND(AH34<=40),40-AH34,0)","v":40},0,0,0,null,0,0,0,0,0,0,40,0,null,0,40,0,0,{"$f":"SUM(E30:E35)","v":0},0,0,0,{"$f":"IF(AND(BM35=1,BL35>40,J35<=K35),J35-BO35,IF(AND(BM35=1,BL35>0,J35>K35),K35-BO35,0))","v":0}]
[false,null,null,"Saturday",null,null,null,null,null,null,null,null,null,null,0,"",null,"",null,null,0,0,null,{"$f":"IF(ISNA(INDEX('Conversion Factors'!$B$6:$B$370,MATCH('Aug 1 - Aug 15'!$Z$30:$Z$36,'Conversion Factors'!$A$6:$A$370,0))),\"\",INDEX('Conversion Factors'!$B$6:$B$370,MATCH('Aug 1 - Aug 15'!$Z$30:$Z$36,'Conversion Factors'!$A$6:$A$370,0)))","v":""},null,false,"","",null,null,null,null,null,0,{"$f":"IF(AH36>$AI$12,AH36-($AI$12+AI35+AI34+AI33+AI32+AI31+AI30+AI29),0)","v":0},false,false,null,0,null,0,0,0,0,0,40,0,0,0,null,0,0,0,0,0,0,40,0,null,0,40,0,0,{"$f":"SUM(E30:E36)","v":0},0,0,0,{"$f":"IF(AND(BM36=1,BL36>40,J36<=K36),J36-BO36,IF(AND(BM36=1,BL36>0,J36>K36),K36-BO36,0))","v":0}]
["Week 3 Totals",null,null,null,{"$f":"SUM(E30:E36)","v":0},0,0,0,0,null,0,0,0,0,{"$f":"SUM(O30:O36)","v":0},{"$f":"-SUM(P30:P36)","v":0},{"$f":"SUM(Q30:Q36)","v":0},{"$f":"SUM(R30:R36)","v":0},{"$f":"IF(E37>40,(E37-40)-V37,0)","v":0},{"$f":"MROUND(AL37,0.25)","v":0},{"$f":"SUM(U30:U36)","v":0},{"$f":"SUM(V30:V36)","v":0},{"$f":"IF(E37-(E11-(G37+K37+F37+H37+I37+L37+M3))-(S37+U37+V37)>0,E37-(E11-(G37+K37+F37+H37+I37+L37+M37))-(S37+U37+V37),0)","v":0},null,null,null,null,null,{"$f":"SUM(F37:N37)","v":0},{"$f":"IF(AND(AG37<40,O37>=AG37),O37-(AG37+S37),IF(AND(O37<AG37,E37=O37),O37-E37,IF(AND(E37>AG37,E37<40),E37-AG37,IF(AND(O37>AG37,E37<AG37),E37-(AG37-AC37),IF(AND(O37>AG37,E37>40),E37-(AG37-AC37+S37),IF(AND(O37>AG37,O37>40),O37-(S37+AG37),0))))))","v":0},{"$f":"AD37-U37-V37","v":0},{"$f":"$W$11","v":"Please Select"},{"$f":"$E$11","v":40},null,{"$f":"IF(AH37>$AI$12,-$AI$12,0)","v":0},null,null,{"$f":"IF(AF37=\"Yes\",S37*1.5,0)","v":0},null,null,null,null,null,null,null,null,null,null,null,null,null,null,null,null,null,null,null,null,null,0,null,null,null,null,null,null,null,{"$f":"SUM(BP30:BP36)","v":0},{"$f":"U37+E11","v":40}]
[{"$f":"IF(A36<$O$7,A36+1,IF(A36=$O$7,\"\"))","v":false},null,null,"Sunday",null,null,null,null,null,null,null,null,null,null,{"$f":"SUM(E38:N38)-J38","v":0},{"$f":"IF(AND(ISNUMBER(AA38),ISNUMBER(X38)),AA38*X38,\"\")","v":""},null,{"$f":"IF(AND(ISNUMBER(AB38),ISNUMBER(X38)),AB38*X38,\"\")","v":""},null,null,0,{"$f":"IF(BK38>0,BK38,0)","v":0},null,{"$f":"IF(ISNA(INDEX('Conversion Factors'!$B$6:$B$370,MATCH('Aug 1 - Aug 15'!$Z$38:$Z$44,'Conversion Factors'!$A$6:$A$370,0))),\"\",INDEX('Conversion Factors'!$B$6:$B$370,MATCH('Aug 1 - Aug 15'!$Z$38:$Z$44,'Conversion Factors'!$A$6:$A$370,0)))","v":""},null,{"$f":"A38","v":false},{"$f":"IF(AND(ISNUMBER(N38),ISNUMBER($Z$12)),N38/$Z$12,\"\")","v":""},{"$f":"IF(AND(ISNUMBER(Q38),ISNUMBER($Z$12)),Q38/$Z$12,\"\")","v":""},null,null,null,null,null,{"$f":"E38+AH37","v":0},{"$f":"IF(AH38>$AI$12,AH38-($AI$12+AI37),0)","v":0},{"$f":"IF(AND(AZ38>0,AZ38),IF(BA38>0,BA38,IF(BB38>0,BB38,IF(BC38>0,BC38,IF(BF38>0,BF38,\"\")))))","v":false},{"$f":"IF(AND(AO38>0,AO38),IF(AP38>0,AP38,IF(AQ38>0,AQ38,IF(AR38>0,AR38,IF(AU38>0,AU38,\"\")))))","v":false},null,{"$f":"J38","v":0},null,{"$f":"IF(G38=0,0,\"\")","v":0},{"$f":"IF(AND(AH38<=40,E38=G38),G38,0)","v":0},{"$f":"IF(AND(AH38<=40,E38>=G38,G38>0),O38-E38,0)","v":0},{"$f":"IF(AND(AH38<=40,E38<G38),O38-G38,0)","v":0},{"$f":"IF(AND(G38=0),G38,IF(AND(G38>0,AI38>0,G38=AT38),AT38,IF(AND(G38>0,AI38>0,G38-AT38),AT38,0)))","v":0},null,{"$f":"AS38","v":0},{"$f":"IF(AND(AH37+AU38=40,AI38>0,AI38>AU38),AI38-AU38,IF(AND(AH37+AU38=40,AI38>0,AI38<AU38,AU38+AI38=G38),AI38,IF(AND(AH37>40,AH38>40,G38=AI38),AI38,0)))","v":0},{"$f":"AV38","v":0},null,{"$f":"IF(AND(J38>0,AI38>=J38,BB38=0),O38-AI38,IF(AND(J38>0,AI38>0,BB38<=AI38),AI38-BB38,IF(AND(J38>0,AI38>0,BB38>AI38),J38-BB38,0)))","v":0},{"$f":"IF(J38=0,0,\"\")","v":0},{"$f":"IF(AND(AH38<=40,E38=J38),J38,0)","v":0},{"$f":"IF(AND(AZ38=0),AZ38,IF(AND(AH38>40,E38>=J38),BE38,IF(AND(AH38<=40,E38>J38),J38,0)))","v":0},{"$f":"IF(AND(AH38<=40,E38<J38),O38-J38,0)","v":0},{"$f":"IF(AND(J38=0),J38,IF(AND(J38>0,AI38>0,J38=BC38),BC38,IF(AND(J38>0,AI38>0,J38-BC38),BC38,0)))","v":0},null,{"$f":"BD38","v":0},null,{"$f":"IF(AND(G38>0,E38>0),1,0)","v":0},{"$f":"40-AH38","v":40},0,{"$f":"IF(AND(BH38=1,BL38>40,E38<G38),E38-BJ38,(IF(AND(BH38=1,BL38>0,E38>=G38),G38-BJ38,0)))","v":0},{"$f":"E38","v":0},{"$f":"IF(AND(K38>0,E38>0),1,0)","v":0},{"$f":"IF(AND(BM38=1,J38>8),K38,(IF(AND(BM38=1,J38>0),J38,0)))","v":0},{"$f":"IF(AND(BM38=1,40-BL37>0,40-BL37<8),40-BL37,IF(AND(J38<K38),J38,K38))","v":0},{"$f":"IF(AND(BM38=1,BL38>40,J38<=K38),J38-BO38,IF(AND(BM38=1,BL38>0,J38>K38),K38-BO38,0))","v":0}]
[{"$f":"IF(A38<$O$7,A38+1,IF(A38=$O$7,\"\"))","v":false},null,null,"Monday",null,null,null,0,null,null,null,null,null,null,{"$f":"SUM(E39:N39)-J39","v":0},{"$f":"IF(AND(ISNUMBER(AA39),ISNUMBER(X39)),AA39*X39,\"\")","v":""},null,{"$f":"IF(AND(ISNUMBER(AB39),ISNUMBER(X39)),AB39*X39,\"\")","v":""},null,null,0,{"$f":"IF(BK39>0,BK39,0)","v":0},null,{"$f":"IF(ISNA(INDEX('Conversion Factors'!$B$6:$B$370,MATCH('Aug 1 - Aug 15'!$Z$38:$Z$44,'Conversion Factors'!$A$6:$A$370,0))),\"\",INDEX('Conversion Factors'!$B$6:$B$370,MATCH('Aug 1 - Aug 15'!$Z$38:$Z$44,'Conversion Factors'!$A$6:$A$370,0)))","v":""},null,false,"","",null,null,null,null,null,0,{"$f":"IF(AH39>$AI$12,AH39-($AI$12+AI38+AI37),0)","v":0},false,{"$f":"IF(AND(AO39>0,AO39),IF(AP39>0,AP39,IF(AQ39>0,AQ39,IF(AR39>0,AR39,IF(AU39>0,AU39,0)))))","v":false},null,0,null,0,0,0,0,0,{"$f":"IF(AND(AH38<=40),40-AH38,0)","v":40},{"$f":"AS39","v":0},0,{"$f":"AV39","v":0},null,0,0,0,0,0,0,{"$f":"IF(AND(AH38<=40),40-AH38,0)","v":40},{"$f":"BD39","v":0},null,{"$f":"IF(AND(G39>0,E39>0),1,0)","v":0},40,0,0,{"$f":"SUM(E38:E39)","v":0},{"$f":"IF(AND(K39>0,E39>0),1,0)","v":0},{"$f":"IF(AND(BM39=1,J39>8),K39,(IF(AND(BM39=1,J39>0),J39,0)))","v":0},0,0]
[false,null,null,"Tuesday",null,null,null,null,null,0,0,null,null,null,{"$f":"SUM(E40:N40)-J40","v":0},"",null,"",null,null,0,0,null,{"$f":"IF(ISNA(INDEX('Conversion Factors'!$B$6:$B$370,MATCH('Aug 1 - Aug 15'!$Z$38:$Z$44,'Conversion Factors'!$A$6:$A$370,0))),\"\",INDEX('Conversion Factors'!$B$6:$B$370,MATCH('Aug 1 - Aug 15'!$Z$38:$Z$44,'Conversion Factors'!$A$6:$A$370,0)))","v":""},null,false,"","",null,null,null,null,null,0,{"$f":"IF(AH40>$AI$12,AH40-($AI$12+AI39+AI38+AI37),0)","v":0},false,false,null,0,null,0,0,0,0,0,40,0,0,0,null,0,0,0,0,0,0,{"$f":"IF(AND(AH39<=40),40-AH39,0)","v":40},0,null,{"$f":"IF(AND(G40>0,E40>0),1,0)","v":0},40,0,0,{"$f":"SUM(E38:E40)","v":0},0,{"$f":"IF(AND(BM40=1,J40>8),K40,(IF(AND(BM40=1,J40>0),J40,0)))","v":0},{"$f":"IF(AND(BM40=1,40-BL39>0,40-BL39<8),40-BL39,IF(AND(J40<K40),J40,K40))","v":0},0]
[false,null,null,"Wednesday",null,null,null,null,null,null,null,null,null,null,0,"",null,"",null,null,0,0,null,{"$f":"IF(ISNA(INDEX('Conversion Factors'!$B$6:$B$370,MATCH('Aug 1 - Aug 15'!$Z$38:$Z$44,'Conversion Factors'!$A$6:$A$370,0))),\"\",INDEX('Conversion Factors'!$B$6:$B$370,MATCH('Aug 1 - Aug 15'!$Z$38:$Z$44,'Conversion Factors'!$A$6:$A$370,0)))","v":""},null,false,"","",null,null,null,null,null,0,{"$f":"IF(AH41>$AI$12,AH41-($AI$12+AI40+AI39+AI38+AI37),0)","v":0},false,false,null,0,null,0,0,0,0,0,40,0,0,0,null,0,0,0,0,0,0,40,0,null,{"$f":"IF(AND(G41>0,E41>0),1,0)","v":0},40,0,0,{"$f":"SUM(E38:E41)","v":0},0,{"$f":"IF(AND(BM41=1,J41>8),K41,(IF(AND(BM41=1,J41>0),J41,0)))","v":0},{"$f":"IF(AND(BM41=1,40-BL40>0,40-BL40<8),40-BL40,IF(AND(J41<K41),J41,K41))","v":0},0]
[false,null,null,"Thursday",null,null,null,null,null,null,null,null,null,null,0,"",null,"",null,null,0,0,null,{"$f":"IF(ISNA(INDEX('Conversion Factors'!$B$6:$B$370,MATCH('Aug 1 - Aug 15'!$Z$38:$Z$44,'Conversion Factors'!$A$6:$A$370,0))),\"\",INDEX('Conversion Factors'!$B$6:$B$370,MATCH('Aug 1 - Aug 15'!$Z$38:$Z$44,'Conversion Factors'!$A$6:$A$370,0)))","v":""},null,false,"","",null,null,null,null,null,0,{"$f":"IF(AH42>$AI$12,AH42-($AI$12+AI41+AI40+AI39+AI38+AI37),0)","v":0},false,false,null,0,null,0,0,0,0,0,{"$f":"IF(AND(AH41<=40),40-AH41,0)","v":40},0,0,0,null,0,0,0,0,0,0,40,0,null,0,40,0,0,{"$f":"SUM(E38:E42)","v":0},0,0,0,0]
[false,null,null,"Friday",null,null,null,null,null,null,null,null,null,null,0,"",null,"",null,null,0,0,null,{"$f":"IF(ISNA(INDEX('Conversion Factors'!$B$6:$B$370,MATCH('Aug 1 - Aug 15'!$Z$38:$Z$44,'Conversion Factors'!$A$6:$A$370,0))),\"\",INDEX('Conversion Factors'!$B$6:$B$370,MATCH('Aug 1 - Aug 15'!$Z$38:$Z$44,'Conversion Factors'!$A$6:$A$370,0)))","v":""},null,false,"","",null,null,null,null,null,0,{"$f":"IF(AH43>$AI$12,AH43-($AI$12+AI42+AI41+AI40+AI39+AI38+AI37),0)","v":0},false,false,null,0,null,0,0,0,0,0,{"$f":"IF(AND(AH42<=40),40-AH42,0)","v":40},0,0,0,null,0,0,0,0,0,0,40,0,null,0,40,0,0,{"$f":"SUM(E38:E43)","v":0},0,0,0,{"$f":"IF(AND(BM43=1,BL43>40,J43<=K43),J43-BO43,IF(AND(BM43=1,BL43>0,J43>K43),K43-BO43,0))","v":0}]
[false,null,null,"Saturday",null,null,null,null,null,null,null,null,null,null,{"$f":"SUM(E44:N44)-J44","v":0},"",null,"",null,null,0,0,null,{"$f":"IF(ISNA(INDEX('Conversion Factors'!$B$6:$B$370,MATCH('Aug 1 - Aug 15'!$Z$38:$Z$44,'Conversion Factors'!$A$6:$A$370,0))),\"\",INDEX('Conversion Factors'!$B$6:$B$370,MATCH('Aug 1 - Aug 15'!$Z$38:$Z$44,'Conversion Factors'!$A$6:$A$370,0)))","v":""},null,false,"","",null,null,null,null,null,0,{"$f":"IF(AH44>$AI$12,AH44-($AI$12+AI43+AI42+AI41+AI40+AI39+AI38+AI37),0)","v":0},false,false,null,0,null,0,0,0,0,0,40,0,0,0,null,0,0,0,0,0,0,40,0,null,0,40,0,0,{"$f":"SUM(E38:E44)","v":0},0,0,0,{"$f":"IF(AND(BM44=1,BL44>40,J44<=K44),J44-BO44,IF(AND(BM44=1,BL44>0,J44>K44),K44-BO44,0))","v":0}]
["Week 4 Totals",null,null,null,{"$f":"SUM(E38:E44)","v":0},{"$f":"SUM(F38:F44)","v":0},0,0,0,null,0,0,0,0,{"$f":"SUM(O38:O44)","v":0},{"$f":"-SUM(P38:P44)","v":0},{"$f":"SUM(Q38:Q44)","v":0},{"$f":"SUM(R38:R44)","v":0},{"$f":"IF(E45>40,(E45-40)-V45,0)","v":0},{"$f":"MROUND(AL45,0.25)","v":0},{"$f":"SUM(U38:U44)","v":0},{"$f":"SUM(V38:V44)","v":0},{"$f":"IF(E45-(E11-(G45+K45+F45+H45+I45+L45+M45))-(S45+U45+V45)>0,E45-(E11-(G45+K45+F45+H45+I45+L45+M45))-(S45+U45+V45),0)","v":0},null,null,null,null,null,{"$f":"SUM(F45:N45)","v":0},{"$f":"IF(AND(AG45<40,O45>=AG45),O45-(AG45+S45),IF(AND(O45<AG45,E45=O45),O45-E45,IF(AND(E45>AG45,E45<40),E45-AG45,IF(AND(O45>AG45,E45<AG45),E45-(AG45-AC45),IF(AND(O45>AG45,E45>40),E45-(AG45-AC45+S45),IF(AND(O45>AG45,O45>40),O45-(S45+AG45),0))))))","v":0},{"$f":"AD45-U45-V45","v":0},{"$f":"$W$11","v":"Please Select"},{"$f":"$E$11","v":40},null,{"$f":"IF(AH45>$AI$12,-$AI$12,0)","v":0},null,null,{"$f":"IF(AF45=\"Yes\",S45*1.5,0)","v":0},null,null,null,null,null,null,null,null,null,null,null,null,null,null,null,null,null,null,null,null,null,null,null,null,null,null,null,null,null,{"$f":"SUM(BP38:BP44)","v":0},{"$f":"E44+E11","v":40}]
[null,null,null,null,null,null,null,null,"Total-Net Previous Week",null,null,null,null,null,{"$f":"(O21+O29+O37+O45)-O13","v":0},{"$f":"SUM(P37,P29,P21)-P13","v":0},{"$f":"(Q21+Q29+Q37+Q45)-Q13","v":0},null,{"$f":"(S21+S29+S37+S45)-S13","v":0},0,0,0,0,0]
[]
[null,null,null,null,null,null,null,null,null,null,null,null,null,null,"Leave/Leave Without Pay Policy"]
["Employee signature",null,null,null,null,null,"Date",null,null,null,null,null,null,null,"Overtime/Compensatory Time"]
["I certify this record is accurate and accounts for my time during the indicated period.",null,null,null,null,null,null,null,null,null,null,null,null,null,"Time Sheet Definitions/Policies"]
[]
[null,null,null,null,null,null,null,null,null,null,"“Actual Work Hours During Administrative Close Period” – Only key the hours actually worked during the admministrative closing period into this field. "]
[]
["Manager signature",null,null,null,null,null,"Date"]
["I certify the hours recorded and coded on this form are correct and in compliance with University policy.",null,null,null,null,null,null,null,null,null,"“Administrative Closing/Leave Period field.”  Entter the number of hours of the declared period of administrative closing. (The total hours worked during the entire day will be entered into the “Actual Hours Worked” field.)"]

{"sheet":"Aug 16 - Aug 31","index":10,"n_rows":55,"n_cols":69,"rows_kept":55,"cut":false,"hidden":false,"merged":[[0,0,0,22],[1,0,1,22],[3,0,3,23],[5,2,5,7],[5,8,5,13],[5,14,5,19],[10,40,10,46],[6,2,6,7],[6,8,6,13],[6,14,6,19],[7,2,7,7],[7,8,7,13],[7,14,7,19],[10,0,10,3],[10,4,10,5],[10,6,10,17],[10,18,10,21],[10,22,10,23],[21,0,21,2],[11,0,11,2],[11,29,11,30],[12,0,12,3],[13,0,13,2],[14,0,14,2],[15,0,15,2],[16,0,16,2],[17,0,17,2],[18,0,18,2],[19,0,19,2],[20,0,20,2],[33,0,33,2],[22,0,22,2],[23,0,23,2],[24,0,24,2],[25,0,25,2],[26,0,26,2],[27,0,27,2],[28,0,28,2],[29,0,29,2],[30,0,30,2],[31,0,31,2],[32,0,32,2],[45,8,45,13],[34,0,34,2],[35,0,35,2],[36,0,36,2],[37,0,37,2],[38,0,38,2],[39,0,39,2],[40,0,40,2],[41,0,41,2],[42,0,42,2],[43,0,43,2],[44,0,44,2],[47,14,47,22],[48,14,48,19],[49,14,49,22],[51,10,53,22],[54,10,56,22]]}
["Mississippi State University"]
["Non-Exempt Employee Semi-Monthly Time Report"]
[]
["Instructions:  The Fair Labor Standards Act requires that a record of hours worked on a weekly basis be maintained for all employees except executive, administrative, managerial, faculty, and professional (non-faculty).  Department/unit heads are responsible for compiling and maintaining this record in department files on each covered employee for a period of at least (3) years."]
[]
["MSU ID #:",null,{"$f":"'July 1 - July 15'!C6","v":0},null,null,null,null,null,"Pay period start date:",null,null,null,null,null,{"$f":"'Dates & Notes'!$A$5","v":"2022-08-16"},null,null,null,null,null,null,null,null,null,null,{"$f":"TEXT(O6,\"dddd\")","v":"Tuesday"},null,null,null,"Please Select"]
["Name:",null,{"$f":"'July 1 - July 15'!C7","v":0},null,null,null,null,null,"Pay period end date:",null,null,null,null,null,{"$f":"'Dates & Notes'!$B$5","v":"2022-08-31"},null,null,null,null,null,null,null,null,null,null,null,null,null,null,"No"]
["Department:",null,{"$f":"'July 1 - July 15'!C8","v":0},null,null,null,null,null,"Pay Period Number:",null,null,null,null,null,{"$f":"'Dates & Notes'!$C$5","v":16},null,null,null,null,null,null,null,null,null,null,null,null,null,null,"Yes"]
[]
[]
["Employee Scheduled Hours Per Week",null,null,null,40,null,"FIELDS MUST BE ENTERED FOR CALULATIONS TO WORK PROPERLY",null,null,null,null,null,null,null,null,null,null,null,"Receive Compensatory Time",null,null,null,"Please Select",null,null,null,null,null,null,null,null,null,null,null,"Over 40",null,null,null,null,null,"HOW ANALYSIS"]
["Work Week Dates",null,null,"Day of The Week","Actual Hours Worked","Compensatory Time Used","Holiday","Medical Leave","Personal Leave","Actual Wrk Hrs During  Admin Close Period","Administrative Closing/Leave Period","Jury Duty","Military Leave","Leave Without Pay","Totals","DOC-Payroll Conversion","RTO","RTO-Payroll Conversion","Overtime Hours","Hours Transferred to Comp. Record","HOW-Holiday Pay or Admin/Leave Closing","HOT-Holiday Pay","SST-Payroll","Conversion Factor",null,8,"DOC","RTO",null,"SST",null,null,null,"Cumm Actual HRS",40,"Administrative Leave","HOW-Holiday Pay","Comp. Time","Administrative/Schedule",null,"Holiday=0\n1",2,3,4,null,"<=40\n5",null,"HOT Workup","HOT-Holiday Pay (HOLIDAY PAY)",null,"HOT-Administrative HRS","Administrative=0\n1",2,3,4,null,"<=40\n5",null,null,"Holiday Flag","Up to 40","How","Hot","Actual Hours Worked","Admin Flag","Admin","Admin HOW","Admin OVT"]
["Hours-Previous WK (Due to Split WK)",null,null,null,{"$f":"SUM(E14:E15)","v":0},0,0,0,0,0,0,0,{"$f":"SUM(M14:M15)","v":0},0,{"$f":"SUM(E13:N13)-J13","v":0},null,null,null,null,null,null,null,null,null,null,null,null,null,null,null,null,null,null,null,null,{"$f":"IF(AND(AM13=0,J13=0),AM13,IF(AND(E13>AM13,J13=0),J13,IF(AND(J13<AM13,AI13=0),J13,IF(AND(AM13=J13,AI13<AM13),AM13-AI13,IF(AND(J13=AM13,AI13=AM13),AI13,IF(AND(J13<AM13,AI13>0),AM13-J13,IF(AND(AM13>J13,AI13<E13),E13-AI13,IF(AND(E13>AM13,AI13=E13),O13-AI13,0))))))))","v":0},{"$f":"IF(AND(G13=0,E13>G13),G13,IF(AND(E13>G13,AI13=0),G13,IF(AND(E13<G13,AI13=0),E13,IF(AND(E13=G13,AI13<G13),G13-AI13,IF(AND(E13=G13,AI13=G13),AI13,IF(AND(E13<G13,AI13>0),G13-E13,IF(AND(E13>G13,AI13<E13),E13-AI13,IF(AND(E13>G13,AI13=E13),O13-AI13,0))))))))","v":0},null,{"$f":"K13","v":0}]
[{"$f":"IF(EXACT(D14,$Z$6)=TRUE,$O$6,IF(A12=0,\"\",IF(A12<$O$7,A12+1,IF(A12=$O$7,\"\"))))","v":false},null,null,"Sunday",{"$f":"'Aug 1 - Aug 15'!E30","v":0},{"$f":"'Aug 1 - Aug 15'!F30","v":0},{"$f":"'Aug 1 - Aug 15'!G30","v":0},{"$f":"'Aug 1 - Aug 15'!H30","v":0},{"$f":"'Aug 1 - Aug 15'!I30","v":0},{"$f":"'Aug 1 - Aug 15'!J30","v":0},{"$f":"'Aug 1 - Aug 15'!K30","v":0},{"$f":"'Aug 1 - Aug 15'!L30","v":0},{"$f":"'Aug 1 - Aug 15'!M30","v":0},{"$f":"'Aug 1 - Aug 15'!N30","v":0},{"$f":"SUM(E14:N14)-J14","v":0},{"$f":"IF(AND(ISNUMBER(AA14),ISNUMBER(X14)),AA14*X14,\"\")","v":""},null,{"$f":"IF(AND(ISNUMBER(AB14),ISNUMBER(X14)),AB14*X14,\"\")","v":""},null,null,{"$f":"IF(BJ14>0,BJ14,BN14)","v":0},{"$f":"IF(BK14>0,BK14,0)","v":0},null,{"$f":"IF(ISNA(INDEX('Conversion Factors'!$B$6:$B$371,MATCH('Aug 16 - Aug 31'!$Z$14:$Z$20,'Conversion Factors'!$A$6:$A$371,0))),\"\",INDEX('Conversion Factors'!$B$6:$B$371,MATCH('Aug 16 - Aug 31'!$Z$14:$Z$20,'Conversion Factors'!$A$6:$A$371,0)))","v":""},null,{"$f":"A14","v":false},{"$f":"IF(AND(ISNUMBER(N14),ISNUMBER($Z$12)),N14/$Z$12,\"\")","v":0},{"$f":"IF(AND(ISNUMBER(Q14),ISNUMBER($Z$12)),Q14/$Z$12,\"\")","v":""},null,null,null,null,null,{"$f":"E14","v":0},{"$f":"IF(AH14>$AI$12,AH14-$AI$12,0)","v":0},{"$f":"IF(AND(AZ14>0,AZ14),IF(BA14>0,BA14,IF(BB14>0,BB14,IF(BC14>0,BC14,IF(BF14>0,BF14,\"\")))))","v":false},{"$f":"IF(AND(AO14>0,AO14),IF(AP14>0,AP14,IF(AQ14>0,AQ14,IF(AR14>0,AR14,IF(AU14>0,AU14,\"\")))))","v":false},null,{"$f":"J14","v":0},null,{"$f":"IF(G14=0,0,\"\")","v":0},{"$f":"IF(AND(AH14<=40,E14=G14),G14,0)","v":0},{"$f":"IF(AND(AH14<=40,E14>=G14,G14>0),O14-E14,0)","v":0},{"$f":"IF(AND(AH14<=40,E14<G14),O14-G14,0)","v":0},{"$f":"IF(AND(G14=0),G14,IF(AND(G14>0,AI14>0,G14=AT14),AT14,IF(AND(G14>0,AI14>0,G14-AT14),AT14,0)))","v":0},null,{"$f":"AS14","v":0},{"$f":"IF(AND(AH13+AU14=40,AI14>0,AI14>AU14),AI14-AU14,IF(AND(AH13+AU14=40,AI14>0,AI14<AU14,AU14+AI14=G14),AI14,IF(AND(AH13>40,AH14>40,G14=AI14),AI14,0)))","v":0},{"$f":"AV14","v":0},null,{"$f":"IF(AND(J14>0,AI14>=J14,BB14=0),O14-AI14,IF(AND(J14>0,AI14>0,BB14<=AI14),AI14-BB14,IF(AND(J14>0,AI14>0,BB14>AI14),J14-BB14,0)))","v":0},{"$f":"IF(J14=0,0,\"\")","v":0},{"$f":"IF(AND(AH14<=40,E14=J14),J14,0)","v":0},{"$f":"IF(AND(AZ14=0),AZ14,IF(AND(AH14>40,E14>=J14),BE14,IF(AND(AH14<=40,E14>J14),J14,0)))","v":0},{"$f":"IF(AND(AH14<=40,E14<J14),O14-J14,0)","v":0},{"$f":"IF(AND(J14=0),J14,IF(AND(J14>0,AI14>0,J14=BC14),BC14,IF(AND(J14>0,AI14>0,J14-BC14),BC14,0)))","v":0},null,{"$f":"BD14","v":0},null,{"$f":"IF(AND(G14>0,E14>0),1,0)","v":0},{"$f":"40-AH14","v":40},{"$f":"IF(AND(BH14=1,E14<8),E14,(IF(AND(BH14=1,E14>0),G14,0)))","v":0},{"$f":"IF(AND(BH14=1,BL14>40,E14<G14),E14-BJ14,(IF(AND(BH14=1,BL14>0,E14>=G14),G14-BJ14,0)))","v":0},{"$f":"E14","v":0},{"$f":"IF(AND(K14>0,E14>0),1,0)","v":0},{"$f":"IF(AND(BM14=1,J14>8),K14,(IF(AND(BM14=1,J14>0),J14,0)))","v":0},{"$f":"IF(AND(BM14=1,40-BL13>0,40-BL13<8),40-BL13,IF(AND(J14<K14),J14,K14))","v":0},{"$f":"IF(AND(BM14=1,BL14>40,J14<=K14),J14-BO14,IF(AND(BM14=1,BL14>0,J14>K14),K14-BO14,0))","v":0}]
[{"$f":"IF(EXACT(D15,$Z$6)=TRUE,$O$6,IF(A14=0,\"\",IF(A14<$O$7,A14+1,IF(A14=$O$7,\"\"))))","v":false},null,null,"Monday",{"$f":"'Aug 1 - Aug 15'!E31","v":0},{"$f":"'Aug 1 - Aug 15'!F31","v":0},{"$f":"'Aug 1 - Aug 15'!G31","v":0},{"$f":"'Aug 1 - Aug 15'!H31","v":0},{"$f":"'Aug 1 - Aug 15'!I31","v":0},{"$f":"'Aug 1 - Aug 15'!J31","v":0},{"$f":"'Aug 1 - Aug 15'!K31","v":0},{"$f":"'Aug 1 - Aug 15'!L31","v":0},{"$f":"'Aug 1 - Aug 15'!M31","v":0},{"$f":"'Aug 1 - Aug 15'!N31","v":0},{"$f":"SUM(E15:N15)-J15","v":0},{"$f":"IF(AND(ISNUMBER(AA15),ISNUMBER(X15)),AA15*X15,\"\")","v":""},null,{"$f":"IF(AND(ISNUMBER(AB15),ISNUMBER(X15)),AB15*X15,\"\")","v":""},null,null,{"$f":"IF(BJ15>0,BJ15,BN15)","v":0},{"$f":"IF(BK15>0,BK15,0)","v":0},null,{"$f":"IF(ISNA(INDEX('Conversion Factors'!$B$6:$B$371,MATCH('Aug 16 - Aug 31'!$Z$14:$Z$20,'Conversion Factors'!$A$6:$A$371,0))),\"\",INDEX('Conversion Factors'!$B$6:$B$371,MATCH('Aug 16 - Aug 31'!$Z$14:$Z$20,'Conversion Factors'!$A$6:$A$371,0)))","v":""},null,false,0,"",null,null,null,null,null,{"$f":"E15+AH14","v":0},{"$f":"IF(AH15>$AI$12,AH15-($AI$12+AI14),0)","v":0},{"$f":"IF(AND(AZ15>0,AZ15),IF(BA15>0,BA15,IF(BB15>0,BB15,IF(BC15>0,BC15,IF(BF15>0,BF15,\"\")))))","v":false},{"$f":"IF(AND(AO15>0,AO15),IF(AP15>0,AP15,IF(AQ15>0,AQ15,IF(AR15>0,AR15,IF(AU15>0,AU15,0)))))","v":false},null,0,null,0,0,0,0,0,{"$f":"IF(AND(AH14<=40),40-AH14,0)","v":40},{"$f":"AS15","v":0},0,{"$f":"AV15","v":0},null,0,0,0,0,0,0,{"$f":"IF(AND(AH14<=40),40-AH14,0)","v":40},{"$f":"BD15","v":0},null,{"$f":"IF(AND(G15>0,E15>0),1,0)","v":0},40,0,0,{"$f":"SUM(E14:E15)","v":0},{"$f":"IF(AND(K15>0,E15>0),1,0)","v":0},{"$f":"IF(AND(BM15=1,J15>8),K15,(IF(AND(BM15=1,J15>0),J15,0)))","v":0},0,0]
["2022-08-16",null,null,"Tuesday",null,null,null,null,null,null,null,null,null,null,{"$f":"SUM(E16:N16)-J16","v":0},"",null,"",null,null,{"$f":"IF(BJ16>0,BJ16,BN16)","v":0},0,null,{"$f":"IF(ISNA(INDEX('Conversion Factors'!$B$6:$B$371,MATCH('Aug 16 - Aug 31'!$Z$14:$Z$20,'Conversion Factors'!$A$6:$A$371,0))),\"\",INDEX('Conversion Factors'!$B$6:$B$371,MATCH('Aug 16 - Aug 31'!$Z$14:$Z$20,'Conversion Factors'!$A$6:$A$371,0)))","v":7.2229999999999999},null,"2022-08-16","","",null,null,null,null,null,0,{"$f":"IF(AH16>$AI$12,AH16-($AI$12+AI15+AI14),0)","v":0},false,false,null,0,null,0,0,0,0,0,40,0,0,0,null,0,0,0,0,0,0,{"$f":"IF(AND(AH15<=40),40-AH15,0)","v":40},0,null,{"$f":"IF(AND(G16>0,E16>0),1,0)","v":0},40,0,0,{"$f":"SUM(E14:E16)","v":0},0,{"$f":"IF(AND(BM16=1,J16>8),K16,(IF(AND(BM16=1,J16>0),J16,0)))","v":0},{"$f":"IF(AND(BM16=1,40-BL15>0,40-BL15<8),40-BL15,IF(AND(J16<K16),J16,K16))","v":0},0]
["2022-08-17",null,null,"Wednesday",null,null,null,null,null,null,null,null,null,null,0,"",null,"",null,null,0,0,null,{"$f":"IF(ISNA(INDEX('Conversion Factors'!$B$6:$B$371,MATCH('Aug 16 - Aug 31'!$Z$14:$Z$20,'Conversion Factors'!$A$6:$A$371,0))),\"\",INDEX('Conversion Factors'!$B$6:$B$371,MATCH('Aug 16 - Aug 31'!$Z$14:$Z$20,'Conversion Factors'!$A$6:$A$371,0)))","v":7.2229999999999999},null,"2022-08-17","","",null,null,null,null,null,0,{"$f":"IF(AH17>$AI$12,AH17-($AI$12+AI16+AI15+AI14),0)","v":0},false,false,null,0,null,0,0,0,0,0,40,0,0,0,null,0,0,0,0,0,0,40,0,null,0,40,0,0,{"$f":"SUM(E14:E17)","v":0},0,{"$f":"IF(AND(BM17=1,J17>8),K17,(IF(AND(BM17=1,J17>0),J17,0)))","v":0},{"$f":"IF(AND(BM17=1,40-BL16>0,40-BL16<8),40-BL16,IF(AND(J17<K17),J17,K17))","v":0},0]
["2022-08-18",null,null,"Thursday",null,null,null,null,null,null,null,null,null,null,0,"",null,"",null,null,0,0,null,{"$f":"IF(ISNA(INDEX('Conversion Factors'!$B$6:$B$371,MATCH('Aug 16 - Aug 31'!$Z$14:$Z$20,'Conversion Factors'!$A$6:$A$371,0))),\"\",INDEX('Conversion Factors'!$B$6:$B$371,MATCH('Aug 16 - Aug 31'!$Z$14:$Z$20,'Conversion Factors'!$A$6:$A$371,0)))","v":7.2229999999999999},null,"2022-08-18","","",null,null,null,null,null,0,{"$f":"IF(AH18>$AI$12,AH18-($AI$12+AI17+AI16+AI15+AI14),0)","v":0},false,false,null,0,null,0,0,0,0,0,{"$f":"IF(AND(AH17<=40),40-AH17,0)","v":40},0,0,0,null,0,0,0,0,0,0,40,0,null,0,40,0,0,{"$f":"SUM(E14:E18)","v":0},0,0,0,0]
["2022-08-19",null,null,"Friday",null,null,null,null,null,null,null,null,null,null,0,"",null,"",null,null,0,0,null,{"$f":"IF(ISNA(INDEX('Conversion Factors'!$B$6:$B$371,MATCH('Aug 16 - Aug 31'!$Z$14:$Z$20,'Conversion Factors'!$A$6:$A$371,0))),\"\",INDEX('Conversion Factors'!$B$6:$B$371,MATCH('Aug 16 - Aug 31'!$Z$14:$Z$20,'Conversion Factors'!$A$6:$A$371,0)))","v":7.2229999999999999},null,"2022-08-19","","",null,null,null,null,null,0,{"$f":"IF(AH19>$AI$12,AH19-($AI$12+AI18+AI17+AI16+AI15+AI14),0)","v":0},false,false,null,0,null,0,0,0,0,0,{"$f":"IF(AND(AH18<=40),40-AH18,0)","v":40},0,0,0,null,0,0,0,0,0,0,40,0,null,0,40,0,0,{"$f":"SUM(E14:E19)","v":0},0,0,0,{"$f":"IF(AND(BM19=1,BL19>40,J19<=K19),J19-BO19,IF(AND(BM19=1,BL19>0,J19>K19),K19-BO19,0))","v":0}]
["2022-08-20",null,null,"Saturday",null,null,null,null,null,null,null,null,null,null,{"$f":"SUM(E20:N20)-J20","v":0},"",null,"",null,null,0,0,null,{"$f":"IF(ISNA(INDEX('Conversion Factors'!$B$6:$B$371,MATCH('Aug 16 - Aug 31'!$Z$14:$Z$20,'Conversion Factors'!$A$6:$A$371,0))),\"\",INDEX('Conversion Factors'!$B$6:$B$371,MATCH('Aug 16 - Aug 31'!$Z$14:$Z$20,'Conversion Factors'!$A$6:$A$371,0)))","v":7.2229999999999999},null,"2022-08-20","","",null,null,null,null,null,0,{"$f":"IF(AH20>$AI$12,AH20-($AI$12+AI19+AI18+AI17+AI16+AI15+AI14),0)","v":0},false,false,null,0,null,0,0,0,0,0,40,0,0,0,null,0,0,0,0,0,0,40,0,null,0,40,0,0,{"$f":"SUM(E14:E20)","v":0},0,0,0,{"$f":"IF(AND(BM20=1,BL20>40,J20<=K20),J20-BO20,IF(AND(BM20=1,BL20>0,J20>K20),K20-BO20,0))","v":0}]
["Week 1 Totals",null,null,null,{"$f":"SUM(E14:E20)","v":0},{"$f":"SUM(F14:F20)","v":0},0,0,0,null,0,0,0,0,{"$f":"SUM(O14:O20)","v":0},{"$f":"-SUM(P14:P20)","v":0},{"$f":"SUM(Q14:Q20)","v":0},{"$f":"SUM(R14:R20)","v":0},{"$f":"IF(E21>40,(E21-40)-V21-BP21,0)","v":0},{"$f":"MROUND(AL21,0.25)","v":0},{"$f":"SUM(U14:U20)","v":0},{"$f":"SUM(V14:V20)","v":0},{"$f":"IF(E21-(E11-(G21+K21+F21+H21+I21+L21+M21))-(S21+U21+V21)>0,E21-(E11-(G21+K21+F21+H21+I21+L21+M21))-(S21+U21+V21),0)","v":0},null,null,null,null,null,{"$f":"SUM(F21:N21)","v":0},{"$f":"IF(AND(AG21<40,O21>=AG21),O21-(AG21+S21),IF(AND(O21<AG21,E21=O21),O21-E21,IF(AND(E21>AG21,E21<40),E21-AG21,IF(AND(O21>AG21,E21<AG21),E21-(AG21-AC21),IF(AND(O21>AG21,E21>40),E21-(AG21-AC21+S21),IF(AND(O21>AG21,O21>40),O21-(S21+AG21),0))))))","v":0},{"$f":"AD21-U21-V21","v":0},{"$f":"$W$11","v":"Please Select"},{"$f":"$E$11","v":40},null,{"$f":"IF(AH21>$AI$12,-$AI$12,0)","v":0},null,null,{"$f":"IF(AF21=\"Yes\",S21*1.5,0)","v":0},null,null,null,null,null,null,null,null,null,null,null,null,null,null,null,null,null,null,null,null,null,null,null,null,null,null,null,null,null,{"$f":"SUM(BP14:BP20)","v":0},{"$f":"E11+U21","v":40}]
[{"$f":"IF(A20=0,\"\",IF(A20<$O$7,A20+1,IF(A20=$O$7,\"\")))","v":"2022-08-21"},null,null,"Sunday",null,null,null,null,null,null,null,null,null,null,{"$f":"SUM(E22:N22)-J22","v":0},{"$f":"IF(AND(ISNUMBER(AA22),ISNUMBER(X22)),AA22*X22,\"\")","v":""},null,{"$f":"IF(AND(ISNUMBER(AB22),ISNUMBER(X22)),AB22*X22,\"\")","v":""},null,null,{"$f":"IF(BJ22>0,BJ22,BN22)","v":0},{"$f":"IF(BK22>0,BK22,0)","v":0},null,{"$f":"IF(ISNA(INDEX('Conversion Factors'!$B$6:$B$371,MATCH('Aug 16 - Aug 31'!$Z$22:$Z$28,'Conversion Factors'!$A$6:$A$371,0))),\"\",INDEX('Conversion Factors'!$B$6:$B$371,MATCH('Aug 16 - Aug 31'!$Z$22:$Z$28,'Conversion Factors'!$A$6:$A$371,0)))","v":7.2229999999999999},null,{"$f":"A22","v":"2022-08-21"},{"$f":"IF(AND(ISNUMBER(N22),ISNUMBER($Z$12)),N22/$Z$12,\"\")","v":""},{"$f":"IF(AND(ISNUMBER(Q22),ISNUMBER($Z$12)),Q22/$Z$12,\"\")","v":""},null,null,null,null,null,{"$f":"E22+AH21","v":0},{"$f":"IF(AH22>$AI$12,AH22-($AI$12+AI21),0)","v":0},{"$f":"IF(AND(AZ22>0,AZ22),IF(BA22>0,BA22,IF(BB22>0,BB22,IF(BC22>0,BC22,IF(BF22>0,BF22,\"\")))))","v":false},{"$f":"IF(AND(AO22>0,AO22),IF(AP22>0,AP22,IF(AQ22>0,AQ22,IF(AR22>0,AR22,IF(AU22>0,AU22,\"\")))))","v":false},null,{"$f":"J22","v":0},null,{"$f":"IF(G22=0,0,\"\")","v":0},{"$f":"IF(AND(AH22<=40,E22=G22),G22,0)","v":0},{"$f":"IF(AND(AH22<=40,E22>=G22,G22>0),O22-E22,0)","v":0},{"$f":"IF(AND(AH22<=40,E22<G22),O22-G22,0)","v":0},{"$f":"IF(AND(G22=0),G22,IF(AND(G22>0,AI22>0,G22=AT22),AT22,IF(AND(G22>0,AI22>0,G22-AT22),AT22,0)))","v":0},null,{"$f":"AS22","v":0},{"$f":"IF(AND(AH21+AU22=40,AI22>0,AI22>AU22),AI22-AU22,IF(AND(AH21+AU22=40,AI22>0,AI22<AU22,AU22+AI22=G22),AI22,IF(AND(AH21>40,AH22>40,G22=AI22),AI22,0)))","v":0},{"$f":"AV22","v":0},null,{"$f":"IF(AND(J22>0,AI22>0,BB22<=AI22),AI22-BB22,IF(AND(J22>0,AI22>0,BB22>AI22),J22-BB22,0))","v":0},{"$f":"IF(J22=0,0,\"\")","v":0},{"$f":"IF(AND(AH22<=40,E22=J22),J22,0)","v":0},{"$f":"IF(AND(AZ22=0),AZ22,IF(AND(AH22>40,E22>=J22),BE22,IF(AND(AH22<=40,E22>J22),J22,0)))","v":0},{"$f":"IF(AND(AH22<=40,E22<J22),O22-J22,0)","v":0},{"$f":"IF(AND(J22=0),J22,IF(AND(J22>0,AI22>0,J22=BC22),BC22,IF(AND(J22>0,AI22>0,J22-BC22),BC22,0)))","v":0},null,{"$f":"BD22","v":0},null,{"$f":"IF(AND(G22>0,E22>0),1,0)","v":0},{"$f":"40-AH22","v":40},0,{"$f":"IF(AND(BH22=1,BL22>40,E22<G22),E22-BJ22,(IF(AND(BH22=1,BL22>0,E22>=G22),G22-BJ22,0)))","v":0},{"$f":"E22","v":0},{"$f":"IF(AND(K22>0,E22>0),1,0)","v":0},{"$f":"IF(AND(BM22=1,J22>8),K22,(IF(AND(BM22=1,J22>0),J22,0)))","v":0},{"$f":"IF(AND(BM22=1,40-BL21>0,40-BL21<8),40-BL21,IF(AND(J22<K22),J22,K22))","v":0},{"$f":"IF(AND(BM22=1,BL22>40,J22<=K22),J22-BO22,IF(AND(BM22=1,BL22>0,J22>K22),K22-BO22,0))","v":0}]
[{"$f":"IF(A22<$O$7,A22+1,IF(A22=$O$7,\"\"))","v":"2022-08-22"},null,null,"Monday",null,null,null,null,null,null,null,null,null,null,{"$f":"SUM(E23:N23)-J23","v":0},{"$f":"IF(AND(ISNUMBER(AA23),ISNUMBER(X23)),AA23*X23,\"\")","v":""},null,{"$f":"IF(AND(ISNUMBER(AB23),ISNUMBER(X23)),AB23*X23,\"\")","v":""},null,null,{"$f":"IF(BJ23>0,BJ23,BN23)","v":0},{"$f":"IF(BK23>0,BK23,0)","v":0},null,{"$f":"IF(ISNA(INDEX('Conversion Factors'!$B$6:$B$371,MATCH('Aug 16 - Aug 31'!$Z$22:$Z$28,'Conversion Factors'!$A$6:$A$371,0))),\"\",INDEX('Conversion Factors'!$B$6:$B$371,MATCH('Aug 16 - Aug 31'!$Z$22:$Z$28,'Conversion Factors'!$A$6:$A$371,0)))","v":7.2229999999999999},null,"2022-08-22","","",null,null,null,null,null,0,{"$f":"IF(AH23>$AI$12,AH23-($AI$12+AI22+AI21),0)","v":0},false,{"$f":"IF(AND(AO23>0,AO23),IF(AP23>0,AP23,IF(AQ23>0,AQ23,IF(AR23>0,AR23,IF(AU23>0,AU23,0)))))","v":false},null,0,null,0,0,0,0,0,{"$f":"IF(AND(AH22<=40),40-AH22,0)","v":40},{"$f":"AS23","v":0},0,{"$f":"AV23","v":0},null,{"$f":"IF(AND(J23>0,AI23>0,BB23<=AI23),AI23-BB23,IF(AND(J23>0,AI23>0,BB23>AI23),J23-BB23,0))","v":0},0,0,0,0,0,{"$f":"IF(AND(AH22<=40),40-AH22,0)","v":40},{"$f":"BD23","v":0},null,{"$f":"IF(AND(G23>0,E23>0),1,0)","v":0},40,0,0,{"$f":"SUM(E22:E23)","v":0},{"$f":"IF(AND(K23>0,E23>0),1,0)","v":0},{"$f":"IF(AND(BM23=1,J23>8),K23,(IF(AND(BM23=1,J23>0),J23,0)))","v":0},0,0]
["2022-08-23",null,null,"Tuesday",null,null,null,null,null,null,null,null,null,null,{"$f":"SUM(E24:N24)-J24","v":0},"",null,"",null,null,{"$f":"IF(BJ24>0,BJ24,BN24)","v":0},0,null,{"$f":"IF(ISNA(INDEX('Conversion Factors'!$B$6:$B$371,MATCH('Aug 16 - Aug 31'!$Z$22:$Z$28,'Conversion Factors'!$A$6:$A$371,0))),\"\",INDEX('Conversion Factors'!$B$6:$B$371,MATCH('Aug 16 - Aug 31'!$Z$22:$Z$28,'Conversion Factors'!$A$6:$A$371,0)))","v":7.2229999999999999},null,"2022-08-23","","",null,null,null,null,null,0,{"$f":"IF(AH24>$AI$12,AH24-($AI$12+AI23+AI22+AI21),0)","v":0},false,false,null,0,null,0,0,0,0,0,40,0,0,0,null,{"$f":"IF(AND(J24>0,AI24>0,BB24<=AI24),AI24-BB24,IF(AND(J24>0,AI24>0,BB24>AI24),J24-BB24,0))","v":0},0,0,0,0,0,{"$f":"IF(AND(AH23<=40),40-AH23,0)","v":40},0,null,{"$f":"IF(AND(G24>0,E24>0),1,0)","v":0},40,0,0,{"$f":"SUM(E22:E24)","v":0},0,{"$f":"IF(AND(BM24=1,J24>8),K24,(IF(AND(BM24=1,J24>0),J24,0)))","v":0},{"$f":"IF(AND(BM24=1,40-BL23>0,40-BL23<8),40-BL23,IF(AND(J24<K24),J24,K24))","v":0},0]
["2022-08-24",null,null,"Wednesday",null,null,null,null,null,null,null,null,null,null,0,"",null,"",null,null,0,0,null,{"$f":"IF(ISNA(INDEX('Conversion Factors'!$B$6:$B$371,MATCH('Aug 16 - Aug 31'!$Z$22:$Z$28,'Conversion Factors'!$A$6:$A$371,0))),\"\",INDEX('Conversion Factors'!$B$6:$B$371,MATCH('Aug 16 - Aug 31'!$Z$22:$Z$28,'Conversion Factors'!$A$6:$A$371,0)))","v":7.2229999999999999},null,"2022-08-24","","",null,null,null,null,null,0,{"$f":"IF(AH25>$AI$12,AH25-($AI$12+AI24+AI23+AI22+AI21),0)","v":0},false,false,null,0,null,0,0,0,0,0,40,0,0,0,null,{"$f":"IF(AND(J25>0,AI25>0,BB25<=AI25),AI25-BB25,IF(AND(J25>0,AI25>0,BB25>AI25),J25-BB25,0))","v":0},0,0,0,0,0,40,0,null,0,40,0,0,{"$f":"SUM(E22:E25)","v":0},0,{"$f":"IF(AND(BM25=1,J25>8),K25,(IF(AND(BM25=1,J25>0),J25,0)))","v":0},{"$f":"IF(AND(BM25=1,40-BL24>0,40-BL24<8),40-BL24,IF(AND(J25<K25),J25,K25))","v":0},0]
["2022-08-25",null,null,"Thursday",null,null,null,null,null,null,null,null,null,null,0,"",null,"",null,null,0,0,null,{"$f":"IF(ISNA(INDEX('Conversion Factors'!$B$6:$B$371,MATCH('Aug 16 - Aug 31'!$Z$22:$Z$28,'Conversion Factors'!$A$6:$A$371,0))),\"\",INDEX('Conversion Factors'!$B$6:$B$371,MATCH('Aug 16 - Aug 31'!$Z$22:$Z$28,'Conversion Factors'!$A$6:$A$371,0)))","v":7.2229999999999999},null,"2022-08-25","","",null,null,null,null,null,0,{"$f":"IF(AH26>$AI$12,AH26-($AI$12+AI25+AI24+AI23+AI22+AI21),0)","v":0},false,false,null,0,null,0,0,0,0,0,{"$f":"IF(AND(AH25<=40),40-AH25,0)","v":40},0,0,0,null,{"$f":"IF(AND(J26>0,AI26>=J26,BB26=0),O26-AI26,IF(AND(J26>0,AI26>0,BB26<=AI26),AI26-BB26,IF(AND(J26>0,AI26>0,BB26>AI26),J26-BB26,0)))","v":0},0,0,0,0,0,40,0,null,0,40,0,0,{"$f":"SUM(E22:E26)","v":0},0,0,0,0]
["2022-08-26",null,null,"Friday",null,null,null,null,null,null,null,null,null,null,0,"",null,"",null,null,0,0,null,{"$f":"IF(ISNA(INDEX('Conversion Factors'!$B$6:$B$371,MATCH('Aug 16 - Aug 31'!$Z$22:$Z$28,'Conversion Factors'!$A$6:$A$371,0))),\"\",INDEX('Conversion Factors'!$B$6:$B$371,MATCH('Aug 16 - Aug 31'!$Z$22:$Z$28,'Conversion Factors'!$A$6:$A$371,0)))","v":7.2229999999999999},null,"2022-08-26","","",null,null,null,null,null,0,{"$f":"IF(AH27>$AI$12,AH27-($AI$12+AI26+AI25+AI24+AI23+AI22+AI21),0)","v":0},false,false,null,0,null,0,0,0,0,0,{"$f":"IF(AND(AH26<=40),40-AH26,0)","v":40},0,0,0,null,{"$f":"IF(AND(J27>0,AI27>=J27,BB27=0),O27-AI27,IF(AND(J27>0,AI27>0,BB27<=AI27),AI27-BB27,IF(AND(J27>0,AI27>0,BB27>AI27),J27-BB27,0)))","v":0},0,0,0,0,0,40,0,null,0,40,0,0,{"$f":"SUM(E22:E27)","v":0},0,0,0,{"$f":"IF(AND(BM27=1,BL27>40,J27<=K27),J27-BO27,IF(AND(BM27=1,BL27>0,J27>K27),K27-BO27,0))","v":0}]
["2022-08-27",null,null,"Saturday",null,null,null,null,null,null,null,null,null,null,{"$f":"SUM(E28:N28)-J28","v":0},"",null,"",null,null,0,0,null,{"$f":"IF(ISNA(INDEX('Conversion Factors'!$B$6:$B$371,MATCH('Aug 16 - Aug 31'!$Z$22:$Z$28,'Conversion Factors'!$A$6:$A$371,0))),\"\",INDEX('Conversion Factors'!$B$6:$B$371,MATCH('Aug 16 - Aug 31'!$Z$22:$Z$28,'Conversion Factors'!$A$6:$A$371,0)))","v":7.2229999999999999},null,"2022-08-27","","",null,null,null,null,null,0,{"$f":"IF(AH28>$AI$12,AH28-($AI$12+AI27+AI26+AI25+AI24+AI23+AI22+AI21),0)","v":0},false,false,null,0,null,0,0,0,0,0,40,0,0,0,null,{"$f":"IF(AND(J28>0,AI28>=J28,BB28=0),O28-AI28,IF(AND(J28>0,AI28>0,BB28<=AI28),AI28-BB28,IF(AND(J28>0,AI28>0,BB28>AI28),J28-BB28,0)))","v":0},0,0,0,0,0,40,0,null,0,40,0,0,{"$f":"SUM(E22:E28)","v":0},0,0,0,{"$f":"IF(AND(BM28=1,BL28>40,J28<=K28),J28-BO28,IF(AND(BM28=1,BL28>0,J28>K28),K28-BO28,0))","v":0}]
["Week 2 Totals",null,null,null,{"$f":"SUM(E22:E28)","v":0},0,0,0,0,null,0,0,0,0,{"$f":"SUM(O22:O28)","v":0},{"$f":"-SUM(P22:P28)","v":0},{"$f":"SUM(Q22:Q28)","v":0},{"$f":"SUM(R22:R28)","v":0},{"$f":"IF(E29>40,(E29-40)-V29,0)","v":0},{"$f":"MROUND(AL29,0.25)","v":0},{"$f":"SUM(U22:U28)","v":0},{"$f":"SUM(V22:V28)","v":0},{"$f":"IF(E29-(E11-(G29+K29+F29+H29+I29+L29+M29))-(S29+U29+V29)>0,E29-(E11-(G29+K29+F29+H29+I29+L29+M29))-(S29+U29+V29),0)","v":0},null,null,null,null,null,{"$f":"SUM(F29:N29)","v":0},{"$f":"IF(AND(AG29<40,O29>=AG29),O29-(AG29+S29),IF(AND(O29<AG29,E29=O29),O29-E29,IF(AND(E29>AG29,E29<40),E29-AG29,IF(AND(O29>AG29,E29<AG29),E29-(AG29-AC29),IF(AND(O29>AG29,E29>40),E29-(AG29-AC29+S29),IF(AND(O29>AG29,O29>40),O29-(S29+AG29),0))))))","v":0},{"$f":"AD29-U29-V29","v":0},{"$f":"$W$11","v":"Please Select"},{"$f":"$E$11","v":40},null,{"$f":"IF(AH29>$AI$12,-$AI$12,0)","v":0},null,null,{"$f":"IF(AF29=\"Yes\",S29*1.5,0)","v":0},0,null,null,null,null,null,null,null,null,null,null,null,null,0,null,null,null,null,null,null,null,null,null,null,null,null,null,null,null,{"$f":"SUM(BP22:BP28)","v":0},{"$f":"U29+E11","v":40}]
[{"$f":"IF(A28<$O$7,A28+1,IF(A28=$O$7,\"\"))","v":"2022-08-28"},null,null,"Sunday",null,null,null,null,null,null,null,null,null,null,{"$f":"SUM(E30:N30)-J30","v":0},{"$f":"IF(AND(ISNUMBER(AA30),ISNUMBER(X30)),AA30*X30,\"\")","v":""},null,{"$f":"IF(AND(ISNUMBER(AB30),ISNUMBER(X30)),AB30*X30,\"\")","v":""},null,null,{"$f":"IF(BJ30>0,BJ30,BN30)","v":0},{"$f":"IF(BK30>0,BK30,0)","v":0},null,{"$f":"IF(ISNA(INDEX('Conversion Factors'!$B$6:$B$370,MATCH('Aug 16 - Aug 31'!$Z$30:$Z$36,'Conversion Factors'!$A$6:$A$370,0))),\"\",INDEX('Conversion Factors'!$B$6:$B$370,MATCH('Aug 16 - Aug 31'!$Z$30:$Z$36,'Conversion Factors'!$A$6:$A$370,0)))","v":7.2229999999999999},null,{"$f":"A30","v":"2022-08-28"},{"$f":"IF(AND(ISNUMBER(N30),ISNUMBER($Z$12)),N30/$Z$12,\"\")","v":""},{"$f":"IF(AND(ISNUMBER(Q30),ISNUMBER($Z$12)),Q30/$Z$12,\"\")","v":""},null,null,null,null,null,{"$f":"E30+AH29","v":0},{"$f":"IF(AH30>$AI$12,AH30-($AI$12+AI29),0)","v":0},{"$f":"IF(AND(AZ30>0,AZ30),IF(BA30>0,BA30,IF(BB30>0,BB30,IF(BC30>0,BC30,IF(BF30>0,BF30,\"\")))))","v":false},{"$f":"IF(AND(AO30>0,AO30),IF(AP30>0,AP30,IF(AQ30>0,AQ30,IF(AR30>0,AR30,IF(AU30>0,AU30,\"\")))))","v":false},null,0,null,{"$f":"IF(G30=0,0,\"\")","v":0},{"$f":"IF(AND(AH30<=40,E30=G30),G30,0)","v":0},{"$f":"IF(AND(AH30<=40,E30>=G30,G30>0),O30-E30,0)","v":0},{"$f":"IF(AND(AH30<=40,E30<G30),O30-G30,0)","v":0},{"$f":"IF(AND(G30=0),G30,IF(AND(G30>0,AI30>0,G30=AT30),AT30,IF(AND(G30>0,AI30>0,G30-AT30),AT30,0)))","v":0},null,{"$f":"AS30","v":0},{"$f":"IF(AND(AH29+AU30=40,AI30>0,AI30>AU30),AI30-AU30,IF(AND(AH29+AU30=40,AI30>0,AI30<AU30,AU30+AI30=G30),AI30,IF(AND(AH29>40,AH30>40,G30=AI30),AI30,0)))","v":0},{"$f":"AV30","v":0},null,{"$f":"IF(AND(J30>0,AI30>=J30,BB30=0),O30-AI30,IF(AND(J30>0,AI30>0,BB30<=AI30),AI30-BB30,IF(AND(J30>0,AI30>0,BB30>AI30),J30-BB30,0)))","v":0},0,{"$f":"IF(AND(AH30<=40,E30=J30),J30,0)","v":0},{"$f":"IF(AND(AZ30=0),AZ30,IF(AND(AH30>40,E30>=J30),BE30,IF(AND(AH30<=40,E30>J30),J30,0)))","v":0},{"$f":"IF(AND(AH30<=40,E30<J30),O30-J30,0)","v":0},{"$f":"IF(AND(J30=0),J30,IF(AND(J30>0,AI30>0,J30=BC30),BC30,IF(AND(J30>0,AI30>0,J30-BC30),BC30,0)))","v":0},null,{"$f":"BD30","v":0},null,{"$f":"IF(AND(G30>0,E30>0),1,0)","v":0},{"$f":"40-AH30","v":40},0,{"$f":"IF(AND(BH30=1,BL30>40,E30<G30),E30-BJ30,(IF(AND(BH30=1,BL30>0,E30>=G30),G30-BJ30,0)))","v":0},{"$f":"E30","v":0},{"$f":"IF(AND(K30>0,E30>0),1,0)","v":0},{"$f":"IF(AND(BM30=1,J30>8),K30,(IF(AND(BM30=1,J30>0),J30,0)))","v":0},{"$f":"IF(AND(BM30=1,40-BL29>0,40-BL29<8),40-BL29,IF(AND(J30<K30),J30,K30))","v":0},{"$f":"IF(AND(BM30=1,BL30>40,J30<=K30),J30-BO30,IF(AND(BM30=1,BL30>0,J30>K30),K30-BO30,0))","v":0}]
[{"$f":"IF(A30<$O$7,A30+1,IF(A30=$O$7,\"\"))","v":"2022-08-29"},null,null,"Monday",null,null,null,null,null,null,null,null,null,null,{"$f":"SUM(E31:N31)-J31","v":0},{"$f":"IF(AND(ISNUMBER(AA31),ISNUMBER(X31)),AA31*X31,\"\")","v":""},null,{"$f":"IF(AND(ISNUMBER(AB31),ISNUMBER(X31)),AB31*X31,\"\")","v":""},null,null,0,{"$f":"IF(BK31>0,BK31,0)","v":0},null,{"$f":"IF(ISNA(INDEX('Conversion Factors'!$B$6:$B$370,MATCH('Aug 16 - Aug 31'!$Z$30:$Z$36,'Conversion Factors'!$A$6:$A$370,0))),\"\",INDEX('Conversion Factors'!$B$6:$B$370,MATCH('Aug 16 - Aug 31'!$Z$30:$Z$36,'Conversion Factors'!$A$6:$A$370,0)))","v":7.2229999999999999},null,"2022-08-29","","",null,null,null,null,null,0,{"$f":"IF(AH31>$AI$12,AH31-($AI$12+AI30+AI29),0)","v":0},false,{"$f":"IF(AND(AO31>0,AO31),IF(AP31>0,AP31,IF(AQ31>0,AQ31,IF(AR31>0,AR31,IF(AU31>0,AU31,0)))))","v":false},null,0,null,0,0,0,0,0,{"$f":"IF(AND(AH30<=40),40-AH30,0)","v":40},{"$f":"AS31","v":0},0,{"$f":"AV31","v":0},null,0,0,0,0,0,0,{"$f":"IF(AND(AH30<=40),40-AH30,0)","v":40},{"$f":"BD31","v":0},null,{"$f":"IF(AND(G31>0,E31>0),1,0)","v":0},40,0,0,{"$f":"SUM(E30:E31)","v":0},{"$f":"IF(AND(K31>0,E31>0),1,0)","v":0},{"$f":"IF(AND(BM31=1,J31>8),K31,(IF(AND(BM31=1,J31>0),J31,0)))","v":0},0,0]
["2022-08-30",null,null,"Tuesday",null,null,null,null,null,null,null,null,null,null,0,"",null,"",null,null,0,0,null,{"$f":"IF(ISNA(INDEX('Conversion Factors'!$B$6:$B$370,MATCH('Aug 16 - Aug 31'!$Z$30:$Z$36,'Conversion Factors'!$A$6:$A$370,0))),\"\",INDEX('Conversion Factors'!$B$6:$B$370,MATCH('Aug 16 - Aug 31'!$Z$30:$Z$36,'Conversion Factors'!$A$6:$A$370,0)))","v":7.2229999999999999},null,"2022-08-30","","",null,null,null,null,null,0,{"$f":"IF(AH32>$AI$12,AH32-($AI$12+AI31+AI30+AI29),0)","v":0},false,false,null,0,null,0,0,0,0,0,40,0,0,0,null,0,0,0,0,0,0,{"$f":"IF(AND(AH31<=40),40-AH31,0)","v":40},0,null,{"$f":"IF(AND(G32>0,E32>0),1,0)","v":0},40,0,0,{"$f":"SUM(E30:E32)","v":0},0,{"$f":"IF(AND(BM32=1,J32>8),K32,(IF(AND(BM32=1,J32>0),J32,0)))","v":0},{"$f":"IF(AND(BM32=1,40-BL31>0,40-BL31<8),40-BL31,IF(AND(J32<K32),J32,K32))","v":0},0]
["2022-08-31",null,null,"Wednesday",null,null,null,null,null,null,null,null,null,null,0,"",null,"",null,null,0,0,null,{"$f":"IF(ISNA(INDEX('Conversion Factors'!$B$6:$B$370,MATCH('Aug 16 - Aug 31'!$Z$30:$Z$36,'Conversion Factors'!$A$6:$A$370,0))),\"\",INDEX('Conversion Factors'!$B$6:$B$370,MATCH('Aug 16 - Aug 31'!$Z$30:$Z$36,'Conversion Factors'!$A$6:$A$370,0)))","v":7.2229999999999999},null,"2022-08-31","","",null,null,null,null,null,0,{"$f":"IF(AH33>$AI$12,AH33-($AI$12+AI32+AI31+AI30+AI29),0)","v":0},false,false,null,0,null,0,0,0,0,0,40,0,0,0,null,0,0,0,0,0,0,40,0,null,{"$f":"IF(AND(G33>0,E33>0),1,0)","v":0},40,0,0,{"$f":"SUM(E30:E33)","v":0},0,{"$f":"IF(AND(BM33=1,J33>8),K33,(IF(AND(BM33=1,J33>0),J33,0)))","v":0},{"$f":"IF(AND(BM33=1,40-BL32>0,40-BL32<8),40-BL32,IF(AND(J33<K33),J33,K33))","v":0},0]
["",null,null,"Thursday",null,null,null,null,null,null,null,null,null,null,0,"",null,"",null,null,0,0,null,{"$f":"IF(ISNA(INDEX('Conversion Factors'!$B$6:$B$370,MATCH('Aug 16 - Aug 31'!$Z$30:$Z$36,'Conversion Factors'!$A$6:$A$370,0))),\"\",INDEX('Conversion Factors'!$B$6:$B$370,MATCH('Aug 16 - Aug 31'!$Z$30:$Z$36,'Conversion Factors'!$A$6:$A$370,0)))","v":""},null,"","","",null,null,null,null,null,0,{"$f":"IF(AH34>$AI$12,AH34-($AI$12+AI33+AI32+AI31+AI30+AI29),0)","v":0},false,false,null,0,null,0,0,0,0,0,{"$f":"IF(AND(AH33<=40),40-AH33,0)","v":40},0,0,0,null,0,0,0,0,0,0,40,0,null,0,40,0,0,{"$f":"SUM(E30:E34)","v":0},0,0,0,0]
[false,null,null,"Friday",null,null,null,null,null,null,null,null,null,null,0,"",null,"",null,null,0,0,null,{"$f":"IF(ISNA(INDEX('Conversion Factors'!$B$6:$B$370,MATCH('Aug 16 - Aug 31'!$Z$30:$Z$36,'Conversion Factors'!$A$6:$A$370,0))),\"\",INDEX('Conversion Factors'!$B$6:$B$370,MATCH('Aug 16 - Aug 31'!$Z$30:$Z$36,'Conversion Factors'!$A$6:$A$370,0)))","v":""},null,false,"","",null,null,null,null,null,0,{"$f":"IF(AH35>$AI$12,AH35-($AI$12+AI34+AI33+AI32+AI31+AI30+AI29),0)","v":0},false,false,null,0,null,0,0,0,0,0,{"$f":"IF(AND(AH34<=40),40-AH34,0)","v":40},0,0,0,null,0,0,0,0,0,0,40,0,null,0,40,0,0,{"$f":"SUM(E30:E35)","v":0},0,0,0,{"$f":"IF(AND(BM35=1,BL35>40,J35<=K35),J35-BO35,IF(AND(BM35=1,BL35>0,J35>K35),K35-BO35,0))","v":0}]
[false,null,null,"Saturday",null,null,null,null,null,null,null,null,null,null,0,"",null,"",null,null,0,0,null,{"$f":"IF(ISNA(INDEX('Conversion Factors'!$B$6:$B$370,MATCH('Aug 16 - Aug 31'!$Z$30:$Z$36,'Conversion Factors'!$A$6:$A$370,0))),\"\",INDEX('Conversion Factors'!$B$6:$B$370,MATCH('Aug 16 - Aug 31'!$Z$30:$Z$36,'Conversion Factors'!$A$6:$A$370,0)))","v":""},null,false,"","",null,null,null,null,null,0,{"$f":"IF(AH36>$AI$12,AH36-($AI$12+AI35+AI34+AI33+AI32+AI31+AI30+AI29),0)","v":0},false,false,null,0,null,0,0,0,0,0,40,0,0,0,null,0,0,0,0,0,0,40,0,null,0,40,0,0,{"$f":"SUM(E30:E36)","v":0},0,0,0,{"$f":"IF(AND(BM36=1,BL36>40,J36<=K36),J36-BO36,IF(AND(BM36=1,BL36>0,J36>K36),K36-BO36,0))","v":0}]
["Week 3 Totals",null,null,null,{"$f":"SUM(E30:E36)","v":0},0,0,0,0,null,0,0,0,0,{"$f":"SUM(O30:O36)","v":0},{"$f":"-SUM(P30:P36)","v":0},{"$f":"SUM(Q30:Q36)","v":0},{"$f":"SUM(R30:R36)","v":0},{"$f":"IF(E37>40,(E37-40)-V37,0)","v":0},{"$f":"MROUND(AL37,0.25)","v":0},{"$f":"SUM(U30:U36)","v":0},{"$f":"SUM(V30:V36)","v":0},{"$f":"IF(E37-(E11-(G37+K37+F37+H37+I37+L37+M3))-(S37+U37+V37)>0,E37-(E11-(G37+K37+F37+H37+I37+L37+M37))-(S37+U37+V37),0)","v":0},null,null,null,null,null,{"$f":"SUM(F37:N37)","v":0},{"$f":"IF(AND(AG37<40,O37>=AG37),O37-(AG37+S37),IF(AND(O37<AG37,E37=O37),O37-E37,IF(AND(E37>AG37,E37<40),E37-AG37,IF(AND(O37>AG37,E37<AG37),E37-(AG37-AC37),IF(AND(O37>AG37,E37>40),E37-(AG37-AC37+S37),IF(AND(O37>AG37,O37>40),O37-(S37+AG37),0))))))","v":0},{"$f":"AD37-U37-V37","v":0},{"$f":"$W$11","v":"Please Select"},{"$f":"$E$11","v":40},null,{"$f":"IF(AH37>$AI$12,-$AI$12,0)","v":0},null,null,{"$f":"IF(AF37=\"Yes\",S37*1.5,0)","v":0},null,null,null,null,null,null,null,null,null,null,null,null,null,null,null,null,null,null,null,null,null,0,null,null,null,null,null,null,null,{"$f":"SUM(BP30:BP36)","v":0},{"$f":"U37+E11","v":40}]
[{"$f":"IF(A36<$O$7,A36+1,IF(A36=$O$7,\"\"))","v":false},null,null,"Sunday",null,null,null,null,null,null,null,null,null,null,{"$f":"SUM(E38:N38)-J38","v":0},{"$f":"IF(AND(ISNUMBER(AA38),ISNUMBER(X38)),AA38*X38,\"\")","v":""},null,{"$f":"IF(AND(ISNUMBER(AB38),ISNUMBER(X38)),AB38*X38,\"\")","v":""},null,null,0,{"$f":"IF(BK38>0,BK38,0)","v":0},null,{"$f":"IF(ISNA(INDEX('Conversion Factors'!$B$6:$B$370,MATCH('Aug 16 - Aug 31'!$Z$38:$Z$44,'Conversion Factors'!$A$6:$A$370,0))),\"\",INDEX('Conversion Factors'!$B$6:$B$370,MATCH('Aug 16 - Aug 31'!$Z$38:$Z$44,'Conversion Factors'!$A$6:$A$370,0)))","v":""},null,{"$f":"A38","v":false},{"$f":"IF(AND(ISNUMBER(N38),ISNUMBER($Z$12)),N38/$Z$12,\"\")","v":""},{"$f":"IF(AND(ISNUMBER(Q38),ISNUMBER($Z$12)),Q38/$Z$12,\"\")","v":""},null,null,null,null,null,{"$f":"E38+AH37","v":0},{"$f":"IF(AH38>$AI$12,AH38-($AI$12+AI37),0)","v":0},{"$f":"IF(AND(AZ38>0,AZ38),IF(BA38>0,BA38,IF(BB38>0,BB38,IF(BC38>0,BC38,IF(BF38>0,BF38,\"\")))))","v":false},{"$f":"IF(AND(AO38>0,AO38),IF(AP38>0,AP38,IF(AQ38>0,AQ38,IF(AR38>0,AR38,IF(AU38>0,AU38,\"\")))))","v":false},null,{"$f":"J38","v":0},null,{"$f":"IF(G38=0,0,\"\")","v":0},{"$f":"IF(AND(AH38<=40,E38=G38),G38,0)","v":0},{"$f":"IF(AND(AH38<=40,E38>=G38,G38>0),O38-E38,0)","v":0},{"$f":"IF(AND(AH38<=40,E38<G38),O38-G38,0)","v":0},{"$f":"IF(AND(G38=0),G38,IF(AND(G38>0,AI38>0,G38=AT38),AT38,IF(AND(G38>0,AI38>0,G38-AT38),AT38,0)))","v":0},null,{"$f":"AS38","v":0},{"$f":"IF(AND(AH37+AU38=40,AI38>0,AI38>AU38),AI38-AU38,IF(AND(AH37+AU38=40,AI38>0,AI38<AU38,AU38+AI38=G38),AI38,IF(AND(AH37>40,AH38>40,G38=AI38),AI38,0)))","v":0},{"$f":"AV38","v":0},null,{"$f":"IF(AND(J38>0,AI38>=J38,BB38=0),O38-AI38,IF(AND(J38>0,AI38>0,BB38<=AI38),AI38-BB38,IF(AND(J38>0,AI38>0,BB38>AI38),J38-BB38,0)))","v":0},{"$f":"IF(J38=0,0,\"\")","v":0},{"$f":"IF(AND(AH38<=40,E38=J38),J38,0)","v":0},{"$f":"IF(AND(AZ38=0),AZ38,IF(AND(AH38>40,E38>=J38),BE38,IF(AND(AH38<=40,E38>J38),J38,0)))","v":0},{"$f":"IF(AND(AH38<=40,E38<J38),O38-J38,0)","v":0},{"$f":"IF(AND(J38=0),J38,IF(AND(J38>0,AI38>0,J38=BC38),BC38,IF(AND(J38>0,AI38>0,J38-BC38),BC38,0)))","v":0},null,{"$f":"BD38","v":0},null,{"$f":"IF(AND(G38>0,E38>0),1,0)","v":0},{"$f":"40-AH38","v":40},0,{"$f":"IF(AND(BH38=1,BL38>40,E38<G38),E38-BJ38,(IF(AND(BH38=1,BL38>0,E38>=G38),G38-BJ38,0)))","v":0},{"$f":"E38","v":0},{"$f":"IF(AND(K38>0,E38>0),1,0)","v":0},{"$f":"IF(AND(BM38=1,J38>8),K38,(IF(AND(BM38=1,J38>0),J38,0)))","v":0},{"$f":"IF(AND(BM38=1,40-BL37>0,40-BL37<8),40-BL37,IF(AND(J38<K38),J38,K38))","v":0},{"$f":"IF(AND(BM38=1,BL38>40,J38<=K38),J38-BO38,IF(AND(BM38=1,BL38>0,J38>K38),K38-BO38,0))","v":0}]
[{"$f":"IF(A38<$O$7,A38+1,IF(A38=$O$7,\"\"))","v":false},null,null,"Monday",null,null,null,0,null,null,null,null,null,null,{"$f":"SUM(E39:N39)-J39","v":0},{"$f":"IF(AND(ISNUMBER(AA39),ISNUMBER(X39)),AA39*X39,\"\")","v":""},null,{"$f":"IF(AND(ISNUMBER(AB39),ISNUMBER(X39)),AB39*X39,\"\")","v":""},null,null,0,{"$f":"IF(BK39>0,BK39,0)","v":0},null,{"$f":"IF(ISNA(INDEX('Conversion Factors'!$B$6:$B$370,MATCH('Aug 16 - Aug 31'!$Z$38:$Z$44,'Conversion Factors'!$A$6:$A$370,0))),\"\",INDEX('Conversion Factors'!$B$6:$B$370,MATCH('Aug 16 - Aug 31'!$Z$38:$Z$44,'Conversion Factors'!$A$6:$A$370,0)))","v":""},null,false,"","",null,null,null,null,null,0,{"$f":"IF(AH39>$AI$12,AH39-($AI$12+AI38+AI37),0)","v":0},false,{"$f":"IF(AND(AO39>0,AO39),IF(AP39>0,AP39,IF(AQ39>0,AQ39,IF(AR39>0,AR39,IF(AU39>0,AU39,0)))))","v":false},null,0,null,0,0,0,0,0,{"$f":"IF(AND(AH38<=40),40-AH38,0)","v":40},{"$f":"AS39","v":0},0,{"$f":"AV39","v":0},null,0,0,0,0,0,0,{"$f":"IF(AND(AH38<=40),40-AH38,0)","v":40},{"$f":"BD39","v":0},null,{"$f":"IF(AND(G39>0,E39>0),1,0)","v":0},40,0,0,{"$f":"SUM(E38:E39)","v":0},{"$f":"IF(AND(K39>0,E39>0),1,0)","v":0},{"$f":"IF(AND(BM39=1,J39>8),K39,(IF(AND(BM39=1,J39>0),J39,0)))","v":0},0,0]
[false,null,null,"Tuesday",null,null,null,null,null,0,0,null,null,null,{"$f":"SUM(E40:N40)-J40","v":0},"",null,"",null,null,0,0,null,{"$f":"IF(ISNA(INDEX('Conversion Factors'!$B$6:$B$370,MATCH('Aug 16 - Aug 31'!$Z$38:$Z$44,'Conversion Factors'!$A$6:$A$370,0))),\"\",INDEX('Conversion Factors'!$B$6:$B$370,MATCH('Aug 16 - Aug 31'!$Z$38:$Z$44,'Conversion Factors'!$A$6:$A$370,0)))","v":""},null,false,"","",null,null,null,null,null,0,{"$f":"IF(AH40>$AI$12,AH40-($AI$12+AI39+AI38+AI37),0)","v":0},false,false,null,0,null,0,0,0,0,0,40,0,0,0,null,0,0,0,0,0,0,{"$f":"IF(AND(AH39<=40),40-AH39,0)","v":40},0,null,{"$f":"IF(AND(G40>0,E40>0),1,0)","v":0},40,0,0,{"$f":"SUM(E38:E40)","v":0},0,{"$f":"IF(AND(BM40=1,J40>8),K40,(IF(AND(BM40=1,J40>0),J40,0)))","v":0},{"$f":"IF(AND(BM40=1,40-BL39>0,40-BL39<8),40-BL39,IF(AND(J40<K40),J40,K40))","v":0},0]
[false,null,null,"Wednesday",null,null,null,null,null,null,null,null,null,null,0,"",null,"",null,null,0,0,null,{"$f":"IF(ISNA(INDEX('Conversion Factors'!$B$6:$B$370,MATCH('Aug 16 - Aug 31'!$Z$38:$Z$44,'Conversion Factors'!$A$6:$A$370,0))),\"\",INDEX('Conversion Factors'!$B$6:$B$370,MATCH('Aug 16 - Aug 31'!$Z$38:$Z$44,'Conversion Factors'!$A$6:$A$370,0)))","v":""},null,false,"","",null,null,null,null,null,0,{"$f":"IF(AH41>$AI$12,AH41-($AI$12+AI40+AI39+AI38+AI37),0)","v":0},false,false,null,0,null,0,0,0,0,0,40,0,0,0,null,0,0,0,0,0,0,40,0,null,{"$f":"IF(AND(G41>0,E41>0),1,0)","v":0},40,0,0,{"$f":"SUM(E38:E41)","v":0},0,{"$f":"IF(AND(BM41=1,J41>8),K41,(IF(AND(BM41=1,J41>0),J41,0)))","v":0},{"$f":"IF(AND(BM41=1,40-BL40>0,40-BL40<8),40-BL40,IF(AND(J41<K41),J41,K41))","v":0},0]
[false,null,null,"Thursday",null,null,null,null,null,null,null,null,null,null,0,"",null,"",null,null,0,0,null,{"$f":"IF(ISNA(INDEX('Conversion Factors'!$B$6:$B$370,MATCH('Aug 16 - Aug 31'!$Z$38:$Z$44,'Conversion Factors'!$A$6:$A$370,0))),\"\",INDEX('Conversion Factors'!$B$6:$B$370,MATCH('Aug 16 - Aug 31'!$Z$38:$Z$44,'Conversion Factors'!$A$6:$A$370,0)))","v":""},null,false,"","",null,null,null,null,null,0,{"$f":"IF(AH42>$AI$12,AH42-($AI$12+AI41+AI40+AI39+AI38+AI37),0)","v":0},false,false,null,0,null,0,0,0,0,0,{"$f":"IF(AND(AH41<=40),40-AH41,0)","v":40},0,0,0,null,0,0,0,0,0,0,40,0,null,0,40,0,0,{"$f":"SUM(E38:E42)","v":0},0,0,0,0]
[false,null,null,"Friday",null,null,null,null,null,null,null,null,null,null,0,"",null,"",null,null,0,0,null,{"$f":"IF(ISNA(INDEX('Conversion Factors'!$B$6:$B$370,MATCH('Aug 16 - Aug 31'!$Z$38:$Z$44,'Conversion Factors'!$A$6:$A$370,0))),\"\",INDEX('Conversion Factors'!$B$6:$B$370,MATCH('Aug 16 - Aug 31'!$Z$38:$Z$44,'Conversion Factors'!$A$6:$A$370,0)))","v":""},null,false,"","",null,null,null,null,null,0,{"$f":"IF(AH43>$AI$12,AH43-($AI$12+AI42+AI41+AI40+AI39+AI38+AI37),0)","v":0},false,false,null,0,null,0,0,0,0,0,{"$f":"IF(AND(AH42<=40),40-AH42,0)","v":40},0,0,0,null,0,0,0,0,0,0,40,0,null,0,40,0,0,{"$f":"SUM(E38:E43)","v":0},0,0,0,{"$f":"IF(AND(BM43=1,BL43>40,J43<=K43),J43-BO43,IF(AND(BM43=1,BL43>0,J43>K43),K43-BO43,0))","v":0}]
[false,null,null,"Saturday",null,null,null,null,null,null,null,null,null,null,{"$f":"SUM(E44:N44)-J44","v":0},"",null,"",null,null,0,0,null,{"$f":"IF(ISNA(INDEX('Conversion Factors'!$B$6:$B$370,MATCH('Aug 16 - Aug 31'!$Z$38:$Z$44,'Conversion Factors'!$A$6:$A$370,0))),\"\",INDEX('Conversion Factors'!$B$6:$B$370,MATCH('Aug 16 - Aug 31'!$Z$38:$Z$44,'Conversion Factors'!$A$6:$A$370,0)))","v":""},null,false,"","",null,null,null,null,null,0,{"$f":"IF(AH44>$AI$12,AH44-($AI$12+AI43+AI42+AI41+AI40+AI39+AI38+AI37),0)","v":0},false,false,null,0,null,0,0,0,0,0,40,0,0,0,null,0,0,0,0,0,0,40,0,null,0,40,0,0,{"$f":"SUM(E38:E44)","v":0},0,0,0,{"$f":"IF(AND(BM44=1,BL44>40,J44<=K44),J44-BO44,IF(AND(BM44=1,BL44>0,J44>K44),K44-BO44,0))","v":0}]
["Week 4 Totals",null,null,null,{"$f":"SUM(E38:E44)","v":0},{"$f":"SUM(F38:F44)","v":0},0,0,0,null,0,0,0,0,{"$f":"SUM(O38:O44)","v":0},{"$f":"-SUM(P38:P44)","v":0},{"$f":"SUM(Q38:Q44)","v":0},{"$f":"SUM(R38:R44)","v":0},{"$f":"IF(E45>40,(E45-40)-V45,0)","v":0},{"$f":"MROUND(AL45,0.25)","v":0},{"$f":"SUM(U38:U44)","v":0},{"$f":"SUM(V38:V44)","v":0},{"$f":"IF(E45-(E11-(G45+K45+F45+H45+I45+L45+M45))-(S45+U45+V45)>0,E45-(E11-(G45+K45+F45+H45+I45+L45+M45))-(S45+U45+V45),0)","v":0},null,null,null,null,null,{"$f":"SUM(F45:N45)","v":0},{"$f":"IF(AND(AG45<40,O45>=AG45),O45-(AG45+S45),IF(AND(O45<AG45,E45=O45),O45-E45,IF(AND(E45>AG45,E45<40),E45-AG45,IF(AND(O45>AG45,E45<AG45),E45-(AG45-AC45),IF(AND(O45>AG45,E45>40),E45-(AG45-AC45+S45),IF(AND(O45>AG45,O45>40),O45-(S45+AG45),0))))))","v":0},{"$f":"AD45-U45-V45","v":0},{"$f":"$W$11","v":"Please Select"},{"$f":"$E$11","v":40},null,{"$f":"IF(AH45>$AI$12,-$AI$12,0)","v":0},null,null,{"$f":"IF(AF45=\"Yes\",S45*1.5,0)","v":0},null,null,null,null,null,null,null,null,null,null,null,null,null,null,null,null,null,null,null,null,null,null,null,null,null,null,null,null,null,{"$f":"SUM(BP38:BP44)","v":0},{"$f":"E44+E11","v":40}]
[null,null,null,null,null,null,null,null,"Total-Net Previous Week",null,null,null,null,null,{"$f":"(O21+O29+O37+O45)-O13","v":0},0,0,0,0,0,0,0,0,{"$f":"(X21+X29+X37+X45)-X13","v":0}]
[]
[null,null,null,null,null,null,null,null,null,null,null,null,null,null,"Leave/Leave Without Pay Policy"]
["Employee signature",null,null,null,null,null,"Date",null,null,null,null,null,null,null,"Overtime/Compensatory Time"]
["I certify this record is accurate and accounts for my time during the indicated period.",null,null,null,null,null,null,null,null,null,null,null,null,null,"Time Sheet Definitions/Policies"]
[]
[null,null,null,null,null,null,null,null,null,null,"“Actual Work Hours During Administrative Close Period” – Only key the hours actually worked during the admministrative closing period into this field. "]
[]
["Manager signature",null,null,null,null,null,"Date"]
["I certify the hours recorded and coded on this form are correct and in compliance with University policy.",null,null,null,null,null,null,null,null,null,"“Administrative Closing/Leave Period field.”  Entter the number of hours of the declared period of administrative closing. (The total hours worked during the entire day will be entered into the “Actual Hours Worked” field.)"]

{"sheet":"Sept 1 - Sept 15","index":11,"n_rows":55,"n_cols":69,"rows_kept":55,"cut":false,"hidden":false,"merged":[[0,0,0,22],[1,0,1,22],[3,0,3,23],[5,2,5,7],[5,8,5,13],[5,14,5,19],[10,40,10,46],[6,2,6,7],[6,8,6,13],[6,14,6,19],[7,2,7,7],[7,8,7,13],[7,14,7,19],[10,0,10,3],[10,4,10,5],[10,6,10,17],[10,18,10,21],[10,22,10,23],[21,0,21,2],[11,0,11,2],[11,29,11,30],[12,0,12,3],[13,0,13,2],[14,0,14,2],[15,0,15,2],[16,0,16,2],[17,0,17,2],[18,0,18,2],[19,0,19,2],[20,0,20,2],[33,0,33,2],[22,0,22,2],[23,0,23,2],[24,0,24,2],[25,0,25,2],[26,0,26,2],[27,0,27,2],[28,0,28,2],[29,0,29,2],[30,0,30,2],[31,0,31,2],[32,0,32,2],[45,8,45,13],[34,0,34,2],[35,0,35,2],[36,0,36,2],[37,0,37,2],[38,0,38,2],[39,0,39,2],[40,0,40,2],[41,0,41,2],[42,0,42,2],[43,0,43,2],[44,0,44,2],[47,14,47,22],[48,14,48,19],[49,14,49,22],[51,10,53,22],[54,10,56,22]]}
["Mississippi State University"]
["Non-Exempt Employee Semi-Monthly Time Report"]
[]
["Instructions:  The Fair Labor Standards Act requires that a record of hours worked on a weekly basis be maintained for all employees except executive, administrative, managerial, faculty, and professional (non-faculty).  Department/unit heads are responsible for compiling and maintaining this record in department files on each covered employee for a period of at least (3) years."]
[]
["MSU ID #:",null,{"$f":"'July 1 - July 15'!C6","v":0},null,null,null,null,null,"Pay period start date:",null,null,null,null,null,{"$f":"'Dates & Notes'!$A$6","v":"2022-09-01"},null,null,null,null,null,null,null,null,null,null,{"$f":"TEXT(O6,\"dddd\")","v":"Thursday"},null,null,null,"Please Select"]
["Name:",null,{"$f":"'July 1 - July 15'!C7","v":0},null,null,null,null,null,"Pay period end date:",null,null,null,null,null,{"$f":"'Dates & Notes'!$B$6","v":"2022-09-15"},null,null,null,null,null,null,null,null,null,null,null,null,null,null,"No"]
["Department:",null,{"$f":"'July 1 - July 15'!C8","v":0},null,null,null,null,null,"Pay Period Number:",null,null,null,null,null,{"$f":"'Dates & Notes'!$C$6","v":17},null,null,null,null,null,null,null,null,null,null,null,null,null,null,"Yes"]
[]
[]
["Employee Scheduled Hours Per Week",null,null,null,40,null,"FIELDS MUST BE ENTERED FOR CALULATIONS TO WORK PROPERLY",null,null,null,null,null,null,null,null,null,null,null,"Receive Compensatory Time",null,null,null,"Please Select",null,null,null,null,null,null,null,null,null,null,null,"Over 40",null,null,null,null,null,"HOW ANALYSIS"]
["Work Week Dates",null,null,"Day of The Week","Actual Hours Worked","Compensatory Time Used","Holiday","Medical Leave","Personal Leave","Actual Wrk Hrs During  Admin Close Period","Administrative Closing/Leave Period","Jury Duty","Military Leave","Leave Without Pay","Totals","DOC-Payroll Conversion","RTO","RTO-Payroll Conversion","Overtime Hours","Hours Transferred to Comp. Record","HOW-Holiday Pay or Admin/Leave Closing","HOT-Holiday Pay","SST-Payroll","Conversion Factor",null,8,"DOC","RTO",null,"SST",null,null,null,"Cumm Actual HRS",40,"Administrative Leave","HOW-Holiday Pay","Comp. Time","Administrative/Schedule",null,"Holiday=0\n1",2,3,4,null,"<=40\n5",null,"HOT Workup","HOT-Holiday Pay (HOLIDAY PAY)",null,"HOT-Administrative HRS","Administrative=0\n1",2,3,4,null,"<=40\n5",null,null,"Holiday Flag","Up to 40","How","Hot","Actual Hours Worked","Admin Flag","Admin","Admin HOW","Admin OVT"]
["Hours-Previous WK (Due to Split WK)",null,null,null,{"$f":"SUM(E14:E17)","v":0},0,0,0,0,0,0,0,0,0,{"$f":"SUM(E13:N13)-J13","v":0},null,null,null,null,null,null,null,null,null,null,null,null,null,null,null,null,null,null,null,null,{"$f":"IF(AND(AM13=0,J13=0),AM13,IF(AND(E13>AM13,J13=0),J13,IF(AND(J13<AM13,AI13=0),J13,IF(AND(AM13=J13,AI13<AM13),AM13-AI13,IF(AND(J13=AM13,AI13=AM13),AI13,IF(AND(J13<AM13,AI13>0),AM13-J13,IF(AND(AM13>J13,AI13<E13),E13-AI13,IF(AND(E13>AM13,AI13=E13),O13-AI13,0))))))))","v":0},{"$f":"IF(AND(G13=0,E13>G13),G13,IF(AND(E13>G13,AI13=0),G13,IF(AND(E13<G13,AI13=0),E13,IF(AND(E13=G13,AI13<G13),G13-AI13,IF(AND(E13=G13,AI13=G13),AI13,IF(AND(E13<G13,AI13>0),G13-E13,IF(AND(E13>G13,AI13<E13),E13-AI13,IF(AND(E13>G13,AI13=E13),O13-AI13,0))))))))","v":0},null,{"$f":"K13","v":0}]
[{"$f":"IF(EXACT(D14,$Z$6)=TRUE,$O$6,IF(A12=0,\"\",IF(A12<$O$7,A12+1,IF(A12=$O$7,\"\"))))","v":false},null,null,"Sunday",{"$f":"'Aug 16 - Aug 31'!E30","v":0},{"$f":"'Aug 16 - Aug 31'!F30","v":0},{"$f":"'Aug 16 - Aug 31'!G30","v":0},{"$f":"'Aug 16 - Aug 31'!H30","v":0},{"$f":"'Aug 16 - Aug 31'!I30","v":0},{"$f":"'Aug 16 - Aug 31'!J30","v":0},{"$f":"'Aug 16 - Aug 31'!K30","v":0},{"$f":"'Aug 16 - Aug 31'!L30","v":0},{"$f":"'Aug 16 - Aug 31'!M30","v":0},{"$f":"'Aug 16 - Aug 31'!N30","v":0},{"$f":"SUM(E14:N14)-J14","v":0},{"$f":"IF(AND(ISNUMBER(AA14),ISNUMBER(X14)),AA14*X14,\"\")","v":""},null,{"$f":"IF(AND(ISNUMBER(AB14),ISNUMBER(X14)),AB14*X14,\"\")","v":""},null,null,{"$f":"IF(BJ14>0,BJ14,BN14)","v":0},{"$f":"IF(BK14>0,BK14,0)","v":0},null,{"$f":"IF(ISNA(INDEX('Conversion Factors'!$B$6:$B$371,MATCH('Sept 1 - Sept 15'!$Z$14:$Z$20,'Conversion Factors'!$A$6:$A$371,0))),\"\",INDEX('Conversion Factors'!$B$6:$B$371,MATCH('Sept 1 - Sept 15'!$Z$14:$Z$20,'Conversion Factors'!$A$6:$A$371,0)))","v":""},null,{"$f":"A14","v":false},{"$f":"IF(AND(ISNUMBER(N14),ISNUMBER($Z$12)),N14/$Z$12,\"\")","v":0},{"$f":"IF(AND(ISNUMBER(Q14),ISNUMBER($Z$12)),Q14/$Z$12,\"\")","v":""},null,null,null,null,null,{"$f":"E14","v":0},{"$f":"IF(AH14>$AI$12,AH14-$AI$12,0)","v":0},{"$f":"IF(AND(AZ14>0,AZ14),IF(BA14>0,BA14,IF(BB14>0,BB14,IF(BC14>0,BC14,IF(BF14>0,BF14,\"\")))))","v":false},{"$f":"IF(AND(AO14>0,AO14),IF(AP14>0,AP14,IF(AQ14>0,AQ14,IF(AR14>0,AR14,IF(AU14>0,AU14,\"\")))))","v":false},null,{"$f":"J14","v":0},null,{"$f":"IF(G14=0,0,\"\")","v":0},{"$f":"IF(AND(AH14<=40,E14=G14),G14,0)","v":0},{"$f":"IF(AND(AH14<=40,E14>=G14,G14>0),O14-E14,0)","v":0},{"$f":"IF(AND(AH14<=40,E14<G14),O14-G14,0)","v":0},{"$f":"IF(AND(G14=0),G14,IF(AND(G14>0,AI14>0,G14=AT14),AT14,IF(AND(G14>0,AI14>0,G14-AT14),AT14,0)))","v":0},null,{"$f":"AS14","v":0},{"$f":"IF(AND(AH13+AU14=40,AI14>0,AI14>AU14),AI14-AU14,IF(AND(AH13+AU14=40,AI14>0,AI14<AU14,AU14+AI14=G14),AI14,IF(AND(AH13>40,AH14>40,G14=AI14),AI14,0)))","v":0},{"$f":"AV14","v":0},null,{"$f":"IF(AND(J14>0,AI14>=J14,BB14=0),O14-AI14,IF(AND(J14>0,AI14>0,BB14<=AI14),AI14-BB14,IF(AND(J14>0,AI14>0,BB14>AI14),J14-BB14,0)))","v":0},{"$f":"IF(J14=0,0,\"\")","v":0},{"$f":"IF(AND(AH14<=40,E14=J14),J14,0)","v":0},{"$f":"IF(AND(AZ14=0),AZ14,IF(AND(AH14>40,E14>=J14),BE14,IF(AND(AH14<=40,E14>J14),J14,0)))","v":0},{"$f":"IF(AND(AH14<=40,E14<J14),O14-J14,0)","v":0},{"$f":"IF(AND(J14=0),J14,IF(AND(J14>0,AI14>0,J14=BC14),BC14,IF(AND(J14>0,AI14>0,J14-BC14),BC14,0)))","v":0},null,{"$f":"BD14","v":0},null,{"$f":"IF(AND(G14>0,E14>0),1,0)","v":0},{"$f":"40-AH14","v":40},{"$f":"IF(AND(BH14=1,E14<8),E14,(IF(AND(BH14=1,E14>0),G14,0)))","v":0},{"$f":"IF(AND(BH14=1,BL14>40,E14<G14),E14-BJ14,(IF(AND(BH14=1,BL14>0,E14>=G14),G14-BJ14,0)))","v":0},{"$f":"E14","v":0},{"$f":"IF(AND(K14>0,E14>0),1,0)","v":0},{"$f":"IF(AND(BM14=1,J14>8),K14,(IF(AND(BM14=1,J14>0),J14,0)))","v":0},{"$f":"IF(AND(BM14=1,40-BL13>0,40-BL13<8),40-BL13,IF(AND(J14<K14),J14,K14))","v":0},{"$f":"IF(AND(BM14=1,BL14>40,J14<=K14),J14-BO14,IF(AND(BM14=1,BL14>0,J14>K14),K14-BO14,0))","v":0}]
[{"$f":"IF(EXACT(D15,$Z$6)=TRUE,$O$6,IF(A14=0,\"\",IF(A14<$O$7,A14+1,IF(A14=$O$7,\"\"))))","v":false},null,null,"Monday",{"$f":"'Aug 16 - Aug 31'!E31","v":0},{"$f":"'Aug 16 - Aug 31'!F31","v":0},{"$f":"'Aug 16 - Aug 31'!G31","v":0},{"$f":"'Aug 16 - Aug 31'!H31","v":0},{"$f":"'Aug 16 - Aug 31'!I31","v":0},{"$f":"'Aug 16 - Aug 31'!J31","v":0},{"$f":"'Aug 16 - Aug 31'!K31","v":0},{"$f":"'Aug 16 - Aug 31'!L31","v":0},{"$f":"'Aug 16 - Aug 31'!M31","v":0},{"$f":"'Aug 16 - Aug 31'!N31","v":0},{"$f":"SUM(E15:N15)-J15","v":0},{"$f":"IF(AND(ISNUMBER(AA15),ISNUMBER(X15)),AA15*X15,\"\")","v":""},null,{"$f":"IF(AND(ISNUMBER(AB15),ISNUMBER(X15)),AB15*X15,\"\")","v":""},null,null,{"$f":"IF(BJ15>0,BJ15,BN15)","v":0},{"$f":"IF(BK15>0,BK15,0)","v":0},null,{"$f":"IF(ISNA(INDEX('Conversion Factors'!$B$6:$B$371,MATCH('Sept 1 - Sept 15'!$Z$14:$Z$20,'Conversion Factors'!$A$6:$A$371,0))),\"\",INDEX('Conversion Factors'!$B$6:$B$371,MATCH('Sept 1 - Sept 15'!$Z$14:$Z$20,'Conversion Factors'!$A$6:$A$371,0)))","v":""},null,false,0,"",null,null,null,null,null,{"$f":"E15+AH14","v":0},{"$f":"IF(AH15>$AI$12,AH15-($AI$12+AI14),0)","v":0},{"$f":"IF(AND(AZ15>0,AZ15),IF(BA15>0,BA15,IF(BB15>0,BB15,IF(BC15>0,BC15,IF(BF15>0,BF15,\"\")))))","v":false},{"$f":"IF(AND(AO15>0,AO15),IF(AP15>0,AP15,IF(AQ15>0,AQ15,IF(AR15>0,AR15,IF(AU15>0,AU15,0)))))","v":false},null,0,null,0,0,0,0,0,{"$f":"IF(AND(AH14<=40),40-AH14,0)","v":40},{"$f":"AS15","v":0},0,{"$f":"AV15","v":0},null,0,0,0,0,0,0,{"$f":"IF(AND(AH14<=40),40-AH14,0)","v":40},{"$f":"BD15","v":0},null,{"$f":"IF(AND(G15>0,E15>0),1,0)","v":0},40,0,0,{"$f":"SUM(E14:E15)","v":0},{"$f":"IF(AND(K15>0,E15>0),1,0)","v":0},{"$f":"IF(AND(BM15=1,J15>8),K15,(IF(AND(BM15=1,J15>0),J15,0)))","v":0},0,0]
[false,null,null,"Tuesday",{"$f":"'Aug 16 - Aug 31'!E32","v":0},{"$f":"'Aug 16 - Aug 31'!F32","v":0},{"$f":"'Aug 16 - Aug 31'!G32","v":0},{"$f":"'Aug 16 - Aug 31'!H32","v":0},{"$f":"'Aug 16 - Aug 31'!I32","v":0},{"$f":"'Aug 16 - Aug 31'!J32","v":0},{"$f":"'Aug 16 - Aug 31'!K32","v":0},{"$f":"'Aug 16 - Aug 31'!L32","v":0},{"$f":"'Aug 16 - Aug 31'!M32","v":0},{"$f":"'Aug 16 - Aug 31'!N32","v":0},{"$f":"SUM(E16:N16)-J16","v":0},"",null,"",null,null,{"$f":"IF(BJ16>0,BJ16,BN16)","v":0},0,null,{"$f":"IF(ISNA(INDEX('Conversion Factors'!$B$6:$B$371,MATCH('Sept 1 - Sept 15'!$Z$14:$Z$20,'Conversion Factors'!$A$6:$A$371,0))),\"\",INDEX('Conversion Factors'!$B$6:$B$371,MATCH('Sept 1 - Sept 15'!$Z$14:$Z$20,'Conversion Factors'!$A$6:$A$371,0)))","v":""},null,false,0,"",null,null,null,null,null,0,{"$f":"IF(AH16>$AI$12,AH16-($AI$12+AI15+AI14),0)","v":0},false,false,null,0,null,0,0,0,0,0,40,0,0,0,null,0,0,0,0,0,0,{"$f":"IF(AND(AH15<=40),40-AH15,0)","v":40},0,null,{"$f":"IF(AND(G16>0,E16>0),1,0)","v":0},40,0,0,{"$f":"SUM(E14:E16)","v":0},0,{"$f":"IF(AND(BM16=1,J16>8),K16,(IF(AND(BM16=1,J16>0),J16,0)))","v":0},{"$f":"IF(AND(BM16=1,40-BL15>0,40-BL15<8),40-BL15,IF(AND(J16<K16),J16,K16))","v":0},0]
[false,null,null,"Wednesday",{"$f":"'Aug 16 - Aug 31'!E33","v":0},{"$f":"'Aug 16 - Aug 31'!F33","v":0},{"$f":"'Aug 16 - Aug 31'!G33","v":0},{"$f":"'Aug 16 - Aug 31'!H33","v":0},{"$f":"'Aug 16 - Aug 31'!I33","v":0},{"$f":"'Aug 16 - Aug 31'!J33","v":0},{"$f":"'Aug 16 - Aug 31'!K33","v":0},{"$f":"'Aug 16 - Aug 31'!L33","v":0},{"$f":"'Aug 16 - Aug 31'!M33","v":0},{"$f":"'Aug 16 - Aug 31'!N33","v":0},0,"",null,"",null,null,0,0,null,{"$f":"IF(ISNA(INDEX('Conversion Factors'!$B$6:$B$371,MATCH('Sept 1 - Sept 15'!$Z$14:$Z$20,'Conversion Factors'!$A$6:$A$371,0))),\"\",INDEX('Conversion Factors'!$B$6:$B$371,MATCH('Sept 1 - Sept 15'!$Z$14:$Z$20,'Conversion Factors'!$A$6:$A$371,0)))","v":""},null,false,0,"",null,null,null,null,null,0,{"$f":"IF(AH17>$AI$12,AH17-($AI$12+AI16+AI15+AI14),0)","v":0},false,false,null,0,null,0,0,0,0,0,40,0,0,0,null,0,0,0,0,0,0,40,0,null,0,40,0,0,{"$f":"SUM(E14:E17)","v":0},0,{"$f":"IF(AND(BM17=1,J17>8),K17,(IF(AND(BM17=1,J17>0),J17,0)))","v":0},{"$f":"IF(AND(BM17=1,40-BL16>0,40-BL16<8),40-BL16,IF(AND(J17<K17),J17,K17))","v":0},0]
["2022-09-01",null,null,"Thursday",null,null,null,null,null,null,null,null,null,null,0,"",null,"",null,null,0,0,null,{"$f":"IF(ISNA(INDEX('Conversion Factors'!$B$6:$B$371,MATCH('Sept 1 - Sept 15'!$Z$14:$Z$20,'Conversion Factors'!$A$6:$A$371,0))),\"\",INDEX('Conversion Factors'!$B$6:$B$371,MATCH('Sept 1 - Sept 15'!$Z$14:$Z$20,'Conversion Factors'!$A$6:$A$371,0)))","v":7.8789999999999996},null,"2022-09-01","","",null,null,null,null,null,0,{"$f":"IF(AH18>$AI$12,AH18-($AI$12+AI17+AI16+AI15+AI14),0)","v":0},false,false,null,0,null,0,0,0,0,0,{"$f":"IF(AND(AH17<=40),40-AH17,0)","v":40},0,0,0,null,0,0,0,0,0,0,40,0,null,0,40,0,0,{"$f":"SUM(E14:E18)","v":0},0,0,0,0]
["2022-09-02",null,null,"Friday",null,null,null,null,null,null,null,null,null,null,0,"",null,"",null,null,0,0,null,{"$f":"IF(ISNA(INDEX('Conversion Factors'!$B$6:$B$371,MATCH('Sept 1 - Sept 15'!$Z$14:$Z$20,'Conversion Factors'!$A$6:$A$371,0))),\"\",INDEX('Conversion Factors'!$B$6:$B$371,MATCH('Sept 1 - Sept 15'!$Z$14:$Z$20,'Conversion Factors'!$A$6:$A$371,0)))","v":7.8789999999999996},null,"2022-09-02","","",null,null,null,null,null,0,{"$f":"IF(AH19>$AI$12,AH19-($AI$12+AI18+AI17+AI16+AI15+AI14),0)","v":0},false,false,null,0,null,0,0,0,0,0,{"$f":"IF(AND(AH18<=40),40-AH18,0)","v":40},0,0,0,null,0,0,0,0,0,0,40,0,null,0,40,0,0,{"$f":"SUM(E14:E19)","v":0},0,0,0,{"$f":"IF(AND(BM19=1,BL19>40,J19<=K19),J19-BO19,IF(AND(BM19=1,BL19>0,J19>K19),K19-BO19,0))","v":0}]
["2022-09-03",null,null,"Saturday",null,null,null,null,null,null,null,null,null,null,{"$f":"SUM(E20:N20)-J20","v":0},"",null,"",null,null,0,0,null,{"$f":"IF(ISNA(INDEX('Conversion Factors'!$B$6:$B$371,MATCH('Sept 1 - Sept 15'!$Z$14:$Z$20,'Conversion Factors'!$A$6:$A$371,0))),\"\",INDEX('Conversion Factors'!$B$6:$B$371,MATCH('Sept 1 - Sept 15'!$Z$14:$Z$20,'Conversion Factors'!$A$6:$A$371,0)))","v":7.8789999999999996},null,"2022-09-03","","",null,null,null,null,null,0,{"$f":"IF(AH20>$AI$12,AH20-($AI$12+AI19+AI18+AI17+AI16+AI15+AI14),0)","v":0},false,false,null,0,null,0,0,0,0,0,40,0,0,0,null,0,0,0,0,0,0,40,0,null,0,40,0,0,{"$f":"SUM(E14:E20)","v":0},0,0,0,{"$f":"IF(AND(BM20=1,BL20>40,J20<=K20),J20-BO20,IF(AND(BM20=1,BL20>0,J20>K20),K20-BO20,0))","v":0}]
["Week 1 Totals",null,null,null,{"$f":"SUM(E14:E20)","v":0},{"$f":"SUM(F14:F20)","v":0},0,0,0,null,0,0,0,0,{"$f":"SUM(O14:O20)","v":0},{"$f":"-SUM(P14:P20)","v":0},{"$f":"SUM(Q14:Q20)","v":0},{"$f":"SUM(R14:R20)","v":0},{"$f":"IF(E21>40,(E21-40)-V21-BP21,0)","v":0},{"$f":"MROUND(AL21,0.25)","v":0},{"$f":"SUM(U14:U20)","v":0},{"$f":"SUM(V14:V20)","v":0},{"$f":"IF(E21-(E11-(G21+K21+F21+H21+I21+L21+M21))-(S21+U21+V21)>0,E21-(E11-(G21+K21+F21+H21+I21+L21+M21))-(S21+U21+V21),0)","v":0},null,null,null,null,null,{"$f":"SUM(F21:N21)","v":0},{"$f":"IF(AND(AG21<40,O21>=AG21),O21-(AG21+S21),IF(AND(O21<AG21,E21=O21),O21-E21,IF(AND(E21>AG21,E21<40),E21-AG21,IF(AND(O21>AG21,E21<AG21),E21-(AG21-AC21),IF(AND(O21>AG21,E21>40),E21-(AG21-AC21+S21),IF(AND(O21>AG21,O21>40),O21-(S21+AG21),0))))))","v":0},{"$f":"AD21-U21-V21","v":0},{"$f":"$W$11","v":"Please Select"},{"$f":"$E$11","v":40},null,{"$f":"IF(AH21>$AI$12,-$AI$12,0)","v":0},null,null,{"$f":"IF(AF21=\"Yes\",S21*1.5,0)","v":0},null,null,null,null,null,null,null,null,null,null,null,null,null,null,null,null,null,null,null,null,null,null,null,null,null,null,null,null,null,{"$f":"SUM(BP14:BP20)","v":0},{"$f":"E11+U21","v":40}]
[{"$f":"IF(A20=0,\"\",IF(A20<$O$7,A20+1,IF(A20=$O$7,\"\")))","v":"2022-09-04"},null,null,"Sunday",null,null,null,null,null,null,null,null,null,null,{"$f":"SUM(E22:N22)-J22","v":0},{"$f":"IF(AND(ISNUMBER(AA22),ISNUMBER(X22)),AA22*X22,\"\")","v":""},null,{"$f":"IF(AND(ISNUMBER(AB22),ISNUMBER(X22)),AB22*X22,\"\")","v":""},null,null,{"$f":"IF(BJ22>0,BJ22,BN22)","v":0},{"$f":"IF(BK22>0,BK22,0)","v":0},null,{"$f":"IF(ISNA(INDEX('Conversion Factors'!$B$6:$B$371,MATCH('Sept 1 - Sept 15'!$Z$22:$Z$28,'Conversion Factors'!$A$6:$A$371,0))),\"\",INDEX('Conversion Factors'!$B$6:$B$371,MATCH('Sept 1 - Sept 15'!$Z$22:$Z$28,'Conversion Factors'!$A$6:$A$371,0)))","v":7.8789999999999996},null,{"$f":"A22","v":"2022-09-04"},{"$f":"IF(AND(ISNUMBER(N22),ISNUMBER($Z$12)),N22/$Z$12,\"\")","v":""},{"$f":"IF(AND(ISNUMBER(Q22),ISNUMBER($Z$12)),Q22/$Z$12,\"\")","v":""},null,null,null,null,null,{"$f":"E22+AH21","v":0},{"$f":"IF(AH22>$AI$12,AH22-($AI$12+AI21),0)","v":0},{"$f":"IF(AND(AZ22>0,AZ22),IF(BA22>0,BA22,IF(BB22>0,BB22,IF(BC22>0,BC22,IF(BF22>0,BF22,\"\")))))","v":false},{"$f":"IF(AND(AO22>0,AO22),IF(AP22>0,AP22,IF(AQ22>0,AQ22,IF(AR22>0,AR22,IF(AU22>0,AU22,\"\")))))","v":false},null,{"$f":"J22","v":0},null,{"$f":"IF(G22=0,0,\"\")","v":0},{"$f":"IF(AND(AH22<=40,E22=G22),G22,0)","v":0},{"$f":"IF(AND(AH22<=40,E22>=G22,G22>0),O22-E22,0)","v":0},{"$f":"IF(AND(AH22<=40,E22<G22),O22-G22,0)","v":0},{"$f":"IF(AND(G22=0),G22,IF(AND(G22>0,AI22>0,G22=AT22),AT22,IF(AND(G22>0,AI22>0,G22-AT22),AT22,0)))","v":0},null,{"$f":"AS22","v":0},{"$f":"IF(AND(AH21+AU22=40,AI22>0,AI22>AU22),AI22-AU22,IF(AND(AH21+AU22=40,AI22>0,AI22<AU22,AU22+AI22=G22),AI22,IF(AND(AH21>40,AH22>40,G22=AI22),AI22,0)))","v":0},{"$f":"AV22","v":0},null,{"$f":"IF(AND(J22>0,AI22>0,BB22<=AI22),AI22-BB22,IF(AND(J22>0,AI22>0,BB22>AI22),J22-BB22,0))","v":0},{"$f":"IF(J22=0,0,\"\")","v":0},{"$f":"IF(AND(AH22<=40,E22=J22),J22,0)","v":0},{"$f":"IF(AND(AZ22=0),AZ22,IF(AND(AH22>40,E22>=J22),BE22,IF(AND(AH22<=40,E22>J22),J22,0)))","v":0},{"$f":"IF(AND(AH22<=40,E22<J22),O22-J22,0)","v":0},{"$f":"IF(AND(J22=0),J22,IF(AND(J22>0,AI22>0,J22=BC22),BC22,IF(AND(J22>0,AI22>0,J22-BC22),BC22,0)))","v":0},null,{"$f":"BD22","v":0},null,{"$f":"IF(AND(G22>0,E22>0),1,0)","v":0},{"$f":"40-AH22","v":40},0,{"$f":"IF(AND(BH22=1,BL22>40,E22<G22),E22-BJ22,(IF(AND(BH22=1,BL22>0,E22>=G22),G22-BJ22,0)))","v":0},{"$f":"E22","v":0},{"$f":"IF(AND(K22>0,E22>0),1,0)","v":0},{"$f":"IF(AND(BM22=1,J22>8),K22,(IF(AND(BM22=1,J22>0),J22,0)))","v":0},{"$f":"IF(AND(BM22=1,40-BL21>0,40-BL21<8),40-BL21,IF(AND(J22<K22),J22,K22))","v":0},{"$f":"IF(AND(BM22=1,BL22>40,J22<=K22),J22-BO22,IF(AND(BM22=1,BL22>0,J22>K22),K22-BO22,0))","v":0}]
[{"$f":"IF(A22<$O$7,A22+1,IF(A22=$O$7,\"\"))","v":"2022-09-05"},null,null,"Monday",null,null,null,null,null,null,null,null,null,null,{"$f":"SUM(E23:N23)-J23","v":0},{"$f":"IF(AND(ISNUMBER(AA23),ISNUMBER(X23)),AA23*X23,\"\")","v":""},null,{"$f":"IF(AND(ISNUMBER(AB23),ISNUMBER(X23)),AB23*X23,\"\")","v":""},null,null,{"$f":"IF(BJ23>0,BJ23,BN23)","v":0},{"$f":"IF(BK23>0,BK23,0)","v":0},null,{"$f":"IF(ISNA(INDEX('Conversion Factors'!$B$6:$B$371,MATCH('Sept 1 - Sept 15'!$Z$22:$Z$28,'Conversion Factors'!$A$6:$A$371,0))),\"\",INDEX('Conversion Factors'!$B$6:$B$371,MATCH('Sept 1 - Sept 15'!$Z$22:$Z$28,'Conversion Factors'!$A$6:$A$371,0)))","v":7.8789999999999996},null,"2022-09-05","","",null,null,null,null,null,0,{"$f":"IF(AH23>$AI$12,AH23-($AI$12+AI22+AI21),0)","v":0},false,{"$f":"IF(AND(AO23>0,AO23),IF(AP23>0,AP23,IF(AQ23>0,AQ23,IF(AR23>0,AR23,IF(AU23>0,AU23,0)))))","v":false},null,0,null,0,0,0,0,0,{"$f":"IF(AND(AH22<=40),40-AH22,0)","v":40},{"$f":"AS23","v":0},0,{"$f":"AV23","v":0},null,{"$f":"IF(AND(J23>0,AI23>0,BB23<=AI23),AI23-BB23,IF(AND(J23>0,AI23>0,BB23>AI23),J23-BB23,0))","v":0},0,0,0,0,0,{"$f":"IF(AND(AH22<=40),40-AH22,0)","v":40},{"$f":"BD23","v":0},null,{"$f":"IF(AND(G23>0,E23>0),1,0)","v":0},40,0,0,{"$f":"SUM(E22:E23)","v":0},{"$f":"IF(AND(K23>0,E23>0),1,0)","v":0},{"$f":"IF(AND(BM23=1,J23>8),K23,(IF(AND(BM23=1,J23>0),J23,0)))","v":0},0,0]
["2022-09-06",null,null,"Tuesday",null,null,null,null,null,null,null,null,null,null,{"$f":"SUM(E24:N24)-J24","v":0},"",null,"",null,null,{"$f":"IF(BJ24>0,BJ24,BN24)","v":0},0,null,{"$f":"IF(ISNA(INDEX('Conversion Factors'!$B$6:$B$371,MATCH('Sept 1 - Sept 15'!$Z$22:$Z$28,'Conversion Factors'!$A$6:$A$371,0))),\"\",INDEX('Conversion Factors'!$B$6:$B$371,MATCH('Sept 1 - Sept 15'!$Z$22:$Z$28,'Conversion Factors'!$A$6:$A$371,0)))","v":7.8789999999999996},null,"2022-09-06","","",null,null,null,null,null,0,{"$f":"IF(AH24>$AI$12,AH24-($AI$12+AI23+AI22+AI21),0)","v":0},false,false,null,0,null,0,0,0,0,0,40,0,0,0,null,{"$f":"IF(AND(J24>0,AI24>0,BB24<=AI24),AI24-BB24,IF(AND(J24>0,AI24>0,BB24>AI24),J24-BB24,0))","v":0},0,0,0,0,0,{"$f":"IF(AND(AH23<=40),40-AH23,0)","v":40},0,null,{"$f":"IF(AND(G24>0,E24>0),1,0)","v":0},40,0,0,{"$f":"SUM(E22:E24)","v":0},0,{"$f":"IF(AND(BM24=1,J24>8),K24,(IF(AND(BM24=1,J24>0),J24,0)))","v":0},{"$f":"IF(AND(BM24=1,40-BL23>0,40-BL23<8),40-BL23,IF(AND(J24<K24),J24,K24))","v":0},0]
["2022-09-07",null,null,"Wednesday",null,null,null,null,null,null,null,null,null,null,0,"",null,"",null,null,0,0,null,{"$f":"IF(ISNA(INDEX('Conversion Factors'!$B$6:$B$371,MATCH('Sept 1 - Sept 15'!$Z$22:$Z$28,'Conversion Factors'!$A$6:$A$371,0))),\"\",INDEX('Conversion Factors'!$B$6:$B$371,MATCH('Sept 1 - Sept 15'!$Z$22:$Z$28,'Conversion Factors'!$A$6:$A$371,0)))","v":7.8789999999999996},null,"2022-09-07","","",null,null,null,null,null,0,{"$f":"IF(AH25>$AI$12,AH25-($AI$12+AI24+AI23+AI22+AI21),0)","v":0},false,false,null,0,null,0,0,0,0,0,40,0,0,0,null,{"$f":"IF(AND(J25>0,AI25>0,BB25<=AI25),AI25-BB25,IF(AND(J25>0,AI25>0,BB25>AI25),J25-BB25,0))","v":0},0,0,0,0,0,40,0,null,0,40,0,0,{"$f":"SUM(E22:E25)","v":0},0,{"$f":"IF(AND(BM25=1,J25>8),K25,(IF(AND(BM25=1,J25>0),J25,0)))","v":0},{"$f":"IF(AND(BM25=1,40-BL24>0,40-BL24<8),40-BL24,IF(AND(J25<K25),J25,K25))","v":0},0]
["2022-09-08",null,null,"Thursday",null,null,null,null,null,null,null,null,null,null,0,"",null,"",null,null,0,0,null,{"$f":"IF(ISNA(INDEX('Conversion Factors'!$B$6:$B$371,MATCH('Sept 1 - Sept 15'!$Z$22:$Z$28,'Conversion Factors'!$A$6:$A$371,0))),\"\",INDEX('Conversion Factors'!$B$6:$B$371,MATCH('Sept 1 - Sept 15'!$Z$22:$Z$28,'Conversion Factors'!$A$6:$A$371,0)))","v":7.8789999999999996},null,"2022-09-08","","",null,null,null,null,null,0,{"$f":"IF(AH26>$AI$12,AH26-($AI$12+AI25+AI24+AI23+AI22+AI21),0)","v":0},false,false,null,0,null,0,0,0,0,0,{"$f":"IF(AND(AH25<=40),40-AH25,0)","v":40},0,0,0,null,{"$f":"IF(AND(J26>0,AI26>=J26,BB26=0),O26-AI26,IF(AND(J26>0,AI26>0,BB26<=AI26),AI26-BB26,IF(AND(J26>0,AI26>0,BB26>AI26),J26-BB26,0)))","v":0},0,0,0,0,0,40,0,null,0,40,0,0,{"$f":"SUM(E22:E26)","v":0},0,0,0,0]
["2022-09-09",null,null,"Friday",null,null,null,null,null,null,null,null,null,null,0,"",null,"",null,null,0,0,null,{"$f":"IF(ISNA(INDEX('Conversion Factors'!$B$6:$B$371,MATCH('Sept 1 - Sept 15'!$Z$22:$Z$28,'Conversion Factors'!$A$6:$A$371,0))),\"\",INDEX('Conversion Factors'!$B$6:$B$371,MATCH('Sept 1 - Sept 15'!$Z$22:$Z$28,'Conversion Factors'!$A$6:$A$371,0)))","v":7.8789999999999996},null,"2022-09-09","","",null,null,null,null,null,0,{"$f":"IF(AH27>$AI$12,AH27-($AI$12+AI26+AI25+AI24+AI23+AI22+AI21),0)","v":0},false,false,null,0,null,0,0,0,0,0,{"$f":"IF(AND(AH26<=40),40-AH26,0)","v":40},0,0,0,null,{"$f":"IF(AND(J27>0,AI27>=J27,BB27=0),O27-AI27,IF(AND(J27>0,AI27>0,BB27<=AI27),AI27-BB27,IF(AND(J27>0,AI27>0,BB27>AI27),J27-BB27,0)))","v":0},0,0,0,0,0,40,0,null,0,40,0,0,{"$f":"SUM(E22:E27)","v":0},0,0,0,{"$f":"IF(AND(BM27=1,BL27>40,J27<=K27),J27-BO27,IF(AND(BM27=1,BL27>0,J27>K27),K27-BO27,0))","v":0}]
["2022-09-10",null,null,"Saturday",null,null,null,null,null,null,null,null,null,null,{"$f":"SUM(E28:N28)-J28","v":0},"",null,"",null,null,0,0,null,{"$f":"IF(ISNA(INDEX('Conversion Factors'!$B$6:$B$371,MATCH('Sept 1 - Sept 15'!$Z$22:$Z$28,'Conversion Factors'!$A$6:$A$371,0))),\"\",INDEX('Conversion Factors'!$B$6:$B$371,MATCH('Sept 1 - Sept 15'!$Z$22:$Z$28,'Conversion Factors'!$A$6:$A$371,0)))","v":7.8789999999999996},null,"2022-09-10","","",null,null,null,null,null,0,{"$f":"IF(AH28>$AI$12,AH28-($AI$12+AI27+AI26+AI25+AI24+AI23+AI22+AI21),0)","v":0},false,false,null,0,null,0,0,0,0,0,40,0,0,0,null,{"$f":"IF(AND(J28>0,AI28>=J28,BB28=0),O28-AI28,IF(AND(J28>0,AI28>0,BB28<=AI28),AI28-BB28,IF(AND(J28>0,AI28>0,BB28>AI28),J28-BB28,0)))","v":0},0,0,0,0,0,40,0,null,0,40,0,0,{"$f":"SUM(E22:E28)","v":0},0,0,0,{"$f":"IF(AND(BM28=1,BL28>40,J28<=K28),J28-BO28,IF(AND(BM28=1,BL28>0,J28>K28),K28-BO28,0))","v":0}]
["Week 2 Totals",null,null,null,{"$f":"SUM(E22:E28)","v":0},0,0,0,0,null,0,0,0,0,{"$f":"SUM(O22:O28)","v":0},{"$f":"-SUM(P22:P28)","v":0},{"$f":"SUM(Q22:Q28)","v":0},{"$f":"SUM(R22:R28)","v":0},{"$f":"IF(E29>40,(E29-40)-V29,0)","v":0},{"$f":"MROUND(AL29,0.25)","v":0},{"$f":"SUM(U22:U28)","v":0},{"$f":"SUM(V22:V28)","v":0},{"$f":"IF(E29-(E11-(G29+K29+F29+H29+I29+L29+M29))-(S29+U29+V29)>0,E29-(E11-(G29+K29+F29+H29+I29+L29+M29))-(S29+U29+V29),0)","v":0},null,null,null,null,null,{"$f":"SUM(F29:N29)","v":0},{"$f":"IF(AND(AG29<40,O29>=AG29),O29-(AG29+S29),IF(AND(O29<AG29,E29=O29),O29-E29,IF(AND(E29>AG29,E29<40),E29-AG29,IF(AND(O29>AG29,E29<AG29),E29-(AG29-AC29),IF(AND(O29>AG29,E29>40),E29-(AG29-AC29+S29),IF(AND(O29>AG29,O29>40),O29-(S29+AG29),0))))))","v":0},{"$f":"AD29-U29-V29","v":0},{"$f":"$W$11","v":"Please Select"},{"$f":"$E$11","v":40},null,{"$f":"IF(AH29>$AI$12,-$AI$12,0)","v":0},null,null,{"$f":"IF(AF29=\"Yes\",S29*1.5,0)","v":0},0,null,null,null,null,null,null,null,null,null,null,null,null,0,null,null,null,null,null,null,null,null,null,null,null,null,null,null,null,{"$f":"SUM(BP22:BP28)","v":0},{"$f":"U29+E11","v":40}]
[{"$f":"IF(A28<$O$7,A28+1,IF(A28=$O$7,\"\"))","v":"2022-09-11"},null,null,"Sunday",null,null,null,null,null,null,null,null,null,null,{"$f":"SUM(E30:N30)-J30","v":0},{"$f":"IF(AND(ISNUMBER(AA30),ISNUMBER(X30)),AA30*X30,\"\")","v":""},null,{"$f":"IF(AND(ISNUMBER(AB30),ISNUMBER(X30)),AB30*X30,\"\")","v":""},null,null,{"$f":"IF(BJ30>0,BJ30,BN30)","v":0},{"$f":"IF(BK30>0,BK30,0)","v":0},null,{"$f":"IF(ISNA(INDEX('Conversion Factors'!$B$6:$B$370,MATCH('Sept 1 - Sept 15'!$Z$30:$Z$36,'Conversion Factors'!$A$6:$A$370,0))),\"\",INDEX('Conversion Factors'!$B$6:$B$370,MATCH('Sept 1 - Sept 15'!$Z$30:$Z$36,'Conversion Factors'!$A$6:$A$370,0)))","v":7.8789999999999996},null,{"$f":"A30","v":"2022-09-11"},{"$f":"IF(AND(ISNUMBER(N30),ISNUMBER($Z$12)),N30/$Z$12,\"\")","v":""},{"$f":"IF(AND(ISNUMBER(Q30),ISNUMBER($Z$12)),Q30/$Z$12,\"\")","v":""},null,null,null,null,null,{"$f":"E30+AH29","v":0},{"$f":"IF(AH30>$AI$12,AH30-($AI$12+AI29),0)","v":0},{"$f":"IF(AND(AZ30>0,AZ30),IF(BA30>0,BA30,IF(BB30>0,BB30,IF(BC30>0,BC30,IF(BF30>0,BF30,\"\")))))","v":false},{"$f":"IF(AND(AO30>0,AO30),IF(AP30>0,AP30,IF(AQ30>0,AQ30,IF(AR30>0,AR30,IF(AU30>0,AU30,\"\")))))","v":false},null,0,null,{"$f":"IF(G30=0,0,\"\")","v":0},{"$f":"IF(AND(AH30<=40,E30=G30),G30,0)","v":0},{"$f":"IF(AND(AH30<=40,E30>=G30,G30>0),O30-E30,0)","v":0},{"$f":"IF(AND(AH30<=40,E30<G30),O30-G30,0)","v":0},{"$f":"IF(AND(G30=0),G30,IF(AND(G30>0,AI30>0,G30=AT30),AT30,IF(AND(G30>0,AI30>0,G30-AT30),AT30,0)))","v":0},null,{"$f":"AS30","v":0},{"$f":"IF(AND(AH29+AU30=40,AI30>0,AI30>AU30),AI30-AU30,IF(AND(AH29+AU30=40,AI30>0,AI30<AU30,AU30+AI30=G30),AI30,IF(AND(AH29>40,AH30>40,G30=AI30),AI30,0)))","v":0},{"$f":"AV30","v":0},null,{"$f":"IF(AND(J30>0,AI30>=J30,BB30=0),O30-AI30,IF(AND(J30>0,AI30>0,BB30<=AI30),AI30-BB30,IF(AND(J30>0,AI30>0,BB30>AI30),J30-BB30,0)))","v":0},0,{"$f":"IF(AND(AH30<=40,E30=J30),J30,0)","v":0},{"$f":"IF(AND(AZ30=0),AZ30,IF(AND(AH30>40,E30>=J30),BE30,IF(AND(AH30<=40,E30>J30),J30,0)))","v":0},{"$f":"IF(AND(AH30<=40,E30<J30),O30-J30,0)","v":0},{"$f":"IF(AND(J30=0),J30,IF(AND(J30>0,AI30>0,J30=BC30),BC30,IF(AND(J30>0,AI30>0,J30-BC30),BC30,0)))","v":0},null,{"$f":"BD30","v":0},null,{"$f":"IF(AND(G30>0,E30>0),1,0)","v":0},{"$f":"40-AH30","v":40},0,{"$f":"IF(AND(BH30=1,BL30>40,E30<G30),E30-BJ30,(IF(AND(BH30=1,BL30>0,E30>=G30),G30-BJ30,0)))","v":0},{"$f":"E30","v":0},{"$f":"IF(AND(K30>0,E30>0),1,0)","v":0},{"$f":"IF(AND(BM30=1,J30>8),K30,(IF(AND(BM30=1,J30>0),J30,0)))","v":0},{"$f":"IF(AND(BM30=1,40-BL29>0,40-BL29<8),40-BL29,IF(AND(J30<K30),J30,K30))","v":0},{"$f":"IF(AND(BM30=1,BL30>40,J30<=K30),J30-BO30,IF(AND(BM30=1,BL30>0,J30>K30),K30-BO30,0))","v":0}]
[{"$f":"IF(A30<$O$7,A30+1,IF(A30=$O$7,\"\"))","v":"2022-09-12"},null,null,"Monday",null,null,null,null,null,null,null,null,null,null,{"$f":"SUM(E31:N31)-J31","v":0},{"$f":"IF(AND(ISNUMBER(AA31),ISNUMBER(X31)),AA31*X31,\"\")","v":""},null,{"$f":"IF(AND(ISNUMBER(AB31),ISNUMBER(X31)),AB31*X31,\"\")","v":""},null,null,0,{"$f":"IF(BK31>0,BK31,0)","v":0},null,{"$f":"IF(ISNA(INDEX('Conversion Factors'!$B$6:$B$370,MATCH('Sept 1 - Sept 15'!$Z$30:$Z$36,'Conversion Factors'!$A$6:$A$370,0))),\"\",INDEX('Conversion Factors'!$B$6:$B$370,MATCH('Sept 1 - Sept 15'!$Z$30:$Z$36,'Conversion Factors'!$A$6:$A$370,0)))","v":7.8789999999999996},null,"2022-09-12","","",null,null,null,null,null,0,{"$f":"IF(AH31>$AI$12,AH31-($AI$12+AI30+AI29),0)","v":0},false,{"$f":"IF(AND(AO31>0,AO31),IF(AP31>0,AP31,IF(AQ31>0,AQ31,IF(AR31>0,AR31,IF(AU31>0,AU31,0)))))","v":false},null,0,null,0,0,0,0,0,{"$f":"IF(AND(AH30<=40),40-AH30,0)","v":40},{"$f":"AS31","v":0},0,{"$f":"AV31","v":0},null,0,0,0,0,0,0,{"$f":"IF(AND(AH30<=40),40-AH30,0)","v":40},{"$f":"BD31","v":0},null,{"$f":"IF(AND(G31>0,E31>0),1,0)","v":0},40,0,0,{"$f":"SUM(E30:E31)","v":0},{"$f":"IF(AND(K31>0,E31>0),1,0)","v":0},{"$f":"IF(AND(BM31=1,J31>8),K31,(IF(AND(BM31=1,J31>0),J31,0)))","v":0},0,0]
["2022-09-13",null,null,"Tuesday",null,null,null,null,null,null,null,null,null,null,0,"",null,"",null,null,0,0,null,{"$f":"IF(ISNA(INDEX('Conversion Factors'!$B$6:$B$370,MATCH('Sept 1 - Sept 15'!$Z$30:$Z$36,'Conversion Factors'!$A$6:$A$370,0))),\"\",INDEX('Conversion Factors'!$B$6:$B$370,MATCH('Sept 1 - Sept 15'!$Z$30:$Z$36,'Conversion Factors'!$A$6:$A$370,0)))","v":7.8789999999999996},null,"2022-09-13","","",null,null,null,null,null,0,{"$f":"IF(AH32>$AI$12,AH32-($AI$12+AI31+AI30+AI29),0)","v":0},false,false,null,0,null,0,0,0,0,0,40,0,0,0,null,0,0,0,0,0,0,{"$f":"IF(AND(AH31<=40),40-AH31,0)","v":40},0,null,{"$f":"IF(AND(G32>0,E32>0),1,0)","v":0},40,0,0,{"$f":"SUM(E30:E32)","v":0},0,{"$f":"IF(AND(BM32=1,J32>8),K32,(IF(AND(BM32=1,J32>0),J32,0)))","v":0},{"$f":"IF(AND(BM32=1,40-BL31>0,40-BL31<8),40-BL31,IF(AND(J32<K32),J32,K32))","v":0},0]
["2022-09-14",null,null,"Wednesday",null,null,null,null,null,null,null,null,null,null,0,"",null,"",null,null,0,0,null,{"$f":"IF(ISNA(INDEX('Conversion Factors'!$B$6:$B$370,MATCH('Sept 1 - Sept 15'!$Z$30:$Z$36,'Conversion Factors'!$A$6:$A$370,0))),\"\",INDEX('Conversion Factors'!$B$6:$B$370,MATCH('Sept 1 - Sept 15'!$Z$30:$Z$36,'Conversion Factors'!$A$6:$A$370,0)))","v":7.8789999999999996},null,"2022-09-14","","",null,null,null,null,null,0,{"$f":"IF(AH33>$AI$12,AH33-($AI$12+AI32+AI31+AI30+AI29),0)","v":0},false,false,null,0,null,0,0,0,0,0,40,0,0,0,null,0,0,0,0,0,0,40,0,null,{"$f":"IF(AND(G33>0,E33>0),1,0)","v":0},40,0,0,{"$f":"SUM(E30:E33)","v":0},0,{"$f":"IF(AND(BM33=1,J33>8),K33,(IF(AND(BM33=1,J33>0),J33,0)))","v":0},{"$f":"IF(AND(BM33=1,40-BL32>0,40-BL32<8),40-BL32,IF(AND(J33<K33),J33,K33))","v":0},0]
["2022-09-15",null,null,"Thursday",null,null,null,null,null,null,null,null,null,null,0,"",null,"",null,null,0,0,null,{"$f":"IF(ISNA(INDEX('Conversion Factors'!$B$6:$B$370,MATCH('Sept 1 - Sept 15'!$Z$30:$Z$36,'Conversion Factors'!$A$6:$A$370,0))),\"\",INDEX('Conversion Factors'!$B$6:$B$370,MATCH('Sept 1 - Sept 15'!$Z$30:$Z$36,'Conversion Factors'!$A$6:$A$370,0)))","v":7.8789999999999996},null,"2022-09-15","","",null,null,null,null,null,0,{"$f":"IF(AH34>$AI$12,AH34-($AI$12+AI33+AI32+AI31+AI30+AI29),0)","v":0},false,false,null,0,null,0,0,0,0,0,{"$f":"IF(AND(AH33<=40),40-AH33,0)","v":40},0,0,0,null,0,0,0,0,0,0,40,0,null,0,40,0,0,{"$f":"SUM(E30:E34)","v":0},0,0,0,0]
["",null,null,"Friday",null,null,null,null,null,null,null,null,null,null,0,"",null,"",null,null,0,0,null,{"$f":"IF(ISNA(INDEX('Conversion Factors'!$B$6:$B$370,MATCH('Sept 1 - Sept 15'!$Z$30:$Z$36,'Conversion Factors'!$A$6:$A$370,0))),\"\",INDEX('Conversion Factors'!$B$6:$B$370,MATCH('Sept 1 - Sept 15'!$Z$30:$Z$36,'Conversion Factors'!$A$6:$A$370,0)))","v":""},null,"","","",null,null,null,null,null,0,{"$f":"IF(AH35>$AI$12,AH35-($AI$12+AI34+AI33+AI32+AI31+AI30+AI29),0)","v":0},false,false,null,0,null,0,0,0,0,0,{"$f":"IF(AND(AH34<=40),40-AH34,0)","v":40},0,0,0,null,0,0,0,0,0,0,40,0,null,0,40,0,0,{"$f":"SUM(E30:E35)","v":0},0,0,0,{"$f":"IF(AND(BM35=1,BL35>40,J35<=K35),J35-BO35,IF(AND(BM35=1,BL35>0,J35>K35),K35-BO35,0))","v":0}]
[false,null,null,"Saturday",null,null,null,null,null,null,null,null,null,null,0,"",null,"",null,null,0,0,null,{"$f":"IF(ISNA(INDEX('Conversion Factors'!$B$6:$B$370,MATCH('Sept 1 - Sept 15'!$Z$30:$Z$36,'Conversion Factors'!$A$6:$A$370,0))),\"\",INDEX('Conversion Factors'!$B$6:$B$370,MATCH('Sept 1 - Sept 15'!$Z$30:$Z$36,'Conversion Factors'!$A$6:$A$370,0)))","v":""},null,false,"","",null,null,null,null,null,0,{"$f":"IF(AH36>$AI$12,AH36-($AI$12+AI35+AI34+AI33+AI32+AI31+AI30+AI29),0)","v":0},false,false,null,0,null,0,0,0,0,0,40,0,0,0,null,0,0,0,0,0,0,40,0,null,0,40,0,0,{"$f":"SUM(E30:E36)","v":0},0,0,0,{"$f":"IF(AND(BM36=1,BL36>40,J36<=K36),J36-BO36,IF(AND(BM36=1,BL36>0,J36>K36),K36-BO36,0))","v":0}]
["Week 3 Totals",null,null,null,{"$f":"SUM(E30:E36)","v":0},0,0,0,0,null,0,0,0,0,{"$f":"SUM(O30:O36)","v":0},{"$f":"-SUM(P30:P36)","v":0},{"$f":"SUM(Q30:Q36)","v":0},{"$f":"SUM(R30:R36)","v":0},{"$f":"IF(E37>40,(E37-40)-V37,0)","v":0},{"$f":"MROUND(AL37,0.25)","v":0},{"$f":"SUM(U30:U36)","v":0},{"$f":"SUM(V30:V36)","v":0},{"$f":"IF(E37-(E11-(G37+K37+F37+H37+I37+L37+M37))-(S37+U37+V37)>0,E37-(E11-(G37+K37+F37+H37+I37+L37+M37))-(S37+U37+V37),0)","v":0},null,null,null,null,null,{"$f":"SUM(F37:N37)","v":0},{"$f":"IF(AND(AG37<40,O37>=AG37),O37-(AG37+S37),IF(AND(O37<AG37,E37=O37),O37-E37,IF(AND(E37>AG37,E37<40),E37-AG37,IF(AND(O37>AG37,E37<AG37),E37-(AG37-AC37),IF(AND(O37>AG37,E37>40),E37-(AG37-AC37+S37),IF(AND(O37>AG37,O37>40),O37-(S37+AG37),0))))))","v":0},{"$f":"AD37-U37-V37","v":0},{"$f":"$W$11","v":"Please Select"},{"$f":"$E$11","v":40},null,{"$f":"IF(AH37>$AI$12,-$AI$12,0)","v":0},null,null,{"$f":"IF(AF37=\"Yes\",S37*1.5,0)","v":0},null,null,null,null,null,null,null,null,null,null,null,null,null,null,null,null,null,null,null,null,null,0,null,null,null,null,null,null,null,{"$f":"SUM(BP30:BP36)","v":0},{"$f":"U37+E11","v":40}]
[{"$f":"IF(A36<$O$7,A36+1,IF(A36=$O$7,\"\"))","v":false},null,null,"Sunday",null,null,null,null,null,null,null,null,null,null,{"$f":"SUM(E38:N38)-J38","v":0},{"$f":"IF(AND(ISNUMBER(AA38),ISNUMBER(X38)),AA38*X38,\"\")","v":""},null,{"$f":"IF(AND(ISNUMBER(AB38),ISNUMBER(X38)),AB38*X38,\"\")","v":""},null,null,0,{"$f":"IF(BK38>0,BK38,0)","v":0},null,{"$f":"IF(ISNA(INDEX('Conversion Factors'!$B$6:$B$370,MATCH('Sept 1 - Sept 15'!$Z$38:$Z$44,'Conversion Factors'!$A$6:$A$370,0))),\"\",INDEX('Conversion Factors'!$B$6:$B$370,MATCH('Sept 1 - Sept 15'!$Z$38:$Z$44,'Conversion Factors'!$A$6:$A$370,0)))","v":""},null,{"$f":"A38","v":false},{"$f":"IF(AND(ISNUMBER(N38),ISNUMBER($Z$12)),N38/$Z$12,\"\")","v":""},{"$f":"IF(AND(ISNUMBER(Q38),ISNUMBER($Z$12)),Q38/$Z$12,\"\")","v":""},null,null,null,null,null,{"$f":"E38+AH37","v":0},{"$f":"IF(AH38>$AI$12,AH38-($AI$12+AI37),0)","v":0},{"$f":"IF(AND(AZ38>0,AZ38),IF(BA38>0,BA38,IF(BB38>0,BB38,IF(BC38>0,BC38,IF(BF38>0,BF38,\"\")))))","v":false},{"$f":"IF(AND(AO38>0,AO38),IF(AP38>0,AP38,IF(AQ38>0,AQ38,IF(AR38>0,AR38,IF(AU38>0,AU38,\"\")))))","v":false},null,{"$f":"J38","v":0},null,{"$f":"IF(G38=0,0,\"\")","v":0},{"$f":"IF(AND(AH38<=40,E38=G38),G38,0)","v":0},{"$f":"IF(AND(AH38<=40,E38>=G38,G38>0),O38-E38,0)","v":0},{"$f":"IF(AND(AH38<=40,E38<G38),O38-G38,0)","v":0},{"$f":"IF(AND(G38=0),G38,IF(AND(G38>0,AI38>0,G38=AT38),AT38,IF(AND(G38>0,AI38>0,G38-AT38),AT38,0)))","v":0},null,{"$f":"AS38","v":0},{"$f":"IF(AND(AH37+AU38=40,AI38>0,AI38>AU38),AI38-AU38,IF(AND(AH37+AU38=40,AI38>0,AI38<AU38,AU38+AI38=G38),AI38,IF(AND(AH37>40,AH38>40,G38=AI38),AI38,0)))","v":0},{"$f":"AV38","v":0},null,{"$f":"IF(AND(J38>0,AI38>=J38,BB38=0),O38-AI38,IF(AND(J38>0,AI38>0,BB38<=AI38),AI38-BB38,IF(AND(J38>0,AI38>0,BB38>AI38),J38-BB38,0)))","v":0},{"$f":"IF(J38=0,0,\"\")","v":0},{"$f":"IF(AND(AH38<=40,E38=J38),J38,0)","v":0},{"$f":"IF(AND(AZ38=0),AZ38,IF(AND(AH38>40,E38>=J38),BE38,IF(AND(AH38<=40,E38>J38),J38,0)))","v":0},{"$f":"IF(AND(AH38<=40,E38<J38),O38-J38,0)","v":0},{"$f":"IF(AND(J38=0),J38,IF(AND(J38>0,AI38>0,J38=BC38),BC38,IF(AND(J38>0,AI38>0,J38-BC38),BC38,0)))","v":0},null,{"$f":"BD38","v":0},null,{"$f":"IF(AND(G38>0,E38>0),1,0)","v":0},{"$f":"40-AH38","v":40},0,0,{"$f":"E38","v":0},{"$f":"IF(AND(K38>0,E38>0),1,0)","v":0},{"$f":"IF(AND(BM38=1,J38>8),K38,(IF(AND(BM38=1,J38>0),J38,0)))","v":0},{"$f":"IF(AND(BM38=1,40-BL37>0,40-BL37<8),40-BL37,IF(AND(J38<K38),J38,K38))","v":0},{"$f":"IF(AND(BM38=1,BL38>40,J38<=K38),J38-BO38,IF(AND(BM38=1,BL38>0,J38>K38),K38-BO38,0))","v":0}]
[{"$f":"IF(A38<$O$7,A38+1,IF(A38=$O$7,\"\"))","v":false},null,null,"Monday",null,null,null,0,null,null,null,null,null,null,{"$f":"SUM(E39:N39)-J39","v":0},{"$f":"IF(AND(ISNUMBER(AA39),ISNUMBER(X39)),AA39*X39,\"\")","v":""},null,{"$f":"IF(AND(ISNUMBER(AB39),ISNUMBER(X39)),AB39*X39,\"\")","v":""},null,null,0,{"$f":"IF(BK39>0,BK39,0)","v":0},null,{"$f":"IF(ISNA(INDEX('Conversion Factors'!$B$6:$B$370,MATCH('Sept 1 - Sept 15'!$Z$38:$Z$44,'Conversion Factors'!$A$6:$A$370,0))),\"\",INDEX('Conversion Factors'!$B$6:$B$370,MATCH('Sept 1 - Sept 15'!$Z$38:$Z$44,'Conversion Factors'!$A$6:$A$370,0)))","v":""},null,false,"","",null,null,null,null,null,0,{"$f":"IF(AH39>$AI$12,AH39-($AI$12+AI38+AI37),0)","v":0},false,{"$f":"IF(AND(AO39>0,AO39),IF(AP39>0,AP39,IF(AQ39>0,AQ39,IF(AR39>0,AR39,IF(AU39>0,AU39,0)))))","v":false},null,0,null,0,0,0,0,0,{"$f":"IF(AND(AH38<=40),40-AH38,0)","v":40},{"$f":"AS39","v":0},0,{"$f":"AV39","v":0},null,0,0,0,0,0,0,{"$f":"IF(AND(AH38<=40),40-AH38,0)","v":40},{"$f":"BD39","v":0},null,{"$f":"IF(AND(G39>0,E39>0),1,0)","v":0},40,0,0,{"$f":"SUM(E38:E39)","v":0},{"$f":"IF(AND(K39>0,E39>0),1,0)","v":0},{"$f":"IF(AND(BM39=1,J39>8),K39,(IF(AND(BM39=1,J39>0),J39,0)))","v":0},0,0]
[false,null,null,"Tuesday",null,null,null,null,null,0,0,null,null,null,{"$f":"SUM(E40:N40)-J40","v":0},"",null,"",null,null,0,0,null,{"$f":"IF(ISNA(INDEX('Conversion Factors'!$B$6:$B$370,MATCH('Sept 1 - Sept 15'!$Z$38:$Z$44,'Conversion Factors'!$A$6:$A$370,0))),\"\",INDEX('Conversion Factors'!$B$6:$B$370,MATCH('Sept 1 - Sept 15'!$Z$38:$Z$44,'Conversion Factors'!$A$6:$A$370,0)))","v":""},null,false,"","",null,null,null,null,null,0,{"$f":"IF(AH40>$AI$12,AH40-($AI$12+AI39+AI38+AI37),0)","v":0},false,false,null,0,null,0,0,0,0,0,40,0,0,0,null,0,0,0,0,0,0,{"$f":"IF(AND(AH39<=40),40-AH39,0)","v":40},0,null,{"$f":"IF(AND(G40>0,E40>0),1,0)","v":0},40,0,0,{"$f":"SUM(E38:E40)","v":0},0,{"$f":"IF(AND(BM40=1,J40>8),K40,(IF(AND(BM40=1,J40>0),J40,0)))","v":0},{"$f":"IF(AND(BM40=1,40-BL39>0,40-BL39<8),40-BL39,IF(AND(J40<K40),J40,K40))","v":0},0]
[false,null,null,"Wednesday",null,null,null,null,null,null,null,null,null,null,0,"",null,"",null,null,0,0,null,{"$f":"IF(ISNA(INDEX('Conversion Factors'!$B$6:$B$370,MATCH('Sept 1 - Sept 15'!$Z$38:$Z$44,'Conversion Factors'!$A$6:$A$370,0))),\"\",INDEX('Conversion Factors'!$B$6:$B$370,MATCH('Sept 1 - Sept 15'!$Z$38:$Z$44,'Conversion Factors'!$A$6:$A$370,0)))","v":""},null,false,"","",null,null,null,null,null,0,{"$f":"IF(AH41>$AI$12,AH41-($AI$12+AI40+AI39+AI38+AI37),0)","v":0},false,false,null,0,null,0,0,0,0,0,40,0,0,0,null,0,0,0,0,0,0,40,0,null,{"$f":"IF(AND(G41>0,E41>0),1,0)","v":0},40,0,0,{"$f":"SUM(E38:E41)","v":0},0,{"$f":"IF(AND(BM41=1,J41>8),K41,(IF(AND(BM41=1,J41>0),J41,0)))","v":0},{"$f":"IF(AND(BM41=1,40-BL40>0,40-BL40<8),40-BL40,IF(AND(J41<K41),J41,K41))","v":0},0]
[false,null,null,"Thursday",null,null,null,null,null,null,null,null,null,null,0,"",null,"",null,null,0,0,null,{"$f":"IF(ISNA(INDEX('Conversion Factors'!$B$6:$B$370,MATCH('Sept 1 - Sept 15'!$Z$38:$Z$44,'Conversion Factors'!$A$6:$A$370,0))),\"\",INDEX('Conversion Factors'!$B$6:$B$370,MATCH('Sept 1 - Sept 15'!$Z$38:$Z$44,'Conversion Factors'!$A$6:$A$370,0)))","v":""},null,false,"","",null,null,null,null,null,0,{"$f":"IF(AH42>$AI$12,AH42-($AI$12+AI41+AI40+AI39+AI38+AI37),0)","v":0},false,false,null,0,null,0,0,0,0,0,{"$f":"IF(AND(AH41<=40),40-AH41,0)","v":40},0,0,0,null,0,0,0,0,0,0,40,0,null,0,40,0,0,{"$f":"SUM(E38:E42)","v":0},0,0,0,0]
[false,null,null,"Friday",null,null,null,null,null,null,null,null,null,null,0,"",null,"",null,null,0,0,null,{"$f":"IF(ISNA(INDEX('Conversion Factors'!$B$6:$B$370,MATCH('Sept 1 - Sept 15'!$Z$38:$Z$44,'Conversion Factors'!$A$6:$A$370,0))),\"\",INDEX('Conversion Factors'!$B$6:$B$370,MATCH('Sept 1 - Sept 15'!$Z$38:$Z$44,'Conversion Factors'!$A$6:$A$370,0)))","v":""},null,false,"","",null,null,null,null,null,0,{"$f":"IF(AH43>$AI$12,AH43-($AI$12+AI42+AI41+AI40+AI39+AI38+AI37),0)","v":0},false,false,null,0,null,0,0,0,0,0,{"$f":"IF(AND(AH42<=40),40-AH42,0)","v":40},0,0,0,null,0,0,0,0,0,0,40,0,null,0,40,0,0,{"$f":"SUM(E38:E43)","v":0},0,0,0,{"$f":"IF(AND(BM43=1,BL43>40,J43<=K43),J43-BO43,IF(AND(BM43=1,BL43>0,J43>K43),K43-BO43,0))","v":0}]
[false,null,null,"Saturday",null,null,null,null,null,null,null,null,null,null,{"$f":"SUM(E44:N44)-J44","v":0},"",null,"",null,null,0,0,null,{"$f":"IF(ISNA(INDEX('Conversion Factors'!$B$6:$B$370,MATCH('Sept 1 - Sept 15'!$Z$38:$Z$44,'Conversion Factors'!$A$6:$A$370,0))),\"\",INDEX('Conversion Factors'!$B$6:$B$370,MATCH('Sept 1 - Sept 15'!$Z$38:$Z$44,'Conversion Factors'!$A$6:$A$370,0)))","v":""},null,false,"","",null,null,null,null,null,0,{"$f":"IF(AH44>$AI$12,AH44-($AI$12+AI43+AI42+AI41+AI40+AI39+AI38+AI37),0)","v":0},false,false,null,0,null,0,0,0,0,0,40,0,0,0,null,0,0,0,0,0,0,40,0,null,0,40,0,0,{"$f":"SUM(E38:E44)","v":0},0,0,0,{"$f":"IF(AND(BM44=1,BL44>40,J44<=K44),J44-BO44,IF(AND(BM44=1,BL44>0,J44>K44),K44-BO44,0))","v":0}]
["Week 4 Totals",null,null,null,{"$f":"SUM(E38:E44)","v":0},{"$f":"SUM(F38:F44)","v":0},0,0,0,null,0,0,0,0,{"$f":"SUM(O38:O44)","v":0},{"$f":"-SUM(P38:P44)","v":0},{"$f":"SUM(Q38:Q44)","v":0},{"$f":"SUM(R38:R44)","v":0},{"$f":"IF(E45>40,(E45-40)-V45,0)","v":0},{"$f":"MROUND(AL45,0.25)","v":0},{"$f":"SUM(U38:U44)","v":0},{"$f":"SUM(V38:V44)","v":0},{"$f":"IF(E45-(E11-(G45+K45+F45+H45+I45+L45+M45))-(S45+U45+V45)>0,E45-(E11-(G45+K45+F45+H45+I45+L45+M45))-(S45+U45+V45),0)","v":0},null,null,null,null,null,{"$f":"SUM(F45:N45)","v":0},{"$f":"IF(AND(AG45<40,O45>=AG45),O45-(AG45+S45),IF(AND(O45<AG45,E45=O45),O45-E45,IF(AND(E45>AG45,E45<40),E45-AG45,IF(AND(O45>AG45,E45<AG45),E45-(AG45-AC45),IF(AND(O45>AG45,E45>40),E45-(AG45-AC45+S45),IF(AND(O45>AG45,O45>40),O45-(S45+AG45),0))))))","v":0},{"$f":"AD45-U45-V45","v":0},{"$f":"$W$11","v":"Please Select"},{"$f":"$E$11","v":40},null,{"$f":"IF(AH45>$AI$12,-$AI$12,0)","v":0},null,null,{"$f":"IF(AF45=\"Yes\",S45*1.5,0)","v":0},null,null,null,null,null,null,null,null,null,null,null,null,null,null,null,null,null,null,null,null,null,null,null,null,null,null,null,null,null,{"$f":"SUM(BP38:BP44)","v":0},{"$f":"E44+E11","v":40}]
[null,null,null,null,null,null,null,null,"Total-Net Previous Week",null,null,null,null,null,{"$f":"(O21+O29+O37+O45)-O13","v":0},{"$f":"(P21+P29+P37+P45)-P13","v":0},{"$f":"(Q21+Q29+Q37+Q45)-Q13","v":0},{"$f":"(R21+R29+R37+R45)-R13","v":0},{"$f":"(S21+S29+S37+S45)-S13","v":0},0,{"$f":"(U21+U29+U37+U45)-U13","v":0},{"$f":"(V21+V29+V37+V45)-V13","v":0},{"$f":"(W21+W29+W37+W45)-W13","v":0},{"$f":"(X21+X29+X37+X45)-X13","v":0}]
[]
[null,null,null,null,null,null,null,null,null,null,null,null,null,null,"Leave/Leave Without Pay Policy"]
["Employee signature",null,null,null,null,null,"Date",null,null,null,null,null,null,null,"Overtime/Compensatory Time"]
["I certify this record is accurate and accounts for my time during the indicated period.",null,null,null,null,null,null,null,null,null,null,null,null,null,"Time Sheet Definitions/Policies"]
[]
[null,null,null,null,null,null,null,null,null,null,"“Actual Work Hours During Administrative Close Period” – Only key the hours actually worked during the admministrative closing period into this field. "]
[]
["Manager signature",null,null,null,null,null,"Date"]
["I certify the hours recorded and coded on this form are correct and in compliance with University policy.",null,null,null,null,null,null,null,null,null,"“Administrative Closing/Leave Period field.”  Entter the number of hours of the declared period of administrative closing. (The total hours worked during the entire day will be entered into the “Actual Hours Worked” field.)"]

{"sheet":"Sept 16 - Sept 30","index":12,"n_rows":55,"n_cols":69,"rows_kept":55,"cut":false,"hidden":false,"merged":[[0,0,0,22],[1,0,1,22],[3,0,3,23],[5,2,5,7],[5,8,5,13],[5,14,5,19],[10,40,10,46],[6,2,6,7],[6,8,6,13],[6,14,6,19],[7,2,7,7],[7,8,7,13],[7,14,7,19],[10,0,10,3],[10,4,10,5],[10,6,10,17],[10,18,10,21],[10,22,10,23],[21,0,21,2],[11,0,11,2],[11,29,11,30],[12,0,12,3],[13,0,13,2],[14,0,14,2],[15,0,15,2],[16,0,16,2],[17,0,17,2],[18,0,18,2],[19,0,19,2],[20,0,20,2],[33,0,33,2],[22,0,22,2],[23,0,23,2],[24,0,24,2],[25,0,25,2],[26,0,26,2],[27,0,27,2],[28,0,28,2],[29,0,29,2],[30,0,30,2],[31,0,31,2],[32,0,32,2],[45,8,45,13],[34,0,34,2],[35,0,35,2],[36,0,36,2],[37,0,37,2],[38,0,38,2],[39,0,39,2],[40,0,40,2],[41,0,41,2],[42,0,42,2],[43,0,43,2],[44,0,44,2],[47,14,47,22],[48,14,48,19],[49,14,49,22],[51,10,53,22],[54,10,56,22]]}
["Mississippi State University"]
["Non-Exempt Employee Semi-Monthly Time Report"]
[]
["Instructions:  The Fair Labor Standards Act requires that a record of hours worked on a weekly basis be maintained for all employees except executive, administrative, managerial, faculty, and professional (non-faculty).  Department/unit heads are responsible for compiling and maintaining this record in department files on each covered employee for a period of at least (3) years."]
[]
["MSU ID #:",null,{"$f":"'July 1 - July 15'!C6","v":0},null,null,null,null,null,"Pay period start date:",null,null,null,null,null,{"$f":"'Dates & Notes'!$A$7","v":"2022-09-16"},null,null,null,null,null,null,null,null,null,null,{"$f":"TEXT(O6,\"dddd\")","v":"Friday"},null,null,null,"Please Select"]
["Name:",null,{"$f":"'July 1 - July 15'!C7","v":0},null,null,null,null,null,"Pay period end date:",null,null,null,null,null,{"$f":"'Dates & Notes'!$B$7","v":"2022-09-30"},null,null,null,null,null,null,null,null,null,null,null,null,null,null,"No"]
["Department:",null,{"$f":"'July 1 - July 15'!C8","v":0},null,null,null,null,null,"Pay Period Number:",null,null,null,null,null,{"$f":"'Dates & Notes'!$C$7","v":18},null,null,null,null,null,null,null,null,null,null,null,null,null,null,"Yes"]
[]
[]
["Employee Scheduled Hours Per Week",null,null,null,40,null,"FIELDS MUST BE ENTERED FOR CALULATIONS TO WORK PROPERLY",null,null,null,null,null,null,null,null,null,null,null,"Receive Compensatory Time",null,null,null,"Please Select",null,null,null,null,null,null,null,null,null,null,null,"Over 40",null,null,null,null,null,"HOW ANALYSIS"]
["Work Week Dates",null,null,"Day of The Week","Actual Hours Worked","Compensatory Time Used","Holiday","Medical Leave","Personal Leave","Actual Wrk Hrs During  Admin Close Period","Administrative Closing/Leave Period","Jury Duty","Military Leave","Leave Without Pay","Totals","DOC-Payroll Conversion","RTO","RTO-Payroll Conversion","Overtime Hours","Hours Transferred to Comp. Record","HOW-Holiday Pay or Admin/Leave Closing","HOT-Holiday Pay","SST-Payroll","Conversion Factor",null,8,"DOC","RTO",null,"SST",null,null,null,"Cumm Actual HRS",40,"Administrative Leave","HOW-Holiday Pay","Comp. Time","Administrative/Schedule",null,"Holiday=0\n1",2,3,4,null,"<=40\n5",null,"HOT Workup","HOT-Holiday Pay (HOLIDAY PAY)",null,"HOT-Administrative HRS","Administrative=0\n1",2,3,4,null,"<=40\n5",null,null,"Holiday Flag","Up to 40","How","Hot","Actual Hours Worked","Admin Flag","Admin","Admin HOW","Admin OVT"]
["Hours-Previous WK (Due to Split WK)",null,null,null,{"$f":"SUM(E14:E18)","v":0},0,0,0,0,0,0,0,0,0,{"$f":"SUM(E13:N13)-J13","v":0},null,null,null,null,null,null,null,null,null,null,null,null,null,null,null,null,null,null,null,null,{"$f":"IF(AND(AM13=0,J13=0),AM13,IF(AND(E13>AM13,J13=0),J13,IF(AND(J13<AM13,AI13=0),J13,IF(AND(AM13=J13,AI13<AM13),AM13-AI13,IF(AND(J13=AM13,AI13=AM13),AI13,IF(AND(J13<AM13,AI13>0),AM13-J13,IF(AND(AM13>J13,AI13<E13),E13-AI13,IF(AND(E13>AM13,AI13=E13),O13-AI13,0))))))))","v":0},{"$f":"IF(AND(G13=0,E13>G13),G13,IF(AND(E13>G13,AI13=0),G13,IF(AND(E13<G13,AI13=0),E13,IF(AND(E13=G13,AI13<G13),G13-AI13,IF(AND(E13=G13,AI13=G13),AI13,IF(AND(E13<G13,AI13>0),G13-E13,IF(AND(E13>G13,AI13<E13),E13-AI13,IF(AND(E13>G13,AI13=E13),O13-AI13,0))))))))","v":0},null,{"$f":"K13","v":0}]
[{"$f":"IF(EXACT(D14,$Z$6)=TRUE,$O$6,IF(A12=0,\"\",IF(A12<$O$7,A12+1,IF(A12=$O$7,\"\"))))","v":false},null,null,"Sunday",{"$f":"'Sept 1 - Sept 15'!E30","v":0},{"$f":"'Sept 1 - Sept 15'!F30","v":0},{"$f":"'Sept 1 - Sept 15'!G30","v":0},{"$f":"'Sept 1 - Sept 15'!H30","v":0},{"$f":"'Sept 1 - Sept 15'!I30","v":0},{"$f":"'Sept 1 - Sept 15'!J30","v":0},{"$f":"'Sept 1 - Sept 15'!K30","v":0},{"$f":"'Sept 1 - Sept 15'!L30","v":0},{"$f":"'Sept 1 - Sept 15'!M30","v":0},{"$f":"'Sept 1 - Sept 15'!N30","v":0},{"$f":"SUM(E14:N14)-J14","v":0},{"$f":"IF(AND(ISNUMBER(AA14),ISNUMBER(X14)),AA14*X14,\"\")","v":""},null,{"$f":"IF(AND(ISNUMBER(AB14),ISNUMBER(X14)),AB14*X14,\"\")","v":""},null,null,{"$f":"IF(BJ14>0,BJ14,BN14)","v":0},{"$f":"IF(BK14>0,BK14,0)","v":0},null,{"$f":"IF(ISNA(INDEX('Conversion Factors'!$B$6:$B$371,MATCH('Sept 16 - Sept 30'!$Z$14:$Z$20,'Conversion Factors'!$A$6:$A$371,0))),\"\",INDEX('Conversion Factors'!$B$6:$B$371,MATCH('Sept 16 - Sept 30'!$Z$14:$Z$20,'Conversion Factors'!$A$6:$A$371,0)))","v":""},null,{"$f":"A14","v":false},{"$f":"IF(AND(ISNUMBER(N14),ISNUMBER($Z$12)),N14/$Z$12,\"\")","v":0},{"$f":"IF(AND(ISNUMBER(Q14),ISNUMBER($Z$12)),Q14/$Z$12,\"\")","v":""},null,null,null,null,null,{"$f":"E14","v":0},{"$f":"IF(AH14>$AI$12,AH14-$AI$12,0)","v":0},{"$f":"IF(AND(AZ14>0,AZ14),IF(BA14>0,BA14,IF(BB14>0,BB14,IF(BC14>0,BC14,IF(BF14>0,BF14,\"\")))))","v":false},{"$f":"IF(AND(AO14>0,AO14),IF(AP14>0,AP14,IF(AQ14>0,AQ14,IF(AR14>0,AR14,IF(AU14>0,AU14,\"\")))))","v":false},null,{"$f":"J14","v":0},null,{"$f":"IF(G14=0,0,\"\")","v":0},{"$f":"IF(AND(AH14<=40,E14=G14),G14,0)","v":0},{"$f":"IF(AND(AH14<=40,E14>=G14,G14>0),O14-E14,0)","v":0},{"$f":"IF(AND(AH14<=40,E14<G14),O14-G14,0)","v":0},{"$f":"IF(AND(G14=0),G14,IF(AND(G14>0,AI14>0,G14=AT14),AT14,IF(AND(G14>0,AI14>0,G14-AT14),AT14,0)))","v":0},null,{"$f":"AS14","v":0},{"$f":"IF(AND(AH13+AU14=40,AI14>0,AI14>AU14),AI14-AU14,IF(AND(AH13+AU14=40,AI14>0,AI14<AU14,AU14+AI14=G14),AI14,IF(AND(AH13>40,AH14>40,G14=AI14),AI14,0)))","v":0},{"$f":"AV14","v":0},null,{"$f":"IF(AND(J14>0,AI14>=J14,BB14=0),O14-AI14,IF(AND(J14>0,AI14>0,BB14<=AI14),AI14-BB14,IF(AND(J14>0,AI14>0,BB14>AI14),J14-BB14,0)))","v":0},{"$f":"IF(J14=0,0,\"\")","v":0},{"$f":"IF(AND(AH14<=40,E14=J14),J14,0)","v":0},{"$f":"IF(AND(AZ14=0),AZ14,IF(AND(AH14>40,E14>=J14),BE14,IF(AND(AH14<=40,E14>J14),J14,0)))","v":0},{"$f":"IF(AND(AH14<=40,E14<J14),O14-J14,0)","v":0},{"$f":"IF(AND(J14=0),J14,IF(AND(J14>0,AI14>0,J14=BC14),BC14,IF(AND(J14>0,AI14>0,J14-BC14),BC14,0)))","v":0},null,{"$f":"BD14","v":0},null,{"$f":"IF(AND(G14>0,E14>0),1,0)","v":0},{"$f":"40-AH14","v":40},{"$f":"IF(AND(BH14=1,E14<8),E14,(IF(AND(BH14=1,E14>0),G14,0)))","v":0},{"$f":"IF(AND(BH14=1,BL14>40,E14<G14),E14-BJ14,(IF(AND(BH14=1,BL14>0,E14>=G14),G14-BJ14,0)))","v":0},{"$f":"E14","v":0},{"$f":"IF(AND(K14>0,E14>0),1,0)","v":0},{"$f":"IF(AND(BM14=1,J14>8),K14,(IF(AND(BM14=1,J14>0),J14,0)))","v":0},{"$f":"IF(AND(BM14=1,40-BL13>0,40-BL13<8),40-BL13,IF(AND(J14<K14),J14,K14))","v":0},{"$f":"IF(AND(BM14=1,BL14>40,J14<=K14),J14-BO14,IF(AND(BM14=1,BL14>0,J14>K14),K14-BO14,0))","v":0}]
[{"$f":"IF(EXACT(D15,$Z$6)=TRUE,$O$6,IF(A14=0,\"\",IF(A14<$O$7,A14+1,IF(A14=$O$7,\"\"))))","v":false},null,null,"Monday",{"$f":"'Sept 1 - Sept 15'!E31","v":0},{"$f":"'Sept 1 - Sept 15'!F31","v":0},{"$f":"'Sept 1 - Sept 15'!G31","v":0},{"$f":"'Sept 1 - Sept 15'!H31","v":0},{"$f":"'Sept 1 - Sept 15'!I31","v":0},{"$f":"'Sept 1 - Sept 15'!J31","v":0},{"$f":"'Sept 1 - Sept 15'!K31","v":0},{"$f":"'Sept 1 - Sept 15'!L31","v":0},{"$f":"'Sept 1 - Sept 15'!M31","v":0},{"$f":"'Sept 1 - Sept 15'!N31","v":0},{"$f":"SUM(E15:N15)-J15","v":0},{"$f":"IF(AND(ISNUMBER(AA15),ISNUMBER(X15)),AA15*X15,\"\")","v":""},null,{"$f":"IF(AND(ISNUMBER(AB15),ISNUMBER(X15)),AB15*X15,\"\")","v":""},null,null,{"$f":"IF(BJ15>0,BJ15,BN15)","v":0},{"$f":"IF(BK15>0,BK15,0)","v":0},null,{"$f":"IF(ISNA(INDEX('Conversion Factors'!$B$6:$B$371,MATCH('Sept 16 - Sept 30'!$Z$14:$Z$20,'Conversion Factors'!$A$6:$A$371,0))),\"\",INDEX('Conversion Factors'!$B$6:$B$371,MATCH('Sept 16 - Sept 30'!$Z$14:$Z$20,'Conversion Factors'!$A$6:$A$371,0)))","v":""},null,false,0,"",null,null,null,null,null,{"$f":"E15+AH14","v":0},{"$f":"IF(AH15>$AI$12,AH15-($AI$12+AI14),0)","v":0},{"$f":"IF(AND(AZ15>0,AZ15),IF(BA15>0,BA15,IF(BB15>0,BB15,IF(BC15>0,BC15,IF(BF15>0,BF15,\"\")))))","v":false},{"$f":"IF(AND(AO15>0,AO15),IF(AP15>0,AP15,IF(AQ15>0,AQ15,IF(AR15>0,AR15,IF(AU15>0,AU15,0)))))","v":false},null,0,null,0,0,0,0,0,{"$f":"IF(AND(AH14<=40),40-AH14,0)","v":40},{"$f":"AS15","v":0},0,{"$f":"AV15","v":0},null,0,0,0,0,0,0,{"$f":"IF(AND(AH14<=40),40-AH14,0)","v":40},{"$f":"BD15","v":0},null,{"$f":"IF(AND(G15>0,E15>0),1,0)","v":0},40,0,0,{"$f":"SUM(E14:E15)","v":0},{"$f":"IF(AND(K15>0,E15>0),1,0)","v":0},{"$f":"IF(AND(BM15=1,J15>8),K15,(IF(AND(BM15=1,J15>0),J15,0)))","v":0},0,0]
[false,null,null,"Tuesday",{"$f":"'Sept 1 - Sept 15'!E32","v":0},{"$f":"'Sept 1 - Sept 15'!F32","v":0},{"$f":"'Sept 1 - Sept 15'!G32","v":0},{"$f":"'Sept 1 - Sept 15'!H32","v":0},{"$f":"'Sept 1 - Sept 15'!I32","v":0},{"$f":"'Sept 1 - Sept 15'!J32","v":0},{"$f":"'Sept 1 - Sept 15'!K32","v":0},{"$f":"'Sept 1 - Sept 15'!L32","v":0},{"$f":"'Sept 1 - Sept 15'!M32","v":0},{"$f":"'Sept 1 - Sept 15'!N32","v":0},{"$f":"SUM(E16:N16)-J16","v":0},"",null,"",null,null,{"$f":"IF(BJ16>0,BJ16,BN16)","v":0},0,null,{"$f":"IF(ISNA(INDEX('Conversion Factors'!$B$6:$B$371,MATCH('Sept 16 - Sept 30'!$Z$14:$Z$20,'Conversion Factors'!$A$6:$A$371,0))),\"\",INDEX('Conversion Factors'!$B$6:$B$371,MATCH('Sept 16 - Sept 30'!$Z$14:$Z$20,'Conversion Factors'!$A$6:$A$371,0)))","v":""},null,false,0,"",null,null,null,null,null,0,{"$f":"IF(AH16>$AI$12,AH16-($AI$12+AI15+AI14),0)","v":0},false,false,null,0,null,0,0,0,0,0,40,0,0,0,null,0,0,0,0,0,0,{"$f":"IF(AND(AH15<=40),40-AH15,0)","v":40},0,null,{"$f":"IF(AND(G16>0,E16>0),1,0)","v":0},40,0,0,{"$f":"SUM(E14:E16)","v":0},0,{"$f":"IF(AND(BM16=1,J16>8),K16,(IF(AND(BM16=1,J16>0),J16,0)))","v":0},{"$f":"IF(AND(BM16=1,40-BL15>0,40-BL15<8),40-BL15,IF(AND(J16<K16),J16,K16))","v":0},0]
[false,null,null,"Wednesday",{"$f":"'Sept 1 - Sept 15'!E33","v":0},{"$f":"'Sept 1 - Sept 15'!F33","v":0},{"$f":"'Sept 1 - Sept 15'!G33","v":0},{"$f":"'Sept 1 - Sept 15'!H33","v":0},{"$f":"'Sept 1 - Sept 15'!I33","v":0},{"$f":"'Sept 1 - Sept 15'!J33","v":0},{"$f":"'Sept 1 - Sept 15'!K33","v":0},{"$f":"'Sept 1 - Sept 15'!L33","v":0},{"$f":"'Sept 1 - Sept 15'!M33","v":0},{"$f":"'Sept 1 - Sept 15'!N33","v":0},0,"",null,"",null,null,0,0,null,{"$f":"IF(ISNA(INDEX('Conversion Factors'!$B$6:$B$371,MATCH('Sept 16 - Sept 30'!$Z$14:$Z$20,'Conversion Factors'!$A$6:$A$371,0))),\"\",INDEX('Conversion Factors'!$B$6:$B$371,MATCH('Sept 16 - Sept 30'!$Z$14:$Z$20,'Conversion Factors'!$A$6:$A$371,0)))","v":""},null,false,0,"",null,null,null,null,null,0,{"$f":"IF(AH17>$AI$12,AH17-($AI$12+AI16+AI15+AI14),0)","v":0},false,false,null,0,null,0,0,0,0,0,40,0,0,0,null,0,0,0,0,0,0,40,0,null,0,40,0,0,{"$f":"SUM(E14:E17)","v":0},0,{"$f":"IF(AND(BM17=1,J17>8),K17,(IF(AND(BM17=1,J17>0),J17,0)))","v":0},{"$f":"IF(AND(BM17=1,40-BL16>0,40-BL16<8),40-BL16,IF(AND(J17<K17),J17,K17))","v":0},0]
[false,null,null,"Thursday",{"$f":"'Sept 1 - Sept 15'!E34","v":0},{"$f":"'Sept 1 - Sept 15'!F34","v":0},{"$f":"'Sept 1 - Sept 15'!G34","v":0},{"$f":"'Sept 1 - Sept 15'!H34","v":0},{"$f":"'Sept 1 - Sept 15'!I34","v":0},{"$f":"'Sept 1 - Sept 15'!J34","v":0},{"$f":"'Sept 1 - Sept 15'!K34","v":0},{"$f":"'Sept 1 - Sept 15'!L34","v":0},{"$f":"'Sept 1 - Sept 15'!M34","v":0},{"$f":"'Sept 1 - Sept 15'!N34","v":0},0,"",null,"",null,null,0,0,null,{"$f":"IF(ISNA(INDEX('Conversion Factors'!$B$6:$B$371,MATCH('Sept 16 - Sept 30'!$Z$14:$Z$20,'Conversion Factors'!$A$6:$A$371,0))),\"\",INDEX('Conversion Factors'!$B$6:$B$371,MATCH('Sept 16 - Sept 30'!$Z$14:$Z$20,'Conversion Factors'!$A$6:$A$371,0)))","v":""},null,false,0,"",null,null,null,null,null,0,{"$f":"IF(AH18>$AI$12,AH18-($AI$12+AI17+AI16+AI15+AI14),0)","v":0},false,false,null,0,null,0,0,0,0,0,{"$f":"IF(AND(AH17<=40),40-AH17,0)","v":40},0,0,0,null,0,0,0,0,0,0,40,0,null,0,40,0,0,{"$f":"SUM(E14:E18)","v":0},0,0,0,0]
["2022-09-16",null,null,"Friday",null,null,null,null,null,null,null,null,null,null,0,"",null,"",null,null,0,0,null,{"$f":"IF(ISNA(INDEX('Conversion Factors'!$B$6:$B$371,MATCH('Sept 16 - Sept 30'!$Z$14:$Z$20,'Conversion Factors'!$A$6:$A$371,0))),\"\",INDEX('Conversion Factors'!$B$6:$B$371,MATCH('Sept 16 - Sept 30'!$Z$14:$Z$20,'Conversion Factors'!$A$6:$A$371,0)))","v":7.8789999999999996},null,"2022-09-16","","",null,null,null,null,null,0,{"$f":"IF(AH19>$AI$12,AH19-($AI$12+AI18+AI17+AI16+AI15+AI14),0)","v":0},false,false,null,0,null,0,0,0,0,0,{"$f":"IF(AND(AH18<=40),40-AH18,0)","v":40},0,0,0,null,0,0,0,0,0,0,40,0,null,0,40,0,0,{"$f":"SUM(E14:E19)","v":0},0,0,0,{"$f":"IF(AND(BM19=1,BL19>40,J19<=K19),J19-BO19,IF(AND(BM19=1,BL19>0,J19>K19),K19-BO19,0))","v":0}]
["2022-09-17",null,null,"Saturday",null,null,null,null,null,null,null,null,null,null,{"$f":"SUM(E20:N20)-J20","v":0},"",null,"",null,null,0,0,null,{"$f":"IF(ISNA(INDEX('Conversion Factors'!$B$6:$B$371,MATCH('Sept 16 - Sept 30'!$Z$14:$Z$20,'Conversion Factors'!$A$6:$A$371,0))),\"\",INDEX('Conversion Factors'!$B$6:$B$371,MATCH('Sept 16 - Sept 30'!$Z$14:$Z$20,'Conversion Factors'!$A$6:$A$371,0)))","v":7.8789999999999996},null,"2022-09-17","","",null,null,null,null,null,0,{"$f":"IF(AH20>$AI$12,AH20-($AI$12+AI19+AI18+AI17+AI16+AI15+AI14),0)","v":0},false,false,null,0,null,0,0,0,0,0,40,0,0,0,null,0,0,0,0,0,0,40,0,null,0,40,0,0,{"$f":"SUM(E14:E20)","v":0},0,0,0,{"$f":"IF(AND(BM20=1,BL20>40,J20<=K20),J20-BO20,IF(AND(BM20=1,BL20>0,J20>K20),K20-BO20,0))","v":0}]
["Week 1 Totals",null,null,null,{"$f":"SUM(E14:E20)","v":0},{"$f":"SUM(F14:F20)","v":0},0,0,0,null,0,0,0,0,{"$f":"SUM(O14:O20)","v":0},{"$f":"-SUM(P14:P20)","v":0},{"$f":"SUM(Q14:Q20)","v":0},{"$f":"SUM(R14:R20)","v":0},{"$f":"IF(E21>40,(E21-40)-V21-BP21,0)","v":0},{"$f":"MROUND(AL21,0.25)","v":0},{"$f":"SUM(U14:U20)","v":0},{"$f":"SUM(V14:V20)","v":0},{"$f":"IF(E21-(E11-(G21+K21+F21+H21+I21+L21+M21))-(S21+U21+V21)>0,E21-(E11-(G21+K21+F21+H21+I21+L21+M21))-(S21+U21+V21),0)","v":0},null,null,null,null,null,{"$f":"SUM(F21:N21)","v":0},{"$f":"IF(AND(AG21<40,O21>=AG21),O21-(AG21+S21),IF(AND(O21<AG21,E21=O21),O21-E21,IF(AND(E21>AG21,E21<40),E21-AG21,IF(AND(O21>AG21,E21<AG21),E21-(AG21-AC21),IF(AND(O21>AG21,E21>40),E21-(AG21-AC21+S21),IF(AND(O21>AG21,O21>40),O21-(S21+AG21),0))))))","v":0},{"$f":"AD21-U21-V21","v":0},{"$f":"$W$11","v":"Please Select"},{"$f":"$E$11","v":40},null,{"$f":"IF(AH21>$AI$12,-$AI$12,0)","v":0},null,null,{"$f":"IF(AF21=\"Yes\",S21*1.5,0)","v":0},null,null,null,null,null,null,null,null,null,null,null,null,null,null,null,null,null,null,null,null,null,null,null,null,null,null,null,null,null,{"$f":"SUM(BP14:BP20)","v":0},{"$f":"E11+U21","v":40}]
[{"$f":"IF(A20=0,\"\",IF(A20<$O$7,A20+1,IF(A20=$O$7,\"\")))","v":"2022-09-18"},null,null,"Sunday",null,null,null,null,null,null,null,null,null,null,{"$f":"SUM(E22:N22)-J22","v":0},{"$f":"IF(AND(ISNUMBER(AA22),ISNUMBER(X22)),AA22*X22,\"\")","v":""},null,{"$f":"IF(AND(ISNUMBER(AB22),ISNUMBER(X22)),AB22*X22,\"\")","v":""},null,null,{"$f":"IF(BJ22>0,BJ22,BN22)","v":0},{"$f":"IF(BK22>0,BK22,0)","v":0},null,{"$f":"IF(ISNA(INDEX('Conversion Factors'!$B$6:$B$371,MATCH('Sept 16 - Sept 30'!$Z$22:$Z$28,'Conversion Factors'!$A$6:$A$371,0))),\"\",INDEX('Conversion Factors'!$B$6:$B$371,MATCH('Sept 16 - Sept 30'!$Z$22:$Z$28,'Conversion Factors'!$A$6:$A$371,0)))","v":7.8789999999999996},null,{"$f":"A22","v":"2022-09-18"},{"$f":"IF(AND(ISNUMBER(N22),ISNUMBER($Z$12)),N22/$Z$12,\"\")","v":""},{"$f":"IF(AND(ISNUMBER(Q22),ISNUMBER($Z$12)),Q22/$Z$12,\"\")","v":""},null,null,null,null,null,{"$f":"E22+AH21","v":0},{"$f":"IF(AH22>$AI$12,AH22-($AI$12+AI21),0)","v":0},{"$f":"IF(AND(AZ22>0,AZ22),IF(BA22>0,BA22,IF(BB22>0,BB22,IF(BC22>0,BC22,IF(BF22>0,BF22,\"\")))))","v":false},{"$f":"IF(AND(AO22>0,AO22),IF(AP22>0,AP22,IF(AQ22>0,AQ22,IF(AR22>0,AR22,IF(AU22>0,AU22,\"\")))))","v":false},null,{"$f":"J22","v":0},null,{"$f":"IF(G22=0,0,\"\")","v":0},{"$f":"IF(AND(AH22<=40,E22=G22),G22,0)","v":0},{"$f":"IF(AND(AH22<=40,E22>=G22,G22>0),O22-E22,0)","v":0},{"$f":"IF(AND(AH22<=40,E22<G22),O22-G22,0)","v":0},{"$f":"IF(AND(G22=0),G22,IF(AND(G22>0,AI22>0,G22=AT22),AT22,IF(AND(G22>0,AI22>0,G22-AT22),AT22,0)))","v":0},null,{"$f":"AS22","v":0},{"$f":"IF(AND(AH21+AU22=40,AI22>0,AI22>AU22),AI22-AU22,IF(AND(AH21+AU22=40,AI22>0,AI22<AU22,AU22+AI22=G22),AI22,IF(AND(AH21>40,AH22>40,G22=AI22),AI22,0)))","v":0},{"$f":"AV22","v":0},null,{"$f":"IF(AND(J22>0,AI22>0,BB22<=AI22),AI22-BB22,IF(AND(J22>0,AI22>0,BB22>AI22),J22-BB22,0))","v":0},{"$f":"IF(J22=0,0,\"\")","v":0},{"$f":"IF(AND(AH22<=40,E22=J22),J22,0)","v":0},{"$f":"IF(AND(AZ22=0),AZ22,IF(AND(AH22>40,E22>=J22),BE22,IF(AND(AH22<=40,E22>J22),J22,0)))","v":0},{"$f":"IF(AND(AH22<=40,E22<J22),O22-J22,0)","v":0},{"$f":"IF(AND(J22=0),J22,IF(AND(J22>0,AI22>0,J22=BC22),BC22,IF(AND(J22>0,AI22>0,J22-BC22),BC22,0)))","v":0},null,{"$f":"BD22","v":0},null,{"$f":"IF(AND(G22>0,E22>0),1,0)","v":0},{"$f":"40-AH22","v":40},0,{"$f":"IF(AND(BH22=1,BL22>40,E22<G22),E22-BJ22,(IF(AND(BH22=1,BL22>0,E22>=G22),G22-BJ22,0)))","v":0},{"$f":"E22","v":0},{"$f":"IF(AND(K22>0,E22>0),1,0)","v":0},{"$f":"IF(AND(BM22=1,J22>8),K22,(IF(AND(BM22=1,J22>0),J22,0)))","v":0},{"$f":"IF(AND(BM22=1,40-BL21>0,40-BL21<8),40-BL21,IF(AND(J22<K22),J22,K22))","v":0},{"$f":"IF(AND(BM22=1,BL22>40,J22<=K22),J22-BO22,IF(AND(BM22=1,BL22>0,J22>K22),K22-BO22,0))","v":0}]
[{"$f":"IF(A22<$O$7,A22+1,IF(A22=$O$7,\"\"))","v":"2022-09-19"},null,null,"Monday",null,null,null,null,null,null,null,null,null,null,{"$f":"SUM(E23:N23)-J23","v":0},{"$f":"IF(AND(ISNUMBER(AA23),ISNUMBER(X23)),AA23*X23,\"\")","v":""},null,{"$f":"IF(AND(ISNUMBER(AB23),ISNUMBER(X23)),AB23*X23,\"\")","v":""},null,null,{"$f":"IF(BJ23>0,BJ23,BN23)","v":0},{"$f":"IF(BK23>0,BK23,0)","v":0},null,{"$f":"IF(ISNA(INDEX('Conversion Factors'!$B$6:$B$371,MATCH('Sept 16 - Sept 30'!$Z$22:$Z$28,'Conversion Factors'!$A$6:$A$371,0))),\"\",INDEX('Conversion Factors'!$B$6:$B$371,MATCH('Sept 16 - Sept 30'!$Z$22:$Z$28,'Conversion Factors'!$A$6:$A$371,0)))","v":7.8789999999999996},null,"2022-09-19","","",null,null,null,null,null,0,{"$f":"IF(AH23>$AI$12,AH23-($AI$12+AI22+AI21),0)","v":0},false,{"$f":"IF(AND(AO23>0,AO23),IF(AP23>0,AP23,IF(AQ23>0,AQ23,IF(AR23>0,AR23,IF(AU23>0,AU23,0)))))","v":false},null,0,null,0,0,0,0,0,{"$f":"IF(AND(AH22<=40),40-AH22,0)","v":40},{"$f":"AS23","v":0},0,{"$f":"AV23","v":0},null,{"$f":"IF(AND(J23>0,AI23>0,BB23<=AI23),AI23-BB23,IF(AND(J23>0,AI23>0,BB23>AI23),J23-BB23,0))","v":0},0,0,0,0,0,{"$f":"IF(AND(AH22<=40),40-AH22,0)","v":40},{"$f":"BD23","v":0},null,{"$f":"IF(AND(G23>0,E23>0),1,0)","v":0},40,0,0,{"$f":"SUM(E22:E23)","v":0},{"$f":"IF(AND(K23>0,E23>0),1,0)","v":0},{"$f":"IF(AND(BM23=1,J23>8),K23,(IF(AND(BM23=1,J23>0),J23,0)))","v":0},0,0]
["2022-09-20",null,null,"Tuesday",null,null,null,null,null,null,null,null,null,null,{"$f":"SUM(E24:N24)-J24","v":0},"",null,"",null,null,{"$f":"IF(BJ24>0,BJ24,BN24)","v":0},0,null,{"$f":"IF(ISNA(INDEX('Conversion Factors'!$B$6:$B$371,MATCH('Sept 16 - Sept 30'!$Z$22:$Z$28,'Conversion Factors'!$A$6:$A$371,0))),\"\",INDEX('Conversion Factors'!$B$6:$B$371,MATCH('Sept 16 - Sept 30'!$Z$22:$Z$28,'Conversion Factors'!$A$6:$A$371,0)))","v":7.8789999999999996},null,"2022-09-20","","",null,null,null,null,null,0,{"$f":"IF(AH24>$AI$12,AH24-($AI$12+AI23+AI22+AI21),0)","v":0},false,false,null,0,null,0,0,0,0,0,40,0,0,0,null,{"$f":"IF(AND(J24>0,AI24>0,BB24<=AI24),AI24-BB24,IF(AND(J24>0,AI24>0,BB24>AI24),J24-BB24,0))","v":0},0,0,0,0,0,{"$f":"IF(AND(AH23<=40),40-AH23,0)","v":40},0,null,{"$f":"IF(AND(G24>0,E24>0),1,0)","v":0},40,0,0,{"$f":"SUM(E22:E24)","v":0},0,{"$f":"IF(AND(BM24=1,J24>8),K24,(IF(AND(BM24=1,J24>0),J24,0)))","v":0},{"$f":"IF(AND(BM24=1,40-BL23>0,40-BL23<8),40-BL23,IF(AND(J24<K24),J24,K24))","v":0},0]
["2022-09-21",null,null,"Wednesday",null,null,null,null,null,null,null,null,null,null,0,"",null,"",null,null,0,0,null,{"$f":"IF(ISNA(INDEX('Conversion Factors'!$B$6:$B$371,MATCH('Sept 16 - Sept 30'!$Z$22:$Z$28,'Conversion Factors'!$A$6:$A$371,0))),\"\",INDEX('Conversion Factors'!$B$6:$B$371,MATCH('Sept 16 - Sept 30'!$Z$22:$Z$28,'Conversion Factors'!$A$6:$A$371,0)))","v":7.8789999999999996},null,"2022-09-21","","",null,null,null,null,null,0,{"$f":"IF(AH25>$AI$12,AH25-($AI$12+AI24+AI23+AI22+AI21),0)","v":0},false,false,null,0,null,0,0,0,0,0,40,0,0,0,null,{"$f":"IF(AND(J25>0,AI25>0,BB25<=AI25),AI25-BB25,IF(AND(J25>0,AI25>0,BB25>AI25),J25-BB25,0))","v":0},0,0,0,0,0,40,0,null,0,40,0,0,{"$f":"SUM(E22:E25)","v":0},0,{"$f":"IF(AND(BM25=1,J25>8),K25,(IF(AND(BM25=1,J25>0),J25,0)))","v":0},{"$f":"IF(AND(BM25=1,40-BL24>0,40-BL24<8),40-BL24,IF(AND(J25<K25),J25,K25))","v":0},0]
["2022-09-22",null,null,"Thursday",null,null,null,null,null,null,null,null,null,null,0,"",null,"",null,null,0,0,null,{"$f":"IF(ISNA(INDEX('Conversion Factors'!$B$6:$B$371,MATCH('Sept 16 - Sept 30'!$Z$22:$Z$28,'Conversion Factors'!$A$6:$A$371,0))),\"\",INDEX('Conversion Factors'!$B$6:$B$371,MATCH('Sept 16 - Sept 30'!$Z$22:$Z$28,'Conversion Factors'!$A$6:$A$371,0)))","v":7.8789999999999996},null,"2022-09-22","","",null,null,null,null,null,0,{"$f":"IF(AH26>$AI$12,AH26-($AI$12+AI25+AI24+AI23+AI22+AI21),0)","v":0},false,false,null,0,null,0,0,0,0,0,{"$f":"IF(AND(AH25<=40),40-AH25,0)","v":40},0,0,0,null,{"$f":"IF(AND(J26>0,AI26>=J26,BB26=0),O26-AI26,IF(AND(J26>0,AI26>0,BB26<=AI26),AI26-BB26,IF(AND(J26>0,AI26>0,BB26>AI26),J26-BB26,0)))","v":0},0,0,0,0,0,40,0,null,0,40,0,0,{"$f":"SUM(E22:E26)","v":0},0,0,0,0]
["2022-09-23",null,null,"Friday",null,null,null,null,null,null,null,null,null,null,0,"",null,"",null,null,0,0,null,{"$f":"IF(ISNA(INDEX('Conversion Factors'!$B$6:$B$371,MATCH('Sept 16 - Sept 30'!$Z$22:$Z$28,'Conversion Factors'!$A$6:$A$371,0))),\"\",INDEX('Conversion Factors'!$B$6:$B$371,MATCH('Sept 16 - Sept 30'!$Z$22:$Z$28,'Conversion Factors'!$A$6:$A$371,0)))","v":7.8789999999999996},null,"2022-09-23","","",null,null,null,null,null,0,{"$f":"IF(AH27>$AI$12,AH27-($AI$12+AI26+AI25+AI24+AI23+AI22+AI21),0)","v":0},false,false,null,0,null,0,0,0,0,0,{"$f":"IF(AND(AH26<=40),40-AH26,0)","v":40},0,0,0,null,{"$f":"IF(AND(J27>0,AI27>=J27,BB27=0),O27-AI27,IF(AND(J27>0,AI27>0,BB27<=AI27),AI27-BB27,IF(AND(J27>0,AI27>0,BB27>AI27),J27-BB27,0)))","v":0},0,0,0,0,0,40,0,null,0,40,0,0,{"$f":"SUM(E22:E27)","v":0},0,0,0,{"$f":"IF(AND(BM27=1,BL27>40,J27<=K27),J27-BO27,IF(AND(BM27=1,BL27>0,J27>K27),K27-BO27,0))","v":0}]
["2022-09-24",null,null,"Saturday",null,null,null,null,null,null,null,null,null,null,{"$f":"SUM(E28:N28)-J28","v":0},"",null,"",null,null,0,0,null,{"$f":"IF(ISNA(INDEX('Conversion Factors'!$B$6:$B$371,MATCH('Sept 16 - Sept 30'!$Z$22:$Z$28,'Conversion Factors'!$A$6:$A$371,0))),\"\",INDEX('Conversion Factors'!$B$6:$B$371,MATCH('Sept 16 - Sept 30'!$Z$22:$Z$28,'Conversion Factors'!$A$6:$A$371,0)))","v":7.8789999999999996},null,"2022-09-24","","",null,null,null,null,null,0,{"$f":"IF(AH28>$AI$12,AH28-($AI$12+AI27+AI26+AI25+AI24+AI23+AI22+AI21),0)","v":0},false,false,null,0,null,0,0,0,0,0,40,0,0,0,null,{"$f":"IF(AND(J28>0,AI28>=J28,BB28=0),O28-AI28,IF(AND(J28>0,AI28>0,BB28<=AI28),AI28-BB28,IF(AND(J28>0,AI28>0,BB28>AI28),J28-BB28,0)))","v":0},0,0,0,0,0,40,0,null,0,40,0,0,{"$f":"SUM(E22:E28)","v":0},0,0,0,{"$f":"IF(AND(BM28=1,BL28>40,J28<=K28),J28-BO28,IF(AND(BM28=1,BL28>0,J28>K28),K28-BO28,0))","v":0}]
["Week 2 Totals",null,null,null,{"$f":"SUM(E22:E28)","v":0},0,0,0,0,null,0,0,0,0,{"$f":"SUM(O22:O28)","v":0},{"$f":"-SUM(P22:P28)","v":0},{"$f":"SUM(Q22:Q28)","v":0},{"$f":"SUM(R22:R28)","v":0},{"$f":"IF(E29>40,(E29-40)-V29,0)","v":0},{"$f":"MROUND(AL29,0.25)","v":0},{"$f":"SUM(U22:U28)","v":0},{"$f":"SUM(V22:V28)","v":0},{"$f":"IF(E29-(E11-(G29+K29+F29+H29+I29+L29+M29))-(S29+U29+V29)>0,E29-(E11-(G29+K29+F29+H29+I29+L29+M29))-(S29+U29+V29),0)","v":0},null,null,null,null,null,{"$f":"SUM(F29:N29)","v":0},{"$f":"IF(AND(AG29<40,O29>=AG29),O29-(AG29+S29),IF(AND(O29<AG29,E29=O29),O29-E29,IF(AND(E29>AG29,E29<40),E29-AG29,IF(AND(O29>AG29,E29<AG29),E29-(AG29-AC29),IF(AND(O29>AG29,E29>40),E29-(AG29-AC29+S29),IF(AND(O29>AG29,O29>40),O29-(S29+AG29),0))))))","v":0},{"$f":"AD29-U29-V29","v":0},{"$f":"$W$11","v":"Please Select"},{"$f":"$E$11","v":40},null,{"$f":"IF(AH29>$AI$12,-$AI$12,0)","v":0},null,null,{"$f":"IF(AF29=\"Yes\",S29*1.5,0)","v":0},0,null,null,null,null,null,null,null,null,null,null,null,null,0,null,null,null,null,null,null,null,null,null,null,null,null,null,null,null,{"$f":"SUM(BP22:BP28)","v":0},{"$f":"U29+E11","v":40}]
[{"$f":"IF(A28<$O$7,A28+1,IF(A28=$O$7,\"\"))","v":"2022-09-25"},null,null,"Sunday",null,null,null,null,null,null,null,null,null,null,{"$f":"SUM(E30:N30)-J30","v":0},{"$f":"IF(AND(ISNUMBER(AA30),ISNUMBER(X30)),AA30*X30,\"\")","v":""},null,{"$f":"IF(AND(ISNUMBER(AB30),ISNUMBER(X30)),AB30*X30,\"\")","v":""},null,null,{"$f":"IF(BJ30>0,BJ30,BN30)","v":0},{"$f":"IF(BK30>0,BK30,0)","v":0},null,{"$f":"IF(ISNA(INDEX('Conversion Factors'!$B$6:$B$370,MATCH('Sept 16 - Sept 30'!$Z$30:$Z$36,'Conversion Factors'!$A$6:$A$370,0))),\"\",INDEX('Conversion Factors'!$B$6:$B$370,MATCH('Sept 16 - Sept 30'!$Z$30:$Z$36,'Conversion Factors'!$A$6:$A$370,0)))","v":7.8789999999999996},null,{"$f":"A30","v":"2022-09-25"},{"$f":"IF(AND(ISNUMBER(N30),ISNUMBER($Z$12)),N30/$Z$12,\"\")","v":""},{"$f":"IF(AND(ISNUMBER(Q30),ISNUMBER($Z$12)),Q30/$Z$12,\"\")","v":""},null,null,null,null,null,{"$f":"E30+AH29","v":0},{"$f":"IF(AH30>$AI$12,AH30-($AI$12+AI29),0)","v":0},{"$f":"IF(AND(AZ30>0,AZ30),IF(BA30>0,BA30,IF(BB30>0,BB30,IF(BC30>0,BC30,IF(BF30>0,BF30,\"\")))))","v":false},{"$f":"IF(AND(AO30>0,AO30),IF(AP30>0,AP30,IF(AQ30>0,AQ30,IF(AR30>0,AR30,IF(AU30>0,AU30,\"\")))))","v":false},null,0,null,{"$f":"IF(G30=0,0,\"\")","v":0},{"$f":"IF(AND(AH30<=40,E30=G30),G30,0)","v":0},{"$f":"IF(AND(AH30<=40,E30>=G30,G30>0),O30-E30,0)","v":0},{"$f":"IF(AND(AH30<=40,E30<G30),O30-G30,0)","v":0},{"$f":"IF(AND(G30=0),G30,IF(AND(G30>0,AI30>0,G30=AT30),AT30,IF(AND(G30>0,AI30>0,G30-AT30),AT30,0)))","v":0},null,{"$f":"AS30","v":0},{"$f":"IF(AND(AH29+AU30=40,AI30>0,AI30>AU30),AI30-AU30,IF(AND(AH29+AU30=40,AI30>0,AI30<AU30,AU30+AI30=G30),AI30,IF(AND(AH29>40,AH30>40,G30=AI30),AI30,0)))","v":0},{"$f":"AV30","v":0},null,{"$f":"IF(AND(J30>0,AI30>=J30,BB30=0),O30-AI30,IF(AND(J30>0,AI30>0,BB30<=AI30),AI30-BB30,IF(AND(J30>0,AI30>0,BB30>AI30),J30-BB30,0)))","v":0},0,{"$f":"IF(AND(AH30<=40,E30=J30),J30,0)","v":0},{"$f":"IF(AND(AZ30=0),AZ30,IF(AND(AH30>40,E30>=J30),BE30,IF(AND(AH30<=40,E30>J30),J30,0)))","v":0},{"$f":"IF(AND(AH30<=40,E30<J30),O30-J30,0)","v":0},{"$f":"IF(AND(J30=0),J30,IF(AND(J30>0,AI30>0,J30=BC30),BC30,IF(AND(J30>0,AI30>0,J30-BC30),BC30,0)))","v":0},null,{"$f":"BD30","v":0},null,{"$f":"IF(AND(G30>0,E30>0),1,0)","v":0},{"$f":"40-AH30","v":40},0,{"$f":"IF(AND(BH30=1,BL30>40,E30<G30),E30-BJ30,(IF(AND(BH30=1,BL30>0,E30>=G30),G30-BJ30,0)))","v":0},{"$f":"E30","v":0},{"$f":"IF(AND(K30>0,E30>0),1,0)","v":0},{"$f":"IF(AND(BM30=1,J30>8),K30,(IF(AND(BM30=1,J30>0),J30,0)))","v":0},{"$f":"IF(AND(BM30=1,40-BL29>0,40-BL29<8),40-BL29,IF(AND(J30<K30),J30,K30))","v":0},{"$f":"IF(AND(BM30=1,BL30>40,J30<=K30),J30-BO30,IF(AND(BM30=1,BL30>0,J30>K30),K30-BO30,0))","v":0}]
[{"$f":"IF(A30<$O$7,A30+1,IF(A30=$O$7,\"\"))","v":"2022-09-26"},null,null,"Monday",null,null,null,null,null,null,null,null,null,null,{"$f":"SUM(E31:N31)-J31","v":0},{"$f":"IF(AND(ISNUMBER(AA31),ISNUMBER(X31)),AA31*X31,\"\")","v":""},null,{"$f":"IF(AND(ISNUMBER(AB31),ISNUMBER(X31)),AB31*X31,\"\")","v":""},null,null,0,{"$f":"IF(BK31>0,BK31,0)","v":0},null,{"$f":"IF(ISNA(INDEX('Conversion Factors'!$B$6:$B$370,MATCH('Sept 16 - Sept 30'!$Z$30:$Z$36,'Conversion Factors'!$A$6:$A$370,0))),\"\",INDEX('Conversion Factors'!$B$6:$B$370,MATCH('Sept 16 - Sept 30'!$Z$30:$Z$36,'Conversion Factors'!$A$6:$A$370,0)))","v":7.8789999999999996},null,"2022-09-26","","",null,null,null,null,null,0,{"$f":"IF(AH31>$AI$12,AH31-($AI$12+AI30+AI29),0)","v":0},false,{"$f":"IF(AND(AO31>0,AO31),IF(AP31>0,AP31,IF(AQ31>0,AQ31,IF(AR31>0,AR31,IF(AU31>0,AU31,0)))))","v":false},null,0,null,0,0,0,0,0,{"$f":"IF(AND(AH30<=40),40-AH30,0)","v":40},{"$f":"AS31","v":0},0,{"$f":"AV31","v":0},null,0,0,0,0,0,0,{"$f":"IF(AND(AH30<=40),40-AH30,0)","v":40},{"$f":"BD31","v":0},null,{"$f":"IF(AND(G31>0,E31>0),1,0)","v":0},40,0,0,{"$f":"SUM(E30:E31)","v":0},{"$f":"IF(AND(K31>0,E31>0),1,0)","v":0},{"$f":"IF(AND(BM31=1,J31>8),K31,(IF(AND(BM31=1,J31>0),J31,0)))","v":0},0,0]
["2022-09-27",null,null,"Tuesday",null,null,null,null,null,null,null,null,null,null,0,"",null,"",null,null,0,0,null,{"$f":"IF(ISNA(INDEX('Conversion Factors'!$B$6:$B$370,MATCH('Sept 16 - Sept 30'!$Z$30:$Z$36,'Conversion Factors'!$A$6:$A$370,0))),\"\",INDEX('Conversion Factors'!$B$6:$B$370,MATCH('Sept 16 - Sept 30'!$Z$30:$Z$36,'Conversion Factors'!$A$6:$A$370,0)))","v":7.8789999999999996},null,"2022-09-27","","",null,null,null,null,null,0,{"$f":"IF(AH32>$AI$12,AH32-($AI$12+AI31+AI30+AI29),0)","v":0},false,false,null,0,null,0,0,0,0,0,40,0,0,0,null,0,0,0,0,0,0,{"$f":"IF(AND(AH31<=40),40-AH31,0)","v":40},0,null,{"$f":"IF(AND(G32>0,E32>0),1,0)","v":0},40,0,0,{"$f":"SUM(E30:E32)","v":0},0,{"$f":"IF(AND(BM32=1,J32>8),K32,(IF(AND(BM32=1,J32>0),J32,0)))","v":0},{"$f":"IF(AND(BM32=1,40-BL31>0,40-BL31<8),40-BL31,IF(AND(J32<K32),J32,K32))","v":0},0]
["2022-09-28",null,null,"Wednesday",null,null,null,null,null,null,null,null,null,null,0,"",null,"",null,null,0,0,null,{"$f":"IF(ISNA(INDEX('Conversion Factors'!$B$6:$B$370,MATCH('Sept 16 - Sept 30'!$Z$30:$Z$36,'Conversion Factors'!$A$6:$A$370,0))),\"\",INDEX('Conversion Factors'!$B$6:$B$370,MATCH('Sept 16 - Sept 30'!$Z$30:$Z$36,'Conversion Factors'!$A$6:$A$370,0)))","v":7.8789999999999996},null,"2022-09-28","","",null,null,null,null,null,0,{"$f":"IF(AH33>$AI$12,AH33-($AI$12+AI32+AI31+AI30+AI29),0)","v":0},false,false,null,0,null,0,0,0,0,0,40,0,0,0,null,0,0,0,0,0,0,40,0,null,{"$f":"IF(AND(G33>0,E33>0),1,0)","v":0},40,0,0,{"$f":"SUM(E30:E33)","v":0},0,{"$f":"IF(AND(BM33=1,J33>8),K33,(IF(AND(BM33=1,J33>0),J33,0)))","v":0},{"$f":"IF(AND(BM33=1,40-BL32>0,40-BL32<8),40-BL32,IF(AND(J33<K33),J33,K33))","v":0},0]
["2022-09-29",null,null,"Thursday",null,null,null,null,null,null,null,null,null,null,0,"",null,"",null,null,0,0,null,{"$f":"IF(ISNA(INDEX('Conversion Factors'!$B$6:$B$370,MATCH('Sept 16 - Sept 30'!$Z$30:$Z$36,'Conversion Factors'!$A$6:$A$370,0))),\"\",INDEX('Conversion Factors'!$B$6:$B$370,MATCH('Sept 16 - Sept 30'!$Z$30:$Z$36,'Conversion Factors'!$A$6:$A$370,0)))","v":7.8789999999999996},null,"2022-09-29","","",null,null,null,null,null,0,{"$f":"IF(AH34>$AI$12,AH34-($AI$12+AI33+AI32+AI31+AI30+AI29),0)","v":0},false,false,null,0,null,0,0,0,0,0,{"$f":"IF(AND(AH33<=40),40-AH33,0)","v":40},0,0,0,null,0,0,0,0,0,0,40,0,null,0,40,0,0,{"$f":"SUM(E30:E34)","v":0},0,0,0,0]
["2022-09-30",null,null,"Friday",null,null,null,null,null,null,null,null,null,null,0,"",null,"",null,null,0,0,null,{"$f":"IF(ISNA(INDEX('Conversion Factors'!$B$6:$B$370,MATCH('Sept 16 - Sept 30'!$Z$30:$Z$36,'Conversion Factors'!$A$6:$A$370,0))),\"\",INDEX('Conversion Factors'!$B$6:$B$370,MATCH('Sept 16 - Sept 30'!$Z$30:$Z$36,'Conversion Factors'!$A$6:$A$370,0)))","v":7.8789999999999996},null,"2022-09-30","","",null,null,null,null,null,0,{"$f":"IF(AH35>$AI$12,AH35-($AI$12+AI34+AI33+AI32+AI31+AI30+AI29),0)","v":0},false,false,null,0,null,0,0,0,0,0,{"$f":"IF(AND(AH34<=40),40-AH34,0)","v":40},0,0,0,null,0,0,0,0,0,0,40,0,null,0,40,0,0,{"$f":"SUM(E30:E35)","v":0},0,0,0,{"$f":"IF(AND(BM35=1,BL35>40,J35<=K35),J35-BO35,IF(AND(BM35=1,BL35>0,J35>K35),K35-BO35,0))","v":0}]
["",null,null,"Saturday",null,null,null,null,null,null,null,null,null,null,0,"",null,"",null,null,0,0,null,{"$f":"IF(ISNA(INDEX('Conversion Factors'!$B$6:$B$370,MATCH('Sept 16 - Sept 30'!$Z$30:$Z$36,'Conversion Factors'!$A$6:$A$370,0))),\"\",INDEX('Conversion Factors'!$B$6:$B$370,MATCH('Sept 16 - Sept 30'!$Z$30:$Z$36,'Conversion Factors'!$A$6:$A$370,0)))","v":""},null,"","","",null,null,null,null,null,0,{"$f":"IF(AH36>$AI$12,AH36-($AI$12+AI35+AI34+AI33+AI32+AI31+AI30+AI29),0)","v":0},false,false,null,0,null,0,0,0,0,0,40,0,0,0,null,0,0,0,0,0,0,40,0,null,0,40,0,0,{"$f":"SUM(E30:E36)","v":0},0,0,0,{"$f":"IF(AND(BM36=1,BL36>40,J36<=K36),J36-BO36,IF(AND(BM36=1,BL36>0,J36>K36),K36-BO36,0))","v":0}]
["Week 3 Totals",null,null,null,{"$f":"SUM(E30:E36)","v":0},0,0,0,0,null,0,0,0,0,{"$f":"SUM(O30:O36)","v":0},{"$f":"-SUM(P30:P36)","v":0},{"$f":"SUM(Q30:Q36)","v":0},{"$f":"SUM(R30:R36)","v":0},{"$f":"IF(E37>40,(E37-40)-V37,0)","v":0},{"$f":"MROUND(AL37,0.25)","v":0},{"$f":"SUM(U30:U36)","v":0},{"$f":"SUM(V30:V36)","v":0},{"$f":"IF(E37-(E11-(G37+K37+F37+H37+I37+L37+M3))-(S37+U37+V37)>0,E37-(E11-(G37+K37+F37+H37+I37+L37+M37))-(S37+U37+V37),0)","v":0},null,null,null,null,null,{"$f":"SUM(F37:N37)","v":0},{"$f":"IF(AND(AG37<40,O37>=AG37),O37-(AG37+S37),IF(AND(O37<AG37,E37=O37),O37-E37,IF(AND(E37>AG37,E37<40),E37-AG37,IF(AND(O37>AG37,E37<AG37),E37-(AG37-AC37),IF(AND(O37>AG37,E37>40),E37-(AG37-AC37+S37),IF(AND(O37>AG37,O37>40),O37-(S37+AG37),0))))))","v":0},{"$f":"AD37-U37-V37","v":0},{"$f":"$W$11","v":"Please Select"},{"$f":"$E$11","v":40},null,{"$f":"IF(AH37>$AI$12,-$AI$12,0)","v":0},null,null,{"$f":"IF(AF37=\"Yes\",S37*1.5,0)","v":0},null,null,null,null,null,null,null,null,null,null,null,null,null,null,null,null,null,null,null,null,null,0,null,null,null,null,null,null,null,{"$f":"SUM(BP30:BP36)","v":0},{"$f":"U37+E11","v":40}]
[{"$f":"IF(A36<$O$7,A36+1,IF(A36=$O$7,\"\"))","v":false},null,null,"Sunday",null,null,null,null,null,null,null,null,null,null,{"$f":"SUM(E38:N38)-J38","v":0},{"$f":"IF(AND(ISNUMBER(AA38),ISNUMBER(X38)),AA38*X38,\"\")","v":""},null,{"$f":"IF(AND(ISNUMBER(AB38),ISNUMBER(X38)),AB38*X38,\"\")","v":""},null,null,0,{"$f":"IF(BK38>0,BK38,0)","v":0},null,{"$f":"IF(ISNA(INDEX('Conversion Factors'!$B$6:$B$370,MATCH('Sept 16 - Sept 30'!$Z$38:$Z$44,'Conversion Factors'!$A$6:$A$370,0))),\"\",INDEX('Conversion Factors'!$B$6:$B$370,MATCH('Sept 16 - Sept 30'!$Z$38:$Z$44,'Conversion Factors'!$A$6:$A$370,0)))","v":""},null,{"$f":"A38","v":false},{"$f":"IF(AND(ISNUMBER(N38),ISNUMBER($Z$12)),N38/$Z$12,\"\")","v":""},{"$f":"IF(AND(ISNUMBER(Q38),ISNUMBER($Z$12)),Q38/$Z$12,\"\")","v":""},null,null,null,null,null,{"$f":"E38+AH37","v":0},{"$f":"IF(AH38>$AI$12,AH38-($AI$12+AI37),0)","v":0},{"$f":"IF(AND(AZ38>0,AZ38),IF(BA38>0,BA38,IF(BB38>0,BB38,IF(BC38>0,BC38,IF(BF38>0,BF38,\"\")))))","v":false},{"$f":"IF(AND(AO38>0,AO38),IF(AP38>0,AP38,IF(AQ38>0,AQ38,IF(AR38>0,AR38,IF(AU38>0,AU38,\"\")))))","v":false},null,{"$f":"J38","v":0},null,{"$f":"IF(G38=0,0,\"\")","v":0},{"$f":"IF(AND(AH38<=40,E38=G38),G38,0)","v":0},{"$f":"IF(AND(AH38<=40,E38>=G38,G38>0),O38-E38,0)","v":0},{"$f":"IF(AND(AH38<=40,E38<G38),O38-G38,0)","v":0},{"$f":"IF(AND(G38=0),G38,IF(AND(G38>0,AI38>0,G38=AT38),AT38,IF(AND(G38>0,AI38>0,G38-AT38),AT38,0)))","v":0},null,{"$f":"AS38","v":0},{"$f":"IF(AND(AH37+AU38=40,AI38>0,AI38>AU38),AI38-AU38,IF(AND(AH37+AU38=40,AI38>0,AI38<AU38,AU38+AI38=G38),AI38,IF(AND(AH37>40,AH38>40,G38=AI38),AI38,0)))","v":0},{"$f":"AV38","v":0},null,{"$f":"IF(AND(J38>0,AI38>=J38,BB38=0),O38-AI38,IF(AND(J38>0,AI38>0,BB38<=AI38),AI38-BB38,IF(AND(J38>0,AI38>0,BB38>AI38),J38-BB38,0)))","v":0},{"$f":"IF(J38=0,0,\"\")","v":0},{"$f":"IF(AND(AH38<=40,E38=J38),J38,0)","v":0},{"$f":"IF(AND(AZ38=0),AZ38,IF(AND(AH38>40,E38>=J38),BE38,IF(AND(AH38<=40,E38>J38),J38,0)))","v":0},{"$f":"IF(AND(AH38<=40,E38<J38),O38-J38,0)","v":0},{"$f":"IF(AND(J38=0),J38,IF(AND(J38>0,AI38>0,J38=BC38),BC38,IF(AND(J38>0,AI38>0,J38-BC38),BC38,0)))","v":0},null,{"$f":"BD38","v":0},null,{"$f":"IF(AND(G38>0,E38>0),1,0)","v":0},{"$f":"40-AH38","v":40},0,{"$f":"IF(AND(BH38=1,BL38>40,E38<G38),E38-BJ38,(IF(AND(BH38=1,BL38>0,E38>=G38),G38-BJ38,0)))","v":0},{"$f":"E38","v":0},{"$f":"IF(AND(K38>0,E38>0),1,0)","v":0},{"$f":"IF(AND(BM38=1,J38>8),K38,(IF(AND(BM38=1,J38>0),J38,0)))","v":0},{"$f":"IF(AND(BM38=1,40-BL37>0,40-BL37<8),40-BL37,IF(AND(J38<K38),J38,K38))","v":0},{"$f":"IF(AND(BM38=1,BL38>40,J38<=K38),J38-BO38,IF(AND(BM38=1,BL38>0,J38>K38),K38-BO38,0))","v":0}]
[{"$f":"IF(A38<$O$7,A38+1,IF(A38=$O$7,\"\"))","v":false},null,null,"Monday",null,null,null,0,null,null,null,null,null,null,{"$f":"SUM(E39:N39)-J39","v":0},{"$f":"IF(AND(ISNUMBER(AA39),ISNUMBER(X39)),AA39*X39,\"\")","v":""},null,{"$f":"IF(AND(ISNUMBER(AB39),ISNUMBER(X39)),AB39*X39,\"\")","v":""},null,null,0,{"$f":"IF(BK39>0,BK39,0)","v":0},null,{"$f":"IF(ISNA(INDEX('Conversion Factors'!$B$6:$B$370,MATCH('Sept 16 - Sept 30'!$Z$38:$Z$44,'Conversion Factors'!$A$6:$A$370,0))),\"\",INDEX('Conversion Factors'!$B$6:$B$370,MATCH('Sept 16 - Sept 30'!$Z$38:$Z$44,'Conversion Factors'!$A$6:$A$370,0)))","v":""},null,false,"","",null,null,null,null,null,0,{"$f":"IF(AH39>$AI$12,AH39-($AI$12+AI38+AI37),0)","v":0},false,{"$f":"IF(AND(AO39>0,AO39),IF(AP39>0,AP39,IF(AQ39>0,AQ39,IF(AR39>0,AR39,IF(AU39>0,AU39,0)))))","v":false},null,0,null,0,0,0,0,0,{"$f":"IF(AND(AH38<=40),40-AH38,0)","v":40},{"$f":"AS39","v":0},0,{"$f":"AV39","v":0},null,0,0,0,0,0,0,{"$f":"IF(AND(AH38<=40),40-AH38,0)","v":40},{"$f":"BD39","v":0},null,{"$f":"IF(AND(G39>0,E39>0),1,0)","v":0},40,0,0,{"$f":"SUM(E38:E39)","v":0},{"$f":"IF(AND(K39>0,E39>0),1,0)","v":0},{"$f":"IF(AND(BM39=1,J39>8),K39,(IF(AND(BM39=1,J39>0),J39,0)))","v":0},0,0]
[false,null,null,"Tuesday",null,null,null,null,null,0,0,null,null,null,{"$f":"SUM(E40:N40)-J40","v":0},"",null,"",null,null,0,0,null,{"$f":"IF(ISNA(INDEX('Conversion Factors'!$B$6:$B$370,MATCH('Sept 16 - Sept 30'!$Z$38:$Z$44,'Conversion Factors'!$A$6:$A$370,0))),\"\",INDEX('Conversion Factors'!$B$6:$B$370,MATCH('Sept 16 - Sept 30'!$Z$38:$Z$44,'Conversion Factors'!$A$6:$A$370,0)))","v":""},null,false,"","",null,null,null,null,null,0,{"$f":"IF(AH40>$AI$12,AH40-($AI$12+AI39+AI38+AI37),0)","v":0},false,false,null,0,null,0,0,0,0,0,40,0,0,0,null,0,0,0,0,0,0,{"$f":"IF(AND(AH39<=40),40-AH39,0)","v":40},0,null,{"$f":"IF(AND(G40>0,E40>0),1,0)","v":0},40,0,0,{"$f":"SUM(E38:E40)","v":0},0,{"$f":"IF(AND(BM40=1,J40>8),K40,(IF(AND(BM40=1,J40>0),J40,0)))","v":0},{"$f":"IF(AND(BM40=1,40-BL39>0,40-BL39<8),40-BL39,IF(AND(J40<K40),J40,K40))","v":0},0]
[false,null,null,"Wednesday",null,null,null,null,null,null,null,null,null,null,0,"",null,"",null,null,0,0,null,{"$f":"IF(ISNA(INDEX('Conversion Factors'!$B$6:$B$370,MATCH('Sept 16 - Sept 30'!$Z$38:$Z$44,'Conversion Factors'!$A$6:$A$370,0))),\"\",INDEX('Conversion Factors'!$B$6:$B$370,MATCH('Sept 16 - Sept 30'!$Z$38:$Z$44,'Conversion Factors'!$A$6:$A$370,0)))","v":""},null,false,"","",null,null,null,null,null,0,{"$f":"IF(AH41>$AI$12,AH41-($AI$12+AI40+AI39+AI38+AI37),0)","v":0},false,false,null,0,null,0,0,0,0,0,40,0,0,0,null,0,0,0,0,0,0,40,0,null,{"$f":"IF(AND(G41>0,E41>0),1,0)","v":0},40,0,0,{"$f":"SUM(E38:E41)","v":0},0,{"$f":"IF(AND(BM41=1,J41>8),K41,(IF(AND(BM41=1,J41>0),J41,0)))","v":0},{"$f":"IF(AND(BM41=1,40-BL40>0,40-BL40<8),40-BL40,IF(AND(J41<K41),J41,K41))","v":0},0]
[false,null,null,"Thursday",null,null,null,null,null,null,null,null,null,null,0,"",null,"",null,null,0,0,null,{"$f":"IF(ISNA(INDEX('Conversion Factors'!$B$6:$B$370,MATCH('Sept 16 - Sept 30'!$Z$38:$Z$44,'Conversion Factors'!$A$6:$A$370,0))),\"\",INDEX('Conversion Factors'!$B$6:$B$370,MATCH('Sept 16 - Sept 30'!$Z$38:$Z$44,'Conversion Factors'!$A$6:$A$370,0)))","v":""},null,false,"","",null,null,null,null,null,0,{"$f":"IF(AH42>$AI$12,AH42-($AI$12+AI41+AI40+AI39+AI38+AI37),0)","v":0},false,false,null,0,null,0,0,0,0,0,{"$f":"IF(AND(AH41<=40),40-AH41,0)","v":40},0,0,0,null,0,0,0,0,0,0,40,0,null,0,40,0,0,{"$f":"SUM(E38:E42)","v":0},0,0,0,0]
[false,null,null,"Friday",null,null,null,null,null,null,null,null,null,null,0,"",null,"",null,null,0,0,null,{"$f":"IF(ISNA(INDEX('Conversion Factors'!$B$6:$B$370,MATCH('Sept 16 - Sept 30'!$Z$38:$Z$44,'Conversion Factors'!$A$6:$A$370,0))),\"\",INDEX('Conversion Factors'!$B$6:$B$370,MATCH('Sept 16 - Sept 30'!$Z$38:$Z$44,'Conversion Factors'!$A$6:$A$370,0)))","v":""},null,false,"","",null,null,null,null,null,0,{"$f":"IF(AH43>$AI$12,AH43-($AI$12+AI42+AI41+AI40+AI39+AI38+AI37),0)","v":0},false,false,null,0,null,0,0,0,0,0,{"$f":"IF(AND(AH42<=40),40-AH42,0)","v":40},0,0,0,null,0,0,0,0,0,0,40,0,null,0,40,0,0,{"$f":"SUM(E38:E43)","v":0},0,0,0,{"$f":"IF(AND(BM43=1,BL43>40,J43<=K43),J43-BO43,IF(AND(BM43=1,BL43>0,J43>K43),K43-BO43,0))","v":0}]
[false,null,null,"Saturday",null,null,null,null,null,null,null,null,null,null,{"$f":"SUM(E44:N44)-J44","v":0},"",null,"",null,null,0,0,null,{"$f":"IF(ISNA(INDEX('Conversion Factors'!$B$6:$B$370,MATCH('Sept 16 - Sept 30'!$Z$38:$Z$44,'Conversion Factors'!$A$6:$A$370,0))),\"\",INDEX('Conversion Factors'!$B$6:$B$370,MATCH('Sept 16 - Sept 30'!$Z$38:$Z$44,'Conversion Factors'!$A$6:$A$370,0)))","v":""},null,false,"","",null,null,null,null,null,0,{"$f":"IF(AH44>$AI$12,AH44-($AI$12+AI43+AI42+AI41+AI40+AI39+AI38+AI37),0)","v":0},false,false,null,0,null,0,0,0,0,0,40,0,0,0,null,0,0,0,0,0,0,40,0,null,0,40,0,0,{"$f":"SUM(E38:E44)","v":0},0,0,0,{"$f":"IF(AND(BM44=1,BL44>40,J44<=K44),J44-BO44,IF(AND(BM44=1,BL44>0,J44>K44),K44-BO44,0))","v":0}]
["Week 4 Totals",null,null,null,{"$f":"SUM(E38:E44)","v":0},{"$f":"SUM(F38:F44)","v":0},0,0,0,null,0,0,0,0,{"$f":"SUM(O38:O44)","v":0},{"$f":"-SUM(P38:P44)","v":0},{"$f":"SUM(Q38:Q44)","v":0},{"$f":"SUM(R38:R44)","v":0},{"$f":"IF(E45>40,(E45-40)-V45,0)","v":0},{"$f":"MROUND(AL45,0.25)","v":0},{"$f":"SUM(U38:U44)","v":0},{"$f":"SUM(V38:V44)","v":0},{"$f":"IF(E45-(E11-(G45+K45+F45+H45+I45+L45+M45))-(S45+U45+V45)>0,E45-(E11-(G45+K45+F45+H45+I45+L45+M45))-(S45+U45+V45),0)","v":0},null,null,null,null,null,{"$f":"SUM(F45:N45)","v":0},{"$f":"IF(AND(AG45<40,O45>=AG45),O45-(AG45+S45),IF(AND(O45<AG45,E45=O45),O45-E45,IF(AND(E45>AG45,E45<40),E45-AG45,IF(AND(O45>AG45,E45<AG45),E45-(AG45-AC45),IF(AND(O45>AG45,E45>40),E45-(AG45-AC45+S45),IF(AND(O45>AG45,O45>40),O45-(S45+AG45),0))))))","v":0},{"$f":"AD45-U45-V45","v":0},{"$f":"$W$11","v":"Please Select"},{"$f":"$E$11","v":40},null,{"$f":"IF(AH45>$AI$12,-$AI$12,0)","v":0},null,null,{"$f":"IF(AF45=\"Yes\",S45*1.5,0)","v":0},null,null,null,null,null,null,null,null,null,null,null,null,null,null,null,null,null,null,null,null,null,null,null,null,null,null,null,null,null,{"$f":"SUM(BP38:BP44)","v":0},{"$f":"E44+E11","v":40}]
[null,null,null,null,null,null,null,null,"Total-Net Previous Week",null,null,null,null,null,{"$f":"(O21+O29+O37+O45)-O13","v":0},{"$f":"(P21+P29+P37+P45)-P13","v":0},{"$f":"(Q21+Q29+Q37+Q45)-Q13","v":0},{"$f":"(R21+R29+R37+R45)-R13","v":0},{"$f":"(S21+S29+S37+S45)-S13","v":0},0,{"$f":"(U21+U29+U37+U45)-U13","v":0},{"$f":"(V21+V29+V37+V45)-V13","v":0},{"$f":"(W21+W29+W37+W45)-W13","v":0},{"$f":"(X21+X29+X37+X45)-X13","v":0}]
[]
[null,null,null,null,null,null,null,null,null,null,null,null,null,null,"Leave/Leave Without Pay Policy"]
["Employee signature",null,null,null,null,null,"Date",null,null,null,null,null,null,null,"Overtime/Compensatory Time"]
["I certify this record is accurate and accounts for my time during the indicated period.",null,null,null,null,null,null,null,null,null,null,null,null,null,"Time Sheet Definitions/Policies"]
[]
[null,null,null,null,null,null,null,null,null,null,"“Actual Work Hours During Administrative Close Period” – Only key the hours actually worked during the admministrative closing period into this field. "]
[]
["Manager signature",null,null,null,null,null,"Date"]
["I certify the hours recorded and coded on this form are correct and in compliance with University policy.",null,null,null,null,null,null,null,null,null,"“Administrative Closing/Leave Period field.”  Entter the number of hours of the declared period of administrative closing. (The total hours worked during the entire day will be entered into the “Actual Hours Worked” field.)"]

{"sheet":"Oct 1 - Oct 15","index":13,"n_rows":55,"n_cols":69,"rows_kept":55,"cut":false,"hidden":false,"merged":[[0,0,0,22],[1,0,1,22],[3,0,3,23],[5,2,5,7],[5,8,5,13],[5,14,5,19],[10,40,10,46],[6,2,6,7],[6,8,6,13],[6,14,6,19],[7,2,7,7],[7,8,7,13],[7,14,7,19],[10,0,10,3],[10,4,10,5],[10,6,10,17],[10,18,10,21],[10,22,10,23],[21,0,21,2],[11,0,11,2],[11,29,11,30],[12,0,12,3],[13,0,13,2],[14,0,14,2],[15,0,15,2],[16,0,16,2],[17,0,17,2],[18,0,18,2],[19,0,19,2],[20,0,20,2],[33,0,33,2],[22,0,22,2],[23,0,23,2],[24,0,24,2],[25,0,25,2],[26,0,26,2],[27,0,27,2],[28,0,28,2],[29,0,29,2],[30,0,30,2],[31,0,31,2],[32,0,32,2],[45,8,45,13],[34,0,34,2],[35,0,35,2],[36,0,36,2],[37,0,37,2],[38,0,38,2],[39,0,39,2],[40,0,40,2],[41,0,41,2],[42,0,42,2],[43,0,43,2],[44,0,44,2],[47,14,47,22],[48,14,48,19],[49,14,49,22],[51,10,53,22],[54,10,56,22]]}
["Mississippi State University"]
["Non-Exempt Employee Semi-Monthly Time Report"]
[]
["Instructions:  The Fair Labor Standards Act requires that a record of hours worked on a weekly basis be maintained for all employees except executive, administrative, managerial, faculty, and professional (non-faculty).  Department/unit heads are responsible for compiling and maintaining this record in department files on each covered employee for a period of at least (3) years."]
[]
["MSU ID #:",null,{"$f":"'July 1 - July 15'!C6","v":0},null,null,null,null,null,"Pay period start date:",null,null,null,null,null,{"$f":"'Dates & Notes'!$A$8","v":"2022-10-01"},null,null,null,null,null,null,null,null,null,null,{"$f":"TEXT(O6,\"dddd\")","v":"Saturday"},null,null,null,"Please Select"]
["Name:",null,{"$f":"'July 1 - July 15'!C7","v":0},null,null,null,null,null,"Pay period end date:",null,null,null,null,null,{"$f":"'Dates & Notes'!$B$8","v":"2022-10-15"},null,null,null,null,null,null,null,null,null,null,null,null,null,null,"No"]
["Department:",null,{"$f":"'July 1 - July 15'!C8","v":0},null,null,null,null,null,"Pay Period Number:",null,null,null,null,null,{"$f":"'Dates & Notes'!$C$8","v":19},null,null,null,null,null,null,null,null,null,null,null,null,null,null,"Yes"]
[]
[]
["Employee Scheduled Hours Per Week",null,null,null,40,null,"FIELDS MUST BE ENTERED FOR CALULATIONS TO WORK PROPERLY",null,null,null,null,null,null,null,null,null,null,null,"Receive Compensatory Time",null,null,null,"Please Select",null,null,null,null,null,null,null,null,null,null,null,"Over 40",null,null,null,null,null,"HOW ANALYSIS"]
["Work Week Dates",null,null,"Day of The Week","Actual Hours Worked","Compensatory Time Used","Holiday","Medical Leave","Personal Leave","Actual Wrk Hrs During  Admin Close Period","Administrative Closing/Leave Period","Jury Duty","Military Leave","Leave Without Pay","Totals","DOC-Payroll Conversion","RTO","RTO-Payroll Conversion","Overtime Hours","Hours Transferred to Comp. Record","HOW-Holiday Pay or Admin/Leave Closing","HOT-Holiday Pay","SST-Payroll","Conversion Factor",null,8,"DOC","RTO",null,"SST",null,null,null,"Cumm Actual HRS",40,"Administrative Leave","HOW-Holiday Pay","Comp. Time","Administrative/Schedule",null,"Holiday=0\n1",2,3,4,null,"<=40\n5",null,"HOT Workup","HOT-Holiday Pay (HOLIDAY PAY)",null,"HOT-Administrative HRS","Administrative=0\n1",2,3,4,null,"<=40\n5",null,null,"Holiday Flag","Up to 40","How","Hot","Actual Hours Worked","Admin Flag","Admin","Admin HOW","Admin OVT"]
["Hours-Previous WK (Due to Split WK)",null,null,null,{"$f":"SUM(E14:E19)","v":0},0,0,0,0,0,0,0,0,0,{"$f":"SUM(E13:N13)-J13","v":0},null,null,null,null,null,null,null,null,null,null,null,null,null,null,null,null,null,null,null,null,{"$f":"IF(AND(AM13=0,J13=0),AM13,IF(AND(E13>AM13,J13=0),J13,IF(AND(J13<AM13,AI13=0),J13,IF(AND(AM13=J13,AI13<AM13),AM13-AI13,IF(AND(J13=AM13,AI13=AM13),AI13,IF(AND(J13<AM13,AI13>0),AM13-J13,IF(AND(AM13>J13,AI13<E13),E13-AI13,IF(AND(E13>AM13,AI13=E13),O13-AI13,0))))))))","v":0},{"$f":"IF(AND(G13=0,E13>G13),G13,IF(AND(E13>G13,AI13=0),G13,IF(AND(E13<G13,AI13=0),E13,IF(AND(E13=G13,AI13<G13),G13-AI13,IF(AND(E13=G13,AI13=G13),AI13,IF(AND(E13<G13,AI13>0),G13-E13,IF(AND(E13>G13,AI13<E13),E13-AI13,IF(AND(E13>G13,AI13=E13),O13-AI13,0))))))))","v":0},null,{"$f":"K13","v":0}]
[{"$f":"IF(EXACT(D14,$Z$6)=TRUE,$O$6,IF(A12=0,\"\",IF(A12<$O$7,A12+1,IF(A12=$O$7,\"\"))))","v":false},null,null,"Sunday",{"$f":"'Sept 16 - Sept 30'!E30","v":0},{"$f":"'Sept 16 - Sept 30'!F30","v":0},{"$f":"'Sept 16 - Sept 30'!G30","v":0},{"$f":"'Sept 16 - Sept 30'!H30","v":0},{"$f":"'Sept 16 - Sept 30'!I30","v":0},{"$f":"'Sept 16 - Sept 30'!J30","v":0},{"$f":"'Sept 16 - Sept 30'!K30","v":0},{"$f":"'Sept 16 - Sept 30'!L30","v":0},{"$f":"'Sept 16 - Sept 30'!M30","v":0},{"$f":"'Sept 16 - Sept 30'!N30","v":0},{"$f":"SUM(E14:N14)-J14","v":0},{"$f":"IF(AND(ISNUMBER(AA14),ISNUMBER(X14)),AA14*X14,\"\")","v":""},null,{"$f":"IF(AND(ISNUMBER(AB14),ISNUMBER(X14)),AB14*X14,\"\")","v":""},null,null,{"$f":"IF(BJ14>0,BJ14,BN14)","v":0},{"$f":"IF(BK14>0,BK14,0)","v":0},null,{"$f":"IF(ISNA(INDEX('Conversion Factors'!$B$6:$B$371,MATCH('Oct 1 - Oct 15'!$Z$14:$Z$20,'Conversion Factors'!$A$6:$A$371,0))),\"\",INDEX('Conversion Factors'!$B$6:$B$371,MATCH('Oct 1 - Oct 15'!$Z$14:$Z$20,'Conversion Factors'!$A$6:$A$371,0)))","v":""},null,{"$f":"A14","v":false},{"$f":"IF(AND(ISNUMBER(N14),ISNUMBER($Z$12)),N14/$Z$12,\"\")","v":0},{"$f":"IF(AND(ISNUMBER(Q14),ISNUMBER($Z$12)),Q14/$Z$12,\"\")","v":""},null,null,null,null,null,{"$f":"E14","v":0},{"$f":"IF(AH14>$AI$12,AH14-$AI$12,0)","v":0},{"$f":"IF(AND(AZ14>0,AZ14),IF(BA14>0,BA14,IF(BB14>0,BB14,IF(BC14>0,BC14,IF(BF14>0,BF14,\"\")))))","v":false},{"$f":"IF(AND(AO14>0,AO14),IF(AP14>0,AP14,IF(AQ14>0,AQ14,IF(AR14>0,AR14,IF(AU14>0,AU14,\"\")))))","v":false},null,{"$f":"J14","v":0},null,{"$f":"IF(G14=0,0,\"\")","v":0},{"$f":"IF(AND(AH14<=40,E14=G14),G14,0)","v":0},{"$f":"IF(AND(AH14<=40,E14>=G14,G14>0),O14-E14,0)","v":0},{"$f":"IF(AND(AH14<=40,E14<G14),O14-G14,0)","v":0},{"$f":"IF(AND(G14=0),G14,IF(AND(G14>0,AI14>0,G14=AT14),AT14,IF(AND(G14>0,AI14>0,G14-AT14),AT14,0)))","v":0},null,{"$f":"AS14","v":0},{"$f":"IF(AND(AH13+AU14=40,AI14>0,AI14>AU14),AI14-AU14,IF(AND(AH13+AU14=40,AI14>0,AI14<AU14,AU14+AI14=G14),AI14,IF(AND(AH13>40,AH14>40,G14=AI14),AI14,0)))","v":0},{"$f":"AV14","v":0},null,{"$f":"IF(AND(J14>0,AI14>=J14,BB14=0),O14-AI14,IF(AND(J14>0,AI14>0,BB14<=AI14),AI14-BB14,IF(AND(J14>0,AI14>0,BB14>AI14),J14-BB14,0)))","v":0},{"$f":"IF(J14=0,0,\"\")","v":0},{"$f":"IF(AND(AH14<=40,E14=J14),J14,0)","v":0},{"$f":"IF(AND(AZ14=0),AZ14,IF(AND(AH14>40,E14>=J14),BE14,IF(AND(AH14<=40,E14>J14),J14,0)))","v":0},{"$f":"IF(AND(AH14<=40,E14<J14),O14-J14,0)","v":0},{"$f":"IF(AND(J14=0),J14,IF(AND(J14>0,AI14>0,J14=BC14),BC14,IF(AND(J14>0,AI14>0,J14-BC14),BC14,0)))","v":0},null,{"$f":"BD14","v":0},null,{"$f":"IF(AND(G14>0,E14>0),1,0)","v":0},{"$f":"40-AH14","v":40},{"$f":"IF(AND(BH14=1,E14<8),E14,(IF(AND(BH14=1,E14>0),G14,0)))","v":0},{"$f":"IF(AND(BH14=1,BL14>40,E14<G14),E14-BJ14,(IF(AND(BH14=1,BL14>0,E14>=G14),G14-BJ14,0)))","v":0},{"$f":"E14","v":0},{"$f":"IF(AND(K14>0,E14>0),1,0)","v":0},{"$f":"IF(AND(BM14=1,J14>8),K14,(IF(AND(BM14=1,J14>0),J14,0)))","v":0},{"$f":"IF(AND(BM14=1,40-BL13>0,40-BL13<8),40-BL13,IF(AND(J14<K14),J14,K14))","v":0},{"$f":"IF(AND(BM14=1,BL14>40,J14<=K14),J14-BO14,IF(AND(BM14=1,BL14>0,J14>K14),K14-BO14,0))","v":0}]
[{"$f":"IF(EXACT(D15,$Z$6)=TRUE,$O$6,IF(A14=0,\"\",IF(A14<$O$7,A14+1,IF(A14=$O$7,\"\"))))","v":false},null,null,"Monday",{"$f":"'Sept 16 - Sept 30'!E31","v":0},{"$f":"'Sept 16 - Sept 30'!F31","v":0},{"$f":"'Sept 16 - Sept 30'!G31","v":0},{"$f":"'Sept 16 - Sept 30'!H31","v":0},{"$f":"'Sept 16 - Sept 30'!I31","v":0},{"$f":"'Sept 16 - Sept 30'!J31","v":0},{"$f":"'Sept 16 - Sept 30'!K31","v":0},{"$f":"'Sept 16 - Sept 30'!L31","v":0},{"$f":"'Sept 16 - Sept 30'!M31","v":0},{"$f":"'Sept 16 - Sept 30'!N31","v":0},{"$f":"SUM(E15:N15)-J15","v":0},{"$f":"IF(AND(ISNUMBER(AA15),ISNUMBER(X15)),AA15*X15,\"\")","v":""},null,{"$f":"IF(AND(ISNUMBER(AB15),ISNUMBER(X15)),AB15*X15,\"\")","v":""},null,null,{"$f":"IF(BJ15>0,BJ15,BN15)","v":0},{"$f":"IF(BK15>0,BK15,0)","v":0},null,{"$f":"IF(ISNA(INDEX('Conversion Factors'!$B$6:$B$371,MATCH('Oct 1 - Oct 15'!$Z$14:$Z$20,'Conversion Factors'!$A$6:$A$371,0))),\"\",INDEX('Conversion Factors'!$B$6:$B$371,MATCH('Oct 1 - Oct 15'!$Z$14:$Z$20,'Conversion Factors'!$A$6:$A$371,0)))","v":""},null,false,0,"",null,null,null,null,null,{"$f":"E15+AH14","v":0},{"$f":"IF(AH15>$AI$12,AH15-($AI$12+AI14),0)","v":0},{"$f":"IF(AND(AZ15>0,AZ15),IF(BA15>0,BA15,IF(BB15>0,BB15,IF(BC15>0,BC15,IF(BF15>0,BF15,\"\")))))","v":false},{"$f":"IF(AND(AO15>0,AO15),IF(AP15>0,AP15,IF(AQ15>0,AQ15,IF(AR15>0,AR15,IF(AU15>0,AU15,0)))))","v":false},null,0,null,0,0,0,0,0,{"$f":"IF(AND(AH14<=40),40-AH14,0)","v":40},{"$f":"AS15","v":0},0,{"$f":"AV15","v":0},null,0,0,0,0,0,0,{"$f":"IF(AND(AH14<=40),40-AH14,0)","v":40},{"$f":"BD15","v":0},null,{"$f":"IF(AND(G15>0,E15>0),1,0)","v":0},40,0,0,{"$f":"SUM(E14:E15)","v":0},{"$f":"IF(AND(K15>0,E15>0),1,0)","v":0},{"$f":"IF(AND(BM15=1,J15>8),K15,(IF(AND(BM15=1,J15>0),J15,0)))","v":0},0,0]
[false,null,null,"Tuesday",{"$f":"'Sept 16 - Sept 30'!E32","v":0},{"$f":"'Sept 16 - Sept 30'!F32","v":0},{"$f":"'Sept 16 - Sept 30'!G32","v":0},{"$f":"'Sept 16 - Sept 30'!H32","v":0},{"$f":"'Sept 16 - Sept 30'!I32","v":0},{"$f":"'Sept 16 - Sept 30'!J32","v":0},{"$f":"'Sept 16 - Sept 30'!K32","v":0},{"$f":"'Sept 16 - Sept 30'!L32","v":0},{"$f":"'Sept 16 - Sept 30'!M32","v":0},{"$f":"'Sept 16 - Sept 30'!N32","v":0},{"$f":"SUM(E16:N16)-J16","v":0},"",null,"",null,null,{"$f":"IF(BJ16>0,BJ16,BN16)","v":0},0,null,{"$f":"IF(ISNA(INDEX('Conversion Factors'!$B$6:$B$371,MATCH('Oct 1 - Oct 15'!$Z$14:$Z$20,'Conversion Factors'!$A$6:$A$371,0))),\"\",INDEX('Conversion Factors'!$B$6:$B$371,MATCH('Oct 1 - Oct 15'!$Z$14:$Z$20,'Conversion Factors'!$A$6:$A$371,0)))","v":""},null,false,0,"",null,null,null,null,null,0,{"$f":"IF(AH16>$AI$12,AH16-($AI$12+AI15+AI14),0)","v":0},false,false,null,0,null,0,0,0,0,0,40,0,0,0,null,0,0,0,0,0,0,{"$f":"IF(AND(AH15<=40),40-AH15,0)","v":40},0,null,{"$f":"IF(AND(G16>0,E16>0),1,0)","v":0},40,0,0,{"$f":"SUM(E14:E16)","v":0},0,{"$f":"IF(AND(BM16=1,J16>8),K16,(IF(AND(BM16=1,J16>0),J16,0)))","v":0},{"$f":"IF(AND(BM16=1,40-BL15>0,40-BL15<8),40-BL15,IF(AND(J16<K16),J16,K16))","v":0},0]
[false,null,null,"Wednesday",{"$f":"'Sept 16 - Sept 30'!E33","v":0},{"$f":"'Sept 16 - Sept 30'!F33","v":0},{"$f":"'Sept 16 - Sept 30'!G33","v":0},{"$f":"'Sept 16 - Sept 30'!H33","v":0},{"$f":"'Sept 16 - Sept 30'!I33","v":0},{"$f":"'Sept 16 - Sept 30'!J33","v":0},{"$f":"'Sept 16 - Sept 30'!K33","v":0},{"$f":"'Sept 16 - Sept 30'!L33","v":0},{"$f":"'Sept 16 - Sept 30'!M33","v":0},{"$f":"'Sept 16 - Sept 30'!N33","v":0},0,"",null,"",null,null,0,0,null,{"$f":"IF(ISNA(INDEX('Conversion Factors'!$B$6:$B$371,MATCH('Oct 1 - Oct 15'!$Z$14:$Z$20,'Conversion Factors'!$A$6:$A$371,0))),\"\",INDEX('Conversion Factors'!$B$6:$B$371,MATCH('Oct 1 - Oct 15'!$Z$14:$Z$20,'Conversion Factors'!$A$6:$A$371,0)))","v":""},null,false,0,"",null,null,null,null,null,0,{"$f":"IF(AH17>$AI$12,AH17-($AI$12+AI16+AI15+AI14),0)","v":0},false,false,null,0,null,0,0,0,0,0,40,0,0,0,null,0,0,0,0,0,0,40,0,null,0,40,0,0,{"$f":"SUM(E14:E17)","v":0},0,{"$f":"IF(AND(BM17=1,J17>8),K17,(IF(AND(BM17=1,J17>0),J17,0)))","v":0},{"$f":"IF(AND(BM17=1,40-BL16>0,40-BL16<8),40-BL16,IF(AND(J17<K17),J17,K17))","v":0},0]
[false,null,null,"Thursday",{"$f":"'Sept 16 - Sept 30'!E34","v":0},{"$f":"'Sept 16 - Sept 30'!F34","v":0},{"$f":"'Sept 16 - Sept 30'!G34","v":0},{"$f":"'Sept 16 - Sept 30'!H34","v":0},{"$f":"'Sept 16 - Sept 30'!I34","v":0},{"$f":"'Sept 16 - Sept 30'!J34","v":0},{"$f":"'Sept 16 - Sept 30'!K34","v":0},{"$f":"'Sept 16 - Sept 30'!L34","v":0},{"$f":"'Sept 16 - Sept 30'!M34","v":0},{"$f":"'Sept 16 - Sept 30'!N34","v":0},0,"",null,"",null,null,0,0,null,{"$f":"IF(ISNA(INDEX('Conversion Factors'!$B$6:$B$371,MATCH('Oct 1 - Oct 15'!$Z$14:$Z$20,'Conversion Factors'!$A$6:$A$371,0))),\"\",INDEX('Conversion Factors'!$B$6:$B$371,MATCH('Oct 1 - Oct 15'!$Z$14:$Z$20,'Conversion Factors'!$A$6:$A$371,0)))","v":""},null,false,0,"",null,null,null,null,null,0,{"$f":"IF(AH18>$AI$12,AH18-($AI$12+AI17+AI16+AI15+AI14),0)","v":0},false,false,null,0,null,0,0,0,0,0,{"$f":"IF(AND(AH17<=40),40-AH17,0)","v":40},0,0,0,null,0,0,0,0,0,0,40,0,null,0,40,0,0,{"$f":"SUM(E14:E18)","v":0},0,0,0,0]
[false,null,null,"Friday",{"$f":"'Sept 16 - Sept 30'!E35","v":0},{"$f":"'Sept 16 - Sept 30'!F35","v":0},{"$f":"'Sept 16 - Sept 30'!G35","v":0},{"$f":"'Sept 16 - Sept 30'!H35","v":0},{"$f":"'Sept 16 - Sept 30'!I35","v":0},{"$f":"'Sept 16 - Sept 30'!J35","v":0},{"$f":"'Sept 16 - Sept 30'!K35","v":0},{"$f":"'Sept 16 - Sept 30'!L35","v":0},{"$f":"'Sept 16 - Sept 30'!M35","v":0},{"$f":"'Sept 16 - Sept 30'!N35","v":0},0,"",null,"",null,null,0,0,null,{"$f":"IF(ISNA(INDEX('Conversion Factors'!$B$6:$B$371,MATCH('Oct 1 - Oct 15'!$Z$14:$Z$20,'Conversion Factors'!$A$6:$A$371,0))),\"\",INDEX('Conversion Factors'!$B$6:$B$371,MATCH('Oct 1 - Oct 15'!$Z$14:$Z$20,'Conversion Factors'!$A$6:$A$371,0)))","v":""},null,false,0,"",null,null,null,null,null,0,{"$f":"IF(AH19>$AI$12,AH19-($AI$12+AI18+AI17+AI16+AI15+AI14),0)","v":0},false,false,null,0,null,0,0,0,0,0,{"$f":"IF(AND(AH18<=40),40-AH18,0)","v":40},0,0,0,null,0,0,0,0,0,0,40,0,null,0,40,0,0,{"$f":"SUM(E14:E19)","v":0},0,0,0,{"$f":"IF(AND(BM19=1,BL19>40,J19<=K19),J19-BO19,IF(AND(BM19=1,BL19>0,J19>K19),K19-BO19,0))","v":0}]
["2022-10-01",null,null,"Saturday",null,null,null,null,null,null,null,null,null,null,{"$f":"SUM(E20:N20)-J20","v":0},"",null,"",null,null,0,0,null,{"$f":"IF(ISNA(INDEX('Conversion Factors'!$B$6:$B$371,MATCH('Oct 1 - Oct 15'!$Z$14:$Z$20,'Conversion Factors'!$A$6:$A$371,0))),\"\",INDEX('Conversion Factors'!$B$6:$B$371,MATCH('Oct 1 - Oct 15'!$Z$14:$Z$20,'Conversion Factors'!$A$6:$A$371,0)))","v":8.6669999999999998},null,"2022-10-01","","",null,null,null,null,null,0,{"$f":"IF(AH20>$AI$12,AH20-($AI$12+AI19+AI18+AI17+AI16+AI15+AI14),0)","v":0},false,false,null,0,null,0,0,0,0,0,40,0,0,0,null,0,0,0,0,0,0,40,0,null,0,40,0,0,{"$f":"SUM(E14:E20)","v":0},0,0,0,{"$f":"IF(AND(BM20=1,BL20>40,J20<=K20),J20-BO20,IF(AND(BM20=1,BL20>0,J20>K20),K20-BO20,0))","v":0}]
["Week 1 Totals",null,null,null,{"$f":"SUM(E14:E20)","v":0},{"$f":"SUM(F14:F20)","v":0},0,0,0,null,0,0,0,0,{"$f":"SUM(O14:O20)","v":0},{"$f":"-SUM(P14:P20)","v":0},{"$f":"SUM(Q14:Q20)","v":0},{"$f":"SUM(R14:R20)","v":0},{"$f":"IF(E21>40,(E21-40)-V21-BP21,0)","v":0},{"$f":"MROUND(AL21,0.25)","v":0},{"$f":"SUM(U14:U20)","v":0},{"$f":"SUM(V14:V20)","v":0},{"$f":"IF(E21-(E11-(G21+K21+F21+H21+I21+L21+M21))-(S21+U21+V21)>0,E21-(E11-(G21+K21+F21+H21+I21+L21+M21))-(S21+U21+V21),0)","v":0},null,null,null,null,null,{"$f":"SUM(F21:N21)","v":0},{"$f":"IF(AND(AG21<40,O21>=AG21),O21-(AG21+S21),IF(AND(O21<AG21,E21=O21),O21-E21,IF(AND(E21>AG21,E21<40),E21-AG21,IF(AND(O21>AG21,E21<AG21),E21-(AG21-AC21),IF(AND(O21>AG21,E21>40),E21-(AG21-AC21+S21),IF(AND(O21>AG21,O21>40),O21-(S21+AG21),0))))))","v":0},{"$f":"AD21-U21-V21","v":0},{"$f":"$W$11","v":"Please Select"},{"$f":"$E$11","v":40},null,{"$f":"IF(AH21>$AI$12,-$AI$12,0)","v":0},null,null,{"$f":"IF(AF21=\"Yes\",S21*1.5,0)","v":0},null,null,null,null,null,null,null,null,null,null,null,null,null,null,null,null,null,null,null,null,null,null,null,null,null,null,null,null,null,{"$f":"SUM(BP14:BP20)","v":0},{"$f":"E11+U21","v":40}]
[{"$f":"IF(A20=0,\"\",IF(A20<$O$7,A20+1,IF(A20=$O$7,\"\")))","v":"2022-10-02"},null,null,"Sunday",null,null,null,null,null,null,null,null,null,null,{"$f":"SUM(E22:N22)-J22","v":0},{"$f":"IF(AND(ISNUMBER(AA22),ISNUMBER(X22)),AA22*X22,\"\")","v":""},null,{"$f":"IF(AND(ISNUMBER(AB22),ISNUMBER(X22)),AB22*X22,\"\")","v":""},null,null,{"$f":"IF(BJ22>0,BJ22,BN22)","v":0},{"$f":"IF(BK22>0,BK22,0)","v":0},null,{"$f":"IF(ISNA(INDEX('Conversion Factors'!$B$6:$B$371,MATCH('Oct 1 - Oct 15'!$Z$22:$Z$28,'Conversion Factors'!$A$6:$A$371,0))),\"\",INDEX('Conversion Factors'!$B$6:$B$371,MATCH('Oct 1 - Oct 15'!$Z$22:$Z$28,'Conversion Factors'!$A$6:$A$371,0)))","v":8.6669999999999998},null,{"$f":"A22","v":"2022-10-02"},{"$f":"IF(AND(ISNUMBER(N22),ISNUMBER($Z$12)),N22/$Z$12,\"\")","v":""},{"$f":"IF(AND(ISNUMBER(Q22),ISNUMBER($Z$12)),Q22/$Z$12,\"\")","v":""},null,null,null,null,null,{"$f":"E22+AH21","v":0},{"$f":"IF(AH22>$AI$12,AH22-($AI$12+AI21),0)","v":0},{"$f":"IF(AND(AZ22>0,AZ22),IF(BA22>0,BA22,IF(BB22>0,BB22,IF(BC22>0,BC22,IF(BF22>0,BF22,\"\")))))","v":false},{"$f":"IF(AND(AO22>0,AO22),IF(AP22>0,AP22,IF(AQ22>0,AQ22,IF(AR22>0,AR22,IF(AU22>0,AU22,\"\")))))","v":false},null,{"$f":"J22","v":0},null,{"$f":"IF(G22=0,0,\"\")","v":0},{"$f":"IF(AND(AH22<=40,E22=G22),G22,0)","v":0},{"$f":"IF(AND(AH22<=40,E22>=G22,G22>0),O22-E22,0)","v":0},{"$f":"IF(AND(AH22<=40,E22<G22),O22-G22,0)","v":0},{"$f":"IF(AND(G22=0),G22,IF(AND(G22>0,AI22>0,G22=AT22),AT22,IF(AND(G22>0,AI22>0,G22-AT22),AT22,0)))","v":0},null,{"$f":"AS22","v":0},{"$f":"IF(AND(AH21+AU22=40,AI22>0,AI22>AU22),AI22-AU22,IF(AND(AH21+AU22=40,AI22>0,AI22<AU22,AU22+AI22=G22),AI22,IF(AND(AH21>40,AH22>40,G22=AI22),AI22,0)))","v":0},{"$f":"AV22","v":0},null,{"$f":"IF(AND(J22>0,AI22>0,BB22<=AI22),AI22-BB22,IF(AND(J22>0,AI22>0,BB22>AI22),J22-BB22,0))","v":0},{"$f":"IF(J22=0,0,\"\")","v":0},{"$f":"IF(AND(AH22<=40,E22=J22),J22,0)","v":0},{"$f":"IF(AND(AZ22=0),AZ22,IF(AND(AH22>40,E22>=J22),BE22,IF(AND(AH22<=40,E22>J22),J22,0)))","v":0},{"$f":"IF(AND(AH22<=40,E22<J22),O22-J22,0)","v":0},{"$f":"IF(AND(J22=0),J22,IF(AND(J22>0,AI22>0,J22=BC22),BC22,IF(AND(J22>0,AI22>0,J22-BC22),BC22,0)))","v":0},null,{"$f":"BD22","v":0},null,{"$f":"IF(AND(G22>0,E22>0),1,0)","v":0},{"$f":"40-AH22","v":40},0,{"$f":"IF(AND(BH22=1,BL22>40,E22<G22),E22-BJ22,(IF(AND(BH22=1,BL22>0,E22>=G22),G22-BJ22,0)))","v":0},{"$f":"E22","v":0},{"$f":"IF(AND(K22>0,E22>0),1,0)","v":0},{"$f":"IF(AND(BM22=1,J22>8),K22,(IF(AND(BM22=1,J22>0),J22,0)))","v":0},{"$f":"IF(AND(BM22=1,40-BL21>0,40-BL21<8),40-BL21,IF(AND(J22<K22),J22,K22))","v":0},{"$f":"IF(AND(BM22=1,BL22>40,J22<=K22),J22-BO22,IF(AND(BM22=1,BL22>0,J22>K22),K22-BO22,0))","v":0}]
[{"$f":"IF(A22<$O$7,A22+1,IF(A22=$O$7,\"\"))","v":"2022-10-03"},null,null,"Monday",null,null,null,null,null,null,null,null,null,null,{"$f":"SUM(E23:N23)-J23","v":0},{"$f":"IF(AND(ISNUMBER(AA23),ISNUMBER(X23)),AA23*X23,\"\")","v":""},null,{"$f":"IF(AND(ISNUMBER(AB23),ISNUMBER(X23)),AB23*X23,\"\")","v":""},null,null,{"$f":"IF(BJ23>0,BJ23,BN23)","v":0},{"$f":"IF(BK23>0,BK23,0)","v":0},null,{"$f":"IF(ISNA(INDEX('Conversion Factors'!$B$6:$B$371,MATCH('Oct 1 - Oct 15'!$Z$22:$Z$28,'Conversion Factors'!$A$6:$A$371,0))),\"\",INDEX('Conversion Factors'!$B$6:$B$371,MATCH('Oct 1 - Oct 15'!$Z$22:$Z$28,'Conversion Factors'!$A$6:$A$371,0)))","v":8.6669999999999998},null,"2022-10-03","","",null,null,null,null,null,0,{"$f":"IF(AH23>$AI$12,AH23-($AI$12+AI22+AI21),0)","v":0},false,{"$f":"IF(AND(AO23>0,AO23),IF(AP23>0,AP23,IF(AQ23>0,AQ23,IF(AR23>0,AR23,IF(AU23>0,AU23,0)))))","v":false},null,0,null,0,0,0,0,0,{"$f":"IF(AND(AH22<=40),40-AH22,0)","v":40},{"$f":"AS23","v":0},0,{"$f":"AV23","v":0},null,{"$f":"IF(AND(J23>0,AI23>0,BB23<=AI23),AI23-BB23,IF(AND(J23>0,AI23>0,BB23>AI23),J23-BB23,0))","v":0},0,0,0,0,0,{"$f":"IF(AND(AH22<=40),40-AH22,0)","v":40},{"$f":"BD23","v":0},null,{"$f":"IF(AND(G23>0,E23>0),1,0)","v":0},40,0,0,{"$f":"SUM(E22:E23)","v":0},{"$f":"IF(AND(K23>0,E23>0),1,0)","v":0},{"$f":"IF(AND(BM23=1,J23>8),K23,(IF(AND(BM23=1,J23>0),J23,0)))","v":0},0,0]
["2022-10-04",null,null,"Tuesday",null,null,null,null,null,null,null,null,null,null,{"$f":"SUM(E24:N24)-J24","v":0},"",null,"",null,null,{"$f":"IF(BJ24>0,BJ24,BN24)","v":0},0,null,{"$f":"IF(ISNA(INDEX('Conversion Factors'!$B$6:$B$371,MATCH('Oct 1 - Oct 15'!$Z$22:$Z$28,'Conversion Factors'!$A$6:$A$371,0))),\"\",INDEX('Conversion Factors'!$B$6:$B$371,MATCH('Oct 1 - Oct 15'!$Z$22:$Z$28,'Conversion Factors'!$A$6:$A$371,0)))","v":8.6669999999999998},null,"2022-10-04","","",null,null,null,null,null,0,{"$f":"IF(AH24>$AI$12,AH24-($AI$12+AI23+AI22+AI21),0)","v":0},false,false,null,0,null,0,0,0,0,0,40,0,0,0,null,{"$f":"IF(AND(J24>0,AI24>0,BB24<=AI24),AI24-BB24,IF(AND(J24>0,AI24>0,BB24>AI24),J24-BB24,0))","v":0},0,0,0,0,0,{"$f":"IF(AND(AH23<=40),40-AH23,0)","v":40},0,null,{"$f":"IF(AND(G24>0,E24>0),1,0)","v":0},40,0,0,{"$f":"SUM(E22:E24)","v":0},0,{"$f":"IF(AND(BM24=1,J24>8),K24,(IF(AND(BM24=1,J24>0),J24,0)))","v":0},{"$f":"IF(AND(BM24=1,40-BL23>0,40-BL23<8),40-BL23,IF(AND(J24<K24),J24,K24))","v":0},0]
["2022-10-05",null,null,"Wednesday",null,null,null,null,null,null,null,null,null,null,0,"",null,"",null,null,0,0,null,{"$f":"IF(ISNA(INDEX('Conversion Factors'!$B$6:$B$371,MATCH('Oct 1 - Oct 15'!$Z$22:$Z$28,'Conversion Factors'!$A$6:$A$371,0))),\"\",INDEX('Conversion Factors'!$B$6:$B$371,MATCH('Oct 1 - Oct 15'!$Z$22:$Z$28,'Conversion Factors'!$A$6:$A$371,0)))","v":8.6669999999999998},null,"2022-10-05","","",null,null,null,null,null,0,{"$f":"IF(AH25>$AI$12,AH25-($AI$12+AI24+AI23+AI22+AI21),0)","v":0},false,false,null,0,null,0,0,0,0,0,40,0,0,0,null,{"$f":"IF(AND(J25>0,AI25>0,BB25<=AI25),AI25-BB25,IF(AND(J25>0,AI25>0,BB25>AI25),J25-BB25,0))","v":0},0,0,0,0,0,40,0,null,0,40,0,0,{"$f":"SUM(E22:E25)","v":0},0,{"$f":"IF(AND(BM25=1,J25>8),K25,(IF(AND(BM25=1,J25>0),J25,0)))","v":0},{"$f":"IF(AND(BM25=1,40-BL24>0,40-BL24<8),40-BL24,IF(AND(J25<K25),J25,K25))","v":0},0]
["2022-10-06",null,null,"Thursday",null,null,null,null,null,null,null,null,null,null,0,"",null,"",null,null,0,0,null,{"$f":"IF(ISNA(INDEX('Conversion Factors'!$B$6:$B$371,MATCH('Oct 1 - Oct 15'!$Z$22:$Z$28,'Conversion Factors'!$A$6:$A$371,0))),\"\",INDEX('Conversion Factors'!$B$6:$B$371,MATCH('Oct 1 - Oct 15'!$Z$22:$Z$28,'Conversion Factors'!$A$6:$A$371,0)))","v":8.6669999999999998},null,"2022-10-06","","",null,null,null,null,null,0,{"$f":"IF(AH26>$AI$12,AH26-($AI$12+AI25+AI24+AI23+AI22+AI21),0)","v":0},false,false,null,0,null,0,0,0,0,0,{"$f":"IF(AND(AH25<=40),40-AH25,0)","v":40},0,0,0,null,{"$f":"IF(AND(J26>0,AI26>=J26,BB26=0),O26-AI26,IF(AND(J26>0,AI26>0,BB26<=AI26),AI26-BB26,IF(AND(J26>0,AI26>0,BB26>AI26),J26-BB26,0)))","v":0},0,0,0,0,0,40,0,null,0,40,0,0,{"$f":"SUM(E22:E26)","v":0},0,0,0,0]
["2022-10-07",null,null,"Friday",null,null,null,null,null,null,null,null,null,null,0,"",null,"",null,null,0,0,null,{"$f":"IF(ISNA(INDEX('Conversion Factors'!$B$6:$B$371,MATCH('Oct 1 - Oct 15'!$Z$22:$Z$28,'Conversion Factors'!$A$6:$A$371,0))),\"\",INDEX('Conversion Factors'!$B$6:$B$371,MATCH('Oct 1 - Oct 15'!$Z$22:$Z$28,'Conversion Factors'!$A$6:$A$371,0)))","v":8.6669999999999998},null,"2022-10-07","","",null,null,null,null,null,0,{"$f":"IF(AH27>$AI$12,AH27-($AI$12+AI26+AI25+AI24+AI23+AI22+AI21),0)","v":0},false,false,null,0,null,0,0,0,0,0,{"$f":"IF(AND(AH26<=40),40-AH26,0)","v":40},0,0,0,null,{"$f":"IF(AND(J27>0,AI27>=J27,BB27=0),O27-AI27,IF(AND(J27>0,AI27>0,BB27<=AI27),AI27-BB27,IF(AND(J27>0,AI27>0,BB27>AI27),J27-BB27,0)))","v":0},0,0,0,0,0,40,0,null,0,40,0,0,{"$f":"SUM(E22:E27)","v":0},0,0,0,{"$f":"IF(AND(BM27=1,BL27>40,J27<=K27),J27-BO27,IF(AND(BM27=1,BL27>0,J27>K27),K27-BO27,0))","v":0}]
["2022-10-08",null,null,"Saturday",null,null,null,null,null,null,null,null,null,null,{"$f":"SUM(E28:N28)-J28","v":0},"",null,"",null,null,0,0,null,{"$f":"IF(ISNA(INDEX('Conversion Factors'!$B$6:$B$371,MATCH('Oct 1 - Oct 15'!$Z$22:$Z$28,'Conversion Factors'!$A$6:$A$371,0))),\"\",INDEX('Conversion Factors'!$B$6:$B$371,MATCH('Oct 1 - Oct 15'!$Z$22:$Z$28,'Conversion Factors'!$A$6:$A$371,0)))","v":8.6669999999999998},null,"2022-10-08","","",null,null,null,null,null,0,{"$f":"IF(AH28>$AI$12,AH28-($AI$12+AI27+AI26+AI25+AI24+AI23+AI22+AI21),0)","v":0},false,false,null,0,null,0,0,0,0,0,40,0,0,0,null,{"$f":"IF(AND(J28>0,AI28>=J28,BB28=0),O28-AI28,IF(AND(J28>0,AI28>0,BB28<=AI28),AI28-BB28,IF(AND(J28>0,AI28>0,BB28>AI28),J28-BB28,0)))","v":0},0,0,0,0,0,40,0,null,0,40,0,0,{"$f":"SUM(E22:E28)","v":0},0,0,0,{"$f":"IF(AND(BM28=1,BL28>40,J28<=K28),J28-BO28,IF(AND(BM28=1,BL28>0,J28>K28),K28-BO28,0))","v":0}]
["Week 2 Totals",null,null,null,{"$f":"SUM(E22:E28)","v":0},0,0,0,0,null,0,0,0,0,{"$f":"SUM(O22:O28)","v":0},{"$f":"-SUM(P22:P28)","v":0},{"$f":"SUM(Q22:Q28)","v":0},{"$f":"SUM(R22:R28)","v":0},{"$f":"IF(E29>40,(E29-40)-V29,0)","v":0},{"$f":"MROUND(AL29,0.25)","v":0},{"$f":"SUM(U22:U28)","v":0},{"$f":"SUM(V22:V28)","v":0},{"$f":"IF(E29-(E11-(G29+K29+F29+H29+I29+L29+M29))-(S29+U29+V29)>0,E29-(E11-(G29+K29+F29+H29+I29+L29+M29))-(S29+U29+V29),0)","v":0},null,null,null,null,null,{"$f":"SUM(F29:N29)","v":0},{"$f":"IF(AND(AG29<40,O29>=AG29),O29-(AG29+S29),IF(AND(O29<AG29,E29=O29),O29-E29,IF(AND(E29>AG29,E29<40),E29-AG29,IF(AND(O29>AG29,E29<AG29),E29-(AG29-AC29),IF(AND(O29>AG29,E29>40),E29-(AG29-AC29+S29),IF(AND(O29>AG29,O29>40),O29-(S29+AG29),0))))))","v":0},{"$f":"AD29-U29-V29","v":0},{"$f":"$W$11","v":"Please Select"},{"$f":"$E$11","v":40},null,{"$f":"IF(AH29>$AI$12,-$AI$12,0)","v":0},null,null,{"$f":"IF(AF29=\"Yes\",S29*1.5,0)","v":0},0,null,null,null,null,null,null,null,null,null,null,null,null,0,null,null,null,null,null,null,null,null,null,null,null,null,null,null,null,{"$f":"SUM(BP22:BP28)","v":0},{"$f":"U29+E11","v":40}]
[{"$f":"IF(A28<$O$7,A28+1,IF(A28=$O$7,\"\"))","v":"2022-10-09"},null,null,"Sunday",null,null,null,null,null,null,null,null,null,null,{"$f":"SUM(E30:N30)-J30","v":0},{"$f":"IF(AND(ISNUMBER(AA30),ISNUMBER(X30)),AA30*X30,\"\")","v":""},null,{"$f":"IF(AND(ISNUMBER(AB30),ISNUMBER(X30)),AB30*X30,\"\")","v":""},null,null,{"$f":"IF(BJ30>0,BJ30,BN30)","v":0},{"$f":"IF(BK30>0,BK30,0)","v":0},null,{"$f":"IF(ISNA(INDEX('Conversion Factors'!$B$6:$B$370,MATCH('Oct 1 - Oct 15'!$Z$30:$Z$36,'Conversion Factors'!$A$6:$A$370,0))),\"\",INDEX('Conversion Factors'!$B$6:$B$370,MATCH('Oct 1 - Oct 15'!$Z$30:$Z$36,'Conversion Factors'!$A$6:$A$370,0)))","v":8.6669999999999998},null,{"$f":"A30","v":"2022-10-09"},{"$f":"IF(AND(ISNUMBER(N30),ISNUMBER($Z$12)),N30/$Z$12,\"\")","v":""},{"$f":"IF(AND(ISNUMBER(Q30),ISNUMBER($Z$12)),Q30/$Z$12,\"\")","v":""},null,null,null,null,null,{"$f":"E30+AH29","v":0},{"$f":"IF(AH30>$AI$12,AH30-($AI$12+AI29),0)","v":0},{"$f":"IF(AND(AZ30>0,AZ30),IF(BA30>0,BA30,IF(BB30>0,BB30,IF(BC30>0,BC30,IF(BF30>0,BF30,\"\")))))","v":false},{"$f":"IF(AND(AO30>0,AO30),IF(AP30>0,AP30,IF(AQ30>0,AQ30,IF(AR30>0,AR30,IF(AU30>0,AU30,\"\")))))","v":false},null,0,null,{"$f":"IF(G30=0,0,\"\")","v":0},{"$f":"IF(AND(AH30<=40,E30=G30),G30,0)","v":0},{"$f":"IF(AND(AH30<=40,E30>=G30,G30>0),O30-E30,0)","v":0},{"$f":"IF(AND(AH30<=40,E30<G30),O30-G30,0)","v":0},{"$f":"IF(AND(G30=0),G30,IF(AND(G30>0,AI30>0,G30=AT30),AT30,IF(AND(G30>0,AI30>0,G30-AT30),AT30,0)))","v":0},null,{"$f":"AS30","v":0},{"$f":"IF(AND(AH29+AU30=40,AI30>0,AI30>AU30),AI30-AU30,IF(AND(AH29+AU30=40,AI30>0,AI30<AU30,AU30+AI30=G30),AI30,IF(AND(AH29>40,AH30>40,G30=AI30),AI30,0)))","v":0},{"$f":"AV30","v":0},null,{"$f":"IF(AND(J30>0,AI30>=J30,BB30=0),O30-AI30,IF(AND(J30>0,AI30>0,BB30<=AI30),AI30-BB30,IF(AND(J30>0,AI30>0,BB30>AI30),J30-BB30,0)))","v":0},0,{"$f":"IF(AND(AH30<=40,E30=J30),J30,0)","v":0},{"$f":"IF(AND(AZ30=0),AZ30,IF(AND(AH30>40,E30>=J30),BE30,IF(AND(AH30<=40,E30>J30),J30,0)))","v":0},{"$f":"IF(AND(AH30<=40,E30<J30),O30-J30,0)","v":0},{"$f":"IF(AND(J30=0),J30,IF(AND(J30>0,AI30>0,J30=BC30),BC30,IF(AND(J30>0,AI30>0,J30-BC30),BC30,0)))","v":0},null,{"$f":"BD30","v":0},null,{"$f":"IF(AND(G30>0,E30>0),1,0)","v":0},{"$f":"40-AH30","v":40},0,{"$f":"IF(AND(BH30=1,BL30>40,E30<G30),E30-BJ30,(IF(AND(BH30=1,BL30>0,E30>=G30),G30-BJ30,0)))","v":0},{"$f":"E30","v":0},{"$f":"IF(AND(K30>0,E30>0),1,0)","v":0},{"$f":"IF(AND(BM30=1,J30>8),K30,(IF(AND(BM30=1,J30>0),J30,0)))","v":0},{"$f":"IF(AND(BM30=1,40-BL29>0,40-BL29<8),40-BL29,IF(AND(J30<K30),J30,K30))","v":0},{"$f":"IF(AND(BM30=1,BL30>40,J30<=K30),J30-BO30,IF(AND(BM30=1,BL30>0,J30>K30),K30-BO30,0))","v":0}]
[{"$f":"IF(A30<$O$7,A30+1,IF(A30=$O$7,\"\"))","v":"2022-10-10"},null,null,"Monday",null,null,null,null,null,null,null,null,null,null,{"$f":"SUM(E31:N31)-J31","v":0},{"$f":"IF(AND(ISNUMBER(AA31),ISNUMBER(X31)),AA31*X31,\"\")","v":""},null,{"$f":"IF(AND(ISNUMBER(AB31),ISNUMBER(X31)),AB31*X31,\"\")","v":""},null,null,0,{"$f":"IF(BK31>0,BK31,0)","v":0},null,{"$f":"IF(ISNA(INDEX('Conversion Factors'!$B$6:$B$370,MATCH('Oct 1 - Oct 15'!$Z$30:$Z$36,'Conversion Factors'!$A$6:$A$370,0))),\"\",INDEX('Conversion Factors'!$B$6:$B$370,MATCH('Oct 1 - Oct 15'!$Z$30:$Z$36,'Conversion Factors'!$A$6:$A$370,0)))","v":8.6669999999999998},null,"2022-10-10","","",null,null,null,null,null,0,{"$f":"IF(AH31>$AI$12,AH31-($AI$12+AI30+AI29),0)","v":0},false,{"$f":"IF(AND(AO31>0,AO31),IF(AP31>0,AP31,IF(AQ31>0,AQ31,IF(AR31>0,AR31,IF(AU31>0,AU31,0)))))","v":false},null,0,null,0,0,0,0,0,{"$f":"IF(AND(AH30<=40),40-AH30,0)","v":40},{"$f":"AS31","v":0},0,{"$f":"AV31","v":0},null,0,0,0,0,0,0,{"$f":"IF(AND(AH30<=40),40-AH30,0)","v":40},{"$f":"BD31","v":0},null,{"$f":"IF(AND(G31>0,E31>0),1,0)","v":0},40,0,0,{"$f":"SUM(E30:E31)","v":0},{"$f":"IF(AND(K31>0,E31>0),1,0)","v":0},{"$f":"IF(AND(BM31=1,J31>8),K31,(IF(AND(BM31=1,J31>0),J31,0)))","v":0},0,0]
["2022-10-11",null,null,"Tuesday",null,null,null,null,null,null,null,null,null,null,0,"",null,"",null,null,0,0,null,{"$f":"IF(ISNA(INDEX('Conversion Factors'!$B$6:$B$370,MATCH('Oct 1 - Oct 15'!$Z$30:$Z$36,'Conversion Factors'!$A$6:$A$370,0))),\"\",INDEX('Conversion Factors'!$B$6:$B$370,MATCH('Oct 1 - Oct 15'!$Z$30:$Z$36,'Conversion Factors'!$A$6:$A$370,0)))","v":8.6669999999999998},null,"2022-10-11","","",null,null,null,null,null,0,{"$f":"IF(AH32>$AI$12,AH32-($AI$12+AI31+AI30+AI29),0)","v":0},false,false,null,0,null,0,0,0,0,0,40,0,0,0,null,0,0,0,0,0,0,{"$f":"IF(AND(AH31<=40),40-AH31,0)","v":40},0,null,{"$f":"IF(AND(G32>0,E32>0),1,0)","v":0},40,0,0,{"$f":"SUM(E30:E32)","v":0},0,{"$f":"IF(AND(BM32=1,J32>8),K32,(IF(AND(BM32=1,J32>0),J32,0)))","v":0},{"$f":"IF(AND(BM32=1,40-BL31>0,40-BL31<8),40-BL31,IF(AND(J32<K32),J32,K32))","v":0},0]
["2022-10-12",null,null,"Wednesday",null,null,null,null,null,null,null,null,null,null,0,"",null,"",null,null,0,0,null,{"$f":"IF(ISNA(INDEX('Conversion Factors'!$B$6:$B$370,MATCH('Oct 1 - Oct 15'!$Z$30:$Z$36,'Conversion Factors'!$A$6:$A$370,0))),\"\",INDEX('Conversion Factors'!$B$6:$B$370,MATCH('Oct 1 - Oct 15'!$Z$30:$Z$36,'Conversion Factors'!$A$6:$A$370,0)))","v":8.6669999999999998},null,"2022-10-12","","",null,null,null,null,null,0,{"$f":"IF(AH33>$AI$12,AH33-($AI$12+AI32+AI31+AI30+AI29),0)","v":0},false,false,null,0,null,0,0,0,0,0,40,0,0,0,null,0,0,0,0,0,0,40,0,null,{"$f":"IF(AND(G33>0,E33>0),1,0)","v":0},40,0,0,{"$f":"SUM(E30:E33)","v":0},0,{"$f":"IF(AND(BM33=1,J33>8),K33,(IF(AND(BM33=1,J33>0),J33,0)))","v":0},{"$f":"IF(AND(BM33=1,40-BL32>0,40-BL32<8),40-BL32,IF(AND(J33<K33),J33,K33))","v":0},0]
["2022-10-13",null,null,"Thursday",null,null,null,null,null,null,null,null,null,null,0,"",null,"",null,null,0,0,null,{"$f":"IF(ISNA(INDEX('Conversion Factors'!$B$6:$B$370,MATCH('Oct 1 - Oct 15'!$Z$30:$Z$36,'Conversion Factors'!$A$6:$A$370,0))),\"\",INDEX('Conversion Factors'!$B$6:$B$370,MATCH('Oct 1 - Oct 15'!$Z$30:$Z$36,'Conversion Factors'!$A$6:$A$370,0)))","v":8.6669999999999998},null,"2022-10-13","","",null,null,null,null,null,0,{"$f":"IF(AH34>$AI$12,AH34-($AI$12+AI33+AI32+AI31+AI30+AI29),0)","v":0},false,false,null,0,null,0,0,0,0,0,{"$f":"IF(AND(AH33<=40),40-AH33,0)","v":40},0,0,0,null,0,0,0,0,0,0,40,0,null,0,40,0,0,{"$f":"SUM(E30:E34)","v":0},0,0,0,0]
["2022-10-14",null,null,"Friday",null,null,null,null,null,null,null,null,null,null,0,"",null,"",null,null,0,0,null,{"$f":"IF(ISNA(INDEX('Conversion Factors'!$B$6:$B$370,MATCH('Oct 1 - Oct 15'!$Z$30:$Z$36,'Conversion Factors'!$A$6:$A$370,0))),\"\",INDEX('Conversion Factors'!$B$6:$B$370,MATCH('Oct 1 - Oct 15'!$Z$30:$Z$36,'Conversion Factors'!$A$6:$A$370,0)))","v":8.6669999999999998},null,"2022-10-14","","",null,null,null,null,null,0,{"$f":"IF(AH35>$AI$12,AH35-($AI$12+AI34+AI33+AI32+AI31+AI30+AI29),0)","v":0},false,false,null,0,null,0,0,0,0,0,{"$f":"IF(AND(AH34<=40),40-AH34,0)","v":40},0,0,0,null,0,0,0,0,0,0,40,0,null,0,40,0,0,{"$f":"SUM(E30:E35)","v":0},0,0,0,{"$f":"IF(AND(BM35=1,BL35>40,J35<=K35),J35-BO35,IF(AND(BM35=1,BL35>0,J35>K35),K35-BO35,0))","v":0}]
["2022-10-15",null,null,"Saturday",null,null,null,null,null,null,null,null,null,null,0,"",null,"",null,null,0,0,null,{"$f":"IF(ISNA(INDEX('Conversion Factors'!$B$6:$B$370,MATCH('Oct 1 - Oct 15'!$Z$30:$Z$36,'Conversion Factors'!$A$6:$A$370,0))),\"\",INDEX('Conversion Factors'!$B$6:$B$370,MATCH('Oct 1 - Oct 15'!$Z$30:$Z$36,'Conversion Factors'!$A$6:$A$370,0)))","v":8.6669999999999998},null,"2022-10-15","","",null,null,null,null,null,0,{"$f":"IF(AH36>$AI$12,AH36-($AI$12+AI35+AI34+AI33+AI32+AI31+AI30+AI29),0)","v":0},false,false,null,0,null,0,0,0,0,0,40,0,0,0,null,0,0,0,0,0,0,40,0,null,0,40,0,0,{"$f":"SUM(E30:E36)","v":0},0,0,0,{"$f":"IF(AND(BM36=1,BL36>40,J36<=K36),J36-BO36,IF(AND(BM36=1,BL36>0,J36>K36),K36-BO36,0))","v":0}]
["Week 3 Totals",null,null,null,{"$f":"SUM(E30:E36)","v":0},0,0,0,0,null,0,0,0,0,{"$f":"SUM(O30:O36)","v":0},{"$f":"-SUM(P30:P36)","v":0},{"$f":"SUM(Q30:Q36)","v":0},{"$f":"SUM(R30:R36)","v":0},{"$f":"IF(E37>40,(E37-40)-V37,0)","v":0},{"$f":"MROUND(AL37,0.25)","v":0},{"$f":"SUM(U30:U36)","v":0},{"$f":"SUM(V30:V36)","v":0},{"$f":"IF(E37-(E11-(G37+K37+F37+H37+I37+L37+M3))-(S37+U37+V37)>0,E37-(E11-(G37+K37+F37+H37+I37+L37+M37))-(S37+U37+V37),0)","v":0},null,null,null,null,null,{"$f":"SUM(F37:N37)","v":0},{"$f":"IF(AND(AG37<40,O37>=AG37),O37-(AG37+S37),IF(AND(O37<AG37,E37=O37),O37-E37,IF(AND(E37>AG37,E37<40),E37-AG37,IF(AND(O37>AG37,E37<AG37),E37-(AG37-AC37),IF(AND(O37>AG37,E37>40),E37-(AG37-AC37+S37),IF(AND(O37>AG37,O37>40),O37-(S37+AG37),0))))))","v":0},{"$f":"AD37-U37-V37","v":0},{"$f":"$W$11","v":"Please Select"},{"$f":"$E$11","v":40},null,{"$f":"IF(AH37>$AI$12,-$AI$12,0)","v":0},null,null,{"$f":"IF(AF37=\"Yes\",S37*1.5,0)","v":0},null,null,null,null,null,null,null,null,null,null,null,null,null,null,null,null,null,null,null,null,null,0,null,null,null,null,null,null,null,{"$f":"SUM(BP30:BP36)","v":0},{"$f":"U37+E11","v":40}]
[{"$f":"IF(A36<$O$7,A36+1,IF(A36=$O$7,\"\"))","v":""},null,null,"Sunday",null,null,null,null,null,null,null,null,null,null,{"$f":"SUM(E38:N38)-J38","v":0},{"$f":"IF(AND(ISNUMBER(AA38),ISNUMBER(X38)),AA38*X38,\"\")","v":""},null,{"$f":"IF(AND(ISNUMBER(AB38),ISNUMBER(X38)),AB38*X38,\"\")","v":""},null,null,0,{"$f":"IF(BK38>0,BK38,0)","v":0},null,{"$f":"IF(ISNA(INDEX('Conversion Factors'!$B$6:$B$370,MATCH('Oct 1 - Oct 15'!$Z$38:$Z$44,'Conversion Factors'!$A$6:$A$370,0))),\"\",INDEX('Conversion Factors'!$B$6:$B$370,MATCH('Oct 1 - Oct 15'!$Z$38:$Z$44,'Conversion Factors'!$A$6:$A$370,0)))","v":""},null,{"$f":"A38","v":""},{"$f":"IF(AND(ISNUMBER(N38),ISNUMBER($Z$12)),N38/$Z$12,\"\")","v":""},{"$f":"IF(AND(ISNUMBER(Q38),ISNUMBER($Z$12)),Q38/$Z$12,\"\")","v":""},null,null,null,null,null,{"$f":"E38+AH37","v":0},{"$f":"IF(AH38>$AI$12,AH38-($AI$12+AI37),0)","v":0},{"$f":"IF(AND(AZ38>0,AZ38),IF(BA38>0,BA38,IF(BB38>0,BB38,IF(BC38>0,BC38,IF(BF38>0,BF38,\"\")))))","v":false},{"$f":"IF(AND(AO38>0,AO38),IF(AP38>0,AP38,IF(AQ38>0,AQ38,IF(AR38>0,AR38,IF(AU38>0,AU38,\"\")))))","v":false},null,{"$f":"J38","v":0},null,{"$f":"IF(G38=0,0,\"\")","v":0},{"$f":"IF(AND(AH38<=40,E38=G38),G38,0)","v":0},{"$f":"IF(AND(AH38<=40,E38>=G38,G38>0),O38-E38,0)","v":0},{"$f":"IF(AND(AH38<=40,E38<G38),O38-G38,0)","v":0},{"$f":"IF(AND(G38=0),G38,IF(AND(G38>0,AI38>0,G38=AT38),AT38,IF(AND(G38>0,AI38>0,G38-AT38),AT38,0)))","v":0},null,{"$f":"AS38","v":0},{"$f":"IF(AND(AH37+AU38=40,AI38>0,AI38>AU38),AI38-AU38,IF(AND(AH37+AU38=40,AI38>0,AI38<AU38,AU38+AI38=G38),AI38,IF(AND(AH37>40,AH38>40,G38=AI38),AI38,0)))","v":0},{"$f":"AV38","v":0},null,{"$f":"IF(AND(J38>0,AI38>=J38,BB38=0),O38-AI38,IF(AND(J38>0,AI38>0,BB38<=AI38),AI38-BB38,IF(AND(J38>0,AI38>0,BB38>AI38),J38-BB38,0)))","v":0},{"$f":"IF(J38=0,0,\"\")","v":0},{"$f":"IF(AND(AH38<=40,E38=J38),J38,0)","v":0},{"$f":"IF(AND(AZ38=0),AZ38,IF(AND(AH38>40,E38>=J38),BE38,IF(AND(AH38<=40,E38>J38),J38,0)))","v":0},{"$f":"IF(AND(AH38<=40,E38<J38),O38-J38,0)","v":0},{"$f":"IF(AND(J38=0),J38,IF(AND(J38>0,AI38>0,J38=BC38),BC38,IF(AND(J38>0,AI38>0,J38-BC38),BC38,0)))","v":0},null,{"$f":"BD38","v":0},null,{"$f":"IF(AND(G38>0,E38>0),1,0)","v":0},{"$f":"40-AH38","v":40},0,{"$f":"IF(AND(BH38=1,BL38>40,E38<G38),E38-BJ38,(IF(AND(BH38=1,BL38>0,E38>=G38),G38-BJ38,0)))","v":0},{"$f":"E38","v":0},{"$f":"IF(AND(K38>0,E38>0),1,0)","v":0},{"$f":"IF(AND(BM38=1,J38>8),K38,(IF(AND(BM38=1,J38>0),J38,0)))","v":0},{"$f":"IF(AND(BM38=1,40-BL37>0,40-BL37<8),40-BL37,IF(AND(J38<K38),J38,K38))","v":0},{"$f":"IF(AND(BM38=1,BL38>40,J38<=K38),J38-BO38,IF(AND(BM38=1,BL38>0,J38>K38),K38-BO38,0))","v":0}]
[{"$f":"IF(A38<$O$7,A38+1,IF(A38=$O$7,\"\"))","v":false},null,null,"Monday",null,null,null,0,null,null,null,null,null,null,{"$f":"SUM(E39:N39)-J39","v":0},{"$f":"IF(AND(ISNUMBER(AA39),ISNUMBER(X39)),AA39*X39,\"\")","v":""},null,{"$f":"IF(AND(ISNUMBER(AB39),ISNUMBER(X39)),AB39*X39,\"\")","v":""},null,null,0,{"$f":"IF(BK39>0,BK39,0)","v":0},null,{"$f":"IF(ISNA(INDEX('Conversion Factors'!$B$6:$B$370,MATCH('Oct 1 - Oct 15'!$Z$38:$Z$44,'Conversion Factors'!$A$6:$A$370,0))),\"\",INDEX('Conversion Factors'!$B$6:$B$370,MATCH('Oct 1 - Oct 15'!$Z$38:$Z$44,'Conversion Factors'!$A$6:$A$370,0)))","v":""},null,false,"","",null,null,null,null,null,0,{"$f":"IF(AH39>$AI$12,AH39-($AI$12+AI38+AI37),0)","v":0},false,{"$f":"IF(AND(AO39>0,AO39),IF(AP39>0,AP39,IF(AQ39>0,AQ39,IF(AR39>0,AR39,IF(AU39>0,AU39,0)))))","v":false},null,0,null,0,0,0,0,0,{"$f":"IF(AND(AH38<=40),40-AH38,0)","v":40},{"$f":"AS39","v":0},0,{"$f":"AV39","v":0},null,0,0,0,0,0,0,{"$f":"IF(AND(AH38<=40),40-AH38,0)","v":40},{"$f":"BD39","v":0},null,{"$f":"IF(AND(G39>0,E39>0),1,0)","v":0},40,0,0,{"$f":"SUM(E38:E39)","v":0},{"$f":"IF(AND(K39>0,E39>0),1,0)","v":0},{"$f":"IF(AND(BM39=1,J39>8),K39,(IF(AND(BM39=1,J39>0),J39,0)))","v":0},0,0]
[false,null,null,"Tuesday",null,null,null,null,null,0,0,null,null,null,{"$f":"SUM(E40:N40)-J40","v":0},"",null,"",null,null,0,0,null,{"$f":"IF(ISNA(INDEX('Conversion Factors'!$B$6:$B$370,MATCH('Oct 1 - Oct 15'!$Z$38:$Z$44,'Conversion Factors'!$A$6:$A$370,0))),\"\",INDEX('Conversion Factors'!$B$6:$B$370,MATCH('Oct 1 - Oct 15'!$Z$38:$Z$44,'Conversion Factors'!$A$6:$A$370,0)))","v":""},null,false,"","",null,null,null,null,null,0,{"$f":"IF(AH40>$AI$12,AH40-($AI$12+AI39+AI38+AI37),0)","v":0},false,false,null,0,null,0,0,0,0,0,40,0,0,0,null,0,0,0,0,0,0,{"$f":"IF(AND(AH39<=40),40-AH39,0)","v":40},0,null,{"$f":"IF(AND(G40>0,E40>0),1,0)","v":0},40,0,0,{"$f":"SUM(E38:E40)","v":0},0,{"$f":"IF(AND(BM40=1,J40>8),K40,(IF(AND(BM40=1,J40>0),J40,0)))","v":0},{"$f":"IF(AND(BM40=1,40-BL39>0,40-BL39<8),40-BL39,IF(AND(J40<K40),J40,K40))","v":0},0]
[false,null,null,"Wednesday",null,null,null,null,null,null,null,null,null,null,0,"",null,"",null,null,0,0,null,{"$f":"IF(ISNA(INDEX('Conversion Factors'!$B$6:$B$370,MATCH('Oct 1 - Oct 15'!$Z$38:$Z$44,'Conversion Factors'!$A$6:$A$370,0))),\"\",INDEX('Conversion Factors'!$B$6:$B$370,MATCH('Oct 1 - Oct 15'!$Z$38:$Z$44,'Conversion Factors'!$A$6:$A$370,0)))","v":""},null,false,"","",null,null,null,null,null,0,{"$f":"IF(AH41>$AI$12,AH41-($AI$12+AI40+AI39+AI38+AI37),0)","v":0},false,false,null,0,null,0,0,0,0,0,40,0,0,0,null,0,0,0,0,0,0,40,0,null,{"$f":"IF(AND(G41>0,E41>0),1,0)","v":0},40,0,0,{"$f":"SUM(E38:E41)","v":0},0,{"$f":"IF(AND(BM41=1,J41>8),K41,(IF(AND(BM41=1,J41>0),J41,0)))","v":0},{"$f":"IF(AND(BM41=1,40-BL40>0,40-BL40<8),40-BL40,IF(AND(J41<K41),J41,K41))","v":0},0]
[false,null,null,"Thursday",null,null,null,null,null,null,null,null,null,null,0,"",null,"",null,null,0,0,null,{"$f":"IF(ISNA(INDEX('Conversion Factors'!$B$6:$B$370,MATCH('Oct 1 - Oct 15'!$Z$38:$Z$44,'Conversion Factors'!$A$6:$A$370,0))),\"\",INDEX('Conversion Factors'!$B$6:$B$370,MATCH('Oct 1 - Oct 15'!$Z$38:$Z$44,'Conversion Factors'!$A$6:$A$370,0)))","v":""},null,false,"","",null,null,null,null,null,0,{"$f":"IF(AH42>$AI$12,AH42-($AI$12+AI41+AI40+AI39+AI38+AI37),0)","v":0},false,false,null,0,null,0,0,0,0,0,{"$f":"IF(AND(AH41<=40),40-AH41,0)","v":40},0,0,0,null,0,0,0,0,0,0,40,0,null,0,40,0,0,{"$f":"SUM(E38:E42)","v":0},0,0,0,0]
[false,null,null,"Friday",null,null,null,null,null,null,null,null,null,null,0,"",null,"",null,null,0,0,null,{"$f":"IF(ISNA(INDEX('Conversion Factors'!$B$6:$B$370,MATCH('Oct 1 - Oct 15'!$Z$38:$Z$44,'Conversion Factors'!$A$6:$A$370,0))),\"\",INDEX('Conversion Factors'!$B$6:$B$370,MATCH('Oct 1 - Oct 15'!$Z$38:$Z$44,'Conversion Factors'!$A$6:$A$370,0)))","v":""},null,false,"","",null,null,null,null,null,0,{"$f":"IF(AH43>$AI$12,AH43-($AI$12+AI42+AI41+AI40+AI39+AI38+AI37),0)","v":0},false,false,null,0,null,0,0,0,0,0,{"$f":"IF(AND(AH42<=40),40-AH42,0)","v":40},0,0,0,null,0,0,0,0,0,0,40,0,null,0,40,0,0,{"$f":"SUM(E38:E43)","v":0},0,0,0,{"$f":"IF(AND(BM43=1,BL43>40,J43<=K43),J43-BO43,IF(AND(BM43=1,BL43>0,J43>K43),K43-BO43,0))","v":0}]
[false,null,null,"Saturday",null,null,null,null,null,null,null,null,null,null,{"$f":"SUM(E44:N44)-J44","v":0},"",null,"",null,null,0,0,null,{"$f":"IF(ISNA(INDEX('Conversion Factors'!$B$6:$B$370,MATCH('Oct 1 - Oct 15'!$Z$38:$Z$44,'Conversion Factors'!$A$6:$A$370,0))),\"\",INDEX('Conversion Factors'!$B$6:$B$370,MATCH('Oct 1 - Oct 15'!$Z$38:$Z$44,'Conversion Factors'!$A$6:$A$370,0)))","v":""},null,false,"","",null,null,null,null,null,0,{"$f":"IF(AH44>$AI$12,AH44-($AI$12+AI43+AI42+AI41+AI40+AI39+AI38+AI37),0)","v":0},false,false,null,0,null,0,0,0,0,0,40,0,0,0,null,0,0,0,0,0,0,40,0,null,0,40,0,0,{"$f":"SUM(E38:E44)","v":0},0,0,0,{"$f":"IF(AND(BM44=1,BL44>40,J44<=K44),J44-BO44,IF(AND(BM44=1,BL44>0,J44>K44),K44-BO44,0))","v":0}]
["Week 4 Totals",null,null,null,{"$f":"SUM(E38:E44)","v":0},{"$f":"SUM(F38:F44)","v":0},0,0,0,null,0,0,0,0,{"$f":"SUM(O38:O44)","v":0},{"$f":"-SUM(P38:P44)","v":0},{"$f":"SUM(Q38:Q44)","v":0},{"$f":"SUM(R38:R44)","v":0},{"$f":"IF(E45>40,(E45-40)-V45,0)","v":0},{"$f":"MROUND(AL45,0.25)","v":0},{"$f":"SUM(U38:U44)","v":0},{"$f":"SUM(V38:V44)","v":0},{"$f":"IF(E45-(E11-(G45+K45+F45+H45+I45+L45+M45))-(S45+U45+V45)>0,E45-(E11-(G45+K45+F45+H45+I45+L45+M45))-(S45+U45+V45),0)","v":0},null,null,null,null,null,{"$f":"SUM(F45:N45)","v":0},{"$f":"IF(AND(AG45<40,O45>=AG45),O45-(AG45+S45),IF(AND(O45<AG45,E45=O45),O45-E45,IF(AND(E45>AG45,E45<40),E45-AG45,IF(AND(O45>AG45,E45<AG45),E45-(AG45-AC45),IF(AND(O45>AG45,E45>40),E45-(AG45-AC45+S45),IF(AND(O45>AG45,O45>40),O45-(S45+AG45),0))))))","v":0},{"$f":"AD45-U45-V45","v":0},{"$f":"$W$11","v":"Please Select"},{"$f":"$E$11","v":40},null,{"$f":"IF(AH45>$AI$12,-$AI$12,0)","v":0},null,null,{"$f":"IF(AF45=\"Yes\",S45*1.5,0)","v":0},null,null,null,null,null,null,null,null,null,null,null,null,null,null,null,null,null,null,null,null,null,null,null,null,null,null,null,null,null,{"$f":"SUM(BP38:BP44)","v":0},{"$f":"E44+E11","v":40}]
[null,null,null,null,null,null,null,null,"Total-Net Previous Week",null,null,null,null,null,{"$f":"(O21+O29+O37+O45)-O13","v":0},{"$f":"(P21+P29+P37+P45)-P13","v":0},{"$f":"(Q21+Q29+Q37+Q45)-Q13","v":0},{"$f":"(R21+R29+R37+R45)-R13","v":0},{"$f":"(S21+S29+S37+S45)-S13","v":0},0,{"$f":"(U21+U29+Q37+Q45)-U13","v":0},{"$f":"(V21+V29+Q37+Q45)-V13","v":0},{"$f":"(W21+W29+W37+W45)-W13","v":0},{"$f":"(X21+X29+X37+X45)-X13","v":0}]
[]
[null,null,null,null,null,null,null,null,null,null,null,null,null,null,"Leave/Leave Without Pay Policy"]
["Employee signature",null,null,null,null,null,"Date",null,null,null,null,null,null,null,"Overtime/Compensatory Time"]
["I certify this record is accurate and accounts for my time during the indicated period.",null,null,null,null,null,null,null,null,null,null,null,null,null,"Time Sheet Definitions/Policies"]
[]
[null,null,null,null,null,null,null,null,null,null,"“Actual Work Hours During Administrative Close Period” – Only key the hours actually worked during the admministrative closing period into this field. "]
[]
["Manager signature",null,null,null,null,null,"Date"]
["I certify the hours recorded and coded on this form are correct and in compliance with University policy.",null,null,null,null,null,null,null,null,null,"“Administrative Closing/Leave Period field.”  Entter the number of hours of the declared period of administrative closing. (The total hours worked during the entire day will be entered into the “Actual Hours Worked” field.)"]

{"sheet":"Oct 16 - Oct 31","index":14,"n_rows":55,"n_cols":69,"rows_kept":55,"cut":false,"hidden":false,"merged":[[0,0,0,22],[1,0,1,22],[3,0,3,23],[5,2,5,7],[5,8,5,13],[5,14,5,19],[10,40,10,46],[6,2,6,7],[6,8,6,13],[6,14,6,19],[7,2,7,7],[7,8,7,13],[7,14,7,19],[10,0,10,3],[10,4,10,5],[10,6,10,17],[10,18,10,21],[10,22,10,23],[21,0,21,2],[11,0,11,2],[11,29,11,30],[12,0,12,3],[13,0,13,2],[14,0,14,2],[15,0,15,2],[16,0,16,2],[17,0,17,2],[18,0,18,2],[19,0,19,2],[20,0,20,2],[33,0,33,2],[22,0,22,2],[23,0,23,2],[24,0,24,2],[25,0,25,2],[26,0,26,2],[27,0,27,2],[28,0,28,2],[29,0,29,2],[30,0,30,2],[31,0,31,2],[32,0,32,2],[45,8,45,13],[34,0,34,2],[35,0,35,2],[36,0,36,2],[37,0,37,2],[38,0,38,2],[39,0,39,2],[40,0,40,2],[41,0,41,2],[42,0,42,2],[43,0,43,2],[44,0,44,2],[47,14,47,22],[48,14,48,19],[49,14,49,22],[51,10,53,22],[54,10,56,22]]}
["Mississippi State University"]
["Non-Exempt Employee Semi-Monthly Time Report"]
[]
["Instructions:  The Fair Labor Standards Act requires that a record of hours worked on a weekly basis be maintained for all employees except executive, administrative, managerial, faculty, and professional (non-faculty).  Department/unit heads are responsible for compiling and maintaining this record in department files on each covered employee for a period of at least (3) years."]
[]
["MSU ID #:",null,{"$f":"'July 1 - July 15'!C6","v":0},null,null,null,null,null,"Pay period start date:",null,null,null,null,null,{"$f":"'Dates & Notes'!$A$9","v":"2022-10-16"},null,null,null,null,null,null,null,null,null,null,{"$f":"TEXT(O6,\"dddd\")","v":"Sunday"},null,null,null,"Please Select"]
["Name:",null,{"$f":"'July 1 - July 15'!C7","v":0},null,null,null,null,null,"Pay period end date:",null,null,null,null,null,{"$f":"'Dates & Notes'!$B$9","v":"2022-10-31"},null,null,null,null,null,null,null,null,null,null,null,null,null,null,"No"]
["Department:",null,{"$f":"'July 1 - July 15'!C8","v":0},null,null,null,null,null,"Pay Period Number:",null,null,null,null,null,{"$f":"'Dates & Notes'!$C$9","v":20},null,null,null,null,null,null,null,null,null,null,null,null,null,null,"Yes"]
[]
[]
["Employee Scheduled Hours Per Week",null,null,null,40,null,"FIELDS MUST BE ENTERED FOR CALULATIONS TO WORK PROPERLY",null,null,null,null,null,null,null,null,null,null,null,"Receive Compensatory Time",null,null,null,"Please Select",null,null,null,null,null,null,null,null,null,null,null,"Over 40",null,null,null,null,null,"HOW ANALYSIS"]
["Work Week Dates",null,null,"Day of The Week","Actual Hours Worked","Compensatory Time Used","Holiday","Medical Leave","Personal Leave","Actual Wrk Hrs During  Admin Close Period","Administrative Closing/Leave Period","Jury Duty","Military Leave","Leave Without Pay","Totals","DOC-Payroll Conversion","RTO","RTO-Payroll Conversion","Overtime Hours","Hours Transferred to Comp. Record","HOW-Holiday Pay or Admin/Leave Closing","HOT-Holiday Pay","SST-Payroll","Conversion Factor",null,8,"DOC","RTO",null,"SST",null,null,null,"Cumm Actual HRS",40,"Administrative Leave","HOW-Holiday Pay","Comp. Time","Administrative/Schedule",null,"Holiday=0\n1",2,3,4,null,"<=40\n5",null,"HOT Workup","HOT-Holiday Pay (HOLIDAY PAY)",null,"HOT-Administrative HRS","Administrative=0\n1",2,3,4,null,"<=40\n5",null,null,"Holiday Flag","Up to 40","How","Hot","Actual Hours Worked","Admin Flag","Admin","Admin HOW","Admin OVT"]
["Hours-Previous WK (Due to Split WK)",null,null,null,null,null,null,null,null,null,null,null,null,null,{"$f":"SUM(E13:N13)-J13","v":0},null,null,null,null,null,null,null,null,null,null,null,null,null,null,null,null,null,null,null,null,{"$f":"IF(AND(AM13=0,J13=0),AM13,IF(AND(E13>AM13,J13=0),J13,IF(AND(J13<AM13,AI13=0),J13,IF(AND(AM13=J13,AI13<AM13),AM13-AI13,IF(AND(J13=AM13,AI13=AM13),AI13,IF(AND(J13<AM13,AI13>0),AM13-J13,IF(AND(AM13>J13,AI13<E13),E13-AI13,IF(AND(E13>AM13,AI13=E13),O13-AI13,0))))))))","v":0},{"$f":"IF(AND(G13=0,E13>G13),G13,IF(AND(E13>G13,AI13=0),G13,IF(AND(E13<G13,AI13=0),E13,IF(AND(E13=G13,AI13<G13),G13-AI13,IF(AND(E13=G13,AI13=G13),AI13,IF(AND(E13<G13,AI13>0),G13-E13,IF(AND(E13>G13,AI13<E13),E13-AI13,IF(AND(E13>G13,AI13=E13),O13-AI13,0))))))))","v":0},null,{"$f":"K13","v":0}]
[{"$f":"IF(EXACT(D14,$Z$6)=TRUE,$O$6,IF(A12=0,\"\",IF(A12<$O$7,A12+1,IF(A12=$O$7,\"\"))))","v":"2022-10-16"},null,null,"Sunday",null,null,null,null,null,null,null,null,null,null,{"$f":"SUM(E14:N14)-J14","v":0},{"$f":"IF(AND(ISNUMBER(AA14),ISNUMBER(X14)),AA14*X14,\"\")","v":""},null,{"$f":"IF(AND(ISNUMBER(AB14),ISNUMBER(X14)),AB14*X14,\"\")","v":""},null,null,{"$f":"IF(BJ14>0,BJ14,BN14)","v":0},{"$f":"IF(BK14>0,BK14,0)","v":0},null,{"$f":"IF(ISNA(INDEX('Conversion Factors'!$B$6:$B$371,MATCH('Oct 16 - Oct 31'!$Z$14:$Z$20,'Conversion Factors'!$A$6:$A$371,0))),\"\",INDEX('Conversion Factors'!$B$6:$B$371,MATCH('Oct 16 - Oct 31'!$Z$14:$Z$20,'Conversion Factors'!$A$6:$A$371,0)))","v":7.8789999999999996},null,{"$f":"A14","v":"2022-10-16"},{"$f":"IF(AND(ISNUMBER(N14),ISNUMBER($Z$12)),N14/$Z$12,\"\")","v":""},{"$f":"IF(AND(ISNUMBER(Q14),ISNUMBER($Z$12)),Q14/$Z$12,\"\")","v":""},null,null,null,null,null,{"$f":"E14","v":0},{"$f":"IF(AH14>$AI$12,AH14-$AI$12,0)","v":0},{"$f":"IF(AND(AZ14>0,AZ14),IF(BA14>0,BA14,IF(BB14>0,BB14,IF(BC14>0,BC14,IF(BF14>0,BF14,\"\")))))","v":false},{"$f":"IF(AND(AO14>0,AO14),IF(AP14>0,AP14,IF(AQ14>0,AQ14,IF(AR14>0,AR14,IF(AU14>0,AU14,\"\")))))","v":false},null,{"$f":"J14","v":0},null,{"$f":"IF(G14=0,0,\"\")","v":0},{"$f":"IF(AND(AH14<=40,E14=G14),G14,0)","v":0},{"$f":"IF(AND(AH14<=40,E14>=G14,G14>0),O14-E14,0)","v":0},{"$f":"IF(AND(AH14<=40,E14<G14),O14-G14,0)","v":0},{"$f":"IF(AND(G14=0),G14,IF(AND(G14>0,AI14>0,G14=AT14),AT14,IF(AND(G14>0,AI14>0,G14-AT14),AT14,0)))","v":0},null,{"$f":"AS14","v":0},{"$f":"IF(AND(AH13+AU14=40,AI14>0,AI14>AU14),AI14-AU14,IF(AND(AH13+AU14=40,AI14>0,AI14<AU14,AU14+AI14=G14),AI14,IF(AND(AH13>40,AH14>40,G14=AI14),AI14,0)))","v":0},{"$f":"AV14","v":0},null,{"$f":"IF(AND(J14>0,AI14>=J14,BB14=0),O14-AI14,IF(AND(J14>0,AI14>0,BB14<=AI14),AI14-BB14,IF(AND(J14>0,AI14>0,BB14>AI14),J14-BB14,0)))","v":0},{"$f":"IF(J14=0,0,\"\")","v":0},{"$f":"IF(AND(AH14<=40,E14=J14),J14,0)","v":0},{"$f":"IF(AND(AZ14=0),AZ14,IF(AND(AH14>40,E14>=J14),BE14,IF(AND(AH14<=40,E14>J14),J14,0)))","v":0},{"$f":"IF(AND(AH14<=40,E14<J14),O14-J14,0)","v":0},{"$f":"IF(AND(J14=0),J14,IF(AND(J14>0,AI14>0,J14=BC14),BC14,IF(AND(J14>0,AI14>0,J14-BC14),BC14,0)))","v":0},null,{"$f":"BD14","v":0},null,{"$f":"IF(AND(G14>0,E14>0),1,0)","v":0},{"$f":"40-AH14","v":40},{"$f":"IF(AND(BH14=1,E14<8),E14,(IF(AND(BH14=1,E14>0),G14,0)))","v":0},{"$f":"IF(AND(BH14=1,BL14>40,E14<G14),E14-BJ14,(IF(AND(BH14=1,BL14>0,E14>=G14),G14-BJ14,0)))","v":0},{"$f":"E14","v":0},{"$f":"IF(AND(K14>0,E14>0),1,0)","v":0},{"$f":"IF(AND(BM14=1,J14>8),K14,(IF(AND(BM14=1,J14>0),J14,0)))","v":0},{"$f":"IF(AND(BM14=1,40-BL13>0,40-BL13<8),40-BL13,IF(AND(J14<K14),J14,K14))","v":0},{"$f":"IF(AND(BM14=1,BL14>40,J14<=K14),J14-BO14,IF(AND(BM14=1,BL14>0,J14>K14),K14-BO14,0))","v":0}]
[{"$f":"IF(EXACT(D15,$Z$6)=TRUE,$O$6,IF(A14=0,\"\",IF(A14<$O$7,A14+1,IF(A14=$O$7,\"\"))))","v":"2022-10-17"},null,null,"Monday",null,null,null,null,null,null,null,null,null,null,{"$f":"SUM(E15:N15)-J15","v":0},{"$f":"IF(AND(ISNUMBER(AA15),ISNUMBER(X15)),AA15*X15,\"\")","v":""},null,{"$f":"IF(AND(ISNUMBER(AB15),ISNUMBER(X15)),AB15*X15,\"\")","v":""},null,null,{"$f":"IF(BJ15>0,BJ15,BN15)","v":0},{"$f":"IF(BK15>0,BK15,0)","v":0},null,{"$f":"IF(ISNA(INDEX('Conversion Factors'!$B$6:$B$371,MATCH('Oct 16 - Oct 31'!$Z$14:$Z$20,'Conversion Factors'!$A$6:$A$371,0))),\"\",INDEX('Conversion Factors'!$B$6:$B$371,MATCH('Oct 16 - Oct 31'!$Z$14:$Z$20,'Conversion Factors'!$A$6:$A$371,0)))","v":7.8789999999999996},null,"2022-10-17","","",null,null,null,null,null,{"$f":"E15+AH14","v":0},{"$f":"IF(AH15>$AI$12,AH15-($AI$12+AI14),0)","v":0},{"$f":"IF(AND(AZ15>0,AZ15),IF(BA15>0,BA15,IF(BB15>0,BB15,IF(BC15>0,BC15,IF(BF15>0,BF15,\"\")))))","v":false},{"$f":"IF(AND(AO15>0,AO15),IF(AP15>0,AP15,IF(AQ15>0,AQ15,IF(AR15>0,AR15,IF(AU15>0,AU15,0)))))","v":false},null,0,null,0,0,0,0,0,{"$f":"IF(AND(AH14<=40),40-AH14,0)","v":40},{"$f":"AS15","v":0},0,{"$f":"AV15","v":0},null,0,0,0,0,0,0,{"$f":"IF(AND(AH14<=40),40-AH14,0)","v":40},{"$f":"BD15","v":0},null,{"$f":"IF(AND(G15>0,E15>0),1,0)","v":0},40,0,0,{"$f":"SUM(E14:E15)","v":0},{"$f":"IF(AND(K15>0,E15>0),1,0)","v":0},{"$f":"IF(AND(BM15=1,J15>8),K15,(IF(AND(BM15=1,J15>0),J15,0)))","v":0},0,0]
["2022-10-18",null,null,"Tuesday",null,null,null,null,null,null,null,null,null,null,{"$f":"SUM(E16:N16)-J16","v":0},"",null,"",null,null,{"$f":"IF(BJ16>0,BJ16,BN16)","v":0},0,null,{"$f":"IF(ISNA(INDEX('Conversion Factors'!$B$6:$B$371,MATCH('Oct 16 - Oct 31'!$Z$14:$Z$20,'Conversion Factors'!$A$6:$A$371,0))),\"\",INDEX('Conversion Factors'!$B$6:$B$371,MATCH('Oct 16 - Oct 31'!$Z$14:$Z$20,'Conversion Factors'!$A$6:$A$371,0)))","v":7.8789999999999996},null,"2022-10-18","","",null,null,null,null,null,0,{"$f":"IF(AH16>$AI$12,AH16-($AI$12+AI15+AI14),0)","v":0},false,false,null,0,null,0,0,0,0,0,40,0,0,0,null,0,0,0,0,0,0,{"$f":"IF(AND(AH15<=40),40-AH15,0)","v":40},0,null,{"$f":"IF(AND(G16>0,E16>0),1,0)","v":0},40,0,0,{"$f":"SUM(E14:E16)","v":0},0,{"$f":"IF(AND(BM16=1,J16>8),K16,(IF(AND(BM16=1,J16>0),J16,0)))","v":0},{"$f":"IF(AND(BM16=1,40-BL15>0,40-BL15<8),40-BL15,IF(AND(J16<K16),J16,K16))","v":0},0]
["2022-10-19",null,null,"Wednesday",null,null,null,null,null,null,null,null,null,null,0,"",null,"",null,null,0,0,null,{"$f":"IF(ISNA(INDEX('Conversion Factors'!$B$6:$B$371,MATCH('Oct 16 - Oct 31'!$Z$14:$Z$20,'Conversion Factors'!$A$6:$A$371,0))),\"\",INDEX('Conversion Factors'!$B$6:$B$371,MATCH('Oct 16 - Oct 31'!$Z$14:$Z$20,'Conversion Factors'!$A$6:$A$371,0)))","v":7.8789999999999996},null,"2022-10-19","","",null,null,null,null,null,0,{"$f":"IF(AH17>$AI$12,AH17-($AI$12+AI16+AI15+AI14),0)","v":0},false,false,null,0,null,0,0,0,0,0,40,0,0,0,null,0,0,0,0,0,0,40,0,null,0,40,0,0,{"$f":"SUM(E14:E17)","v":0},0,{"$f":"IF(AND(BM17=1,J17>8),K17,(IF(AND(BM17=1,J17>0),J17,0)))","v":0},{"$f":"IF(AND(BM17=1,40-BL16>0,40-BL16<8),40-BL16,IF(AND(J17<K17),J17,K17))","v":0},0]
["2022-10-20",null,null,"Thursday",null,null,null,null,null,null,null,null,null,null,0,"",null,"",null,null,0,0,null,{"$f":"IF(ISNA(INDEX('Conversion Factors'!$B$6:$B$371,MATCH('Oct 16 - Oct 31'!$Z$14:$Z$20,'Conversion Factors'!$A$6:$A$371,0))),\"\",INDEX('Conversion Factors'!$B$6:$B$371,MATCH('Oct 16 - Oct 31'!$Z$14:$Z$20,'Conversion Factors'!$A$6:$A$371,0)))","v":7.8789999999999996},null,"2022-10-20","","",null,null,null,null,null,0,{"$f":"IF(AH18>$AI$12,AH18-($AI$12+AI17+AI16+AI15+AI14),0)","v":0},false,false,null,0,null,0,0,0,0,0,{"$f":"IF(AND(AH17<=40),40-AH17,0)","v":40},0,0,0,null,0,0,0,0,0,0,40,0,null,0,40,0,0,{"$f":"SUM(E14:E18)","v":0},0,0,0,0]
["2022-10-21",null,null,"Friday",null,null,null,null,null,null,null,null,null,null,0,"",null,"",null,null,0,0,null,{"$f":"IF(ISNA(INDEX('Conversion Factors'!$B$6:$B$371,MATCH('Oct 16 - Oct 31'!$Z$14:$Z$20,'Conversion Factors'!$A$6:$A$371,0))),\"\",INDEX('Conversion Factors'!$B$6:$B$371,MATCH('Oct 16 - Oct 31'!$Z$14:$Z$20,'Conversion Factors'!$A$6:$A$371,0)))","v":7.8789999999999996},null,"2022-10-21","","",null,null,null,null,null,0,{"$f":"IF(AH19>$AI$12,AH19-($AI$12+AI18+AI17+AI16+AI15+AI14),0)","v":0},false,false,null,0,null,0,0,0,0,0,{"$f":"IF(AND(AH18<=40),40-AH18,0)","v":40},0,0,0,null,0,0,0,0,0,0,40,0,null,0,40,0,0,{"$f":"SUM(E14:E19)","v":0},0,0,0,{"$f":"IF(AND(BM19=1,BL19>40,J19<=K19),J19-BO19,IF(AND(BM19=1,BL19>0,J19>K19),K19-BO19,0))","v":0}]
["2022-10-22",null,null,"Saturday",null,null,null,null,null,null,null,null,null,null,{"$f":"SUM(E20:N20)-J20","v":0},"",null,"",null,null,0,0,null,{"$f":"IF(ISNA(INDEX('Conversion Factors'!$B$6:$B$371,MATCH('Oct 16 - Oct 31'!$Z$14:$Z$20,'Conversion Factors'!$A$6:$A$371,0))),\"\",INDEX('Conversion Factors'!$B$6:$B$371,MATCH('Oct 16 - Oct 31'!$Z$14:$Z$20,'Conversion Factors'!$A$6:$A$371,0)))","v":7.8789999999999996},null,"2022-10-22","","",null,null,null,null,null,0,{"$f":"IF(AH20>$AI$12,AH20-($AI$12+AI19+AI18+AI17+AI16+AI15+AI14),0)","v":0},false,false,null,0,null,0,0,0,0,0,40,0,0,0,null,0,0,0,0,0,0,40,0,null,0,40,0,0,{"$f":"SUM(E14:E20)","v":0},0,0,0,{"$f":"IF(AND(BM20=1,BL20>40,J20<=K20),J20-BO20,IF(AND(BM20=1,BL20>0,J20>K20),K20-BO20,0))","v":0}]
["Week 1 Totals",null,null,null,{"$f":"SUM(E14:E20)","v":0},{"$f":"SUM(F14:F20)","v":0},0,0,0,null,0,0,0,0,{"$f":"SUM(O14:O20)","v":0},{"$f":"-SUM(P14:P20)","v":0},{"$f":"SUM(Q14:Q20)","v":0},{"$f":"SUM(R14:R20)","v":0},{"$f":"IF(E21>40,(E21-40)-V21-BP21,0)","v":0},{"$f":"MROUND(AL21,0.25)","v":0},{"$f":"SUM(U14:U20)","v":0},{"$f":"SUM(V14:V20)","v":0},{"$f":"IF(E21-(E11-(G21+K21+F21+H21+I21+L21+M21))-(S21+U21+V21)>0,E21-(E11-(G21+K21+F21+H21+I21+L21+M21))-(S21+U21+V21),0)","v":0},null,null,null,null,null,{"$f":"SUM(F21:N21)","v":0},{"$f":"IF(AND(AG21<40,O21>=AG21),O21-(AG21+S21),IF(AND(O21<AG21,E21=O21),O21-E21,IF(AND(E21>AG21,E21<40),E21-AG21,IF(AND(O21>AG21,E21<AG21),E21-(AG21-AC21),IF(AND(O21>AG21,E21>40),E21-(AG21-AC21+S21),IF(AND(O21>AG21,O21>40),O21-(S21+AG21),0))))))","v":0},{"$f":"AD21-U21-V21","v":0},{"$f":"$W$11","v":"Please Select"},{"$f":"$E$11","v":40},null,{"$f":"IF(AH21>$AI$12,-$AI$12,0)","v":0},null,null,{"$f":"IF(AF21=\"Yes\",S21*1.5,0)","v":0},null,null,null,null,null,null,null,null,null,null,null,null,null,null,null,null,null,null,null,null,null,null,null,null,null,null,null,null,null,{"$f":"SUM(BP14:BP20)","v":0},{"$f":"E11+U21","v":40}]
[{"$f":"IF(A20=0,\"\",IF(A20<$O$7,A20+1,IF(A20=$O$7,\"\")))","v":"2022-10-23"},null,null,"Sunday",null,null,null,null,null,null,null,null,null,null,{"$f":"SUM(E22:N22)-J22","v":0},{"$f":"IF(AND(ISNUMBER(AA22),ISNUMBER(X22)),AA22*X22,\"\")","v":""},null,{"$f":"IF(AND(ISNUMBER(AB22),ISNUMBER(X22)),AB22*X22,\"\")","v":""},null,null,{"$f":"IF(BJ22>0,BJ22,BN22)","v":0},{"$f":"IF(BK22>0,BK22,0)","v":0},null,{"$f":"IF(ISNA(INDEX('Conversion Factors'!$B$6:$B$371,MATCH('Oct 16 - Oct 31'!$Z$22:$Z$28,'Conversion Factors'!$A$6:$A$371,0))),\"\",INDEX('Conversion Factors'!$B$6:$B$371,MATCH('Oct 16 - Oct 31'!$Z$22:$Z$28,'Conversion Factors'!$A$6:$A$371,0)))","v":7.8789999999999996},null,{"$f":"A22","v":"2022-10-23"},{"$f":"IF(AND(ISNUMBER(N22),ISNUMBER($Z$12)),N22/$Z$12,\"\")","v":""},{"$f":"IF(AND(ISNUMBER(Q22),ISNUMBER($Z$12)),Q22/$Z$12,\"\")","v":""},null,null,null,null,null,{"$f":"E22+AH21","v":0},{"$f":"IF(AH22>$AI$12,AH22-($AI$12+AI21),0)","v":0},{"$f":"IF(AND(AZ22>0,AZ22),IF(BA22>0,BA22,IF(BB22>0,BB22,IF(BC22>0,BC22,IF(BF22>0,BF22,\"\")))))","v":false},{"$f":"IF(AND(AO22>0,AO22),IF(AP22>0,AP22,IF(AQ22>0,AQ22,IF(AR22>0,AR22,IF(AU22>0,AU22,\"\")))))","v":false},null,{"$f":"J22","v":0},null,{"$f":"IF(G22=0,0,\"\")","v":0},{"$f":"IF(AND(AH22<=40,E22=G22),G22,0)","v":0},{"$f":"IF(AND(AH22<=40,E22>=G22,G22>0),O22-E22,0)","v":0},{"$f":"IF(AND(AH22<=40,E22<G22),O22-G22,0)","v":0},{"$f":"IF(AND(G22=0),G22,IF(AND(G22>0,AI22>0,G22=AT22),AT22,IF(AND(G22>0,AI22>0,G22-AT22),AT22,0)))","v":0},null,{"$f":"AS22","v":0},{"$f":"IF(AND(AH21+AU22=40,AI22>0,AI22>AU22),AI22-AU22,IF(AND(AH21+AU22=40,AI22>0,AI22<AU22,AU22+AI22=G22),AI22,IF(AND(AH21>40,AH22>40,G22=AI22),AI22,0)))","v":0},{"$f":"AV22","v":0},null,{"$f":"IF(AND(J22>0,AI22>0,BB22<=AI22),AI22-BB22,IF(AND(J22>0,AI22>0,BB22>AI22),J22-BB22,0))","v":0},{"$f":"IF(J22=0,0,\"\")","v":0},{"$f":"IF(AND(AH22<=40,E22=J22),J22,0)","v":0},{"$f":"IF(AND(AZ22=0),AZ22,IF(AND(AH22>40,E22>=J22),BE22,IF(AND(AH22<=40,E22>J22),J22,0)))","v":0},{"$f":"IF(AND(AH22<=40,E22<J22),O22-J22,0)","v":0},{"$f":"IF(AND(J22=0),J22,IF(AND(J22>0,AI22>0,J22=BC22),BC22,IF(AND(J22>0,AI22>0,J22-BC22),BC22,0)))","v":0},null,{"$f":"BD22","v":0},null,{"$f":"IF(AND(G22>0,E22>0),1,0)","v":0},{"$f":"40-AH22","v":40},0,{"$f":"IF(AND(BH22=1,BL22>40,E22<G22),E22-BJ22,(IF(AND(BH22=1,BL22>0,E22>=G22),G22-BJ22,0)))","v":0},{"$f":"E22","v":0},{"$f":"IF(AND(K22>0,E22>0),1,0)","v":0},{"$f":"IF(AND(BM22=1,J22>8),K22,(IF(AND(BM22=1,J22>0),J22,0)))","v":0},{"$f":"IF(AND(BM22=1,40-BL21>0,40-BL21<8),40-BL21,IF(AND(J22<K22),J22,K22))","v":0},{"$f":"IF(AND(BM22=1,BL22>40,J22<=K22),J22-BO22,IF(AND(BM22=1,BL22>0,J22>K22),K22-BO22,0))","v":0}]
[{"$f":"IF(A22<$O$7,A22+1,IF(A22=$O$7,\"\"))","v":"2022-10-24"},null,null,"Monday",null,null,null,null,null,null,null,null,null,null,{"$f":"SUM(E23:N23)-J23","v":0},{"$f":"IF(AND(ISNUMBER(AA23),ISNUMBER(X23)),AA23*X23,\"\")","v":""},null,{"$f":"IF(AND(ISNUMBER(AB23),ISNUMBER(X23)),AB23*X23,\"\")","v":""},null,null,{"$f":"IF(BJ23>0,BJ23,BN23)","v":0},{"$f":"IF(BK23>0,BK23,0)","v":0},null,{"$f":"IF(ISNA(INDEX('Conversion Factors'!$B$6:$B$371,MATCH('Oct 16 - Oct 31'!$Z$22:$Z$28,'Conversion Factors'!$A$6:$A$371,0))),\"\",INDEX('Conversion Factors'!$B$6:$B$371,MATCH('Oct 16 - Oct 31'!$Z$22:$Z$28,'Conversion Factors'!$A$6:$A$371,0)))","v":7.8789999999999996},null,"2022-10-24","","",null,null,null,null,null,0,{"$f":"IF(AH23>$AI$12,AH23-($AI$12+AI22+AI21),0)","v":0},false,{"$f":"IF(AND(AO23>0,AO23),IF(AP23>0,AP23,IF(AQ23>0,AQ23,IF(AR23>0,AR23,IF(AU23>0,AU23,0)))))","v":false},null,0,null,0,0,0,0,0,{"$f":"IF(AND(AH22<=40),40-AH22,0)","v":40},{"$f":"AS23","v":0},0,{"$f":"AV23","v":0},null,{"$f":"IF(AND(J23>0,AI23>0,BB23<=AI23),AI23-BB23,IF(AND(J23>0,AI23>0,BB23>AI23),J23-BB23,0))","v":0},0,0,0,0,0,{"$f":"IF(AND(AH22<=40),40-AH22,0)","v":40},{"$f":"BD23","v":0},null,{"$f":"IF(AND(G23>0,E23>0),1,0)","v":0},40,0,0,{"$f":"SUM(E22:E23)","v":0},{"$f":"IF(AND(K23>0,E23>0),1,0)","v":0},{"$f":"IF(AND(BM23=1,J23>8),K23,(IF(AND(BM23=1,J23>0),J23,0)))","v":0},0,0]
["2022-10-25",null,null,"Tuesday",null,null,null,null,null,null,null,null,null,null,{"$f":"SUM(E24:N24)-J24","v":0},"",null,"",null,null,{"$f":"IF(BJ24>0,BJ24,BN24)","v":0},0,null,{"$f":"IF(ISNA(INDEX('Conversion Factors'!$B$6:$B$371,MATCH('Oct 16 - Oct 31'!$Z$22:$Z$28,'Conversion Factors'!$A$6:$A$371,0))),\"\",INDEX('Conversion Factors'!$B$6:$B$371,MATCH('Oct 16 - Oct 31'!$Z$22:$Z$28,'Conversion Factors'!$A$6:$A$371,0)))","v":7.8789999999999996},null,"2022-10-25","","",null,null,null,null,null,0,{"$f":"IF(AH24>$AI$12,AH24-($AI$12+AI23+AI22+AI21),0)","v":0},false,false,null,0,null,0,0,0,0,0,40,0,0,0,null,{"$f":"IF(AND(J24>0,AI24>0,BB24<=AI24),AI24-BB24,IF(AND(J24>0,AI24>0,BB24>AI24),J24-BB24,0))","v":0},0,0,0,0,0,{"$f":"IF(AND(AH23<=40),40-AH23,0)","v":40},0,null,{"$f":"IF(AND(G24>0,E24>0),1,0)","v":0},40,0,0,{"$f":"SUM(E22:E24)","v":0},0,{"$f":"IF(AND(BM24=1,J24>8),K24,(IF(AND(BM24=1,J24>0),J24,0)))","v":0},{"$f":"IF(AND(BM24=1,40-BL23>0,40-BL23<8),40-BL23,IF(AND(J24<K24),J24,K24))","v":0},0]
["2022-10-26",null,null,"Wednesday",null,null,null,null,null,null,null,null,null,null,0,"",null,"",null,null,0,0,null,{"$f":"IF(ISNA(INDEX('Conversion Factors'!$B$6:$B$371,MATCH('Oct 16 - Oct 31'!$Z$22:$Z$28,'Conversion Factors'!$A$6:$A$371,0))),\"\",INDEX('Conversion Factors'!$B$6:$B$371,MATCH('Oct 16 - Oct 31'!$Z$22:$Z$28,'Conversion Factors'!$A$6:$A$371,0)))","v":7.8789999999999996},null,"2022-10-26","","",null,null,null,null,null,0,{"$f":"IF(AH25>$AI$12,AH25-($AI$12+AI24+AI23+AI22+AI21),0)","v":0},false,false,null,0,null,0,0,0,0,0,40,0,0,0,null,{"$f":"IF(AND(J25>0,AI25>0,BB25<=AI25),AI25-BB25,IF(AND(J25>0,AI25>0,BB25>AI25),J25-BB25,0))","v":0},0,0,0,0,0,40,0,null,0,40,0,0,{"$f":"SUM(E22:E25)","v":0},0,{"$f":"IF(AND(BM25=1,J25>8),K25,(IF(AND(BM25=1,J25>0),J25,0)))","v":0},{"$f":"IF(AND(BM25=1,40-BL24>0,40-BL24<8),40-BL24,IF(AND(J25<K25),J25,K25))","v":0},0]
["2022-10-27",null,null,"Thursday",null,null,null,null,null,null,null,null,null,null,0,"",null,"",null,null,0,0,null,{"$f":"IF(ISNA(INDEX('Conversion Factors'!$B$6:$B$371,MATCH('Oct 16 - Oct 31'!$Z$22:$Z$28,'Conversion Factors'!$A$6:$A$371,0))),\"\",INDEX('Conversion Factors'!$B$6:$B$371,MATCH('Oct 16 - Oct 31'!$Z$22:$Z$28,'Conversion Factors'!$A$6:$A$371,0)))","v":7.8789999999999996},null,"2022-10-27","","",null,null,null,null,null,0,{"$f":"IF(AH26>$AI$12,AH26-($AI$12+AI25+AI24+AI23+AI22+AI21),0)","v":0},false,false,null,0,null,0,0,0,0,0,{"$f":"IF(AND(AH25<=40),40-AH25,0)","v":40},0,0,0,null,{"$f":"IF(AND(J26>0,AI26>=J26,BB26=0),O26-AI26,IF(AND(J26>0,AI26>0,BB26<=AI26),AI26-BB26,IF(AND(J26>0,AI26>0,BB26>AI26),J26-BB26,0)))","v":0},0,0,0,0,0,40,0,null,0,40,0,0,{"$f":"SUM(E22:E26)","v":0},0,0,0,0]
["2022-10-28",null,null,"Friday",null,null,null,null,null,null,null,null,null,null,0,"",null,"",null,null,0,0,null,{"$f":"IF(ISNA(INDEX('Conversion Factors'!$B$6:$B$371,MATCH('Oct 16 - Oct 31'!$Z$22:$Z$28,'Conversion Factors'!$A$6:$A$371,0))),\"\",INDEX('Conversion Factors'!$B$6:$B$371,MATCH('Oct 16 - Oct 31'!$Z$22:$Z$28,'Conversion Factors'!$A$6:$A$371,0)))","v":7.8789999999999996},null,"2022-10-28","","",null,null,null,null,null,0,{"$f":"IF(AH27>$AI$12,AH27-($AI$12+AI26+AI25+AI24+AI23+AI22+AI21),0)","v":0},false,false,null,0,null,0,0,0,0,0,{"$f":"IF(AND(AH26<=40),40-AH26,0)","v":40},0,0,0,null,{"$f":"IF(AND(J27>0,AI27>=J27,BB27=0),O27-AI27,IF(AND(J27>0,AI27>0,BB27<=AI27),AI27-BB27,IF(AND(J27>0,AI27>0,BB27>AI27),J27-BB27,0)))","v":0},0,0,0,0,0,40,0,null,0,40,0,0,{"$f":"SUM(E22:E27)","v":0},0,0,0,{"$f":"IF(AND(BM27=1,BL27>40,J27<=K27),J27-BO27,IF(AND(BM27=1,BL27>0,J27>K27),K27-BO27,0))","v":0}]
["2022-10-29",null,null,"Saturday",null,null,null,null,null,null,null,null,null,null,{"$f":"SUM(E28:N28)-J28","v":0},"",null,"",null,null,0,0,null,{"$f":"IF(ISNA(INDEX('Conversion Factors'!$B$6:$B$371,MATCH('Oct 16 - Oct 31'!$Z$22:$Z$28,'Conversion Factors'!$A$6:$A$371,0))),\"\",INDEX('Conversion Factors'!$B$6:$B$371,MATCH('Oct 16 - Oct 31'!$Z$22:$Z$28,'Conversion Factors'!$A$6:$A$371,0)))","v":7.8789999999999996},null,"2022-10-29","","",null,null,null,null,null,0,{"$f":"IF(AH28>$AI$12,AH28-($AI$12+AI27+AI26+AI25+AI24+AI23+AI22+AI21),0)","v":0},false,false,null,0,null,0,0,0,0,0,40,0,0,0,null,{"$f":"IF(AND(J28>0,AI28>=J28,BB28=0),O28-AI28,IF(AND(J28>0,AI28>0,BB28<=AI28),AI28-BB28,IF(AND(J28>0,AI28>0,BB28>AI28),J28-BB28,0)))","v":0},0,0,0,0,0,40,0,null,0,40,0,0,{"$f":"SUM(E22:E28)","v":0},0,0,0,{"$f":"IF(AND(BM28=1,BL28>40,J28<=K28),J28-BO28,IF(AND(BM28=1,BL28>0,J28>K28),K28-BO28,0))","v":0}]
["Week 2 Totals",null,null,null,{"$f":"SUM(E22:E28)","v":0},0,0,0,0,null,0,0,0,0,{"$f":"SUM(O22:O28)","v":0},{"$f":"-SUM(P22:P28)","v":0},{"$f":"SUM(Q22:Q28)","v":0},{"$f":"SUM(R22:R28)","v":0},{"$f":"IF(E29>40,(E29-40)-V29,0)","v":0},{"$f":"MROUND(AL29,0.25)","v":0},{"$f":"SUM(U22:U28)","v":0},{"$f":"SUM(V22:V28)","v":0},{"$f":"IF(E29-(E11-(G29+K29+F29+H29+I29+L29+M29))-(S29+U29+V29)>0,E29-(E11-(G29+K29+F29+H29+I29+L29+M29))-(S29+U29+V29),0)","v":0},null,null,null,null,null,{"$f":"SUM(F29:N29)","v":0},{"$f":"IF(AND(AG29<40,O29>=AG29),O29-(AG29+S29),IF(AND(O29<AG29,E29=O29),O29-E29,IF(AND(E29>AG29,E29<40),E29-AG29,IF(AND(O29>AG29,E29<AG29),E29-(AG29-AC29),IF(AND(O29>AG29,E29>40),E29-(AG29-AC29+S29),IF(AND(O29>AG29,O29>40),O29-(S29+AG29),0))))))","v":0},{"$f":"AD29-U29-V29","v":0},{"$f":"$W$11","v":"Please Select"},{"$f":"$E$11","v":40},null,{"$f":"IF(AH29>$AI$12,-$AI$12,0)","v":0},null,null,{"$f":"IF(AF29=\"Yes\",S29*1.5,0)","v":0},0,null,null,null,null,null,null,null,null,null,null,null,null,0,null,null,null,null,null,null,null,null,null,null,null,null,null,null,null,{"$f":"SUM(BP22:BP28)","v":0},{"$f":"U29+E11","v":40}]
[{"$f":"IF(A28<$O$7,A28+1,IF(A28=$O$7,\"\"))","v":"2022-10-30"},null,null,"Sunday",null,null,null,null,null,null,null,null,null,null,{"$f":"SUM(E30:N30)-J30","v":0},{"$f":"IF(AND(ISNUMBER(AA30),ISNUMBER(X30)),AA30*X30,\"\")","v":""},null,{"$f":"IF(AND(ISNUMBER(AB30),ISNUMBER(X30)),AB30*X30,\"\")","v":""},null,null,{"$f":"IF(BJ30>0,BJ30,BN30)","v":0},{"$f":"IF(BK30>0,BK30,0)","v":0},null,{"$f":"IF(ISNA(INDEX('Conversion Factors'!$B$6:$B$370,MATCH('Oct 16 - Oct 31'!$Z$30:$Z$36,'Conversion Factors'!$A$6:$A$370,0))),\"\",INDEX('Conversion Factors'!$B$6:$B$370,MATCH('Oct 16 - Oct 31'!$Z$30:$Z$36,'Conversion Factors'!$A$6:$A$370,0)))","v":7.8789999999999996},null,{"$f":"A30","v":"2022-10-30"},{"$f":"IF(AND(ISNUMBER(N30),ISNUMBER($Z$12)),N30/$Z$12,\"\")","v":""},{"$f":"IF(AND(ISNUMBER(Q30),ISNUMBER($Z$12)),Q30/$Z$12,\"\")","v":""},null,null,null,null,null,{"$f":"E30+AH29","v":0},{"$f":"IF(AH30>$AI$12,AH30-($AI$12+AI29),0)","v":0},{"$f":"IF(AND(AZ30>0,AZ30),IF(BA30>0,BA30,IF(BB30>0,BB30,IF(BC30>0,BC30,IF(BF30>0,BF30,\"\")))))","v":false},{"$f":"IF(AND(AO30>0,AO30),IF(AP30>0,AP30,IF(AQ30>0,AQ30,IF(AR30>0,AR30,IF(AU30>0,AU30,\"\")))))","v":false},null,0,null,{"$f":"IF(G30=0,0,\"\")","v":0},{"$f":"IF(AND(AH30<=40,E30=G30),G30,0)","v":0},{"$f":"IF(AND(AH30<=40,E30>=G30,G30>0),O30-E30,0)","v":0},{"$f":"IF(AND(AH30<=40,E30<G30),O30-G30,0)","v":0},{"$f":"IF(AND(G30=0),G30,IF(AND(G30>0,AI30>0,G30=AT30),AT30,IF(AND(G30>0,AI30>0,G30-AT30),AT30,0)))","v":0},null,{"$f":"AS30","v":0},{"$f":"IF(AND(AH29+AU30=40,AI30>0,AI30>AU30),AI30-AU30,IF(AND(AH29+AU30=40,AI30>0,AI30<AU30,AU30+AI30=G30),AI30,IF(AND(AH29>40,AH30>40,G30=AI30),AI30,0)))","v":0},{"$f":"AV30","v":0},null,{"$f":"IF(AND(J30>0,AI30>=J30,BB30=0),O30-AI30,IF(AND(J30>0,AI30>0,BB30<=AI30),AI30-BB30,IF(AND(J30>0,AI30>0,BB30>AI30),J30-BB30,0)))","v":0},0,{"$f":"IF(AND(AH30<=40,E30=J30),J30,0)","v":0},{"$f":"IF(AND(AZ30=0),AZ30,IF(AND(AH30>40,E30>=J30),BE30,IF(AND(AH30<=40,E30>J30),J30,0)))","v":0},{"$f":"IF(AND(AH30<=40,E30<J30),O30-J30,0)","v":0},{"$f":"IF(AND(J30=0),J30,IF(AND(J30>0,AI30>0,J30=BC30),BC30,IF(AND(J30>0,AI30>0,J30-BC30),BC30,0)))","v":0},null,{"$f":"BD30","v":0},null,{"$f":"IF(AND(G30>0,E30>0),1,0)","v":0},{"$f":"40-AH30","v":40},0,{"$f":"IF(AND(BH30=1,BL30>40,E30<G30),E30-BJ30,(IF(AND(BH30=1,BL30>0,E30>=G30),G30-BJ30,0)))","v":0},{"$f":"E30","v":0},{"$f":"IF(AND(K30>0,E30>0),1,0)","v":0},{"$f":"IF(AND(BM30=1,J30>8),K30,(IF(AND(BM30=1,J30>0),J30,0)))","v":0},{"$f":"IF(AND(BM30=1,40-BL29>0,40-BL29<8),40-BL29,IF(AND(J30<K30),J30,K30))","v":0},{"$f":"IF(AND(BM30=1,BL30>40,J30<=K30),J30-BO30,IF(AND(BM30=1,BL30>0,J30>K30),K30-BO30,0))","v":0}]
[{"$f":"IF(A30<$O$7,A30+1,IF(A30=$O$7,\"\"))","v":"2022-10-31"},null,null,"Monday",null,null,null,null,null,null,null,null,null,null,{"$f":"SUM(E31:N31)-J31","v":0},{"$f":"IF(AND(ISNUMBER(AA31),ISNUMBER(X31)),AA31*X31,\"\")","v":""},null,{"$f":"IF(AND(ISNUMBER(AB31),ISNUMBER(X31)),AB31*X31,\"\")","v":""},null,null,0,{"$f":"IF(BK31>0,BK31,0)","v":0},null,{"$f":"IF(ISNA(INDEX('Conversion Factors'!$B$6:$B$370,MATCH('Oct 16 - Oct 31'!$Z$30:$Z$36,'Conversion Factors'!$A$6:$A$370,0))),\"\",INDEX('Conversion Factors'!$B$6:$B$370,MATCH('Oct 16 - Oct 31'!$Z$30:$Z$36,'Conversion Factors'!$A$6:$A$370,0)))","v":7.8789999999999996},null,"2022-10-31","","",null,null,null,null,null,0,{"$f":"IF(AH31>$AI$12,AH31-($AI$12+AI30+AI29),0)","v":0},false,{"$f":"IF(AND(AO31>0,AO31),IF(AP31>0,AP31,IF(AQ31>0,AQ31,IF(AR31>0,AR31,IF(AU31>0,AU31,0)))))","v":false},null,0,null,0,0,0,0,0,{"$f":"IF(AND(AH30<=40),40-AH30,0)","v":40},{"$f":"AS31","v":0},0,{"$f":"AV31","v":0},null,0,0,0,0,0,0,{"$f":"IF(AND(AH30<=40),40-AH30,0)","v":40},{"$f":"BD31","v":0},null,{"$f":"IF(AND(G31>0,E31>0),1,0)","v":0},40,0,0,{"$f":"SUM(E30:E31)","v":0},{"$f":"IF(AND(K31>0,E31>0),1,0)","v":0},{"$f":"IF(AND(BM31=1,J31>8),K31,(IF(AND(BM31=1,J31>0),J31,0)))","v":0},0,0]
["",null,null,"Tuesday",null,null,null,null,null,null,null,null,null,null,0,"",null,"",null,null,0,0,null,{"$f":"IF(ISNA(INDEX('Conversion Factors'!$B$6:$B$370,MATCH('Oct 16 - Oct 31'!$Z$30:$Z$36,'Conversion Factors'!$A$6:$A$370,0))),\"\",INDEX('Conversion Factors'!$B$6:$B$370,MATCH('Oct 16 - Oct 31'!$Z$30:$Z$36,'Conversion Factors'!$A$6:$A$370,0)))","v":""},null,"","","",null,null,null,null,null,0,{"$f":"IF(AH32>$AI$12,AH32-($AI$12+AI31+AI30+AI29),0)","v":0},false,false,null,0,null,0,0,0,0,0,40,0,0,0,null,0,0,0,0,0,0,{"$f":"IF(AND(AH31<=40),40-AH31,0)","v":40},0,null,{"$f":"IF(AND(G32>0,E32>0),1,0)","v":0},40,0,0,{"$f":"SUM(E30:E32)","v":0},0,{"$f":"IF(AND(BM32=1,J32>8),K32,(IF(AND(BM32=1,J32>0),J32,0)))","v":0},{"$f":"IF(AND(BM32=1,40-BL31>0,40-BL31<8),40-BL31,IF(AND(J32<K32),J32,K32))","v":0},0]
[false,null,null,"Wednesday",null,null,null,null,null,null,null,null,null,null,0,"",null,"",null,null,0,0,null,{"$f":"IF(ISNA(INDEX('Conversion Factors'!$B$6:$B$370,MATCH('Oct 16 - Oct 31'!$Z$30:$Z$36,'Conversion Factors'!$A$6:$A$370,0))),\"\",INDEX('Conversion Factors'!$B$6:$B$370,MATCH('Oct 16 - Oct 31'!$Z$30:$Z$36,'Conversion Factors'!$A$6:$A$370,0)))","v":""},null,false,"","",null,null,null,null,null,0,{"$f":"IF(AH33>$AI$12,AH33-($AI$12+AI32+AI31+AI30+AI29),0)","v":0},false,false,null,0,null,0,0,0,0,0,40,0,0,0,null,0,0,0,0,0,0,40,0,null,{"$f":"IF(AND(G33>0,E33>0),1,0)","v":0},40,0,0,{"$f":"SUM(E30:E33)","v":0},0,{"$f":"IF(AND(BM33=1,J33>8),K33,(IF(AND(BM33=1,J33>0),J33,0)))","v":0},{"$f":"IF(AND(BM33=1,40-BL32>0,40-BL32<8),40-BL32,IF(AND(J33<K33),J33,K33))","v":0},0]
[false,null,null,"Thursday",null,null,null,null,null,null,null,null,null,null,0,"",null,"",null,null,0,0,null,{"$f":"IF(ISNA(INDEX('Conversion Factors'!$B$6:$B$370,MATCH('Oct 16 - Oct 31'!$Z$30:$Z$36,'Conversion Factors'!$A$6:$A$370,0))),\"\",INDEX('Conversion Factors'!$B$6:$B$370,MATCH('Oct 16 - Oct 31'!$Z$30:$Z$36,'Conversion Factors'!$A$6:$A$370,0)))","v":""},null,false,"","",null,null,null,null,null,0,{"$f":"IF(AH34>$AI$12,AH34-($AI$12+AI33+AI32+AI31+AI30+AI29),0)","v":0},false,false,null,0,null,0,0,0,0,0,{"$f":"IF(AND(AH33<=40),40-AH33,0)","v":40},0,0,0,null,0,0,0,0,0,0,40,0,null,0,40,0,0,{"$f":"SUM(E30:E34)","v":0},0,0,0,0]
[false,null,null,"Friday",null,null,null,null,null,null,null,null,null,null,0,"",null,"",null,null,0,0,null,{"$f":"IF(ISNA(INDEX('Conversion Factors'!$B$6:$B$370,MATCH('Oct 16 - Oct 31'!$Z$30:$Z$36,'Conversion Factors'!$A$6:$A$370,0))),\"\",INDEX('Conversion Factors'!$B$6:$B$370,MATCH('Oct 16 - Oct 31'!$Z$30:$Z$36,'Conversion Factors'!$A$6:$A$370,0)))","v":""},null,false,"","",null,null,null,null,null,0,{"$f":"IF(AH35>$AI$12,AH35-($AI$12+AI34+AI33+AI32+AI31+AI30+AI29),0)","v":0},false,false,null,0,null,0,0,0,0,0,{"$f":"IF(AND(AH34<=40),40-AH34,0)","v":40},0,0,0,null,0,0,0,0,0,0,40,0,null,0,40,0,0,{"$f":"SUM(E30:E35)","v":0},0,0,0,{"$f":"IF(AND(BM35=1,BL35>40,J35<=K35),J35-BO35,IF(AND(BM35=1,BL35>0,J35>K35),K35-BO35,0))","v":0}]
[false,null,null,"Saturday",null,null,null,null,null,null,null,null,null,null,0,"",null,"",null,null,0,0,null,{"$f":"IF(ISNA(INDEX('Conversion Factors'!$B$6:$B$370,MATCH('Oct 16 - Oct 31'!$Z$30:$Z$36,'Conversion Factors'!$A$6:$A$370,0))),\"\",INDEX('Conversion Factors'!$B$6:$B$370,MATCH('Oct 16 - Oct 31'!$Z$30:$Z$36,'Conversion Factors'!$A$6:$A$370,0)))","v":""},null,false,"","",null,null,null,null,null,0,{"$f":"IF(AH36>$AI$12,AH36-($AI$12+AI35+AI34+AI33+AI32+AI31+AI30+AI29),0)","v":0},false,false,null,0,null,0,0,0,0,0,40,0,0,0,null,0,0,0,0,0,0,40,0,null,0,40,0,0,{"$f":"SUM(E30:E36)","v":0},0,0,0,{"$f":"IF(AND(BM36=1,BL36>40,J36<=K36),J36-BO36,IF(AND(BM36=1,BL36>0,J36>K36),K36-BO36,0))","v":0}]
["Week 3 Totals",null,null,null,{"$f":"SUM(E30:E36)","v":0},0,0,0,0,null,0,0,0,0,{"$f":"SUM(O30:O36)","v":0},{"$f":"-SUM(P30:P36)","v":0},{"$f":"SUM(Q30:Q36)","v":0},{"$f":"SUM(R30:R36)","v":0},{"$f":"IF(E37>40,(E37-40)-V37,0)","v":0},{"$f":"MROUND(AL37,0.25)","v":0},{"$f":"SUM(U30:U36)","v":0},{"$f":"SUM(V30:V36)","v":0},{"$f":"IF(E37-(E11-(G37+K37+F37+H37+I37+L37+M3))-(S37+U37+V37)>0,E37-(E11-(G37+K37+F37+H37+I37+L37+M37))-(S37+U37+V37),0)","v":0},null,null,null,null,null,{"$f":"SUM(F37:N37)","v":0},{"$f":"IF(AND(AG37<40,O37>=AG37),O37-(AG37+S37),IF(AND(O37<AG37,E37=O37),O37-E37,IF(AND(E37>AG37,E37<40),E37-AG37,IF(AND(O37>AG37,E37<AG37),E37-(AG37-AC37),IF(AND(O37>AG37,E37>40),E37-(AG37-AC37+S37),IF(AND(O37>AG37,O37>40),O37-(S37+AG37),0))))))","v":0},{"$f":"AD37-U37-V37","v":0},{"$f":"$W$11","v":"Please Select"},{"$f":"$E$11","v":40},null,{"$f":"IF(AH37>$AI$12,-$AI$12,0)","v":0},null,null,{"$f":"IF(AF37=\"Yes\",S37*1.5,0)","v":0},null,null,null,null,null,null,null,null,null,null,null,null,null,null,null,null,null,null,null,null,null,0,null,null,null,null,null,null,null,{"$f":"SUM(BP30:BP36)","v":0},{"$f":"U37+E11","v":40}]
[{"$f":"IF(A36<$O$7,A36+1,IF(A36=$O$7,\"\"))","v":false},null,null,"Sunday",null,null,null,null,null,null,null,null,null,null,{"$f":"SUM(E38:N38)-J38","v":0},{"$f":"IF(AND(ISNUMBER(AA38),ISNUMBER(X38)),AA38*X38,\"\")","v":""},null,{"$f":"IF(AND(ISNUMBER(AB38),ISNUMBER(X38)),AB38*X38,\"\")","v":""},null,null,0,{"$f":"IF(BK38>0,BK38,0)","v":0},null,{"$f":"IF(ISNA(INDEX('Conversion Factors'!$B$6:$B$370,MATCH('Oct 16 - Oct 31'!$Z$38:$Z$44,'Conversion Factors'!$A$6:$A$370,0))),\"\",INDEX('Conversion Factors'!$B$6:$B$370,MATCH('Oct 16 - Oct 31'!$Z$38:$Z$44,'Conversion Factors'!$A$6:$A$370,0)))","v":""},null,{"$f":"A38","v":false},{"$f":"IF(AND(ISNUMBER(N38),ISNUMBER($Z$12)),N38/$Z$12,\"\")","v":""},{"$f":"IF(AND(ISNUMBER(Q38),ISNUMBER($Z$12)),Q38/$Z$12,\"\")","v":""},null,null,null,null,null,{"$f":"E38+AH37","v":0},{"$f":"IF(AH38>$AI$12,AH38-($AI$12+AI37),0)","v":0},{"$f":"IF(AND(AZ38>0,AZ38),IF(BA38>0,BA38,IF(BB38>0,BB38,IF(BC38>0,BC38,IF(BF38>0,BF38,\"\")))))","v":false},{"$f":"IF(AND(AO38>0,AO38),IF(AP38>0,AP38,IF(AQ38>0,AQ38,IF(AR38>0,AR38,IF(AU38>0,AU38,\"\")))))","v":false},null,{"$f":"J38","v":0},null,{"$f":"IF(G38=0,0,\"\")","v":0},{"$f":"IF(AND(AH38<=40,E38=G38),G38,0)","v":0},{"$f":"IF(AND(AH38<=40,E38>=G38,G38>0),O38-E38,0)","v":0},{"$f":"IF(AND(AH38<=40,E38<G38),O38-G38,0)","v":0},{"$f":"IF(AND(G38=0),G38,IF(AND(G38>0,AI38>0,G38=AT38),AT38,IF(AND(G38>0,AI38>0,G38-AT38),AT38,0)))","v":0},null,{"$f":"AS38","v":0},{"$f":"IF(AND(AH37+AU38=40,AI38>0,AI38>AU38),AI38-AU38,IF(AND(AH37+AU38=40,AI38>0,AI38<AU38,AU38+AI38=G38),AI38,IF(AND(AH37>40,AH38>40,G38=AI38),AI38,0)))","v":0},{"$f":"AV38","v":0},null,{"$f":"IF(AND(J38>0,AI38>=J38,BB38=0),O38-AI38,IF(AND(J38>0,AI38>0,BB38<=AI38),AI38-BB38,IF(AND(J38>0,AI38>0,BB38>AI38),J38-BB38,0)))","v":0},{"$f":"IF(J38=0,0,\"\")","v":0},{"$f":"IF(AND(AH38<=40,E38=J38),J38,0)","v":0},{"$f":"IF(AND(AZ38=0),AZ38,IF(AND(AH38>40,E38>=J38),BE38,IF(AND(AH38<=40,E38>J38),J38,0)))","v":0},{"$f":"IF(AND(AH38<=40,E38<J38),O38-J38,0)","v":0},{"$f":"IF(AND(J38=0),J38,IF(AND(J38>0,AI38>0,J38=BC38),BC38,IF(AND(J38>0,AI38>0,J38-BC38),BC38,0)))","v":0},null,{"$f":"BD38","v":0},null,{"$f":"IF(AND(G38>0,E38>0),1,0)","v":0},{"$f":"40-AH38","v":40},0,{"$f":"IF(AND(BH38=1,BL38>40,E38<G38),E38-BJ38,(IF(AND(BH38=1,BL38>0,E38>=G38),G38-BJ38,0)))","v":0},{"$f":"E38","v":0},{"$f":"IF(AND(K38>0,E38>0),1,0)","v":0},{"$f":"IF(AND(BM38=1,J38>8),K38,(IF(AND(BM38=1,J38>0),J38,0)))","v":0},{"$f":"IF(AND(BM38=1,40-BL37>0,40-BL37<8),40-BL37,IF(AND(J38<K38),J38,K38))","v":0},{"$f":"IF(AND(BM38=1,BL38>40,J38<=K38),J38-BO38,IF(AND(BM38=1,BL38>0,J38>K38),K38-BO38,0))","v":0}]
[{"$f":"IF(A38<$O$7,A38+1,IF(A38=$O$7,\"\"))","v":false},null,null,"Monday",null,null,null,0,null,null,null,null,null,null,{"$f":"SUM(E39:N39)-J39","v":0},{"$f":"IF(AND(ISNUMBER(AA39),ISNUMBER(X39)),AA39*X39,\"\")","v":""},null,{"$f":"IF(AND(ISNUMBER(AB39),ISNUMBER(X39)),AB39*X39,\"\")","v":""},null,null,0,{"$f":"IF(BK39>0,BK39,0)","v":0},null,{"$f":"IF(ISNA(INDEX('Conversion Factors'!$B$6:$B$370,MATCH('Oct 16 - Oct 31'!$Z$38:$Z$44,'Conversion Factors'!$A$6:$A$370,0))),\"\",INDEX('Conversion Factors'!$B$6:$B$370,MATCH('Oct 16 - Oct 31'!$Z$38:$Z$44,'Conversion Factors'!$A$6:$A$370,0)))","v":""},null,false,"","",null,null,null,null,null,0,{"$f":"IF(AH39>$AI$12,AH39-($AI$12+AI38+AI37),0)","v":0},false,{"$f":"IF(AND(AO39>0,AO39),IF(AP39>0,AP39,IF(AQ39>0,AQ39,IF(AR39>0,AR39,IF(AU39>0,AU39,0)))))","v":false},null,0,null,0,0,0,0,0,{"$f":"IF(AND(AH38<=40),40-AH38,0)","v":40},{"$f":"AS39","v":0},0,{"$f":"AV39","v":0},null,0,0,0,0,0,0,{"$f":"IF(AND(AH38<=40),40-AH38,0)","v":40},{"$f":"BD39","v":0},null,{"$f":"IF(AND(G39>0,E39>0),1,0)","v":0},40,0,0,{"$f":"SUM(E38:E39)","v":0},{"$f":"IF(AND(K39>0,E39>0),1,0)","v":0},{"$f":"IF(AND(BM39=1,J39>8),K39,(IF(AND(BM39=1,J39>0),J39,0)))","v":0},0,0]
[false,null,null,"Tuesday",null,null,null,null,null,0,0,null,null,null,{"$f":"SUM(E40:N40)-J40","v":0},"",null,"",null,null,0,0,null,{"$f":"IF(ISNA(INDEX('Conversion Factors'!$B$6:$B$370,MATCH('Oct 16 - Oct 31'!$Z$38:$Z$44,'Conversion Factors'!$A$6:$A$370,0))),\"\",INDEX('Conversion Factors'!$B$6:$B$370,MATCH('Oct 16 - Oct 31'!$Z$38:$Z$44,'Conversion Factors'!$A$6:$A$370,0)))","v":""},null,false,"","",null,null,null,null,null,0,{"$f":"IF(AH40>$AI$12,AH40-($AI$12+AI39+AI38+AI37),0)","v":0},false,false,null,0,null,0,0,0,0,0,40,0,0,0,null,0,0,0,0,0,0,{"$f":"IF(AND(AH39<=40),40-AH39,0)","v":40},0,null,{"$f":"IF(AND(G40>0,E40>0),1,0)","v":0},40,0,0,{"$f":"SUM(E38:E40)","v":0},0,{"$f":"IF(AND(BM40=1,J40>8),K40,(IF(AND(BM40=1,J40>0),J40,0)))","v":0},{"$f":"IF(AND(BM40=1,40-BL39>0,40-BL39<8),40-BL39,IF(AND(J40<K40),J40,K40))","v":0},0]
[false,null,null,"Wednesday",null,null,null,null,null,null,null,null,null,null,0,"",null,"",null,null,0,0,null,{"$f":"IF(ISNA(INDEX('Conversion Factors'!$B$6:$B$370,MATCH('Oct 16 - Oct 31'!$Z$38:$Z$44,'Conversion Factors'!$A$6:$A$370,0))),\"\",INDEX('Conversion Factors'!$B$6:$B$370,MATCH('Oct 16 - Oct 31'!$Z$38:$Z$44,'Conversion Factors'!$A$6:$A$370,0)))","v":""},null,false,"","",null,null,null,null,null,0,{"$f":"IF(AH41>$AI$12,AH41-($AI$12+AI40+AI39+AI38+AI37),0)","v":0},false,false,null,0,null,0,0,0,0,0,40,0,0,0,null,0,0,0,0,0,0,40,0,null,{"$f":"IF(AND(G41>0,E41>0),1,0)","v":0},40,0,0,{"$f":"SUM(E38:E41)","v":0},0,{"$f":"IF(AND(BM41=1,J41>8),K41,(IF(AND(BM41=1,J41>0),J41,0)))","v":0},{"$f":"IF(AND(BM41=1,40-BL40>0,40-BL40<8),40-BL40,IF(AND(J41<K41),J41,K41))","v":0},0]
[false,null,null,"Thursday",null,null,null,null,null,null,null,null,null,null,0,"",null,"",null,null,0,0,null,{"$f":"IF(ISNA(INDEX('Conversion Factors'!$B$6:$B$370,MATCH('Oct 16 - Oct 31'!$Z$38:$Z$44,'Conversion Factors'!$A$6:$A$370,0))),\"\",INDEX('Conversion Factors'!$B$6:$B$370,MATCH('Oct 16 - Oct 31'!$Z$38:$Z$44,'Conversion Factors'!$A$6:$A$370,0)))","v":""},null,false,"","",null,null,null,null,null,0,{"$f":"IF(AH42>$AI$12,AH42-($AI$12+AI41+AI40+AI39+AI38+AI37),0)","v":0},false,false,null,0,null,0,0,0,0,0,{"$f":"IF(AND(AH41<=40),40-AH41,0)","v":40},0,0,0,null,0,0,0,0,0,0,40,0,null,0,40,0,0,{"$f":"SUM(E38:E42)","v":0},0,0,0,0]
[false,null,null,"Friday",null,null,null,null,null,null,null,null,null,null,0,"",null,"",null,null,0,0,null,{"$f":"IF(ISNA(INDEX('Conversion Factors'!$B$6:$B$370,MATCH('Oct 16 - Oct 31'!$Z$38:$Z$44,'Conversion Factors'!$A$6:$A$370,0))),\"\",INDEX('Conversion Factors'!$B$6:$B$370,MATCH('Oct 16 - Oct 31'!$Z$38:$Z$44,'Conversion Factors'!$A$6:$A$370,0)))","v":""},null,false,"","",null,null,null,null,null,0,{"$f":"IF(AH43>$AI$12,AH43-($AI$12+AI42+AI41+AI40+AI39+AI38+AI37),0)","v":0},false,false,null,0,null,0,0,0,0,0,{"$f":"IF(AND(AH42<=40),40-AH42,0)","v":40},0,0,0,null,0,0,0,0,0,0,40,0,null,0,40,0,0,{"$f":"SUM(E38:E43)","v":0},0,0,0,{"$f":"IF(AND(BM43=1,BL43>40,J43<=K43),J43-BO43,IF(AND(BM43=1,BL43>0,J43>K43),K43-BO43,0))","v":0}]
[false,null,null,"Saturday",null,null,null,null,null,null,null,null,null,null,{"$f":"SUM(E44:N44)-J44","v":0},"",null,"",null,null,0,0,null,{"$f":"IF(ISNA(INDEX('Conversion Factors'!$B$6:$B$370,MATCH('Oct 16 - Oct 31'!$Z$38:$Z$44,'Conversion Factors'!$A$6:$A$370,0))),\"\",INDEX('Conversion Factors'!$B$6:$B$370,MATCH('Oct 16 - Oct 31'!$Z$38:$Z$44,'Conversion Factors'!$A$6:$A$370,0)))","v":""},null,false,"","",null,null,null,null,null,0,{"$f":"IF(AH44>$AI$12,AH44-($AI$12+AI43+AI42+AI41+AI40+AI39+AI38+AI37),0)","v":0},false,false,null,0,null,0,0,0,0,0,40,0,0,0,null,0,0,0,0,0,0,40,0,null,0,40,0,0,{"$f":"SUM(E38:E44)","v":0},0,0,0,{"$f":"IF(AND(BM44=1,BL44>40,J44<=K44),J44-BO44,IF(AND(BM44=1,BL44>0,J44>K44),K44-BO44,0))","v":0}]
["Week 4 Totals",null,null,null,{"$f":"SUM(E38:E44)","v":0},{"$f":"SUM(F38:F44)","v":0},0,0,0,null,0,0,0,0,{"$f":"SUM(O38:O44)","v":0},{"$f":"-SUM(P38:P44)","v":0},{"$f":"SUM(Q38:Q44)","v":0},{"$f":"SUM(R38:R44)","v":0},{"$f":"IF(E45>40,(E45-40)-V45,0)","v":0},{"$f":"MROUND(AL45,0.25)","v":0},{"$f":"SUM(U38:U44)","v":0},{"$f":"SUM(V38:V44)","v":0},{"$f":"IF(E45-(E11-(G45+K45+F45+H45+I45+L45+M45))-(S45+U45+V45)>0,E45-(E11-(G45+K45+F45+H45+I45+L45+M45))-(S45+U45+V45),0)","v":0},null,null,null,null,null,{"$f":"SUM(F45:N45)","v":0},{"$f":"IF(AND(AG45<40,O45>=AG45),O45-(AG45+S45),IF(AND(O45<AG45,E45=O45),O45-E45,IF(AND(E45>AG45,E45<40),E45-AG45,IF(AND(O45>AG45,E45<AG45),E45-(AG45-AC45),IF(AND(O45>AG45,E45>40),E45-(AG45-AC45+S45),IF(AND(O45>AG45,O45>40),O45-(S45+AG45),0))))))","v":0},{"$f":"AD45-U45-V45","v":0},{"$f":"$W$11","v":"Please Select"},{"$f":"$E$11","v":40},null,{"$f":"IF(AH45>$AI$12,-$AI$12,0)","v":0},null,null,{"$f":"IF(AF45=\"Yes\",S45*1.5,0)","v":0},null,null,null,null,null,null,null,null,null,null,null,null,null,null,null,null,null,null,null,null,null,null,null,null,null,null,null,null,null,{"$f":"SUM(BP38:BP44)","v":0},{"$f":"E44+E11","v":40}]
[null,null,null,null,null,null,null,null,"Total-Net Previous Week",null,null,null,null,null,{"$f":"(O21+O29+O37+O45)-O13","v":0},{"$f":"(P21+P29+P37+P45)-P13","v":0},0,0,0,0,0,0,0,0]
[]
[null,null,null,null,null,null,null,null,null,null,null,null,null,null,"Leave/Leave Without Pay Policy"]
["Employee signature",null,null,null,null,null,"Date",null,null,null,null,null,null,null,"Overtime/Compensatory Time"]
["I certify this record is accurate and accounts for my time during the indicated period.",null,null,null,null,null,null,null,null,null,null,null,null,null,"Time Sheet Definitions/Policies"]
[]
[null,null,null,null,null,null,null,null,null,null,"“Actual Work Hours During Administrative Close Period” – Only key the hours actually worked during the admministrative closing period into this field. "]
[]
["Manager signature",null,null,null,null,null,"Date"]
["I certify the hours recorded and coded on this form are correct and in compliance with University policy.",null,null,null,null,null,null,null,null,null,"“Administrative Closing/Leave Period field.”  Entter the number of hours of the declared period of administrative closing. (The total hours worked during the entire day will be entered into the “Actual Hours Worked” field.)"]

{"sheet":"Nov 1 - Nov 15","index":15,"n_rows":55,"n_cols":69,"rows_kept":55,"cut":false,"hidden":false,"merged":[[47,14,47,22],[48,14,48,19],[49,14,49,22],[51,10,53,22],[54,10,56,22],[45,8,45,13],[34,0,34,2],[35,0,35,2],[36,0,36,2],[37,0,37,2],[38,0,38,2],[39,0,39,2],[40,0,40,2],[41,0,41,2],[42,0,42,2],[43,0,43,2],[44,0,44,2],[33,0,33,2],[22,0,22,2],[23,0,23,2],[24,0,24,2],[25,0,25,2],[26,0,26,2],[27,0,27,2],[28,0,28,2],[29,0,29,2],[30,0,30,2],[31,0,31,2],[32,0,32,2],[21,0,21,2],[11,0,11,2],[11,29,11,30],[12,0,12,3],[13,0,13,2],[14,0,14,2],[15,0,15,2],[16,0,16,2],[17,0,17,2],[18,0,18,2],[19,0,19,2],[20,0,20,2],[10,40,10,46],[6,2,6,7],[6,8,6,13],[6,14,6,19],[7,2,7,7],[7,8,7,13],[7,14,7,19],[10,0,10,3],[10,4,10,5],[10,6,10,17],[10,18,10,21],[10,22,10,23],[0,0,0,22],[1,0,1,22],[3,0,3,23],[5,2,5,7],[5,8,5,13],[5,14,5,19]]}
["Mississippi State University"]
["Non-Exempt Employee Semi-Monthly Time Report"]
[]
["Instructions:  The Fair Labor Standards Act requires that a record of hours worked on a weekly basis be maintained for all employees except executive, administrative, managerial, faculty, and professional (non-faculty).  Department/unit heads are responsible for compiling and maintaining this record in department files on each covered employee for a period of at least (3) years."]
[]
["MSU ID #:",null,{"$f":"'July 1 - July 15'!C6","v":0},null,null,null,null,null,"Pay period start date:",null,null,null,null,null,{"$f":"'Dates & Notes'!$A$10","v":"2022-11-01"},null,null,null,null,null,null,null,null,null,null,{"$f":"TEXT(O6,\"dddd\")","v":"Tuesday"},null,null,null,"Please Select"]
["Name:",null,{"$f":"'July 1 - July 15'!C7","v":0},null,null,null,null,null,"Pay period end date:",null,null,null,null,null,{"$f":"'Dates & Notes'!$B$10","v":"2022-11-15"},null,null,null,null,null,null,null,null,null,null,null,null,null,null,"No"]
["Department:",null,{"$f":"'July 1 - July 15'!C8","v":0},null,null,null,null,null,"Pay Period Number:",null,null,null,null,null,{"$f":"'Dates & Notes'!$C$10","v":21},null,null,null,null,null,null,null,null,null,null,null,null,null,null,"Yes"]
[]
[]
["Employee Scheduled Hours Per Week",null,null,null,40,null,"FIELDS MUST BE ENTERED FOR CALULATIONS TO WORK PROPERLY",null,null,null,null,null,null,null,null,null,null,null,"Receive Compensatory Time",null,null,null,"Please Select",null,null,null,null,null,null,null,null,null,null,null,"Over 40",null,null,null,null,null,"HOW ANALYSIS"]
["Work Week Dates",null,null,"Day of The Week","Actual Hours Worked","Compensatory Time Used","Holiday","Medical Leave","Personal Leave","Actual Wrk Hrs During  Admin Close Period","Administrative Closing/Leave Period","Jury Duty","Military Leave","Leave Without Pay","Totals","DOC-Payroll Conversion","RTO","RTO-Payroll Conversion","Overtime Hours","Hours Transferred to Comp. Record","HOW-Holiday Pay or Admin/Leave Closing","HOT-Holiday Pay","SST-Payroll","Conversion Factor",null,8,"DOC","RTO",null,"SST",null,null,null,"Cumm Actual HRS",40,"Administrative Leave","HOW-Holiday Pay","Comp. Time","Administrative/Schedule",null,"Holiday=0\n1",2,3,4,null,"<=40\n5",null,"HOT Workup","HOT-Holiday Pay (HOLIDAY PAY)",null,"HOT-Administrative HRS","Administrative=0\n1",2,3,4,null,"<=40\n5",null,null,"Holiday Flag","Up to 40","How","Hot","Actual Hours Worked","Admin Flag","Admin","Admin HOW","Admin OVT"]
["Hours-Previous WK (Due to Split WK)",null,null,null,{"$f":"SUM(E14:E15)","v":0},0,0,0,0,0,0,0,{"$f":"SUM(M14:M15)","v":0},0,{"$f":"SUM(E13:N13)-J13","v":0},null,null,null,null,null,null,null,null,null,null,null,null,null,null,null,null,null,null,null,null,{"$f":"IF(AND(AM13=0,J13=0),AM13,IF(AND(E13>AM13,J13=0),J13,IF(AND(J13<AM13,AI13=0),J13,IF(AND(AM13=J13,AI13<AM13),AM13-AI13,IF(AND(J13=AM13,AI13=AM13),AI13,IF(AND(J13<AM13,AI13>0),AM13-J13,IF(AND(AM13>J13,AI13<E13),E13-AI13,IF(AND(E13>AM13,AI13=E13),O13-AI13,0))))))))","v":0},{"$f":"IF(AND(G13=0,E13>G13),G13,IF(AND(E13>G13,AI13=0),G13,IF(AND(E13<G13,AI13=0),E13,IF(AND(E13=G13,AI13<G13),G13-AI13,IF(AND(E13=G13,AI13=G13),AI13,IF(AND(E13<G13,AI13>0),G13-E13,IF(AND(E13>G13,AI13<E13),E13-AI13,IF(AND(E13>G13,AI13=E13),O13-AI13,0))))))))","v":0},null,{"$f":"K13","v":0}]
[{"$f":"IF(EXACT(D14,$Z$6)=TRUE,$O$6,IF(A12=0,\"\",IF(A12<$O$7,A12+1,IF(A12=$O$7,\"\"))))","v":false},null,null,"Sunday",{"$f":"'Oct 16 - Oct 31'!E30","v":0},{"$f":"'Oct 16 - Oct 31'!F30","v":0},{"$f":"'Oct 16 - Oct 31'!G30","v":0},{"$f":"'Oct 16 - Oct 31'!H30","v":0},{"$f":"'Oct 16 - Oct 31'!I30","v":0},{"$f":"'Oct 16 - Oct 31'!J30","v":0},{"$f":"'Oct 16 - Oct 31'!K30","v":0},{"$f":"'Oct 16 - Oct 31'!L30","v":0},{"$f":"'Oct 16 - Oct 31'!M30","v":0},{"$f":"'Oct 16 - Oct 31'!N30","v":0},{"$f":"SUM(E14:N14)-J14","v":0},{"$f":"IF(AND(ISNUMBER(AA14),ISNUMBER(X14)),AA14*X14,\"\")","v":""},null,{"$f":"IF(AND(ISNUMBER(AB14),ISNUMBER(X14)),AB14*X14,\"\")","v":""},null,null,{"$f":"IF(BJ14>0,BJ14,BN14)","v":0},{"$f":"IF(BK14>0,BK14,0)","v":0},null,{"$f":"IF(ISNA(INDEX('Conversion Factors'!$B$6:$B$371,MATCH('Nov 1 - Nov 15'!$Z$14:$Z$20,'Conversion Factors'!$A$6:$A$371,0))),\"\",INDEX('Conversion Factors'!$B$6:$B$371,MATCH('Nov 1 - Nov 15'!$Z$14:$Z$20,'Conversion Factors'!$A$6:$A$371,0)))","v":""},null,{"$f":"A14","v":false},{"$f":"IF(AND(ISNUMBER(N14),ISNUMBER($Z$12)),N14/$Z$12,\"\")","v":0},{"$f":"IF(AND(ISNUMBER(Q14),ISNUMBER($Z$12)),Q14/$Z$12,\"\")","v":""},null,null,null,null,null,{"$f":"E14","v":0},{"$f":"IF(AH14>$AI$12,AH14-$AI$12,0)","v":0},{"$f":"IF(AND(AZ14>0,AZ14),IF(BA14>0,BA14,IF(BB14>0,BB14,IF(BC14>0,BC14,IF(BF14>0,BF14,\"\")))))","v":false},{"$f":"IF(AND(AO14>0,AO14),IF(AP14>0,AP14,IF(AQ14>0,AQ14,IF(AR14>0,AR14,IF(AU14>0,AU14,\"\")))))","v":false},null,{"$f":"J14","v":0},null,{"$f":"IF(G14=0,0,\"\")","v":0},{"$f":"IF(AND(AH14<=40,E14=G14),G14,0)","v":0},{"$f":"IF(AND(AH14<=40,E14>=G14,G14>0),O14-E14,0)","v":0},{"$f":"IF(AND(AH14<=40,E14<G14),O14-G14,0)","v":0},{"$f":"IF(AND(G14=0),G14,IF(AND(G14>0,AI14>0,G14=AT14),AT14,IF(AND(G14>0,AI14>0,G14-AT14),AT14,0)))","v":0},null,{"$f":"AS14","v":0},{"$f":"IF(AND(AH13+AU14=40,AI14>0,AI14>AU14),AI14-AU14,IF(AND(AH13+AU14=40,AI14>0,AI14<AU14,AU14+AI14=G14),AI14,IF(AND(AH13>40,AH14>40,G14=AI14),AI14,0)))","v":0},{"$f":"AV14","v":0},null,{"$f":"IF(AND(J14>0,AI14>=J14,BB14=0),O14-AI14,IF(AND(J14>0,AI14>0,BB14<=AI14),AI14-BB14,IF(AND(J14>0,AI14>0,BB14>AI14),J14-BB14,0)))","v":0},{"$f":"IF(J14=0,0,\"\")","v":0},{"$f":"IF(AND(AH14<=40,E14=J14),J14,0)","v":0},{"$f":"IF(AND(AZ14=0),AZ14,IF(AND(AH14>40,E14>=J14),BE14,IF(AND(AH14<=40,E14>J14),J14,0)))","v":0},{"$f":"IF(AND(AH14<=40,E14<J14),O14-J14,0)","v":0},{"$f":"IF(AND(J14=0),J14,IF(AND(J14>0,AI14>0,J14=BC14),BC14,IF(AND(J14>0,AI14>0,J14-BC14),BC14,0)))","v":0},null,{"$f":"BD14","v":0},null,{"$f":"IF(AND(G14>0,E14>0),1,0)","v":0},{"$f":"40-AH14","v":40},{"$f":"IF(AND(BH14=1,E14<8),E14,(IF(AND(BH14=1,E14>0),G14,0)))","v":0},{"$f":"IF(AND(BH14=1,BL14>40,E14<G14),E14-BJ14,(IF(AND(BH14=1,BL14>0,E14>=G14),G14-BJ14,0)))","v":0},{"$f":"E14","v":0},{"$f":"IF(AND(K14>0,E14>0),1,0)","v":0},{"$f":"IF(AND(BM14=1,J14>8),K14,(IF(AND(BM14=1,J14>0),J14,0)))","v":0},{"$f":"IF(AND(BM14=1,40-BL13>0,40-BL13<8),40-BL13,IF(AND(J14<K14),J14,K14))","v":0},{"$f":"IF(AND(BM14=1,BL14>40,J14<=K14),J14-BO14,IF(AND(BM14=1,BL14>0,J14>K14),K14-BO14,0))","v":0}]
[{"$f":"IF(EXACT(D15,$Z$6)=TRUE,$O$6,IF(A14=0,\"\",IF(A14<$O$7,A14+1,IF(A14=$O$7,\"\"))))","v":false},null,null,"Monday",{"$f":"'Oct 16 - Oct 31'!E31","v":0},{"$f":"'Oct 16 - Oct 31'!F31","v":0},{"$f":"'Oct 16 - Oct 31'!G31","v":0},{"$f":"'Oct 16 - Oct 31'!H31","v":0},{"$f":"'Oct 16 - Oct 31'!I31","v":0},{"$f":"'Oct 16 - Oct 31'!J31","v":0},{"$f":"'Oct 16 - Oct 31'!K31","v":0},{"$f":"'Oct 16 - Oct 31'!L31","v":0},{"$f":"'Oct 16 - Oct 31'!M31","v":0},{"$f":"'Oct 16 - Oct 31'!N31","v":0},{"$f":"SUM(E15:N15)-J15","v":0},{"$f":"IF(AND(ISNUMBER(AA15),ISNUMBER(X15)),AA15*X15,\"\")","v":""},null,{"$f":"IF(AND(ISNUMBER(AB15),ISNUMBER(X15)),AB15*X15,\"\")","v":""},null,null,{"$f":"IF(BJ15>0,BJ15,BN15)","v":0},{"$f":"IF(BK15>0,BK15,0)","v":0},null,{"$f":"IF(ISNA(INDEX('Conversion Factors'!$B$6:$B$371,MATCH('Nov 1 - Nov 15'!$Z$14:$Z$20,'Conversion Factors'!$A$6:$A$371,0))),\"\",INDEX('Conversion Factors'!$B$6:$B$371,MATCH('Nov 1 - Nov 15'!$Z$14:$Z$20,'Conversion Factors'!$A$6:$A$371,0)))","v":""},null,false,0,"",null,null,null,null,null,{"$f":"E15+AH14","v":0},{"$f":"IF(AH15>$AI$12,AH15-($AI$12+AI14),0)","v":0},{"$f":"IF(AND(AZ15>0,AZ15),IF(BA15>0,BA15,IF(BB15>0,BB15,IF(BC15>0,BC15,IF(BF15>0,BF15,\"\")))))","v":false},{"$f":"IF(AND(AO15>0,AO15),IF(AP15>0,AP15,IF(AQ15>0,AQ15,IF(AR15>0,AR15,IF(AU15>0,AU15,0)))))","v":false},null,0,null,0,0,0,0,0,{"$f":"IF(AND(AH14<=40),40-AH14,0)","v":40},{"$f":"AS15","v":0},0,{"$f":"AV15","v":0},null,0,0,0,0,0,0,{"$f":"IF(AND(AH14<=40),40-AH14,0)","v":40},{"$f":"BD15","v":0},null,{"$f":"IF(AND(G15>0,E15>0),1,0)","v":0},40,0,0,{"$f":"SUM(E14:E15)","v":0},{"$f":"IF(AND(K15>0,E15>0),1,0)","v":0},{"$f":"IF(AND(BM15=1,J15>8),K15,(IF(AND(BM15=1,J15>0),J15,0)))","v":0},0,0]
["2022-11-01",null,null,"Tuesday",null,null,null,null,null,null,null,null,null,null,{"$f":"SUM(E16:N16)-J16","v":0},"",null,"",null,null,{"$f":"IF(BJ16>0,BJ16,BN16)","v":0},0,null,{"$f":"IF(ISNA(INDEX('Conversion Factors'!$B$6:$B$371,MATCH('Nov 1 - Nov 15'!$Z$14:$Z$20,'Conversion Factors'!$A$6:$A$371,0))),\"\",INDEX('Conversion Factors'!$B$6:$B$371,MATCH('Nov 1 - Nov 15'!$Z$14:$Z$20,'Conversion Factors'!$A$6:$A$371,0)))","v":7.8789999999999996},null,"2022-11-01","","",null,null,null,null,null,0,{"$f":"IF(AH16>$AI$12,AH16-($AI$12+AI15+AI14),0)","v":0},false,false,null,0,null,0,0,0,0,0,40,0,0,0,null,0,0,0,0,0,0,{"$f":"IF(AND(AH15<=40),40-AH15,0)","v":40},0,null,{"$f":"IF(AND(G16>0,E16>0),1,0)","v":0},40,0,0,{"$f":"SUM(E14:E16)","v":0},0,{"$f":"IF(AND(BM16=1,J16>8),K16,(IF(AND(BM16=1,J16>0),J16,0)))","v":0},{"$f":"IF(AND(BM16=1,40-BL15>0,40-BL15<8),40-BL15,IF(AND(J16<K16),J16,K16))","v":0},0]
["2022-11-02",null,null,"Wednesday",null,null,null,null,null,null,null,null,null,null,0,"",null,"",null,null,0,0,null,{"$f":"IF(ISNA(INDEX('Conversion Factors'!$B$6:$B$371,MATCH('Nov 1 - Nov 15'!$Z$14:$Z$20,'Conversion Factors'!$A$6:$A$371,0))),\"\",INDEX('Conversion Factors'!$B$6:$B$371,MATCH('Nov 1 - Nov 15'!$Z$14:$Z$20,'Conversion Factors'!$A$6:$A$371,0)))","v":7.8789999999999996},null,"2022-11-02","","",null,null,null,null,null,0,{"$f":"IF(AH17>$AI$12,AH17-($AI$12+AI16+AI15+AI14),0)","v":0},false,false,null,0,null,0,0,0,0,0,40,0,0,0,null,0,0,0,0,0,0,40,0,null,0,40,0,0,{"$f":"SUM(E14:E17)","v":0},0,{"$f":"IF(AND(BM17=1,J17>8),K17,(IF(AND(BM17=1,J17>0),J17,0)))","v":0},{"$f":"IF(AND(BM17=1,40-BL16>0,40-BL16<8),40-BL16,IF(AND(J17<K17),J17,K17))","v":0},0]
["2022-11-03",null,null,"Thursday",null,null,null,null,null,null,null,null,null,null,0,"",null,"",null,null,0,0,null,{"$f":"IF(ISNA(INDEX('Conversion Factors'!$B$6:$B$371,MATCH('Nov 1 - Nov 15'!$Z$14:$Z$20,'Conversion Factors'!$A$6:$A$371,0))),\"\",INDEX('Conversion Factors'!$B$6:$B$371,MATCH('Nov 1 - Nov 15'!$Z$14:$Z$20,'Conversion Factors'!$A$6:$A$371,0)))","v":7.8789999999999996},null,"2022-11-03","","",null,null,null,null,null,0,{"$f":"IF(AH18>$AI$12,AH18-($AI$12+AI17+AI16+AI15+AI14),0)","v":0},false,false,null,0,null,0,0,0,0,0,{"$f":"IF(AND(AH17<=40),40-AH17,0)","v":40},0,0,0,null,0,0,0,0,0,0,40,0,null,0,40,0,0,{"$f":"SUM(E14:E18)","v":0},0,0,0,0]
["2022-11-04",null,null,"Friday",null,null,null,null,null,null,null,null,null,null,0,"",null,"",null,null,0,0,null,{"$f":"IF(ISNA(INDEX('Conversion Factors'!$B$6:$B$371,MATCH('Nov 1 - Nov 15'!$Z$14:$Z$20,'Conversion Factors'!$A$6:$A$371,0))),\"\",INDEX('Conversion Factors'!$B$6:$B$371,MATCH('Nov 1 - Nov 15'!$Z$14:$Z$20,'Conversion Factors'!$A$6:$A$371,0)))","v":7.8789999999999996},null,"2022-11-04","","",null,null,null,null,null,0,{"$f":"IF(AH19>$AI$12,AH19-($AI$12+AI18+AI17+AI16+AI15+AI14),0)","v":0},false,false,null,0,null,0,0,0,0,0,{"$f":"IF(AND(AH18<=40),40-AH18,0)","v":40},0,0,0,null,0,0,0,0,0,0,40,0,null,0,40,0,0,{"$f":"SUM(E14:E19)","v":0},0,0,0,{"$f":"IF(AND(BM19=1,BL19>40,J19<=K19),J19-BO19,IF(AND(BM19=1,BL19>0,J19>K19),K19-BO19,0))","v":0}]
["2022-11-05",null,null,"Saturday",null,null,null,null,null,null,null,null,null,null,{"$f":"SUM(E20:N20)-J20","v":0},"",null,"",null,null,0,0,null,{"$f":"IF(ISNA(INDEX('Conversion Factors'!$B$6:$B$371,MATCH('Nov 1 - Nov 15'!$Z$14:$Z$20,'Conversion Factors'!$A$6:$A$371,0))),\"\",INDEX('Conversion Factors'!$B$6:$B$371,MATCH('Nov 1 - Nov 15'!$Z$14:$Z$20,'Conversion Factors'!$A$6:$A$371,0)))","v":7.8789999999999996},null,"2022-11-05","","",null,null,null,null,null,0,{"$f":"IF(AH20>$AI$12,AH20-($AI$12+AI19+AI18+AI17+AI16+AI15+AI14),0)","v":0},false,false,null,0,null,0,0,0,0,0,40,0,0,0,null,0,0,0,0,0,0,40,0,null,0,40,0,0,{"$f":"SUM(E14:E20)","v":0},0,0,0,{"$f":"IF(AND(BM20=1,BL20>40,J20<=K20),J20-BO20,IF(AND(BM20=1,BL20>0,J20>K20),K20-BO20,0))","v":0}]
["Week 1 Totals",null,null,null,{"$f":"SUM(E14:E20)","v":0},{"$f":"SUM(F14:F20)","v":0},0,0,0,null,0,0,0,0,{"$f":"SUM(O14:O20)","v":0},{"$f":"-SUM(P14:P20)","v":0},{"$f":"SUM(Q14:Q20)","v":0},{"$f":"SUM(R14:R20)","v":0},{"$f":"IF(E21>40,(E21-40)-V21-BP21,0)","v":0},{"$f":"MROUND(AL21,0.25)","v":0},{"$f":"SUM(U14:U20)","v":0},{"$f":"SUM(V14:V20)","v":0},{"$f":"IF(E21-(E11-(G21+K21+F21+H21+I21+L21+M21))-(S21+U21+V21)>0,E21-(E11-(G21+K21+F21+H21+I21+L21+M21))-(S21+U21+V21),0)","v":0},null,null,null,null,null,{"$f":"SUM(F21:N21)","v":0},{"$f":"IF(AND(AG21<40,O21>=AG21),O21-(AG21+S21),IF(AND(O21<AG21,E21=O21),O21-E21,IF(AND(E21>AG21,E21<40),E21-AG21,IF(AND(O21>AG21,E21<AG21),E21-(AG21-AC21),IF(AND(O21>AG21,E21>40),E21-(AG21-AC21+S21),IF(AND(O21>AG21,O21>40),O21-(S21+AG21),0))))))","v":0},{"$f":"AD21-U21-V21","v":0},{"$f":"$W$11","v":"Please Select"},{"$f":"$E$11","v":40},null,{"$f":"IF(AH21>$AI$12,-$AI$12,0)","v":0},null,null,{"$f":"IF(AF21=\"Yes\",S21*1.5,0)","v":0},null,null,null,null,null,null,null,null,null,null,null,null,null,null,null,null,null,null,null,null,null,null,null,null,null,null,null,null,null,{"$f":"SUM(BP14:BP20)","v":0},{"$f":"E11+U21","v":40}]
[{"$f":"IF(A20=0,\"\",IF(A20<$O$7,A20+1,IF(A20=$O$7,\"\")))","v":"2022-11-06"},null,null,"Sunday",null,null,null,null,null,null,null,null,null,null,{"$f":"SUM(E22:N22)-J22","v":0},{"$f":"IF(AND(ISNUMBER(AA22),ISNUMBER(X22)),AA22*X22,\"\")","v":""},null,{"$f":"IF(AND(ISNUMBER(AB22),ISNUMBER(X22)),AB22*X22,\"\")","v":""},null,null,{"$f":"IF(BJ22>0,BJ22,BN22)","v":0},{"$f":"IF(BK22>0,BK22,0)","v":0},null,{"$f":"IF(ISNA(INDEX('Conversion Factors'!$B$6:$B$371,MATCH('Nov 1 - Nov 15'!$Z$22:$Z$28,'Conversion Factors'!$A$6:$A$371,0))),\"\",INDEX('Conversion Factors'!$B$6:$B$371,MATCH('Nov 1 - Nov 15'!$Z$22:$Z$28,'Conversion Factors'!$A$6:$A$371,0)))","v":7.8789999999999996},null,{"$f":"A22","v":"2022-11-06"},{"$f":"IF(AND(ISNUMBER(N22),ISNUMBER($Z$12)),N22/$Z$12,\"\")","v":""},{"$f":"IF(AND(ISNUMBER(Q22),ISNUMBER($Z$12)),Q22/$Z$12,\"\")","v":""},null,null,null,null,null,{"$f":"E22+AH21","v":0},{"$f":"IF(AH22>$AI$12,AH22-($AI$12+AI21),0)","v":0},{"$f":"IF(AND(AZ22>0,AZ22),IF(BA22>0,BA22,IF(BB22>0,BB22,IF(BC22>0,BC22,IF(BF22>0,BF22,\"\")))))","v":false},{"$f":"IF(AND(AO22>0,AO22),IF(AP22>0,AP22,IF(AQ22>0,AQ22,IF(AR22>0,AR22,IF(AU22>0,AU22,\"\")))))","v":false},null,{"$f":"J22","v":0},null,{"$f":"IF(G22=0,0,\"\")","v":0},{"$f":"IF(AND(AH22<=40,E22=G22),G22,0)","v":0},{"$f":"IF(AND(AH22<=40,E22>=G22,G22>0),O22-E22,0)","v":0},{"$f":"IF(AND(AH22<=40,E22<G22),O22-G22,0)","v":0},{"$f":"IF(AND(G22=0),G22,IF(AND(G22>0,AI22>0,G22=AT22),AT22,IF(AND(G22>0,AI22>0,G22-AT22),AT22,0)))","v":0},null,{"$f":"AS22","v":0},{"$f":"IF(AND(AH21+AU22=40,AI22>0,AI22>AU22),AI22-AU22,IF(AND(AH21+AU22=40,AI22>0,AI22<AU22,AU22+AI22=G22),AI22,IF(AND(AH21>40,AH22>40,G22=AI22),AI22,0)))","v":0},{"$f":"AV22","v":0},null,{"$f":"IF(AND(J22>0,AI22>0,BB22<=AI22),AI22-BB22,IF(AND(J22>0,AI22>0,BB22>AI22),J22-BB22,0))","v":0},{"$f":"IF(J22=0,0,\"\")","v":0},{"$f":"IF(AND(AH22<=40,E22=J22),J22,0)","v":0},{"$f":"IF(AND(AZ22=0),AZ22,IF(AND(AH22>40,E22>=J22),BE22,IF(AND(AH22<=40,E22>J22),J22,0)))","v":0},{"$f":"IF(AND(AH22<=40,E22<J22),O22-J22,0)","v":0},{"$f":"IF(AND(J22=0),J22,IF(AND(J22>0,AI22>0,J22=BC22),BC22,IF(AND(J22>0,AI22>0,J22-BC22),BC22,0)))","v":0},null,{"$f":"BD22","v":0},null,{"$f":"IF(AND(G22>0,E22>0),1,0)","v":0},{"$f":"40-AH22","v":40},0,{"$f":"IF(AND(BH22=1,BL22>40,E22<G22),E22-BJ22,(IF(AND(BH22=1,BL22>0,E22>=G22),G22-BJ22,0)))","v":0},{"$f":"E22","v":0},{"$f":"IF(AND(K22>0,E22>0),1,0)","v":0},{"$f":"IF(AND(BM22=1,J22>8),K22,(IF(AND(BM22=1,J22>0),J22,0)))","v":0},{"$f":"IF(AND(BM22=1,40-BL21>0,40-BL21<8),40-BL21,IF(AND(J22<K22),J22,K22))","v":0},{"$f":"IF(AND(BM22=1,BL22>40,J22<=K22),J22-BO22,IF(AND(BM22=1,BL22>0,J22>K22),K22-BO22,0))","v":0}]
[{"$f":"IF(A22<$O$7,A22+1,IF(A22=$O$7,\"\"))","v":"2022-11-07"},null,null,"Monday",null,null,null,null,null,null,null,null,null,null,{"$f":"SUM(E23:N23)-J23","v":0},{"$f":"IF(AND(ISNUMBER(AA23),ISNUMBER(X23)),AA23*X23,\"\")","v":""},null,{"$f":"IF(AND(ISNUMBER(AB23),ISNUMBER(X23)),AB23*X23,\"\")","v":""},null,null,{"$f":"IF(BJ23>0,BJ23,BN23)","v":0},{"$f":"IF(BK23>0,BK23,0)","v":0},null,{"$f":"IF(ISNA(INDEX('Conversion Factors'!$B$6:$B$371,MATCH('Nov 1 - Nov 15'!$Z$22:$Z$28,'Conversion Factors'!$A$6:$A$371,0))),\"\",INDEX('Conversion Factors'!$B$6:$B$371,MATCH('Nov 1 - Nov 15'!$Z$22:$Z$28,'Conversion Factors'!$A$6:$A$371,0)))","v":7.8789999999999996},null,"2022-11-07","","",null,null,null,null,null,0,{"$f":"IF(AH23>$AI$12,AH23-($AI$12+AI22+AI21),0)","v":0},false,{"$f":"IF(AND(AO23>0,AO23),IF(AP23>0,AP23,IF(AQ23>0,AQ23,IF(AR23>0,AR23,IF(AU23>0,AU23,0)))))","v":false},null,0,null,0,0,0,0,0,{"$f":"IF(AND(AH22<=40),40-AH22,0)","v":40},{"$f":"AS23","v":0},0,{"$f":"AV23","v":0},null,{"$f":"IF(AND(J23>0,AI23>0,BB23<=AI23),AI23-BB23,IF(AND(J23>0,AI23>0,BB23>AI23),J23-BB23,0))","v":0},0,0,0,0,0,{"$f":"IF(AND(AH22<=40),40-AH22,0)","v":40},{"$f":"BD23","v":0},null,{"$f":"IF(AND(G23>0,E23>0),1,0)","v":0},40,0,0,{"$f":"SUM(E22:E23)","v":0},{"$f":"IF(AND(K23>0,E23>0),1,0)","v":0},{"$f":"IF(AND(BM23=1,J23>8),K23,(IF(AND(BM23=1,J23>0),J23,0)))","v":0},0,0]
["2022-11-08",null,null,"Tuesday",null,null,null,null,null,null,null,null,null,null,{"$f":"SUM(E24:N24)-J24","v":0},"",null,"",null,null,{"$f":"IF(BJ24>0,BJ24,BN24)","v":0},0,null,{"$f":"IF(ISNA(INDEX('Conversion Factors'!$B$6:$B$371,MATCH('Nov 1 - Nov 15'!$Z$22:$Z$28,'Conversion Factors'!$A$6:$A$371,0))),\"\",INDEX('Conversion Factors'!$B$6:$B$371,MATCH('Nov 1 - Nov 15'!$Z$22:$Z$28,'Conversion Factors'!$A$6:$A$371,0)))","v":7.8789999999999996},null,"2022-11-08","","",null,null,null,null,null,0,{"$f":"IF(AH24>$AI$12,AH24-($AI$12+AI23+AI22+AI21),0)","v":0},false,false,null,0,null,0,0,0,0,0,40,0,0,0,null,{"$f":"IF(AND(J24>0,AI24>0,BB24<=AI24),AI24-BB24,IF(AND(J24>0,AI24>0,BB24>AI24),J24-BB24,0))","v":0},0,0,0,0,0,{"$f":"IF(AND(AH23<=40),40-AH23,0)","v":40},0,null,{"$f":"IF(AND(G24>0,E24>0),1,0)","v":0},40,0,0,{"$f":"SUM(E22:E24)","v":0},0,{"$f":"IF(AND(BM24=1,J24>8),K24,(IF(AND(BM24=1,J24>0),J24,0)))","v":0},{"$f":"IF(AND(BM24=1,40-BL23>0,40-BL23<8),40-BL23,IF(AND(J24<K24),J24,K24))","v":0},0]
["2022-11-09",null,null,"Wednesday",null,null,null,null,null,null,null,null,null,null,0,"",null,"",null,null,0,0,null,{"$f":"IF(ISNA(INDEX('Conversion Factors'!$B$6:$B$371,MATCH('Nov 1 - Nov 15'!$Z$22:$Z$28,'Conversion Factors'!$A$6:$A$371,0))),\"\",INDEX('Conversion Factors'!$B$6:$B$371,MATCH('Nov 1 - Nov 15'!$Z$22:$Z$28,'Conversion Factors'!$A$6:$A$371,0)))","v":7.8789999999999996},null,"2022-11-09","","",null,null,null,null,null,0,{"$f":"IF(AH25>$AI$12,AH25-($AI$12+AI24+AI23+AI22+AI21),0)","v":0},false,false,null,0,null,0,0,0,0,0,40,0,0,0,null,{"$f":"IF(AND(J25>0,AI25>0,BB25<=AI25),AI25-BB25,IF(AND(J25>0,AI25>0,BB25>AI25),J25-BB25,0))","v":0},0,0,0,0,0,40,0,null,0,40,0,0,{"$f":"SUM(E22:E25)","v":0},0,{"$f":"IF(AND(BM25=1,J25>8),K25,(IF(AND(BM25=1,J25>0),J25,0)))","v":0},{"$f":"IF(AND(BM25=1,40-BL24>0,40-BL24<8),40-BL24,IF(AND(J25<K25),J25,K25))","v":0},0]
["2022-11-10",null,null,"Thursday",null,null,null,null,null,null,null,null,null,null,0,"",null,"",null,null,0,0,null,{"$f":"IF(ISNA(INDEX('Conversion Factors'!$B$6:$B$371,MATCH('Nov 1 - Nov 15'!$Z$22:$Z$28,'Conversion Factors'!$A$6:$A$371,0))),\"\",INDEX('Conversion Factors'!$B$6:$B$371,MATCH('Nov 1 - Nov 15'!$Z$22:$Z$28,'Conversion Factors'!$A$6:$A$371,0)))","v":7.8789999999999996},null,"2022-11-10","","",null,null,null,null,null,0,{"$f":"IF(AH26>$AI$12,AH26-($AI$12+AI25+AI24+AI23+AI22+AI21),0)","v":0},false,false,null,0,null,0,0,0,0,0,{"$f":"IF(AND(AH25<=40),40-AH25,0)","v":40},0,0,0,null,{"$f":"IF(AND(J26>0,AI26>=J26,BB26=0),O26-AI26,IF(AND(J26>0,AI26>0,BB26<=AI26),AI26-BB26,IF(AND(J26>0,AI26>0,BB26>AI26),J26-BB26,0)))","v":0},0,0,0,0,0,40,0,null,0,40,0,0,{"$f":"SUM(E22:E26)","v":0},0,0,0,0]
["2022-11-11",null,null,"Friday",null,null,null,null,null,null,null,null,null,null,0,"",null,"",null,null,0,0,null,{"$f":"IF(ISNA(INDEX('Conversion Factors'!$B$6:$B$371,MATCH('Nov 1 - Nov 15'!$Z$22:$Z$28,'Conversion Factors'!$A$6:$A$371,0))),\"\",INDEX('Conversion Factors'!$B$6:$B$371,MATCH('Nov 1 - Nov 15'!$Z$22:$Z$28,'Conversion Factors'!$A$6:$A$371,0)))","v":7.8789999999999996},null,"2022-11-11","","",null,null,null,null,null,0,{"$f":"IF(AH27>$AI$12,AH27-($AI$12+AI26+AI25+AI24+AI23+AI22+AI21),0)","v":0},false,false,null,0,null,0,0,0,0,0,{"$f":"IF(AND(AH26<=40),40-AH26,0)","v":40},0,0,0,null,{"$f":"IF(AND(J27>0,AI27>=J27,BB27=0),O27-AI27,IF(AND(J27>0,AI27>0,BB27<=AI27),AI27-BB27,IF(AND(J27>0,AI27>0,BB27>AI27),J27-BB27,0)))","v":0},0,0,0,0,0,40,0,null,0,40,0,0,{"$f":"SUM(E22:E27)","v":0},0,0,0,{"$f":"IF(AND(BM27=1,BL27>40,J27<=K27),J27-BO27,IF(AND(BM27=1,BL27>0,J27>K27),K27-BO27,0))","v":0}]
["2022-11-12",null,null,"Saturday",null,null,null,null,null,null,null,null,null,null,{"$f":"SUM(E28:N28)-J28","v":0},"",null,"",null,null,0,0,null,{"$f":"IF(ISNA(INDEX('Conversion Factors'!$B$6:$B$371,MATCH('Nov 1 - Nov 15'!$Z$22:$Z$28,'Conversion Factors'!$A$6:$A$371,0))),\"\",INDEX('Conversion Factors'!$B$6:$B$371,MATCH('Nov 1 - Nov 15'!$Z$22:$Z$28,'Conversion Factors'!$A$6:$A$371,0)))","v":7.8789999999999996},null,"2022-11-12","","",null,null,null,null,null,0,{"$f":"IF(AH28>$AI$12,AH28-($AI$12+AI27+AI26+AI25+AI24+AI23+AI22+AI21),0)","v":0},false,false,null,0,null,0,0,0,0,0,40,0,0,0,null,{"$f":"IF(AND(J28>0,AI28>=J28,BB28=0),O28-AI28,IF(AND(J28>0,AI28>0,BB28<=AI28),AI28-BB28,IF(AND(J28>0,AI28>0,BB28>AI28),J28-BB28,0)))","v":0},0,0,0,0,0,40,0,null,0,40,0,0,{"$f":"SUM(E22:E28)","v":0},0,0,0,{"$f":"IF(AND(BM28=1,BL28>40,J28<=K28),J28-BO28,IF(AND(BM28=1,BL28>0,J28>K28),K28-BO28,0))","v":0}]
["Week 2 Totals",null,null,null,{"$f":"SUM(E22:E28)","v":0},0,0,0,0,null,0,0,0,0,{"$f":"SUM(O22:O28)","v":0},{"$f":"-SUM(P22:P28)","v":0},{"$f":"SUM(Q22:Q28)","v":0},{"$f":"SUM(R22:R28)","v":0},{"$f":"IF(E29>40,(E29-40)-V29,0)","v":0},{"$f":"MROUND(AL29,0.25)","v":0},{"$f":"SUM(U22:U28)","v":0},{"$f":"SUM(V22:V28)","v":0},{"$f":"IF(E29-(E11-(G29+K29+F29+H29+I29+L29+M29))-(S29+U29+V29)>0,E29-(E11-(G29+K29+F29+H29+I29+L29+M29))-(S29+U29+V29),0)","v":0},null,null,null,null,null,{"$f":"SUM(F29:N29)","v":0},{"$f":"IF(AND(AG29<40,O29>=AG29),O29-(AG29+S29),IF(AND(O29<AG29,E29=O29),O29-E29,IF(AND(E29>AG29,E29<40),E29-AG29,IF(AND(O29>AG29,E29<AG29),E29-(AG29-AC29),IF(AND(O29>AG29,E29>40),E29-(AG29-AC29+S29),IF(AND(O29>AG29,O29>40),O29-(S29+AG29),0))))))","v":0},{"$f":"AD29-U29-V29","v":0},{"$f":"$W$11","v":"Please Select"},{"$f":"$E$11","v":40},null,{"$f":"IF(AH29>$AI$12,-$AI$12,0)","v":0},null,null,{"$f":"IF(AF29=\"Yes\",S29*1.5,0)","v":0},0,null,null,null,null,null,null,null,null,null,null,null,null,0,null,null,null,null,null,null,null,null,null,null,null,null,null,null,null,{"$f":"SUM(BP22:BP28)","v":0},{"$f":"U29+E11","v":40}]
[{"$f":"IF(A28<$O$7,A28+1,IF(A28=$O$7,\"\"))","v":"2022-11-13"},null,null,"Sunday",null,null,null,null,null,null,null,null,null,null,{"$f":"SUM(E30:N30)-J30","v":0},{"$f":"IF(AND(ISNUMBER(AA30),ISNUMBER(X30)),AA30*X30,\"\")","v":""},null,{"$f":"IF(AND(ISNUMBER(AB30),ISNUMBER(X30)),AB30*X30,\"\")","v":""},null,null,{"$f":"IF(BJ30>0,BJ30,BN30)","v":0},{"$f":"IF(BK30>0,BK30,0)","v":0},null,{"$f":"IF(ISNA(INDEX('Conversion Factors'!$B$6:$B$370,MATCH('Nov 1 - Nov 15'!$Z$30:$Z$36,'Conversion Factors'!$A$6:$A$370,0))),\"\",INDEX('Conversion Factors'!$B$6:$B$370,MATCH('Nov 1 - Nov 15'!$Z$30:$Z$36,'Conversion Factors'!$A$6:$A$370,0)))","v":7.8789999999999996},null,{"$f":"A30","v":"2022-11-13"},{"$f":"IF(AND(ISNUMBER(N30),ISNUMBER($Z$12)),N30/$Z$12,\"\")","v":""},{"$f":"IF(AND(ISNUMBER(Q30),ISNUMBER($Z$12)),Q30/$Z$12,\"\")","v":""},null,null,null,null,null,{"$f":"E30+AH29","v":0},{"$f":"IF(AH30>$AI$12,AH30-($AI$12+AI29),0)","v":0},{"$f":"IF(AND(AZ30>0,AZ30),IF(BA30>0,BA30,IF(BB30>0,BB30,IF(BC30>0,BC30,IF(BF30>0,BF30,\"\")))))","v":false},{"$f":"IF(AND(AO30>0,AO30),IF(AP30>0,AP30,IF(AQ30>0,AQ30,IF(AR30>0,AR30,IF(AU30>0,AU30,\"\")))))","v":false},null,0,null,{"$f":"IF(G30=0,0,\"\")","v":0},{"$f":"IF(AND(AH30<=40,E30=G30),G30,0)","v":0},{"$f":"IF(AND(AH30<=40,E30>=G30,G30>0),O30-E30,0)","v":0},{"$f":"IF(AND(AH30<=40,E30<G30),O30-G30,0)","v":0},{"$f":"IF(AND(G30=0),G30,IF(AND(G30>0,AI30>0,G30=AT30),AT30,IF(AND(G30>0,AI30>0,G30-AT30),AT30,0)))","v":0},null,{"$f":"AS30","v":0},{"$f":"IF(AND(AH29+AU30=40,AI30>0,AI30>AU30),AI30-AU30,IF(AND(AH29+AU30=40,AI30>0,AI30<AU30,AU30+AI30=G30),AI30,IF(AND(AH29>40,AH30>40,G30=AI30),AI30,0)))","v":0},{"$f":"AV30","v":0},null,{"$f":"IF(AND(J30>0,AI30>=J30,BB30=0),O30-AI30,IF(AND(J30>0,AI30>0,BB30<=AI30),AI30-BB30,IF(AND(J30>0,AI30>0,BB30>AI30),J30-BB30,0)))","v":0},0,{"$f":"IF(AND(AH30<=40,E30=J30),J30,0)","v":0},{"$f":"IF(AND(AZ30=0),AZ30,IF(AND(AH30>40,E30>=J30),BE30,IF(AND(AH30<=40,E30>J30),J30,0)))","v":0},{"$f":"IF(AND(AH30<=40,E30<J30),O30-J30,0)","v":0},{"$f":"IF(AND(J30=0),J30,IF(AND(J30>0,AI30>0,J30=BC30),BC30,IF(AND(J30>0,AI30>0,J30-BC30),BC30,0)))","v":0},null,{"$f":"BD30","v":0},null,{"$f":"IF(AND(G30>0,E30>0),1,0)","v":0},{"$f":"40-AH30","v":40},0,{"$f":"IF(AND(BH30=1,BL30>40,E30<G30),E30-BJ30,(IF(AND(BH30=1,BL30>0,E30>=G30),G30-BJ30,0)))","v":0},{"$f":"E30","v":0},{"$f":"IF(AND(K30>0,E30>0),1,0)","v":0},{"$f":"IF(AND(BM30=1,J30>8),K30,(IF(AND(BM30=1,J30>0),J30,0)))","v":0},{"$f":"IF(AND(BM30=1,40-BL29>0,40-BL29<8),40-BL29,IF(AND(J30<K30),J30,K30))","v":0},{"$f":"IF(AND(BM30=1,BL30>40,J30<=K30),J30-BO30,IF(AND(BM30=1,BL30>0,J30>K30),K30-BO30,0))","v":0}]
[{"$f":"IF(A30<$O$7,A30+1,IF(A30=$O$7,\"\"))","v":"2022-11-14"},null,null,"Monday",null,null,null,null,null,null,null,null,null,null,{"$f":"SUM(E31:N31)-J31","v":0},{"$f":"IF(AND(ISNUMBER(AA31),ISNUMBER(X31)),AA31*X31,\"\")","v":""},null,{"$f":"IF(AND(ISNUMBER(AB31),ISNUMBER(X31)),AB31*X31,\"\")","v":""},null,null,0,{"$f":"IF(BK31>0,BK31,0)","v":0},null,{"$f":"IF(ISNA(INDEX('Conversion Factors'!$B$6:$B$370,MATCH('Nov 1 - Nov 15'!$Z$30:$Z$36,'Conversion Factors'!$A$6:$A$370,0))),\"\",INDEX('Conversion Factors'!$B$6:$B$370,MATCH('Nov 1 - Nov 15'!$Z$30:$Z$36,'Conversion Factors'!$A$6:$A$370,0)))","v":7.8789999999999996},null,"2022-11-14","","",null,null,null,null,null,0,{"$f":"IF(AH31>$AI$12,AH31-($AI$12+AI30+AI29),0)","v":0},false,{"$f":"IF(AND(AO31>0,AO31),IF(AP31>0,AP31,IF(AQ31>0,AQ31,IF(AR31>0,AR31,IF(AU31>0,AU31,0)))))","v":false},null,0,null,0,0,0,0,0,{"$f":"IF(AND(AH30<=40),40-AH30,0)","v":40},{"$f":"AS31","v":0},0,{"$f":"AV31","v":0},null,0,0,0,0,0,0,{"$f":"IF(AND(AH30<=40),40-AH30,0)","v":40},{"$f":"BD31","v":0},null,{"$f":"IF(AND(G31>0,E31>0),1,0)","v":0},40,0,0,{"$f":"SUM(E30:E31)","v":0},{"$f":"IF(AND(K31>0,E31>0),1,0)","v":0},{"$f":"IF(AND(BM31=1,J31>8),K31,(IF(AND(BM31=1,J31>0),J31,0)))","v":0},0,0]
["2022-11-15",null,null,"Tuesday",null,null,null,null,null,null,null,null,null,null,0,"",null,"",null,null,0,0,null,{"$f":"IF(ISNA(INDEX('Conversion Factors'!$B$6:$B$370,MATCH('Nov 1 - Nov 15'!$Z$30:$Z$36,'Conversion Factors'!$A$6:$A$370,0))),\"\",INDEX('Conversion Factors'!$B$6:$B$370,MATCH('Nov 1 - Nov 15'!$Z$30:$Z$36,'Conversion Factors'!$A$6:$A$370,0)))","v":7.8789999999999996},null,"2022-11-15","","",null,null,null,null,null,0,{"$f":"IF(AH32>$AI$12,AH32-($AI$12+AI31+AI30+AI29),0)","v":0},false,false,null,0,null,0,0,0,0,0,40,0,0,0,null,0,0,0,0,0,0,{"$f":"IF(AND(AH31<=40),40-AH31,0)","v":40},0,null,{"$f":"IF(AND(G32>0,E32>0),1,0)","v":0},40,0,0,{"$f":"SUM(E30:E32)","v":0},0,{"$f":"IF(AND(BM32=1,J32>8),K32,(IF(AND(BM32=1,J32>0),J32,0)))","v":0},{"$f":"IF(AND(BM32=1,40-BL31>0,40-BL31<8),40-BL31,IF(AND(J32<K32),J32,K32))","v":0},0]
["",null,null,"Wednesday",null,null,null,null,null,null,null,null,null,null,0,"",null,"",null,null,0,0,null,{"$f":"IF(ISNA(INDEX('Conversion Factors'!$B$6:$B$370,MATCH('Nov 1 - Nov 15'!$Z$30:$Z$36,'Conversion Factors'!$A$6:$A$370,0))),\"\",INDEX('Conversion Factors'!$B$6:$B$370,MATCH('Nov 1 - Nov 15'!$Z$30:$Z$36,'Conversion Factors'!$A$6:$A$370,0)))","v":""},null,"","","",null,null,null,null,null,0,{"$f":"IF(AH33>$AI$12,AH33-($AI$12+AI32+AI31+AI30+AI29),0)","v":0},false,false,null,0,null,0,0,0,0,0,40,0,0,0,null,0,0,0,0,0,0,40,0,null,{"$f":"IF(AND(G33>0,E33>0),1,0)","v":0},40,0,0,{"$f":"SUM(E30:E33)","v":0},0,{"$f":"IF(AND(BM33=1,J33>8),K33,(IF(AND(BM33=1,J33>0),J33,0)))","v":0},{"$f":"IF(AND(BM33=1,40-BL32>0,40-BL32<8),40-BL32,IF(AND(J33<K33),J33,K33))","v":0},0]
[false,null,null,"Thursday",null,null,null,null,null,null,null,null,null,null,0,"",null,"",null,null,0,0,null,{"$f":"IF(ISNA(INDEX('Conversion Factors'!$B$6:$B$370,MATCH('Nov 1 - Nov 15'!$Z$30:$Z$36,'Conversion Factors'!$A$6:$A$370,0))),\"\",INDEX('Conversion Factors'!$B$6:$B$370,MATCH('Nov 1 - Nov 15'!$Z$30:$Z$36,'Conversion Factors'!$A$6:$A$370,0)))","v":""},null,false,"","",null,null,null,null,null,0,{"$f":"IF(AH34>$AI$12,AH34-($AI$12+AI33+AI32+AI31+AI30+AI29),0)","v":0},false,false,null,0,null,0,0,0,0,0,{"$f":"IF(AND(AH33<=40),40-AH33,0)","v":40},0,0,0,null,0,0,0,0,0,0,40,0,null,0,40,0,0,{"$f":"SUM(E30:E34)","v":0},0,0,0,0]
[false,null,null,"Friday",null,null,null,null,null,null,null,null,null,null,0,"",null,"",null,null,0,0,null,{"$f":"IF(ISNA(INDEX('Conversion Factors'!$B$6:$B$370,MATCH('Nov 1 - Nov 15'!$Z$30:$Z$36,'Conversion Factors'!$A$6:$A$370,0))),\"\",INDEX('Conversion Factors'!$B$6:$B$370,MATCH('Nov 1 - Nov 15'!$Z$30:$Z$36,'Conversion Factors'!$A$6:$A$370,0)))","v":""},null,false,"","",null,null,null,null,null,0,{"$f":"IF(AH35>$AI$12,AH35-($AI$12+AI34+AI33+AI32+AI31+AI30+AI29),0)","v":0},false,false,null,0,null,0,0,0,0,0,{"$f":"IF(AND(AH34<=40),40-AH34,0)","v":40},0,0,0,null,0,0,0,0,0,0,40,0,null,0,40,0,0,{"$f":"SUM(E30:E35)","v":0},0,0,0,{"$f":"IF(AND(BM35=1,BL35>40,J35<=K35),J35-BO35,IF(AND(BM35=1,BL35>0,J35>K35),K35-BO35,0))","v":0}]
[false,null,null,"Saturday",null,null,null,null,null,null,null,null,null,null,0,"",null,"",null,null,0,0,null,{"$f":"IF(ISNA(INDEX('Conversion Factors'!$B$6:$B$370,MATCH('Nov 1 - Nov 15'!$Z$30:$Z$36,'Conversion Factors'!$A$6:$A$370,0))),\"\",INDEX('Conversion Factors'!$B$6:$B$370,MATCH('Nov 1 - Nov 15'!$Z$30:$Z$36,'Conversion Factors'!$A$6:$A$370,0)))","v":""},null,false,"","",null,null,null,null,null,0,{"$f":"IF(AH36>$AI$12,AH36-($AI$12+AI35+AI34+AI33+AI32+AI31+AI30+AI29),0)","v":0},false,false,null,0,null,0,0,0,0,0,40,0,0,0,null,0,0,0,0,0,0,40,0,null,0,40,0,0,{"$f":"SUM(E30:E36)","v":0},0,0,0,{"$f":"IF(AND(BM36=1,BL36>40,J36<=K36),J36-BO36,IF(AND(BM36=1,BL36>0,J36>K36),K36-BO36,0))","v":0}]
["Week 3 Totals",null,null,null,{"$f":"SUM(E30:E36)","v":0},0,0,0,0,null,0,0,0,0,{"$f":"SUM(O30:O36)","v":0},{"$f":"-SUM(P30:P36)","v":0},{"$f":"SUM(Q30:Q36)","v":0},{"$f":"SUM(R30:R36)","v":0},{"$f":"IF(E37>40,(E37-40)-V37,0)","v":0},{"$f":"MROUND(AL37,0.25)","v":0},{"$f":"SUM(U30:U36)","v":0},{"$f":"SUM(V30:V36)","v":0},{"$f":"IF(E37-(E11-(G37+K37+F37+H37+I37+L37+M3))-(S37+U37+V37)>0,E37-(E11-(G37+K37+F37+H37+I37+L37+M37))-(S37+U37+V37),0)","v":0},null,null,null,null,null,{"$f":"SUM(F37:N37)","v":0},{"$f":"IF(AND(AG37<40,O37>=AG37),O37-(AG37+S37),IF(AND(O37<AG37,E37=O37),O37-E37,IF(AND(E37>AG37,E37<40),E37-AG37,IF(AND(O37>AG37,E37<AG37),E37-(AG37-AC37),IF(AND(O37>AG37,E37>40),E37-(AG37-AC37+S37),IF(AND(O37>AG37,O37>40),O37-(S37+AG37),0))))))","v":0},{"$f":"AD37-U37-V37","v":0},{"$f":"$W$11","v":"Please Select"},{"$f":"$E$11","v":40},null,{"$f":"IF(AH37>$AI$12,-$AI$12,0)","v":0},null,null,{"$f":"IF(AF37=\"Yes\",S37*1.5,0)","v":0},null,null,null,null,null,null,null,null,null,null,null,null,null,null,null,null,null,null,null,null,null,0,null,null,null,null,null,null,null,{"$f":"SUM(BP30:BP36)","v":0},{"$f":"U37+E11","v":40}]
[{"$f":"IF(A36<$O$7,A36+1,IF(A36=$O$7,\"\"))","v":false},null,null,"Sunday",null,null,null,null,null,null,null,null,null,null,{"$f":"SUM(E38:N38)-J38","v":0},{"$f":"IF(AND(ISNUMBER(AA38),ISNUMBER(X38)),AA38*X38,\"\")","v":""},null,{"$f":"IF(AND(ISNUMBER(AB38),ISNUMBER(X38)),AB38*X38,\"\")","v":""},null,null,0,{"$f":"IF(BK38>0,BK38,0)","v":0},null,{"$f":"IF(ISNA(INDEX('Conversion Factors'!$B$6:$B$370,MATCH('Nov 1 - Nov 15'!$Z$38:$Z$44,'Conversion Factors'!$A$6:$A$370,0))),\"\",INDEX('Conversion Factors'!$B$6:$B$370,MATCH('Nov 1 - Nov 15'!$Z$38:$Z$44,'Conversion Factors'!$A$6:$A$370,0)))","v":""},null,{"$f":"A38","v":false},{"$f":"IF(AND(ISNUMBER(N38),ISNUMBER($Z$12)),N38/$Z$12,\"\")","v":""},{"$f":"IF(AND(ISNUMBER(Q38),ISNUMBER($Z$12)),Q38/$Z$12,\"\")","v":""},null,null,null,null,null,{"$f":"E38+AH37","v":0},{"$f":"IF(AH38>$AI$12,AH38-($AI$12+AI37),0)","v":0},{"$f":"IF(AND(AZ38>0,AZ38),IF(BA38>0,BA38,IF(BB38>0,BB38,IF(BC38>0,BC38,IF(BF38>0,BF38,\"\")))))","v":false},{"$f":"IF(AND(AO38>0,AO38),IF(AP38>0,AP38,IF(AQ38>0,AQ38,IF(AR38>0,AR38,IF(AU38>0,AU38,\"\")))))","v":false},null,{"$f":"J38","v":0},null,{"$f":"IF(G38=0,0,\"\")","v":0},{"$f":"IF(AND(AH38<=40,E38=G38),G38,0)","v":0},{"$f":"IF(AND(AH38<=40,E38>=G38,G38>0),O38-E38,0)","v":0},{"$f":"IF(AND(AH38<=40,E38<G38),O38-G38,0)","v":0},{"$f":"IF(AND(G38=0),G38,IF(AND(G38>0,AI38>0,G38=AT38),AT38,IF(AND(G38>0,AI38>0,G38-AT38),AT38,0)))","v":0},null,{"$f":"AS38","v":0},{"$f":"IF(AND(AH37+AU38=40,AI38>0,AI38>AU38),AI38-AU38,IF(AND(AH37+AU38=40,AI38>0,AI38<AU38,AU38+AI38=G38),AI38,IF(AND(AH37>40,AH38>40,G38=AI38),AI38,0)))","v":0},{"$f":"AV38","v":0},null,{"$f":"IF(AND(J38>0,AI38>=J38,BB38=0),O38-AI38,IF(AND(J38>0,AI38>0,BB38<=AI38),AI38-BB38,IF(AND(J38>0,AI38>0,BB38>AI38),J38-BB38,0)))","v":0},{"$f":"IF(J38=0,0,\"\")","v":0},{"$f":"IF(AND(AH38<=40,E38=J38),J38,0)","v":0},{"$f":"IF(AND(AZ38=0),AZ38,IF(AND(AH38>40,E38>=J38),BE38,IF(AND(AH38<=40,E38>J38),J38,0)))","v":0},{"$f":"IF(AND(AH38<=40,E38<J38),O38-J38,0)","v":0},{"$f":"IF(AND(J38=0),J38,IF(AND(J38>0,AI38>0,J38=BC38),BC38,IF(AND(J38>0,AI38>0,J38-BC38),BC38,0)))","v":0},null,{"$f":"BD38","v":0},null,{"$f":"IF(AND(G38>0,E38>0),1,0)","v":0},{"$f":"40-AH38","v":40},0,{"$f":"IF(AND(BH38=1,BL38>40,E38<G38),E38-BJ38,(IF(AND(BH38=1,BL38>0,E38>=G38),G38-BJ38,0)))","v":0},{"$f":"E38","v":0},{"$f":"IF(AND(K38>0,E38>0),1,0)","v":0},{"$f":"IF(AND(BM38=1,J38>8),K38,(IF(AND(BM38=1,J38>0),J38,0)))","v":0},{"$f":"IF(AND(BM38=1,40-BL37>0,40-BL37<8),40-BL37,IF(AND(J38<K38),J38,K38))","v":0},{"$f":"IF(AND(BM38=1,BL38>40,J38<=K38),J38-BO38,IF(AND(BM38=1,BL38>0,J38>K38),K38-BO38,0))","v":0}]
[{"$f":"IF(A38<$O$7,A38+1,IF(A38=$O$7,\"\"))","v":false},null,null,"Monday",null,null,null,0,null,null,null,null,null,null,{"$f":"SUM(E39:N39)-J39","v":0},{"$f":"IF(AND(ISNUMBER(AA39),ISNUMBER(X39)),AA39*X39,\"\")","v":""},null,{"$f":"IF(AND(ISNUMBER(AB39),ISNUMBER(X39)),AB39*X39,\"\")","v":""},null,null,0,{"$f":"IF(BK39>0,BK39,0)","v":0},null,{"$f":"IF(ISNA(INDEX('Conversion Factors'!$B$6:$B$370,MATCH('Nov 1 - Nov 15'!$Z$38:$Z$44,'Conversion Factors'!$A$6:$A$370,0))),\"\",INDEX('Conversion Factors'!$B$6:$B$370,MATCH('Nov 1 - Nov 15'!$Z$38:$Z$44,'Conversion Factors'!$A$6:$A$370,0)))","v":""},null,false,"","",null,null,null,null,null,0,{"$f":"IF(AH39>$AI$12,AH39-($AI$12+AI38+AI37),0)","v":0},false,{"$f":"IF(AND(AO39>0,AO39),IF(AP39>0,AP39,IF(AQ39>0,AQ39,IF(AR39>0,AR39,IF(AU39>0,AU39,0)))))","v":false},null,0,null,0,0,0,0,0,{"$f":"IF(AND(AH38<=40),40-AH38,0)","v":40},{"$f":"AS39","v":0},0,{"$f":"AV39","v":0},null,0,0,0,0,0,0,{"$f":"IF(AND(AH38<=40),40-AH38,0)","v":40},{"$f":"BD39","v":0},null,{"$f":"IF(AND(G39>0,E39>0),1,0)","v":0},40,0,0,{"$f":"SUM(E38:E39)","v":0},{"$f":"IF(AND(K39>0,E39>0),1,0)","v":0},{"$f":"IF(AND(BM39=1,J39>8),K39,(IF(AND(BM39=1,J39>0),J39,0)))","v":0},0,0]
[false,null,null,"Tuesday",null,null,null,null,null,0,0,null,null,null,{"$f":"SUM(E40:N40)-J40","v":0},"",null,"",null,null,0,0,null,{"$f":"IF(ISNA(INDEX('Conversion Factors'!$B$6:$B$370,MATCH('Nov 1 - Nov 15'!$Z$38:$Z$44,'Conversion Factors'!$A$6:$A$370,0))),\"\",INDEX('Conversion Factors'!$B$6:$B$370,MATCH('Nov 1 - Nov 15'!$Z$38:$Z$44,'Conversion Factors'!$A$6:$A$370,0)))","v":""},null,false,"","",null,null,null,null,null,0,{"$f":"IF(AH40>$AI$12,AH40-($AI$12+AI39+AI38+AI37),0)","v":0},false,false,null,0,null,0,0,0,0,0,40,0,0,0,null,0,0,0,0,0,0,{"$f":"IF(AND(AH39<=40),40-AH39,0)","v":40},0,null,{"$f":"IF(AND(G40>0,E40>0),1,0)","v":0},40,0,0,{"$f":"SUM(E38:E40)","v":0},0,{"$f":"IF(AND(BM40=1,J40>8),K40,(IF(AND(BM40=1,J40>0),J40,0)))","v":0},{"$f":"IF(AND(BM40=1,40-BL39>0,40-BL39<8),40-BL39,IF(AND(J40<K40),J40,K40))","v":0},0]
[false,null,null,"Wednesday",null,null,null,null,null,null,null,null,null,null,0,"",null,"",null,null,0,0,null,{"$f":"IF(ISNA(INDEX('Conversion Factors'!$B$6:$B$370,MATCH('Nov 1 - Nov 15'!$Z$38:$Z$44,'Conversion Factors'!$A$6:$A$370,0))),\"\",INDEX('Conversion Factors'!$B$6:$B$370,MATCH('Nov 1 - Nov 15'!$Z$38:$Z$44,'Conversion Factors'!$A$6:$A$370,0)))","v":""},null,false,"","",null,null,null,null,null,0,{"$f":"IF(AH41>$AI$12,AH41-($AI$12+AI40+AI39+AI38+AI37),0)","v":0},false,false,null,0,null,0,0,0,0,0,40,0,0,0,null,0,0,0,0,0,0,40,0,null,{"$f":"IF(AND(G41>0,E41>0),1,0)","v":0},40,0,0,{"$f":"SUM(E38:E41)","v":0},0,{"$f":"IF(AND(BM41=1,J41>8),K41,(IF(AND(BM41=1,J41>0),J41,0)))","v":0},{"$f":"IF(AND(BM41=1,40-BL40>0,40-BL40<8),40-BL40,IF(AND(J41<K41),J41,K41))","v":0},0]
[false,null,null,"Thursday",null,null,null,null,null,null,null,null,null,null,0,"",null,"",null,null,0,0,null,{"$f":"IF(ISNA(INDEX('Conversion Factors'!$B$6:$B$370,MATCH('Nov 1 - Nov 15'!$Z$38:$Z$44,'Conversion Factors'!$A$6:$A$370,0))),\"\",INDEX('Conversion Factors'!$B$6:$B$370,MATCH('Nov 1 - Nov 15'!$Z$38:$Z$44,'Conversion Factors'!$A$6:$A$370,0)))","v":""},null,false,"","",null,null,null,null,null,0,{"$f":"IF(AH42>$AI$12,AH42-($AI$12+AI41+AI40+AI39+AI38+AI37),0)","v":0},false,false,null,0,null,0,0,0,0,0,{"$f":"IF(AND(AH41<=40),40-AH41,0)","v":40},0,0,0,null,0,0,0,0,0,0,40,0,null,0,40,0,0,{"$f":"SUM(E38:E42)","v":0},0,0,0,0]
[false,null,null,"Friday",null,null,null,null,null,null,null,null,null,null,0,"",null,"",null,null,0,0,null,{"$f":"IF(ISNA(INDEX('Conversion Factors'!$B$6:$B$370,MATCH('Nov 1 - Nov 15'!$Z$38:$Z$44,'Conversion Factors'!$A$6:$A$370,0))),\"\",INDEX('Conversion Factors'!$B$6:$B$370,MATCH('Nov 1 - Nov 15'!$Z$38:$Z$44,'Conversion Factors'!$A$6:$A$370,0)))","v":""},null,false,"","",null,null,null,null,null,0,{"$f":"IF(AH43>$AI$12,AH43-($AI$12+AI42+AI41+AI40+AI39+AI38+AI37),0)","v":0},false,false,null,0,null,0,0,0,0,0,{"$f":"IF(AND(AH42<=40),40-AH42,0)","v":40},0,0,0,null,0,0,0,0,0,0,40,0,null,0,40,0,0,{"$f":"SUM(E38:E43)","v":0},0,0,0,{"$f":"IF(AND(BM43=1,BL43>40,J43<=K43),J43-BO43,IF(AND(BM43=1,BL43>0,J43>K43),K43-BO43,0))","v":0}]
[false,null,null,"Saturday",null,null,null,null,null,null,null,null,null,null,{"$f":"SUM(E44:N44)-J44","v":0},"",null,"",null,null,0,0,null,{"$f":"IF(ISNA(INDEX('Conversion Factors'!$B$6:$B$370,MATCH('Nov 1 - Nov 15'!$Z$38:$Z$44,'Conversion Factors'!$A$6:$A$370,0))),\"\",INDEX('Conversion Factors'!$B$6:$B$370,MATCH('Nov 1 - Nov 15'!$Z$38:$Z$44,'Conversion Factors'!$A$6:$A$370,0)))","v":""},null,false,"","",null,null,null,null,null,0,{"$f":"IF(AH44>$AI$12,AH44-($AI$12+AI43+AI42+AI41+AI40+AI39+AI38+AI37),0)","v":0},false,false,null,0,null,0,0,0,0,0,40,0,0,0,null,0,0,0,0,0,0,40,0,null,0,40,0,0,{"$f":"SUM(E38:E44)","v":0},0,0,0,{"$f":"IF(AND(BM44=1,BL44>40,J44<=K44),J44-BO44,IF(AND(BM44=1,BL44>0,J44>K44),K44-BO44,0))","v":0}]
["Week 4 Totals",null,null,null,{"$f":"SUM(E38:E44)","v":0},{"$f":"SUM(F38:F44)","v":0},0,0,0,null,0,0,0,0,{"$f":"SUM(O38:O44)","v":0},{"$f":"-SUM(P38:P44)","v":0},{"$f":"SUM(Q38:Q44)","v":0},{"$f":"SUM(R38:R44)","v":0},{"$f":"IF(E45>40,(E45-40)-V45,0)","v":0},{"$f":"MROUND(AL45,0.25)","v":0},{"$f":"SUM(U38:U44)","v":0},{"$f":"SUM(V38:V44)","v":0},{"$f":"IF(E45-(E11-(G45+K45+F45+H45+I45+L45+M45))-(S45+U45+V45)>0,E45-(E11-(G45+K45+F45+H45+I45+L45+M45))-(S45+U45+V45),0)","v":0},null,null,null,null,null,{"$f":"SUM(F45:N45)","v":0},{"$f":"IF(AND(AG45<40,O45>=AG45),O45-(AG45+S45),IF(AND(O45<AG45,E45=O45),O45-E45,IF(AND(E45>AG45,E45<40),E45-AG45,IF(AND(O45>AG45,E45<AG45),E45-(AG45-AC45),IF(AND(O45>AG45,E45>40),E45-(AG45-AC45+S45),IF(AND(O45>AG45,O45>40),O45-(S45+AG45),0))))))","v":0},{"$f":"AD45-U45-V45","v":0},{"$f":"$W$11","v":"Please Select"},{"$f":"$E$11","v":40},null,{"$f":"IF(AH45>$AI$12,-$AI$12,0)","v":0},null,null,{"$f":"IF(AF45=\"Yes\",S45*1.5,0)","v":0},null,null,null,null,null,null,null,null,null,null,null,null,null,null,null,null,null,null,null,null,null,null,null,null,null,null,null,null,null,{"$f":"SUM(BP38:BP44)","v":0},{"$f":"E44+E11","v":40}]
[null,null,null,null,null,null,null,null,"Total-Net Previous Week",null,null,null,null,null,{"$f":"(O21+O29+O37+O45)-O13","v":0},{"$f":"(P21+P29+P37+P45)-P13","v":0},0,0,0,0,0,0,0,0]
[]
[null,null,null,null,null,null,null,null,null,null,null,null,null,null,"Leave/Leave Without Pay Policy"]
["Employee signature",null,null,null,null,null,"Date",null,null,null,null,null,null,null,"Overtime/Compensatory Time"]
["I certify this record is accurate and accounts for my time during the indicated period.",null,null,null,null,null,null,null,null,null,null,null,null,null,"Time Sheet Definitions/Policies"]
[]
[null,null,null,null,null,null,null,null,null,null,"“Actual Work Hours During Administrative Close Period” – Only key the hours actually worked during the admministrative closing period into this field. "]
[]
["Manager signature",null,null,null,null,null,"Date"]
["I certify the hours recorded and coded on this form are correct and in compliance with University policy.",null,null,null,null,null,null,null,null,null,"“Administrative Closing/Leave Period field.”  Entter the number of hours of the declared period of administrative closing. (The total hours worked during the entire day will be entered into the “Actual Hours Worked” field.)"]

{"sheet":"Nov 16 - Nov 30","index":16,"n_rows":55,"n_cols":69,"rows_kept":55,"cut":false,"hidden":false,"merged":[[47,14,47,22],[48,14,48,19],[49,14,49,22],[51,10,53,22],[54,10,56,22],[45,8,45,13],[34,0,34,2],[35,0,35,2],[36,0,36,2],[37,0,37,2],[38,0,38,2],[39,0,39,2],[40,0,40,2],[41,0,41,2],[42,0,42,2],[43,0,43,2],[44,0,44,2],[33,0,33,2],[22,0,22,2],[23,0,23,2],[24,0,24,2],[25,0,25,2],[26,0,26,2],[27,0,27,2],[28,0,28,2],[29,0,29,2],[30,0,30,2],[31,0,31,2],[32,0,32,2],[21,0,21,2],[11,0,11,2],[11,29,11,30],[12,0,12,3],[13,0,13,2],[14,0,14,2],[15,0,15,2],[16,0,16,2],[17,0,17,2],[18,0,18,2],[19,0,19,2],[20,0,20,2],[10,40,10,46],[6,2,6,7],[6,8,6,13],[6,14,6,19],[7,2,7,7],[7,8,7,13],[7,14,7,19],[10,0,10,3],[10,4,10,5],[10,6,10,17],[10,18,10,21],[10,22,10,23],[0,0,0,22],[1,0,1,22],[3,0,3,23],[5,2,5,7],[5,8,5,13],[5,14,5,19]]}
["Mississippi State University"]
["Non-Exempt Employee Semi-Monthly Time Report"]
[]
["Instructions:  The Fair Labor Standards Act requires that a record of hours worked on a weekly basis be maintained for all employees except executive, administrative, managerial, faculty, and professional (non-faculty).  Department/unit heads are responsible for compiling and maintaining this record in department files on each covered employee for a period of at least (3) years."]
[]
["MSU ID #:",null,{"$f":"'July 1 - July 15'!C6","v":0},null,null,null,null,null,"Pay period start date:",null,null,null,null,null,{"$f":"'Dates & Notes'!$A$11","v":"2022-11-16"},null,null,null,null,null,null,null,null,null,null,{"$f":"TEXT(O6,\"dddd\")","v":"Wednesday"},null,null,null,"Please Select"]
["Name:",null,{"$f":"'July 1 - July 15'!C7","v":0},null,null,null,null,null,"Pay period end date:",null,null,null,null,null,{"$f":"'Dates & Notes'!$B$11","v":"2022-11-30"},null,null,null,null,null,null,null,null,null,null,null,null,null,null,"No"]
["Department:",null,{"$f":"'July 1 - July 15'!C8","v":0},null,null,null,null,null,"Pay Period Number:",null,null,null,null,null,{"$f":"'Dates & Notes'!$C$11","v":22},null,null,null,null,null,null,null,null,null,null,null,null,null,null,"Yes"]
[]
[]
["Employee Scheduled Hours Per Week",null,null,null,40,null,"FIELDS MUST BE ENTERED FOR CALULATIONS TO WORK PROPERLY",null,null,null,null,null,null,null,null,null,null,null,"Receive Compensatory Time",null,null,null,"Please Select",null,null,null,null,null,null,null,null,null,null,null,"Over 40",null,null,null,null,null,"HOW ANALYSIS"]
["Work Week Dates",null,null,"Day of The Week","Actual Hours Worked","Compensatory Time Used","Holiday","Medical Leave","Personal Leave","Actual Wrk Hrs During  Admin Close Period","Administrative Closing/Leave Period","Jury Duty","Military Leave","Leave Without Pay","Totals","DOC-Payroll Conversion","RTO","RTO-Payroll Conversion","Overtime Hours","Hours Transferred to Comp. Record","HOW-Holiday Pay or Admin/Leave Closing","HOT-Holiday Pay","SST-Payroll","Conversion Factor",null,8,"DOC","RTO",null,"SST",null,null,null,"Cumm Actual HRS",40,"Administrative Leave","HOW-Holiday Pay","Comp. Time","Administrative/Schedule",null,"Holiday=0\n1",2,3,4,null,"<=40\n5",null,"HOT Workup","HOT-Holiday Pay (HOLIDAY PAY)",null,"HOT-Administrative HRS","Administrative=0\n1",2,3,4,null,"<=40\n5",null,null,"Holiday Flag","Up to 40","How","Hot","Actual Hours Worked","Admin Flag","Admin","Admin HOW","Admin OVT"]
["Hours-Previous WK (Due to Split WK)",null,null,null,{"$f":"SUM(E14:E16)","v":0},0,0,0,0,0,0,0,0,0,{"$f":"SUM(E13:N13)-J13","v":0},null,null,null,null,null,null,null,null,null,null,null,null,null,null,null,null,null,null,null,null,{"$f":"IF(AND(AM13=0,J13=0),AM13,IF(AND(E13>AM13,J13=0),J13,IF(AND(J13<AM13,AI13=0),J13,IF(AND(AM13=J13,AI13<AM13),AM13-AI13,IF(AND(J13=AM13,AI13=AM13),AI13,IF(AND(J13<AM13,AI13>0),AM13-J13,IF(AND(AM13>J13,AI13<E13),E13-AI13,IF(AND(E13>AM13,AI13=E13),O13-AI13,0))))))))","v":0},{"$f":"IF(AND(G13=0,E13>G13),G13,IF(AND(E13>G13,AI13=0),G13,IF(AND(E13<G13,AI13=0),E13,IF(AND(E13=G13,AI13<G13),G13-AI13,IF(AND(E13=G13,AI13=G13),AI13,IF(AND(E13<G13,AI13>0),G13-E13,IF(AND(E13>G13,AI13<E13),E13-AI13,IF(AND(E13>G13,AI13=E13),O13-AI13,0))))))))","v":0},null,{"$f":"K13","v":0}]
[{"$f":"IF(EXACT(D14,$Z$6)=TRUE,$O$6,IF(A12=0,\"\",IF(A12<$O$7,A12+1,IF(A12=$O$7,\"\"))))","v":false},null,null,"Sunday",{"$f":"'Nov 1 - Nov 15'!E30","v":0},{"$f":"'Nov 1 - Nov 15'!F30","v":0},{"$f":"'Nov 1 - Nov 15'!G30","v":0},{"$f":"'Nov 1 - Nov 15'!H30","v":0},{"$f":"'Nov 1 - Nov 15'!I30","v":0},{"$f":"'Nov 1 - Nov 15'!J30","v":0},{"$f":"'Nov 1 - Nov 15'!K30","v":0},{"$f":"'Nov 1 - Nov 15'!L30","v":0},{"$f":"'Nov 1 - Nov 15'!M30","v":0},{"$f":"'Nov 1 - Nov 15'!N30","v":0},{"$f":"SUM(E14:N14)-J14","v":0},{"$f":"IF(AND(ISNUMBER(AA14),ISNUMBER(X14)),AA14*X14,\"\")","v":""},null,{"$f":"IF(AND(ISNUMBER(AB14),ISNUMBER(X14)),AB14*X14,\"\")","v":""},null,null,{"$f":"IF(BJ14>0,BJ14,BN14)","v":0},{"$f":"IF(BK14>0,BK14,0)","v":0},null,{"$f":"IF(ISNA(INDEX('Conversion Factors'!$B$6:$B$371,MATCH('Nov 16 - Nov 30'!$Z$14:$Z$20,'Conversion Factors'!$A$6:$A$371,0))),\"\",INDEX('Conversion Factors'!$B$6:$B$371,MATCH('Nov 16 - Nov 30'!$Z$14:$Z$20,'Conversion Factors'!$A$6:$A$371,0)))","v":""},null,{"$f":"A14","v":false},{"$f":"IF(AND(ISNUMBER(N14),ISNUMBER($Z$12)),N14/$Z$12,\"\")","v":0},{"$f":"IF(AND(ISNUMBER(Q14),ISNUMBER($Z$12)),Q14/$Z$12,\"\")","v":""},null,null,null,null,null,{"$f":"E14","v":0},{"$f":"IF(AH14>$AI$12,AH14-$AI$12,0)","v":0},{"$f":"IF(AND(AZ14>0,AZ14),IF(BA14>0,BA14,IF(BB14>0,BB14,IF(BC14>0,BC14,IF(BF14>0,BF14,\"\")))))","v":false},{"$f":"IF(AND(AO14>0,AO14),IF(AP14>0,AP14,IF(AQ14>0,AQ14,IF(AR14>0,AR14,IF(AU14>0,AU14,\"\")))))","v":false},null,{"$f":"J14","v":0},null,{"$f":"IF(G14=0,0,\"\")","v":0},{"$f":"IF(AND(AH14<=40,E14=G14),G14,0)","v":0},{"$f":"IF(AND(AH14<=40,E14>=G14,G14>0),O14-E14,0)","v":0},{"$f":"IF(AND(AH14<=40,E14<G14),O14-G14,0)","v":0},{"$f":"IF(AND(G14=0),G14,IF(AND(G14>0,AI14>0,G14=AT14),AT14,IF(AND(G14>0,AI14>0,G14-AT14),AT14,0)))","v":0},null,{"$f":"AS14","v":0},{"$f":"IF(AND(AH13+AU14=40,AI14>0,AI14>AU14),AI14-AU14,IF(AND(AH13+AU14=40,AI14>0,AI14<AU14,AU14+AI14=G14),AI14,IF(AND(AH13>40,AH14>40,G14=AI14),AI14,0)))","v":0},{"$f":"AV14","v":0},null,{"$f":"IF(AND(J14>0,AI14>=J14,BB14=0),O14-AI14,IF(AND(J14>0,AI14>0,BB14<=AI14),AI14-BB14,IF(AND(J14>0,AI14>0,BB14>AI14),J14-BB14,0)))","v":0},{"$f":"IF(J14=0,0,\"\")","v":0},{"$f":"IF(AND(AH14<=40,E14=J14),J14,0)","v":0},{"$f":"IF(AND(AZ14=0),AZ14,IF(AND(AH14>40,E14>=J14),BE14,IF(AND(AH14<=40,E14>J14),J14,0)))","v":0},{"$f":"IF(AND(AH14<=40,E14<J14),O14-J14,0)","v":0},{"$f":"IF(AND(J14=0),J14,IF(AND(J14>0,AI14>0,J14=BC14),BC14,IF(AND(J14>0,AI14>0,J14-BC14),BC14,0)))","v":0},null,{"$f":"BD14","v":0},null,{"$f":"IF(AND(G14>0,E14>0),1,0)","v":0},{"$f":"40-AH14","v":40},{"$f":"IF(AND(BH14=1,E14<8),E14,(IF(AND(BH14=1,E14>0),G14,0)))","v":0},{"$f":"IF(AND(BH14=1,BL14>40,E14<G14),E14-BJ14,(IF(AND(BH14=1,BL14>0,E14>=G14),G14-BJ14,0)))","v":0},{"$f":"E14","v":0},{"$f":"IF(AND(K14>0,E14>0),1,0)","v":0},{"$f":"IF(AND(BM14=1,J14>8),K14,(IF(AND(BM14=1,J14>0),J14,0)))","v":0},{"$f":"IF(AND(BM14=1,40-BL13>0,40-BL13<8),40-BL13,IF(AND(J14<K14),J14,K14))","v":0},{"$f":"IF(AND(BM14=1,BL14>40,J14<=K14),J14-BO14,IF(AND(BM14=1,BL14>0,J14>K14),K14-BO14,0))","v":0}]
[{"$f":"IF(EXACT(D15,$Z$6)=TRUE,$O$6,IF(A14=0,\"\",IF(A14<$O$7,A14+1,IF(A14=$O$7,\"\"))))","v":false},null,null,"Monday",{"$f":"'Nov 1 - Nov 15'!E31","v":0},{"$f":"'Nov 1 - Nov 15'!F31","v":0},{"$f":"'Nov 1 - Nov 15'!G31","v":0},{"$f":"'Nov 1 - Nov 15'!H31","v":0},{"$f":"'Nov 1 - Nov 15'!I31","v":0},{"$f":"'Nov 1 - Nov 15'!J31","v":0},{"$f":"'Nov 1 - Nov 15'!K31","v":0},{"$f":"'Nov 1 - Nov 15'!L31","v":0},{"$f":"'Nov 1 - Nov 15'!M31","v":0},{"$f":"'Nov 1 - Nov 15'!N31","v":0},{"$f":"SUM(E15:N15)-J15","v":0},{"$f":"IF(AND(ISNUMBER(AA15),ISNUMBER(X15)),AA15*X15,\"\")","v":""},null,{"$f":"IF(AND(ISNUMBER(AB15),ISNUMBER(X15)),AB15*X15,\"\")","v":""},null,null,{"$f":"IF(BJ15>0,BJ15,BN15)","v":0},{"$f":"IF(BK15>0,BK15,0)","v":0},null,{"$f":"IF(ISNA(INDEX('Conversion Factors'!$B$6:$B$371,MATCH('Nov 16 - Nov 30'!$Z$14:$Z$20,'Conversion Factors'!$A$6:$A$371,0))),\"\",INDEX('Conversion Factors'!$B$6:$B$371,MATCH('Nov 16 - Nov 30'!$Z$14:$Z$20,'Conversion Factors'!$A$6:$A$371,0)))","v":""},null,false,0,"",null,null,null,null,null,{"$f":"E15+AH14","v":0},{"$f":"IF(AH15>$AI$12,AH15-($AI$12+AI14),0)","v":0},{"$f":"IF(AND(AZ15>0,AZ15),IF(BA15>0,BA15,IF(BB15>0,BB15,IF(BC15>0,BC15,IF(BF15>0,BF15,\"\")))))","v":false},{"$f":"IF(AND(AO15>0,AO15),IF(AP15>0,AP15,IF(AQ15>0,AQ15,IF(AR15>0,AR15,IF(AU15>0,AU15,0)))))","v":false},null,0,null,0,0,0,0,0,{"$f":"IF(AND(AH14<=40),40-AH14,0)","v":40},{"$f":"AS15","v":0},0,{"$f":"AV15","v":0},null,0,0,0,0,0,0,{"$f":"IF(AND(AH14<=40),40-AH14,0)","v":40},{"$f":"BD15","v":0},null,{"$f":"IF(AND(G15>0,E15>0),1,0)","v":0},40,0,0,{"$f":"SUM(E14:E15)","v":0},{"$f":"IF(AND(K15>0,E15>0),1,0)","v":0},{"$f":"IF(AND(BM15=1,J15>8),K15,(IF(AND(BM15=1,J15>0),J15,0)))","v":0},0,0]
[false,null,null,"Tuesday",{"$f":"'Nov 1 - Nov 15'!E32","v":0},{"$f":"'Nov 1 - Nov 15'!F32","v":0},{"$f":"'Nov 1 - Nov 15'!G32","v":0},{"$f":"'Nov 1 - Nov 15'!H32","v":0},{"$f":"'Nov 1 - Nov 15'!I32","v":0},{"$f":"'Nov 1 - Nov 15'!J32","v":0},{"$f":"'Nov 1 - Nov 15'!K32","v":0},{"$f":"'Nov 1 - Nov 15'!L32","v":0},{"$f":"'Nov 1 - Nov 15'!M32","v":0},{"$f":"'Nov 1 - Nov 15'!N32","v":0},{"$f":"SUM(E16:N16)-J16","v":0},"",null,"",null,null,{"$f":"IF(BJ16>0,BJ16,BN16)","v":0},0,null,{"$f":"IF(ISNA(INDEX('Conversion Factors'!$B$6:$B$371,MATCH('Nov 16 - Nov 30'!$Z$14:$Z$20,'Conversion Factors'!$A$6:$A$371,0))),\"\",INDEX('Conversion Factors'!$B$6:$B$371,MATCH('Nov 16 - Nov 30'!$Z$14:$Z$20,'Conversion Factors'!$A$6:$A$371,0)))","v":""},null,false,0,"",null,null,null,null,null,0,{"$f":"IF(AH16>$AI$12,AH16-($AI$12+AI15+AI14),0)","v":0},false,false,null,0,null,0,0,0,0,0,40,0,0,0,null,0,0,0,0,0,0,{"$f":"IF(AND(AH15<=40),40-AH15,0)","v":40},0,null,{"$f":"IF(AND(G16>0,E16>0),1,0)","v":0},40,0,0,{"$f":"SUM(E14:E16)","v":0},0,{"$f":"IF(AND(BM16=1,J16>8),K16,(IF(AND(BM16=1,J16>0),J16,0)))","v":0},{"$f":"IF(AND(BM16=1,40-BL15>0,40-BL15<8),40-BL15,IF(AND(J16<K16),J16,K16))","v":0},0]
["2022-11-16",null,null,"Wednesday",null,null,null,null,null,null,null,null,null,null,{"$f":"SUM(E17:N17)-J17","v":0},"",null,"",null,null,0,0,null,{"$f":"IF(ISNA(INDEX('Conversion Factors'!$B$6:$B$371,MATCH('Nov 16 - Nov 30'!$Z$14:$Z$20,'Conversion Factors'!$A$6:$A$371,0))),\"\",INDEX('Conversion Factors'!$B$6:$B$371,MATCH('Nov 16 - Nov 30'!$Z$14:$Z$20,'Conversion Factors'!$A$6:$A$371,0)))","v":7.8789999999999996},null,"2022-11-16","","",null,null,null,null,null,0,{"$f":"IF(AH17>$AI$12,AH17-($AI$12+AI16+AI15+AI14),0)","v":0},false,false,null,0,null,0,0,0,0,0,40,0,0,0,null,0,0,0,0,0,0,40,0,null,0,40,0,0,{"$f":"SUM(E14:E17)","v":0},0,{"$f":"IF(AND(BM17=1,J17>8),K17,(IF(AND(BM17=1,J17>0),J17,0)))","v":0},{"$f":"IF(AND(BM17=1,40-BL16>0,40-BL16<8),40-BL16,IF(AND(J17<K17),J17,K17))","v":0},0]
["2022-11-17",null,null,"Thursday",null,null,null,null,null,null,null,null,null,null,0,"",null,"",null,null,0,0,null,{"$f":"IF(ISNA(INDEX('Conversion Factors'!$B$6:$B$371,MATCH('Nov 16 - Nov 30'!$Z$14:$Z$20,'Conversion Factors'!$A$6:$A$371,0))),\"\",INDEX('Conversion Factors'!$B$6:$B$371,MATCH('Nov 16 - Nov 30'!$Z$14:$Z$20,'Conversion Factors'!$A$6:$A$371,0)))","v":7.8789999999999996},null,"2022-11-17","","",null,null,null,null,null,0,{"$f":"IF(AH18>$AI$12,AH18-($AI$12+AI17+AI16+AI15+AI14),0)","v":0},false,false,null,0,null,0,0,0,0,0,{"$f":"IF(AND(AH17<=40),40-AH17,0)","v":40},0,0,0,null,0,0,0,0,0,0,40,0,null,0,40,0,0,{"$f":"SUM(E14:E18)","v":0},0,0,0,0]
["2022-11-18",null,null,"Friday",null,null,null,null,null,null,null,null,null,null,0,"",null,"",null,null,0,0,null,{"$f":"IF(ISNA(INDEX('Conversion Factors'!$B$6:$B$371,MATCH('Nov 16 - Nov 30'!$Z$14:$Z$20,'Conversion Factors'!$A$6:$A$371,0))),\"\",INDEX('Conversion Factors'!$B$6:$B$371,MATCH('Nov 16 - Nov 30'!$Z$14:$Z$20,'Conversion Factors'!$A$6:$A$371,0)))","v":7.8789999999999996},null,"2022-11-18","","",null,null,null,null,null,0,{"$f":"IF(AH19>$AI$12,AH19-($AI$12+AI18+AI17+AI16+AI15+AI14),0)","v":0},false,false,null,0,null,0,0,0,0,0,{"$f":"IF(AND(AH18<=40),40-AH18,0)","v":40},0,0,0,null,0,0,0,0,0,0,40,0,null,0,40,0,0,{"$f":"SUM(E14:E19)","v":0},0,0,0,{"$f":"IF(AND(BM19=1,BL19>40,J19<=K19),J19-BO19,IF(AND(BM19=1,BL19>0,J19>K19),K19-BO19,0))","v":0}]
["2022-11-19",null,null,"Saturday",null,null,null,null,null,null,null,null,null,null,{"$f":"SUM(E20:N20)-J20","v":0},"",null,"",null,null,0,0,null,{"$f":"IF(ISNA(INDEX('Conversion Factors'!$B$6:$B$371,MATCH('Nov 16 - Nov 30'!$Z$14:$Z$20,'Conversion Factors'!$A$6:$A$371,0))),\"\",INDEX('Conversion Factors'!$B$6:$B$371,MATCH('Nov 16 - Nov 30'!$Z$14:$Z$20,'Conversion Factors'!$A$6:$A$371,0)))","v":7.8789999999999996},null,"2022-11-19","","",null,null,null,null,null,0,{"$f":"IF(AH20>$AI$12,AH20-($AI$12+AI19+AI18+AI17+AI16+AI15+AI14),0)","v":0},false,false,null,0,null,0,0,0,0,0,40,0,0,0,null,0,0,0,0,0,0,40,0,null,0,40,0,0,{"$f":"SUM(E14:E20)","v":0},0,0,0,{"$f":"IF(AND(BM20=1,BL20>40,J20<=K20),J20-BO20,IF(AND(BM20=1,BL20>0,J20>K20),K20-BO20,0))","v":0}]
["Week 1 Totals",null,null,null,{"$f":"SUM(E14:E20)","v":0},{"$f":"SUM(F14:F20)","v":0},0,0,0,null,0,0,0,0,{"$f":"SUM(O14:O20)","v":0},{"$f":"-SUM(P14:P20)","v":0},{"$f":"SUM(Q14:Q20)","v":0},{"$f":"SUM(R14:R20)","v":0},{"$f":"IF(E21>40,(E21-40)-V21-BP21,0)","v":0},{"$f":"MROUND(AL21,0.25)","v":0},{"$f":"SUM(U14:U20)","v":0},{"$f":"SUM(V14:V20)","v":0},{"$f":"IF(E21-(E11-(G21+K21+F21+H21+I21+L21+M21))-(S21+U21+V21)>0,E21-(E11-(G21+K21+F21+H21+I21+L21+M21))-(S21+U21+V21),0)","v":0},null,null,null,null,null,{"$f":"SUM(F21:N21)","v":0},{"$f":"IF(AND(AG21<40,O21>=AG21),O21-(AG21+S21),IF(AND(O21<AG21,E21=O21),O21-E21,IF(AND(E21>AG21,E21<40),E21-AG21,IF(AND(O21>AG21,E21<AG21),E21-(AG21-AC21),IF(AND(O21>AG21,E21>40),E21-(AG21-AC21+S21),IF(AND(O21>AG21,O21>40),O21-(S21+AG21),0))))))","v":0},{"$f":"AD21-U21-V21","v":0},{"$f":"$W$11","v":"Please Select"},{"$f":"$E$11","v":40},null,{"$f":"IF(AH21>$AI$12,-$AI$12,0)","v":0},null,null,{"$f":"IF(AF21=\"Yes\",S21*1.5,0)","v":0},null,null,null,null,null,null,null,null,null,null,null,null,null,null,null,null,null,null,null,null,null,null,null,null,null,null,null,null,null,{"$f":"SUM(BP14:BP20)","v":0},{"$f":"E11+U21","v":40}]
[{"$f":"IF(A20=0,\"\",IF(A20<$O$7,A20+1,IF(A20=$O$7,\"\")))","v":"2022-11-20"},null,null,"Sunday",null,null,null,null,null,null,null,null,null,null,{"$f":"SUM(E22:N22)-J22","v":0},{"$f":"IF(AND(ISNUMBER(AA22),ISNUMBER(X22)),AA22*X22,\"\")","v":""},null,{"$f":"IF(AND(ISNUMBER(AB22),ISNUMBER(X22)),AB22*X22,\"\")","v":""},null,null,{"$f":"IF(BJ22>0,BJ22,BN22)","v":0},{"$f":"IF(BK22>0,BK22,0)","v":0},null,{"$f":"IF(ISNA(INDEX('Conversion Factors'!$B$6:$B$371,MATCH('Nov 16 - Nov 30'!$Z$22:$Z$28,'Conversion Factors'!$A$6:$A$371,0))),\"\",INDEX('Conversion Factors'!$B$6:$B$371,MATCH('Nov 16 - Nov 30'!$Z$22:$Z$28,'Conversion Factors'!$A$6:$A$371,0)))","v":7.8789999999999996},null,{"$f":"A22","v":"2022-11-20"},{"$f":"IF(AND(ISNUMBER(N22),ISNUMBER($Z$12)),N22/$Z$12,\"\")","v":""},{"$f":"IF(AND(ISNUMBER(Q22),ISNUMBER($Z$12)),Q22/$Z$12,\"\")","v":""},null,null,null,null,null,{"$f":"E22+AH21","v":0},{"$f":"IF(AH22>$AI$12,AH22-($AI$12+AI21),0)","v":0},{"$f":"IF(AND(AZ22>0,AZ22),IF(BA22>0,BA22,IF(BB22>0,BB22,IF(BC22>0,BC22,IF(BF22>0,BF22,\"\")))))","v":false},{"$f":"IF(AND(AO22>0,AO22),IF(AP22>0,AP22,IF(AQ22>0,AQ22,IF(AR22>0,AR22,IF(AU22>0,AU22,\"\")))))","v":false},null,{"$f":"J22","v":0},null,{"$f":"IF(G22=0,0,\"\")","v":0},{"$f":"IF(AND(AH22<=40,E22=G22),G22,0)","v":0},{"$f":"IF(AND(AH22<=40,E22>=G22,G22>0),O22-E22,0)","v":0},{"$f":"IF(AND(AH22<=40,E22<G22),O22-G22,0)","v":0},{"$f":"IF(AND(G22=0),G22,IF(AND(G22>0,AI22>0,G22=AT22),AT22,IF(AND(G22>0,AI22>0,G22-AT22),AT22,0)))","v":0},null,{"$f":"AS22","v":0},{"$f":"IF(AND(AH21+AU22=40,AI22>0,AI22>AU22),AI22-AU22,IF(AND(AH21+AU22=40,AI22>0,AI22<AU22,AU22+AI22=G22),AI22,IF(AND(AH21>40,AH22>40,G22=AI22),AI22,0)))","v":0},{"$f":"AV22","v":0},null,{"$f":"IF(AND(J22>0,AI22>0,BB22<=AI22),AI22-BB22,IF(AND(J22>0,AI22>0,BB22>AI22),J22-BB22,0))","v":0},{"$f":"IF(J22=0,0,\"\")","v":0},{"$f":"IF(AND(AH22<=40,E22=J22),J22,0)","v":0},{"$f":"IF(AND(AZ22=0),AZ22,IF(AND(AH22>40,E22>=J22),BE22,IF(AND(AH22<=40,E22>J22),J22,0)))","v":0},{"$f":"IF(AND(AH22<=40,E22<J22),O22-J22,0)","v":0},{"$f":"IF(AND(J22=0),J22,IF(AND(J22>0,AI22>0,J22=BC22),BC22,IF(AND(J22>0,AI22>0,J22-BC22),BC22,0)))","v":0},null,{"$f":"BD22","v":0},null,{"$f":"IF(AND(G22>0,E22>0),1,0)","v":0},{"$f":"40-AH22","v":40},0,{"$f":"IF(AND(BH22=1,BL22>40,E22<G22),E22-BJ22,(IF(AND(BH22=1,BL22>0,E22>=G22),G22-BJ22,0)))","v":0},{"$f":"E22","v":0},{"$f":"IF(AND(K22>0,E22>0),1,0)","v":0},{"$f":"IF(AND(BM22=1,J22>8),K22,(IF(AND(BM22=1,J22>0),J22,0)))","v":0},{"$f":"IF(AND(BM22=1,40-BL21>0,40-BL21<8),40-BL21,IF(AND(J22<K22),J22,K22))","v":0},{"$f":"IF(AND(BM22=1,BL22>40,J22<=K22),J22-BO22,IF(AND(BM22=1,BL22>0,J22>K22),K22-BO22,0))","v":0}]
[{"$f":"IF(A22<$O$7,A22+1,IF(A22=$O$7,\"\"))","v":"2022-11-21"},null,null,"Monday",null,null,null,null,null,null,null,null,null,null,{"$f":"SUM(E23:N23)-J23","v":0},{"$f":"IF(AND(ISNUMBER(AA23),ISNUMBER(X23)),AA23*X23,\"\")","v":""},null,{"$f":"IF(AND(ISNUMBER(AB23),ISNUMBER(X23)),AB23*X23,\"\")","v":""},null,null,{"$f":"IF(BJ23>0,BJ23,BN23)","v":0},{"$f":"IF(BK23>0,BK23,0)","v":0},null,{"$f":"IF(ISNA(INDEX('Conversion Factors'!$B$6:$B$371,MATCH('Nov 16 - Nov 30'!$Z$22:$Z$28,'Conversion Factors'!$A$6:$A$371,0))),\"\",INDEX('Conversion Factors'!$B$6:$B$371,MATCH('Nov 16 - Nov 30'!$Z$22:$Z$28,'Conversion Factors'!$A$6:$A$371,0)))","v":7.8789999999999996},null,"2022-11-21","","",null,null,null,null,null,0,{"$f":"IF(AH23>$AI$12,AH23-($AI$12+AI22+AI21),0)","v":0},false,{"$f":"IF(AND(AO23>0,AO23),IF(AP23>0,AP23,IF(AQ23>0,AQ23,IF(AR23>0,AR23,IF(AU23>0,AU23,0)))))","v":false},null,0,null,0,0,0,0,0,{"$f":"IF(AND(AH22<=40),40-AH22,0)","v":40},{"$f":"AS23","v":0},0,{"$f":"AV23","v":0},null,{"$f":"IF(AND(J23>0,AI23>0,BB23<=AI23),AI23-BB23,IF(AND(J23>0,AI23>0,BB23>AI23),J23-BB23,0))","v":0},0,0,0,0,0,{"$f":"IF(AND(AH22<=40),40-AH22,0)","v":40},{"$f":"BD23","v":0},null,{"$f":"IF(AND(G23>0,E23>0),1,0)","v":0},40,0,0,{"$f":"SUM(E22:E23)","v":0},{"$f":"IF(AND(K23>0,E23>0),1,0)","v":0},{"$f":"IF(AND(BM23=1,J23>8),K23,(IF(AND(BM23=1,J23>0),J23,0)))","v":0},0,0]
["2022-11-22",null,null,"Tuesday",null,null,null,null,null,null,null,null,null,null,{"$f":"SUM(E24:N24)-J24","v":0},"",null,"",null,null,{"$f":"IF(BJ24>0,BJ24,BN24)","v":0},0,null,{"$f":"IF(ISNA(INDEX('Conversion Factors'!$B$6:$B$371,MATCH('Nov 16 - Nov 30'!$Z$22:$Z$28,'Conversion Factors'!$A$6:$A$371,0))),\"\",INDEX('Conversion Factors'!$B$6:$B$371,MATCH('Nov 16 - Nov 30'!$Z$22:$Z$28,'Conversion Factors'!$A$6:$A$371,0)))","v":7.8789999999999996},null,"2022-11-22","","",null,null,null,null,null,0,{"$f":"IF(AH24>$AI$12,AH24-($AI$12+AI23+AI22+AI21),0)","v":0},false,false,null,0,null,0,0,0,0,0,40,0,0,0,null,{"$f":"IF(AND(J24>0,AI24>0,BB24<=AI24),AI24-BB24,IF(AND(J24>0,AI24>0,BB24>AI24),J24-BB24,0))","v":0},0,0,0,0,0,{"$f":"IF(AND(AH23<=40),40-AH23,0)","v":40},0,null,{"$f":"IF(AND(G24>0,E24>0),1,0)","v":0},40,0,0,{"$f":"SUM(E22:E24)","v":0},0,{"$f":"IF(AND(BM24=1,J24>8),K24,(IF(AND(BM24=1,J24>0),J24,0)))","v":0},{"$f":"IF(AND(BM24=1,40-BL23>0,40-BL23<8),40-BL23,IF(AND(J24<K24),J24,K24))","v":0},0]
["2022-11-23",null,null,"Wednesday",null,null,null,null,null,null,null,null,null,null,0,"",null,"",null,null,0,0,null,{"$f":"IF(ISNA(INDEX('Conversion Factors'!$B$6:$B$371,MATCH('Nov 16 - Nov 30'!$Z$22:$Z$28,'Conversion Factors'!$A$6:$A$371,0))),\"\",INDEX('Conversion Factors'!$B$6:$B$371,MATCH('Nov 16 - Nov 30'!$Z$22:$Z$28,'Conversion Factors'!$A$6:$A$371,0)))","v":7.8789999999999996},null,"2022-11-23","","",null,null,null,null,null,0,{"$f":"IF(AH25>$AI$12,AH25-($AI$12+AI24+AI23+AI22+AI21),0)","v":0},false,false,null,0,null,0,0,0,0,0,40,0,0,0,null,{"$f":"IF(AND(J25>0,AI25>0,BB25<=AI25),AI25-BB25,IF(AND(J25>0,AI25>0,BB25>AI25),J25-BB25,0))","v":0},0,0,0,0,0,40,0,null,0,40,0,0,{"$f":"SUM(E22:E25)","v":0},0,{"$f":"IF(AND(BM25=1,J25>8),K25,(IF(AND(BM25=1,J25>0),J25,0)))","v":0},{"$f":"IF(AND(BM25=1,40-BL24>0,40-BL24<8),40-BL24,IF(AND(J25<K25),J25,K25))","v":0},0]
["2022-11-24",null,null,"Thursday",null,null,null,null,null,null,null,null,null,null,0,"",null,"",null,null,0,0,null,{"$f":"IF(ISNA(INDEX('Conversion Factors'!$B$6:$B$371,MATCH('Nov 16 - Nov 30'!$Z$22:$Z$28,'Conversion Factors'!$A$6:$A$371,0))),\"\",INDEX('Conversion Factors'!$B$6:$B$371,MATCH('Nov 16 - Nov 30'!$Z$22:$Z$28,'Conversion Factors'!$A$6:$A$371,0)))","v":7.8789999999999996},null,"2022-11-24","","",null,null,null,null,null,0,{"$f":"IF(AH26>$AI$12,AH26-($AI$12+AI25+AI24+AI23+AI22+AI21),0)","v":0},false,false,null,0,null,0,0,0,0,0,{"$f":"IF(AND(AH25<=40),40-AH25,0)","v":40},0,0,0,null,{"$f":"IF(AND(J26>0,AI26>=J26,BB26=0),O26-AI26,IF(AND(J26>0,AI26>0,BB26<=AI26),AI26-BB26,IF(AND(J26>0,AI26>0,BB26>AI26),J26-BB26,0)))","v":0},0,0,0,0,0,40,0,null,0,40,0,0,{"$f":"SUM(E22:E26)","v":0},0,0,0,0]
["2022-11-25",null,null,"Friday",null,null,null,null,null,null,null,null,null,null,0,"",null,"",null,null,0,0,null,{"$f":"IF(ISNA(INDEX('Conversion Factors'!$B$6:$B$371,MATCH('Nov 16 - Nov 30'!$Z$22:$Z$28,'Conversion Factors'!$A$6:$A$371,0))),\"\",INDEX('Conversion Factors'!$B$6:$B$371,MATCH('Nov 16 - Nov 30'!$Z$22:$Z$28,'Conversion Factors'!$A$6:$A$371,0)))","v":7.8789999999999996},null,"2022-11-25","","",null,null,null,null,null,0,{"$f":"IF(AH27>$AI$12,AH27-($AI$12+AI26+AI25+AI24+AI23+AI22+AI21),0)","v":0},false,false,null,0,null,0,0,0,0,0,{"$f":"IF(AND(AH26<=40),40-AH26,0)","v":40},0,0,0,null,{"$f":"IF(AND(J27>0,AI27>=J27,BB27=0),O27-AI27,IF(AND(J27>0,AI27>0,BB27<=AI27),AI27-BB27,IF(AND(J27>0,AI27>0,BB27>AI27),J27-BB27,0)))","v":0},0,0,0,0,0,40,0,null,0,40,0,0,{"$f":"SUM(E22:E27)","v":0},0,0,0,{"$f":"IF(AND(BM27=1,BL27>40,J27<=K27),J27-BO27,IF(AND(BM27=1,BL27>0,J27>K27),K27-BO27,0))","v":0}]
["2022-11-26",null,null,"Saturday",null,null,null,null,null,null,null,null,null,null,{"$f":"SUM(E28:N28)-J28","v":0},"",null,"",null,null,0,0,null,{"$f":"IF(ISNA(INDEX('Conversion Factors'!$B$6:$B$371,MATCH('Nov 16 - Nov 30'!$Z$22:$Z$28,'Conversion Factors'!$A$6:$A$371,0))),\"\",INDEX('Conversion Factors'!$B$6:$B$371,MATCH('Nov 16 - Nov 30'!$Z$22:$Z$28,'Conversion Factors'!$A$6:$A$371,0)))","v":7.8789999999999996},null,"2022-11-26","","",null,null,null,null,null,0,{"$f":"IF(AH28>$AI$12,AH28-($AI$12+AI27+AI26+AI25+AI24+AI23+AI22+AI21),0)","v":0},false,false,null,0,null,0,0,0,0,0,40,0,0,0,null,{"$f":"IF(AND(J28>0,AI28>=J28,BB28=0),O28-AI28,IF(AND(J28>0,AI28>0,BB28<=AI28),AI28-BB28,IF(AND(J28>0,AI28>0,BB28>AI28),J28-BB28,0)))","v":0},0,0,0,0,0,40,0,null,0,40,0,0,{"$f":"SUM(E22:E28)","v":0},0,0,0,{"$f":"IF(AND(BM28=1,BL28>40,J28<=K28),J28-BO28,IF(AND(BM28=1,BL28>0,J28>K28),K28-BO28,0))","v":0}]
["Week 2 Totals",null,null,null,{"$f":"SUM(E22:E28)","v":0},0,0,0,0,null,0,0,0,0,{"$f":"SUM(O22:O28)","v":0},{"$f":"-SUM(P22:P28)","v":0},{"$f":"SUM(Q22:Q28)","v":0},{"$f":"SUM(R22:R28)","v":0},{"$f":"IF(E29>40,(E29-40)-V29,0)","v":0},{"$f":"MROUND(AL29,0.25)","v":0},{"$f":"SUM(U22:U28)","v":0},{"$f":"SUM(V22:V28)","v":0},{"$f":"IF(E29-(E11-(G29+K29+F29+H29+I29+L29+M29))-(S29+U29+V29)>0,E29-(E11-(G29+K29+F29+H29+I29+L29+M29))-(S29+U29+V29),0)","v":0},null,null,null,null,null,{"$f":"SUM(F29:N29)","v":0},{"$f":"IF(AND(AG29<40,O29>=AG29),O29-(AG29+S29),IF(AND(O29<AG29,E29=O29),O29-E29,IF(AND(E29>AG29,E29<40),E29-AG29,IF(AND(O29>AG29,E29<AG29),E29-(AG29-AC29),IF(AND(O29>AG29,E29>40),E29-(AG29-AC29+S29),IF(AND(O29>AG29,O29>40),O29-(S29+AG29),0))))))","v":0},{"$f":"AD29-U29-V29","v":0},{"$f":"$W$11","v":"Please Select"},{"$f":"$E$11","v":40},null,{"$f":"IF(AH29>$AI$12,-$AI$12,0)","v":0},null,null,{"$f":"IF(AF29=\"Yes\",S29*1.5,0)","v":0},0,null,null,null,null,null,null,null,null,null,null,null,null,0,null,null,null,null,null,null,null,null,null,null,null,null,null,null,null,{"$f":"SUM(BP22:BP28)","v":0},{"$f":"U29+E11","v":40}]
[{"$f":"IF(A28<$O$7,A28+1,IF(A28=$O$7,\"\"))","v":"2022-11-27"},null,null,"Sunday",null,null,null,null,null,null,null,null,null,null,{"$f":"SUM(E30:N30)-J30","v":0},{"$f":"IF(AND(ISNUMBER(AA30),ISNUMBER(X30)),AA30*X30,\"\")","v":""},null,{"$f":"IF(AND(ISNUMBER(AB30),ISNUMBER(X30)),AB30*X30,\"\")","v":""},null,null,{"$f":"IF(BJ30>0,BJ30,BN30)","v":0},{"$f":"IF(BK30>0,BK30,0)","v":0},null,{"$f":"IF(ISNA(INDEX('Conversion Factors'!$B$6:$B$370,MATCH('Nov 16 - Nov 30'!$Z$30:$Z$36,'Conversion Factors'!$A$6:$A$370,0))),\"\",INDEX('Conversion Factors'!$B$6:$B$370,MATCH('Nov 16 - Nov 30'!$Z$30:$Z$36,'Conversion Factors'!$A$6:$A$370,0)))","v":7.8789999999999996},null,{"$f":"A30","v":"2022-11-27"},{"$f":"IF(AND(ISNUMBER(N30),ISNUMBER($Z$12)),N30/$Z$12,\"\")","v":""},{"$f":"IF(AND(ISNUMBER(Q30),ISNUMBER($Z$12)),Q30/$Z$12,\"\")","v":""},null,null,null,null,null,{"$f":"E30+AH29","v":0},{"$f":"IF(AH30>$AI$12,AH30-($AI$12+AI29),0)","v":0},{"$f":"IF(AND(AZ30>0,AZ30),IF(BA30>0,BA30,IF(BB30>0,BB30,IF(BC30>0,BC30,IF(BF30>0,BF30,\"\")))))","v":false},{"$f":"IF(AND(AO30>0,AO30),IF(AP30>0,AP30,IF(AQ30>0,AQ30,IF(AR30>0,AR30,IF(AU30>0,AU30,\"\")))))","v":false},null,0,null,{"$f":"IF(G30=0,0,\"\")","v":0},{"$f":"IF(AND(AH30<=40,E30=G30),G30,0)","v":0},{"$f":"IF(AND(AH30<=40,E30>=G30,G30>0),O30-E30,0)","v":0},{"$f":"IF(AND(AH30<=40,E30<G30),O30-G30,0)","v":0},{"$f":"IF(AND(G30=0),G30,IF(AND(G30>0,AI30>0,G30=AT30),AT30,IF(AND(G30>0,AI30>0,G30-AT30),AT30,0)))","v":0},null,{"$f":"AS30","v":0},{"$f":"IF(AND(AH29+AU30=40,AI30>0,AI30>AU30),AI30-AU30,IF(AND(AH29+AU30=40,AI30>0,AI30<AU30,AU30+AI30=G30),AI30,IF(AND(AH29>40,AH30>40,G30=AI30),AI30,0)))","v":0},{"$f":"AV30","v":0},null,{"$f":"IF(AND(J30>0,AI30>=J30,BB30=0),O30-AI30,IF(AND(J30>0,AI30>0,BB30<=AI30),AI30-BB30,IF(AND(J30>0,AI30>0,BB30>AI30),J30-BB30,0)))","v":0},0,{"$f":"IF(AND(AH30<=40,E30=J30),J30,0)","v":0},{"$f":"IF(AND(AZ30=0),AZ30,IF(AND(AH30>40,E30>=J30),BE30,IF(AND(AH30<=40,E30>J30),J30,0)))","v":0},{"$f":"IF(AND(AH30<=40,E30<J30),O30-J30,0)","v":0},{"$f":"IF(AND(J30=0),J30,IF(AND(J30>0,AI30>0,J30=BC30),BC30,IF(AND(J30>0,AI30>0,J30-BC30),BC30,0)))","v":0},null,{"$f":"BD30","v":0},null,{"$f":"IF(AND(G30>0,E30>0),1,0)","v":0},{"$f":"40-AH30","v":40},0,{"$f":"IF(AND(BH30=1,BL30>40,E30<G30),E30-BJ30,(IF(AND(BH30=1,BL30>0,E30>=G30),G30-BJ30,0)))","v":0},{"$f":"E30","v":0},{"$f":"IF(AND(K30>0,E30>0),1,0)","v":0},{"$f":"IF(AND(BM30=1,J30>8),K30,(IF(AND(BM30=1,J30>0),J30,0)))","v":0},{"$f":"IF(AND(BM30=1,40-BL29>0,40-BL29<8),40-BL29,IF(AND(J30<K30),J30,K30))","v":0},{"$f":"IF(AND(BM30=1,BL30>40,J30<=K30),J30-BO30,IF(AND(BM30=1,BL30>0,J30>K30),K30-BO30,0))","v":0}]
[{"$f":"IF(A30<$O$7,A30+1,IF(A30=$O$7,\"\"))","v":"2022-11-28"},null,null,"Monday",null,null,null,null,null,null,null,null,null,null,{"$f":"SUM(E31:N31)-J31","v":0},{"$f":"IF(AND(ISNUMBER(AA31),ISNUMBER(X31)),AA31*X31,\"\")","v":""},null,{"$f":"IF(AND(ISNUMBER(AB31),ISNUMBER(X31)),AB31*X31,\"\")","v":""},null,null,0,{"$f":"IF(BK31>0,BK31,0)","v":0},null,{"$f":"IF(ISNA(INDEX('Conversion Factors'!$B$6:$B$370,MATCH('Nov 16 - Nov 30'!$Z$30:$Z$36,'Conversion Factors'!$A$6:$A$370,0))),\"\",INDEX('Conversion Factors'!$B$6:$B$370,MATCH('Nov 16 - Nov 30'!$Z$30:$Z$36,'Conversion Factors'!$A$6:$A$370,0)))","v":7.8789999999999996},null,"2022-11-28","","",null,null,null,null,null,0,{"$f":"IF(AH31>$AI$12,AH31-($AI$12+AI30+AI29),0)","v":0},false,{"$f":"IF(AND(AO31>0,AO31),IF(AP31>0,AP31,IF(AQ31>0,AQ31,IF(AR31>0,AR31,IF(AU31>0,AU31,0)))))","v":false},null,0,null,0,0,0,0,0,{"$f":"IF(AND(AH30<=40),40-AH30,0)","v":40},{"$f":"AS31","v":0},0,{"$f":"AV31","v":0},null,0,0,0,0,0,0,{"$f":"IF(AND(AH30<=40),40-AH30,0)","v":40},{"$f":"BD31","v":0},null,{"$f":"IF(AND(G31>0,E31>0),1,0)","v":0},40,0,0,{"$f":"SUM(E30:E31)","v":0},{"$f":"IF(AND(K31>0,E31>0),1,0)","v":0},{"$f":"IF(AND(BM31=1,J31>8),K31,(IF(AND(BM31=1,J31>0),J31,0)))","v":0},0,0]
["2022-11-29",null,null,"Tuesday",null,null,null,null,null,null,null,null,null,null,0,"",null,"",null,null,0,0,null,{"$f":"IF(ISNA(INDEX('Conversion Factors'!$B$6:$B$370,MATCH('Nov 16 - Nov 30'!$Z$30:$Z$36,'Conversion Factors'!$A$6:$A$370,0))),\"\",INDEX('Conversion Factors'!$B$6:$B$370,MATCH('Nov 16 - Nov 30'!$Z$30:$Z$36,'Conversion Factors'!$A$6:$A$370,0)))","v":7.8789999999999996},null,"2022-11-29","","",null,null,null,null,null,0,{"$f":"IF(AH32>$AI$12,AH32-($AI$12+AI31+AI30+AI29),0)","v":0},false,false,null,0,null,0,0,0,0,0,40,0,0,0,null,0,0,0,0,0,0,{"$f":"IF(AND(AH31<=40),40-AH31,0)","v":40},0,null,{"$f":"IF(AND(G32>0,E32>0),1,0)","v":0},40,0,0,{"$f":"SUM(E30:E32)","v":0},0,{"$f":"IF(AND(BM32=1,J32>8),K32,(IF(AND(BM32=1,J32>0),J32,0)))","v":0},{"$f":"IF(AND(BM32=1,40-BL31>0,40-BL31<8),40-BL31,IF(AND(J32<K32),J32,K32))","v":0},0]
["2022-11-30",null,null,"Wednesday",null,null,null,null,null,null,null,null,null,null,0,"",null,"",null,null,0,0,null,{"$f":"IF(ISNA(INDEX('Conversion Factors'!$B$6:$B$370,MATCH('Nov 16 - Nov 30'!$Z$30:$Z$36,'Conversion Factors'!$A$6:$A$370,0))),\"\",INDEX('Conversion Factors'!$B$6:$B$370,MATCH('Nov 16 - Nov 30'!$Z$30:$Z$36,'Conversion Factors'!$A$6:$A$370,0)))","v":7.8789999999999996},null,"2022-11-30","","",null,null,null,null,null,0,{"$f":"IF(AH33>$AI$12,AH33-($AI$12+AI32+AI31+AI30+AI29),0)","v":0},false,false,null,0,null,0,0,0,0,0,40,0,0,0,null,0,0,0,0,0,0,40,0,null,{"$f":"IF(AND(G33>0,E33>0),1,0)","v":0},40,0,0,{"$f":"SUM(E30:E33)","v":0},0,{"$f":"IF(AND(BM33=1,J33>8),K33,(IF(AND(BM33=1,J33>0),J33,0)))","v":0},{"$f":"IF(AND(BM33=1,40-BL32>0,40-BL32<8),40-BL32,IF(AND(J33<K33),J33,K33))","v":0},0]
["",null,null,"Thursday",null,null,null,null,null,null,null,null,null,null,0,"",null,"",null,null,0,0,null,{"$f":"IF(ISNA(INDEX('Conversion Factors'!$B$6:$B$370,MATCH('Nov 16 - Nov 30'!$Z$30:$Z$36,'Conversion Factors'!$A$6:$A$370,0))),\"\",INDEX('Conversion Factors'!$B$6:$B$370,MATCH('Nov 16 - Nov 30'!$Z$30:$Z$36,'Conversion Factors'!$A$6:$A$370,0)))","v":""},null,"","","",null,null,null,null,null,0,{"$f":"IF(AH34>$AI$12,AH34-($AI$12+AI33+AI32+AI31+AI30+AI29),0)","v":0},false,false,null,0,null,0,0,0,0,0,{"$f":"IF(AND(AH33<=40),40-AH33,0)","v":40},0,0,0,null,0,0,0,0,0,0,40,0,null,0,40,0,0,{"$f":"SUM(E30:E34)","v":0},0,0,0,0]
[false,null,null,"Friday",null,null,null,null,null,null,null,null,null,null,0,"",null,"",null,null,0,0,null,{"$f":"IF(ISNA(INDEX('Conversion Factors'!$B$6:$B$370,MATCH('Nov 16 - Nov 30'!$Z$30:$Z$36,'Conversion Factors'!$A$6:$A$370,0))),\"\",INDEX('Conversion Factors'!$B$6:$B$370,MATCH('Nov 16 - Nov 30'!$Z$30:$Z$36,'Conversion Factors'!$A$6:$A$370,0)))","v":""},null,false,"","",null,null,null,null,null,0,{"$f":"IF(AH35>$AI$12,AH35-($AI$12+AI34+AI33+AI32+AI31+AI30+AI29),0)","v":0},false,false,null,0,null,0,0,0,0,0,{"$f":"IF(AND(AH34<=40),40-AH34,0)","v":40},0,0,0,null,0,0,0,0,0,0,40,0,null,0,40,0,0,{"$f":"SUM(E30:E35)","v":0},0,0,0,{"$f":"IF(AND(BM35=1,BL35>40,J35<=K35),J35-BO35,IF(AND(BM35=1,BL35>0,J35>K35),K35-BO35,0))","v":0}]
[false,null,null,"Saturday",null,null,null,null,null,null,null,null,null,null,0,"",null,"",null,null,0,0,null,{"$f":"IF(ISNA(INDEX('Conversion Factors'!$B$6:$B$370,MATCH('Nov 16 - Nov 30'!$Z$30:$Z$36,'Conversion Factors'!$A$6:$A$370,0))),\"\",INDEX('Conversion Factors'!$B$6:$B$370,MATCH('Nov 16 - Nov 30'!$Z$30:$Z$36,'Conversion Factors'!$A$6:$A$370,0)))","v":""},null,false,"","",null,null,null,null,null,0,{"$f":"IF(AH36>$AI$12,AH36-($AI$12+AI35+AI34+AI33+AI32+AI31+AI30+AI29),0)","v":0},false,false,null,0,null,0,0,0,0,0,40,0,0,0,null,0,0,0,0,0,0,40,0,null,0,40,0,0,{"$f":"SUM(E30:E36)","v":0},0,0,0,{"$f":"IF(AND(BM36=1,BL36>40,J36<=K36),J36-BO36,IF(AND(BM36=1,BL36>0,J36>K36),K36-BO36,0))","v":0}]
["Week 3 Totals",null,null,null,{"$f":"SUM(E30:E36)","v":0},0,0,0,0,null,0,0,0,0,{"$f":"SUM(O30:O36)","v":0},{"$f":"-SUM(P30:P36)","v":0},{"$f":"SUM(Q30:Q36)","v":0},{"$f":"SUM(R30:R36)","v":0},{"$f":"IF(E37>40,(E37-40)-V37,0)","v":0},{"$f":"MROUND(AL37,0.25)","v":0},{"$f":"SUM(U30:U36)","v":0},{"$f":"SUM(V30:V36)","v":0},{"$f":"IF(E37-(E11-(G37+K37+F37+H37+I37+L37+M3))-(S37+U37+V37)>0,E37-(E11-(G37+K37+F37+H37+I37+L37+M37))-(S37+U37+V37),0)","v":0},null,null,null,null,null,{"$f":"SUM(F37:N37)","v":0},{"$f":"IF(AND(AG37<40,O37>=AG37),O37-(AG37+S37),IF(AND(O37<AG37,E37=O37),O37-E37,IF(AND(E37>AG37,E37<40),E37-AG37,IF(AND(O37>AG37,E37<AG37),E37-(AG37-AC37),IF(AND(O37>AG37,E37>40),E37-(AG37-AC37+S37),IF(AND(O37>AG37,O37>40),O37-(S37+AG37),0))))))","v":0},{"$f":"AD37-U37-V37","v":0},{"$f":"$W$11","v":"Please Select"},{"$f":"$E$11","v":40},null,{"$f":"IF(AH37>$AI$12,-$AI$12,0)","v":0},null,null,{"$f":"IF(AF37=\"Yes\",S37*1.5,0)","v":0},null,null,null,null,null,null,null,null,null,null,null,null,null,null,null,null,null,null,null,null,null,0,null,null,null,null,null,null,null,{"$f":"SUM(BP30:BP36)","v":0},{"$f":"U37+E11","v":40}]
[{"$f":"IF(A36<$O$7,A36+1,IF(A36=$O$7,\"\"))","v":false},null,null,"Sunday",null,null,null,null,null,null,null,null,null,null,{"$f":"SUM(E38:N38)-J38","v":0},{"$f":"IF(AND(ISNUMBER(AA38),ISNUMBER(X38)),AA38*X38,\"\")","v":""},null,{"$f":"IF(AND(ISNUMBER(AB38),ISNUMBER(X38)),AB38*X38,\"\")","v":""},null,null,0,{"$f":"IF(BK38>0,BK38,0)","v":0},null,{"$f":"IF(ISNA(INDEX('Conversion Factors'!$B$6:$B$370,MATCH('Nov 16 - Nov 30'!$Z$38:$Z$44,'Conversion Factors'!$A$6:$A$370,0))),\"\",INDEX('Conversion Factors'!$B$6:$B$370,MATCH('Nov 16 - Nov 30'!$Z$38:$Z$44,'Conversion Factors'!$A$6:$A$370,0)))","v":""},null,{"$f":"A38","v":false},{"$f":"IF(AND(ISNUMBER(N38),ISNUMBER($Z$12)),N38/$Z$12,\"\")","v":""},{"$f":"IF(AND(ISNUMBER(Q38),ISNUMBER($Z$12)),Q38/$Z$12,\"\")","v":""},null,null,null,null,null,{"$f":"E38+AH37","v":0},{"$f":"IF(AH38>$AI$12,AH38-($AI$12+AI37),0)","v":0},{"$f":"IF(AND(AZ38>0,AZ38),IF(BA38>0,BA38,IF(BB38>0,BB38,IF(BC38>0,BC38,IF(BF38>0,BF38,\"\")))))","v":false},{"$f":"IF(AND(AO38>0,AO38),IF(AP38>0,AP38,IF(AQ38>0,AQ38,IF(AR38>0,AR38,IF(AU38>0,AU38,\"\")))))","v":false},null,{"$f":"J38","v":0},null,{"$f":"IF(G38=0,0,\"\")","v":0},{"$f":"IF(AND(AH38<=40,E38=G38),G38,0)","v":0},{"$f":"IF(AND(AH38<=40,E38>=G38,G38>0),O38-E38,0)","v":0},{"$f":"IF(AND(AH38<=40,E38<G38),O38-G38,0)","v":0},{"$f":"IF(AND(G38=0),G38,IF(AND(G38>0,AI38>0,G38=AT38),AT38,IF(AND(G38>0,AI38>0,G38-AT38),AT38,0)))","v":0},null,{"$f":"AS38","v":0},{"$f":"IF(AND(AH37+AU38=40,AI38>0,AI38>AU38),AI38-AU38,IF(AND(AH37+AU38=40,AI38>0,AI38<AU38,AU38+AI38=G38),AI38,IF(AND(AH37>40,AH38>40,G38=AI38),AI38,0)))","v":0},{"$f":"AV38","v":0},null,{"$f":"IF(AND(J38>0,AI38>=J38,BB38=0),O38-AI38,IF(AND(J38>0,AI38>0,BB38<=AI38),AI38-BB38,IF(AND(J38>0,AI38>0,BB38>AI38),J38-BB38,0)))","v":0},{"$f":"IF(J38=0,0,\"\")","v":0},{"$f":"IF(AND(AH38<=40,E38=J38),J38,0)","v":0},{"$f":"IF(AND(AZ38=0),AZ38,IF(AND(AH38>40,E38>=J38),BE38,IF(AND(AH38<=40,E38>J38),J38,0)))","v":0},{"$f":"IF(AND(AH38<=40,E38<J38),O38-J38,0)","v":0},{"$f":"IF(AND(J38=0),J38,IF(AND(J38>0,AI38>0,J38=BC38),BC38,IF(AND(J38>0,AI38>0,J38-BC38),BC38,0)))","v":0},null,{"$f":"BD38","v":0},null,{"$f":"IF(AND(G38>0,E38>0),1,0)","v":0},{"$f":"40-AH38","v":40},0,{"$f":"IF(AND(BH38=1,BL38>40,E38<G38),E38-BJ38,(IF(AND(BH38=1,BL38>0,E38>=G38),G38-BJ38,0)))","v":0},{"$f":"E38","v":0},{"$f":"IF(AND(K38>0,E38>0),1,0)","v":0},{"$f":"IF(AND(BM38=1,J38>8),K38,(IF(AND(BM38=1,J38>0),J38,0)))","v":0},{"$f":"IF(AND(BM38=1,40-BL37>0,40-BL37<8),40-BL37,IF(AND(J38<K38),J38,K38))","v":0},{"$f":"IF(AND(BM38=1,BL38>40,J38<=K38),J38-BO38,IF(AND(BM38=1,BL38>0,J38>K38),K38-BO38,0))","v":0}]
[{"$f":"IF(A38<$O$7,A38+1,IF(A38=$O$7,\"\"))","v":false},null,null,"Monday",null,null,null,0,null,null,null,null,null,null,{"$f":"SUM(E39:N39)-J39","v":0},{"$f":"IF(AND(ISNUMBER(AA39),ISNUMBER(X39)),AA39*X39,\"\")","v":""},null,{"$f":"IF(AND(ISNUMBER(AB39),ISNUMBER(X39)),AB39*X39,\"\")","v":""},null,null,0,{"$f":"IF(BK39>0,BK39,0)","v":0},null,{"$f":"IF(ISNA(INDEX('Conversion Factors'!$B$6:$B$370,MATCH('Nov 16 - Nov 30'!$Z$38:$Z$44,'Conversion Factors'!$A$6:$A$370,0))),\"\",INDEX('Conversion Factors'!$B$6:$B$370,MATCH('Nov 16 - Nov 30'!$Z$38:$Z$44,'Conversion Factors'!$A$6:$A$370,0)))","v":""},null,false,"","",null,null,null,null,null,0,{"$f":"IF(AH39>$AI$12,AH39-($AI$12+AI38+AI37),0)","v":0},false,{"$f":"IF(AND(AO39>0,AO39),IF(AP39>0,AP39,IF(AQ39>0,AQ39,IF(AR39>0,AR39,IF(AU39>0,AU39,0)))))","v":false},null,0,null,0,0,0,0,0,{"$f":"IF(AND(AH38<=40),40-AH38,0)","v":40},{"$f":"AS39","v":0},0,{"$f":"AV39","v":0},null,0,0,0,0,0,0,{"$f":"IF(AND(AH38<=40),40-AH38,0)","v":40},{"$f":"BD39","v":0},null,{"$f":"IF(AND(G39>0,E39>0),1,0)","v":0},40,0,0,{"$f":"SUM(E38:E39)","v":0},{"$f":"IF(AND(K39>0,E39>0),1,0)","v":0},{"$f":"IF(AND(BM39=1,J39>8),K39,(IF(AND(BM39=1,J39>0),J39,0)))","v":0},0,0]
[false,null,null,"Tuesday",null,null,null,null,null,0,0,null,null,null,{"$f":"SUM(E40:N40)-J40","v":0},"",null,"",null,null,0,0,null,{"$f":"IF(ISNA(INDEX('Conversion Factors'!$B$6:$B$370,MATCH('Nov 16 - Nov 30'!$Z$38:$Z$44,'Conversion Factors'!$A$6:$A$370,0))),\"\",INDEX('Conversion Factors'!$B$6:$B$370,MATCH('Nov 16 - Nov 30'!$Z$38:$Z$44,'Conversion Factors'!$A$6:$A$370,0)))","v":""},null,false,"","",null,null,null,null,null,0,{"$f":"IF(AH40>$AI$12,AH40-($AI$12+AI39+AI38+AI37),0)","v":0},false,false,null,0,null,0,0,0,0,0,40,0,0,0,null,0,0,0,0,0,0,{"$f":"IF(AND(AH39<=40),40-AH39,0)","v":40},0,null,{"$f":"IF(AND(G40>0,E40>0),1,0)","v":0},40,0,0,{"$f":"SUM(E38:E40)","v":0},0,{"$f":"IF(AND(BM40=1,J40>8),K40,(IF(AND(BM40=1,J40>0),J40,0)))","v":0},{"$f":"IF(AND(BM40=1,40-BL39>0,40-BL39<8),40-BL39,IF(AND(J40<K40),J40,K40))","v":0},0]
[false,null,null,"Wednesday",null,null,null,null,null,null,null,null,null,null,0,"",null,"",null,null,0,0,null,{"$f":"IF(ISNA(INDEX('Conversion Factors'!$B$6:$B$370,MATCH('Nov 16 - Nov 30'!$Z$38:$Z$44,'Conversion Factors'!$A$6:$A$370,0))),\"\",INDEX('Conversion Factors'!$B$6:$B$370,MATCH('Nov 16 - Nov 30'!$Z$38:$Z$44,'Conversion Factors'!$A$6:$A$370,0)))","v":""},null,false,"","",null,null,null,null,null,0,{"$f":"IF(AH41>$AI$12,AH41-($AI$12+AI40+AI39+AI38+AI37),0)","v":0},false,false,null,0,null,0,0,0,0,0,40,0,0,0,null,0,0,0,0,0,0,40,0,null,{"$f":"IF(AND(G41>0,E41>0),1,0)","v":0},40,0,0,{"$f":"SUM(E38:E41)","v":0},0,{"$f":"IF(AND(BM41=1,J41>8),K41,(IF(AND(BM41=1,J41>0),J41,0)))","v":0},{"$f":"IF(AND(BM41=1,40-BL40>0,40-BL40<8),40-BL40,IF(AND(J41<K41),J41,K41))","v":0},0]
[false,null,null,"Thursday",null,null,null,null,null,null,null,null,null,null,0,"",null,"",null,null,0,0,null,{"$f":"IF(ISNA(INDEX('Conversion Factors'!$B$6:$B$370,MATCH('Nov 16 - Nov 30'!$Z$38:$Z$44,'Conversion Factors'!$A$6:$A$370,0))),\"\",INDEX('Conversion Factors'!$B$6:$B$370,MATCH('Nov 16 - Nov 30'!$Z$38:$Z$44,'Conversion Factors'!$A$6:$A$370,0)))","v":""},null,false,"","",null,null,null,null,null,0,{"$f":"IF(AH42>$AI$12,AH42-($AI$12+AI41+AI40+AI39+AI38+AI37),0)","v":0},false,false,null,0,null,0,0,0,0,0,{"$f":"IF(AND(AH41<=40),40-AH41,0)","v":40},0,0,0,null,0,0,0,0,0,0,40,0,null,0,40,0,0,{"$f":"SUM(E38:E42)","v":0},0,0,0,0]
[false,null,null,"Friday",null,null,null,null,null,null,null,null,null,null,0,"",null,"",null,null,0,0,null,{"$f":"IF(ISNA(INDEX('Conversion Factors'!$B$6:$B$370,MATCH('Nov 16 - Nov 30'!$Z$38:$Z$44,'Conversion Factors'!$A$6:$A$370,0))),\"\",INDEX('Conversion Factors'!$B$6:$B$370,MATCH('Nov 16 - Nov 30'!$Z$38:$Z$44,'Conversion Factors'!$A$6:$A$370,0)))","v":""},null,false,"","",null,null,null,null,null,0,{"$f":"IF(AH43>$AI$12,AH43-($AI$12+AI42+AI41+AI40+AI39+AI38+AI37),0)","v":0},false,false,null,0,null,0,0,0,0,0,{"$f":"IF(AND(AH42<=40),40-AH42,0)","v":40},0,0,0,null,0,0,0,0,0,0,40,0,null,0,40,0,0,{"$f":"SUM(E38:E43)","v":0},0,0,0,{"$f":"IF(AND(BM43=1,BL43>40,J43<=K43),J43-BO43,IF(AND(BM43=1,BL43>0,J43>K43),K43-BO43,0))","v":0}]
[false,null,null,"Saturday",null,null,null,null,null,null,null,null,null,null,{"$f":"SUM(E44:N44)-J44","v":0},"",null,"",null,null,0,0,null,{"$f":"IF(ISNA(INDEX('Conversion Factors'!$B$6:$B$370,MATCH('Nov 16 - Nov 30'!$Z$38:$Z$44,'Conversion Factors'!$A$6:$A$370,0))),\"\",INDEX('Conversion Factors'!$B$6:$B$370,MATCH('Nov 16 - Nov 30'!$Z$38:$Z$44,'Conversion Factors'!$A$6:$A$370,0)))","v":""},null,false,"","",null,null,null,null,null,0,{"$f":"IF(AH44>$AI$12,AH44-($AI$12+AI43+AI42+AI41+AI40+AI39+AI38+AI37),0)","v":0},false,false,null,0,null,0,0,0,0,0,40,0,0,0,null,0,0,0,0,0,0,40,0,null,0,40,0,0,{"$f":"SUM(E38:E44)","v":0},0,0,0,{"$f":"IF(AND(BM44=1,BL44>40,J44<=K44),J44-BO44,IF(AND(BM44=1,BL44>0,J44>K44),K44-BO44,0))","v":0}]
["Week 4 Totals",null,null,null,{"$f":"SUM(E38:E44)","v":0},{"$f":"SUM(F38:F44)","v":0},0,0,0,null,0,0,0,0,{"$f":"SUM(O38:O44)","v":0},{"$f":"-SUM(P38:P44)","v":0},{"$f":"SUM(Q38:Q44)","v":0},{"$f":"SUM(R38:R44)","v":0},{"$f":"IF(E45>40,(E45-40)-V45,0)","v":0},{"$f":"MROUND(AL45,0.25)","v":0},{"$f":"SUM(U38:U44)","v":0},{"$f":"SUM(V38:V44)","v":0},{"$f":"IF(E45-(E11-(G45+K45+F45+H45+I45+L45+M45))-(S45+U45+V45)>0,E45-(E11-(G45+K45+F45+H45+I45+L45+M45))-(S45+U45+V45),0)","v":0},null,null,null,null,null,{"$f":"SUM(F45:N45)","v":0},{"$f":"IF(AND(AG45<40,O45>=AG45),O45-(AG45+S45),IF(AND(O45<AG45,E45=O45),O45-E45,IF(AND(E45>AG45,E45<40),E45-AG45,IF(AND(O45>AG45,E45<AG45),E45-(AG45-AC45),IF(AND(O45>AG45,E45>40),E45-(AG45-AC45+S45),IF(AND(O45>AG45,O45>40),O45-(S45+AG45),0))))))","v":0},{"$f":"AD45-U45-V45","v":0},{"$f":"$W$11","v":"Please Select"},{"$f":"$E$11","v":40},null,{"$f":"IF(AH45>$AI$12,-$AI$12,0)","v":0},null,null,{"$f":"IF(AF45=\"Yes\",S45*1.5,0)","v":0},null,null,null,null,null,null,null,null,null,null,null,null,null,null,null,null,null,null,null,null,null,null,null,null,null,null,null,null,null,{"$f":"SUM(BP38:BP44)","v":0},{"$f":"E44+E11","v":40}]
[null,null,null,null,null,null,null,null,"Total-Net Previous Week",null,null,null,null,null,{"$f":"(O21+O29+O37+O45)-O13","v":0},{"$f":"(P21+P29+P37+P45)-P13","v":0},0,0,0,0,0,0,0,0]
[]
[null,null,null,null,null,null,null,null,null,null,null,null,null,null,"Leave/Leave Without Pay Policy"]
["Employee signature",null,null,null,null,null,"Date",null,null,null,null,null,null,null,"Overtime/Compensatory Time"]
["I certify this record is accurate and accounts for my time during the indicated period.",null,null,null,null,null,null,null,null,null,null,null,null,null,"Time Sheet Definitions/Policies"]
[]
[null,null,null,null,null,null,null,null,null,null,"“Actual Work Hours During Administrative Close Period” – Only key the hours actually worked during the admministrative closing period into this field. "]
[]
["Manager signature",null,null,null,null,null,"Date"]
["I certify the hours recorded and coded on this form are correct and in compliance with University policy.",null,null,null,null,null,null,null,null,null,"“Administrative Closing/Leave Period field.”  Entter the number of hours of the declared period of administrative closing. (The total hours worked during the entire day will be entered into the “Actual Hours Worked” field.)"]

{"sheet":"Dec 1 - Dec 15","index":17,"n_rows":55,"n_cols":69,"rows_kept":55,"cut":false,"hidden":false,"merged":[[47,14,47,22],[48,14,48,19],[49,14,49,22],[51,10,53,22],[54,10,56,22],[45,8,45,13],[34,0,34,2],[35,0,35,2],[36,0,36,2],[37,0,37,2],[38,0,38,2],[39,0,39,2],[40,0,40,2],[41,0,41,2],[42,0,42,2],[43,0,43,2],[44,0,44,2],[33,0,33,2],[22,0,22,2],[23,0,23,2],[24,0,24,2],[25,0,25,2],[26,0,26,2],[27,0,27,2],[28,0,28,2],[29,0,29,2],[30,0,30,2],[31,0,31,2],[32,0,32,2],[21,0,21,2],[11,0,11,2],[11,29,11,30],[12,0,12,3],[13,0,13,2],[14,0,14,2],[15,0,15,2],[16,0,16,2],[17,0,17,2],[18,0,18,2],[19,0,19,2],[20,0,20,2],[10,40,10,46],[6,2,6,7],[6,8,6,13],[6,14,6,19],[7,2,7,7],[7,8,7,13],[7,14,7,19],[10,0,10,3],[10,4,10,5],[10,6,10,17],[10,18,10,21],[10,22,10,23],[0,0,0,22],[1,0,1,22],[3,0,3,23],[5,2,5,7],[5,8,5,13],[5,14,5,19]]}
["Mississippi State University"]
["Non-Exempt Employee Semi-Monthly Time Report"]
[]
["Instructions:  The Fair Labor Standards Act requires that a record of hours worked on a weekly basis be maintained for all employees except executive, administrative, managerial, faculty, and professional (non-faculty).  Department/unit heads are responsible for compiling and maintaining this record in department files on each covered employee for a period of at least (3) years."]
[]
["MSU ID #:",null,{"$f":"'July 1 - July 15'!C6","v":0},null,null,null,null,null,"Pay period start date:",null,null,null,null,null,{"$f":"'Dates & Notes'!$A$12","v":"2022-12-01"},null,null,null,null,null,null,null,null,null,null,{"$f":"TEXT(O6,\"dddd\")","v":"Thursday"},null,null,null,"Please Select"]
["Name:",null,{"$f":"'July 1 - July 15'!C7","v":0},null,null,null,null,null,"Pay period end date:",null,null,null,null,null,{"$f":"'Dates & Notes'!$B$12","v":"2022-12-15"},null,null,null,null,null,null,null,null,null,null,null,null,null,null,"No"]
["Department:",null,{"$f":"'July 1 - July 15'!C8","v":0},null,null,null,null,null,"Pay Period Number:",null,null,null,null,null,{"$f":"'Dates & Notes'!$C$12","v":23},null,null,null,null,null,null,null,null,null,null,null,null,null,null,"Yes"]
[]
[]
["Employee Scheduled Hours Per Week",null,null,null,40,null,"FIELDS MUST BE ENTERED FOR CALULATIONS TO WORK PROPERLY",null,null,null,null,null,null,null,null,null,null,null,"Receive Compensatory Time",null,null,null,"Please Select",null,null,null,null,null,null,null,null,null,null,null,"Over 40",null,null,null,null,null,"HOW ANALYSIS"]
["Work Week Dates",null,null,"Day of The Week","Actual Hours Worked","Compensatory Time Used","Holiday","Medical Leave","Personal Leave","Actual Wrk Hrs During  Admin Close Period","Administrative Closing/Leave Period","Jury Duty","Military Leave","Leave Without Pay","Totals","DOC-Payroll Conversion","RTO","RTO-Payroll Conversion","Overtime Hours","Hours Transferred to Comp. Record","HOW-Holiday Pay or Admin/Leave Closing","HOT-Holiday Pay","SST-Payroll","Conversion Factor",null,8,"DOC","RTO",null,"SST",null,null,null,"Cumm Actual HRS",40,"Administrative Leave","HOW-Holiday Pay","Comp. Time","Administrative/Schedule",null,"Holiday=0\n1",2,3,4,null,"<=40\n5",null,"HOT Workup","HOT-Holiday Pay (HOLIDAY PAY)",null,"HOT-Administrative HRS","Administrative=0\n1",2,3,4,null,"<=40\n5",null,null,"Holiday Flag","Up to 40","How","Hot","Actual Hours Worked","Admin Flag","Admin","Admin HOW","Admin OVT"]
["Hours-Previous WK (Due to Split WK)",null,null,null,{"$f":"SUM(E14:E17)","v":0},0,0,0,0,0,0,0,{"$f":"SUM(M14:M17)","v":0},0,{"$f":"SUM(E13:N13)-J13","v":0},null,null,null,null,null,null,null,null,null,null,null,null,null,null,null,null,null,null,null,null,{"$f":"IF(AND(AM13=0,J13=0),AM13,IF(AND(E13>AM13,J13=0),J13,IF(AND(J13<AM13,AI13=0),J13,IF(AND(AM13=J13,AI13<AM13),AM13-AI13,IF(AND(J13=AM13,AI13=AM13),AI13,IF(AND(J13<AM13,AI13>0),AM13-J13,IF(AND(AM13>J13,AI13<E13),E13-AI13,IF(AND(E13>AM13,AI13=E13),O13-AI13,0))))))))","v":0},{"$f":"IF(AND(G13=0,E13>G13),G13,IF(AND(E13>G13,AI13=0),G13,IF(AND(E13<G13,AI13=0),E13,IF(AND(E13=G13,AI13<G13),G13-AI13,IF(AND(E13=G13,AI13=G13),AI13,IF(AND(E13<G13,AI13>0),G13-E13,IF(AND(E13>G13,AI13<E13),E13-AI13,IF(AND(E13>G13,AI13=E13),O13-AI13,0))))))))","v":0},null,{"$f":"K13","v":0}]
[{"$f":"IF(EXACT(D14,$Z$6)=TRUE,$O$6,IF(A12=0,\"\",IF(A12<$O$7,A12+1,IF(A12=$O$7,\"\"))))","v":false},null,null,"Sunday",{"$f":"'Nov 16 - Nov 30'!E30","v":0},{"$f":"'Nov 16 - Nov 30'!F30","v":0},{"$f":"'Nov 16 - Nov 30'!G30","v":0},{"$f":"'Nov 16 - Nov 30'!H30","v":0},{"$f":"'Nov 16 - Nov 30'!I30","v":0},{"$f":"'Nov 16 - Nov 30'!J30","v":0},{"$f":"'Nov 16 - Nov 30'!K30","v":0},{"$f":"'Nov 16 - Nov 30'!L30","v":0},{"$f":"'Nov 16 - Nov 30'!M30","v":0},{"$f":"'Nov 16 - Nov 30'!N30","v":0},{"$f":"SUM(E14:N14)-J14","v":0},{"$f":"IF(AND(ISNUMBER(AA14),ISNUMBER(X14)),AA14*X14,\"\")","v":""},null,{"$f":"IF(AND(ISNUMBER(AB14),ISNUMBER(X14)),AB14*X14,\"\")","v":""},null,null,{"$f":"IF(BJ14>0,BJ14,BN14)","v":0},{"$f":"IF(BK14>0,BK14,0)","v":0},null,{"$f":"IF(ISNA(INDEX('Conversion Factors'!$B$6:$B$371,MATCH('Dec 1 - Dec 15'!$Z$14:$Z$20,'Conversion Factors'!$A$6:$A$371,0))),\"\",INDEX('Conversion Factors'!$B$6:$B$371,MATCH('Dec 1 - Dec 15'!$Z$14:$Z$20,'Conversion Factors'!$A$6:$A$371,0)))","v":""},null,{"$f":"A14","v":false},{"$f":"IF(AND(ISNUMBER(N14),ISNUMBER($Z$12)),N14/$Z$12,\"\")","v":0},{"$f":"IF(AND(ISNUMBER(Q14),ISNUMBER($Z$12)),Q14/$Z$12,\"\")","v":""},null,null,null,null,null,{"$f":"E14","v":0},{"$f":"IF(AH14>$AI$12,AH14-$AI$12,0)","v":0},{"$f":"IF(AND(AZ14>0,AZ14),IF(BA14>0,BA14,IF(BB14>0,BB14,IF(BC14>0,BC14,IF(BF14>0,BF14,\"\")))))","v":false},{"$f":"IF(AND(AO14>0,AO14),IF(AP14>0,AP14,IF(AQ14>0,AQ14,IF(AR14>0,AR14,IF(AU14>0,AU14,\"\")))))","v":false},null,{"$f":"J14","v":0},null,{"$f":"IF(G14=0,0,\"\")","v":0},{"$f":"IF(AND(AH14<=40,E14=G14),G14,0)","v":0},{"$f":"IF(AND(AH14<=40,E14>=G14,G14>0),O14-E14,0)","v":0},{"$f":"IF(AND(AH14<=40,E14<G14),O14-G14,0)","v":0},{"$f":"IF(AND(G14=0),G14,IF(AND(G14>0,AI14>0,G14=AT14),AT14,IF(AND(G14>0,AI14>0,G14-AT14),AT14,0)))","v":0},null,{"$f":"AS14","v":0},{"$f":"IF(AND(AH13+AU14=40,AI14>0,AI14>AU14),AI14-AU14,IF(AND(AH13+AU14=40,AI14>0,AI14<AU14,AU14+AI14=G14),AI14,IF(AND(AH13>40,AH14>40,G14=AI14),AI14,0)))","v":0},{"$f":"AV14","v":0},null,{"$f":"IF(AND(J14>0,AI14>=J14,BB14=0),O14-AI14,IF(AND(J14>0,AI14>0,BB14<=AI14),AI14-BB14,IF(AND(J14>0,AI14>0,BB14>AI14),J14-BB14,0)))","v":0},{"$f":"IF(J14=0,0,\"\")","v":0},{"$f":"IF(AND(AH14<=40,E14=J14),J14,0)","v":0},{"$f":"IF(AND(AZ14=0),AZ14,IF(AND(AH14>40,E14>=J14),BE14,IF(AND(AH14<=40,E14>J14),J14,0)))","v":0},{"$f":"IF(AND(AH14<=40,E14<J14),O14-J14,0)","v":0},{"$f":"IF(AND(J14=0),J14,IF(AND(J14>0,AI14>0,J14=BC14),BC14,IF(AND(J14>0,AI14>0,J14-BC14),BC14,0)))","v":0},null,{"$f":"BD14","v":0},null,{"$f":"IF(AND(G14>0,E14>0),1,0)","v":0},{"$f":"40-AH14","v":40},{"$f":"IF(AND(BH14=1,E14<8),E14,(IF(AND(BH14=1,E14>0),G14,0)))","v":0},{"$f":"IF(AND(BH14=1,BL14>40,E14<G14),E14-BJ14,(IF(AND(BH14=1,BL14>0,E14>=G14),G14-BJ14,0)))","v":0},{"$f":"E14","v":0},{"$f":"IF(AND(K14>0,E14>0),1,0)","v":0},{"$f":"IF(AND(BM14=1,J14>8),K14,(IF(AND(BM14=1,J14>0),J14,0)))","v":0},{"$f":"IF(AND(BM14=1,40-BL13>0,40-BL13<8),40-BL13,IF(AND(J14<K14),J14,K14))","v":0},{"$f":"IF(AND(BM14=1,BL14>40,J14<=K14),J14-BO14,IF(AND(BM14=1,BL14>0,J14>K14),K14-BO14,0))","v":0}]
[{"$f":"IF(EXACT(D15,$Z$6)=TRUE,$O$6,IF(A14=0,\"\",IF(A14<$O$7,A14+1,IF(A14=$O$7,\"\"))))","v":false},null,null,"Monday",{"$f":"'Nov 16 - Nov 30'!E31","v":0},{"$f":"'Nov 16 - Nov 30'!F31","v":0},{"$f":"'Nov 16 - Nov 30'!G31","v":0},{"$f":"'Nov 16 - Nov 30'!H31","v":0},{"$f":"'Nov 16 - Nov 30'!I31","v":0},{"$f":"'Nov 16 - Nov 30'!J31","v":0},{"$f":"'Nov 16 - Nov 30'!K31","v":0},{"$f":"'Nov 16 - Nov 30'!L31","v":0},{"$f":"'Nov 16 - Nov 30'!M31","v":0},{"$f":"'Nov 16 - Nov 30'!N31","v":0},{"$f":"SUM(E15:N15)-J15","v":0},{"$f":"IF(AND(ISNUMBER(AA15),ISNUMBER(X15)),AA15*X15,\"\")","v":""},null,{"$f":"IF(AND(ISNUMBER(AB15),ISNUMBER(X15)),AB15*X15,\"\")","v":""},null,null,{"$f":"IF(BJ15>0,BJ15,BN15)","v":0},{"$f":"IF(BK15>0,BK15,0)","v":0},null,{"$f":"IF(ISNA(INDEX('Conversion Factors'!$B$6:$B$371,MATCH('Dec 1 - Dec 15'!$Z$14:$Z$20,'Conversion Factors'!$A$6:$A$371,0))),\"\",INDEX('Conversion Factors'!$B$6:$B$371,MATCH('Dec 1 - Dec 15'!$Z$14:$Z$20,'Conversion Factors'!$A$6:$A$371,0)))","v":""},null,false,0,"",null,null,null,null,null,{"$f":"E15+AH14","v":0},{"$f":"IF(AH15>$AI$12,AH15-($AI$12+AI14),0)","v":0},{"$f":"IF(AND(AZ15>0,AZ15),IF(BA15>0,BA15,IF(BB15>0,BB15,IF(BC15>0,BC15,IF(BF15>0,BF15,\"\")))))","v":false},{"$f":"IF(AND(AO15>0,AO15),IF(AP15>0,AP15,IF(AQ15>0,AQ15,IF(AR15>0,AR15,IF(AU15>0,AU15,0)))))","v":false},null,0,null,0,0,0,0,0,{"$f":"IF(AND(AH14<=40),40-AH14,0)","v":40},{"$f":"AS15","v":0},0,{"$f":"AV15","v":0},null,0,0,0,0,0,0,{"$f":"IF(AND(AH14<=40),40-AH14,0)","v":40},{"$f":"BD15","v":0},null,{"$f":"IF(AND(G15>0,E15>0),1,0)","v":0},40,0,0,{"$f":"SUM(E14:E15)","v":0},{"$f":"IF(AND(K15>0,E15>0),1,0)","v":0},{"$f":"IF(AND(BM15=1,J15>8),K15,(IF(AND(BM15=1,J15>0),J15,0)))","v":0},0,0]
[false,null,null,"Tuesday",{"$f":"'Nov 16 - Nov 30'!E32","v":0},{"$f":"'Nov 16 - Nov 30'!F32","v":0},{"$f":"'Nov 16 - Nov 30'!G32","v":0},{"$f":"'Nov 16 - Nov 30'!H32","v":0},{"$f":"'Nov 16 - Nov 30'!I32","v":0},{"$f":"'Nov 16 - Nov 30'!J32","v":0},{"$f":"'Nov 16 - Nov 30'!K32","v":0},{"$f":"'Nov 16 - Nov 30'!L32","v":0},{"$f":"'Nov 16 - Nov 30'!M32","v":0},{"$f":"'Nov 16 - Nov 30'!N32","v":0},{"$f":"SUM(E16:N16)-J16","v":0},"",null,"",null,null,{"$f":"IF(BJ16>0,BJ16,BN16)","v":0},0,null,{"$f":"IF(ISNA(INDEX('Conversion Factors'!$B$6:$B$371,MATCH('Dec 1 - Dec 15'!$Z$14:$Z$20,'Conversion Factors'!$A$6:$A$371,0))),\"\",INDEX('Conversion Factors'!$B$6:$B$371,MATCH('Dec 1 - Dec 15'!$Z$14:$Z$20,'Conversion Factors'!$A$6:$A$371,0)))","v":""},null,false,0,"",null,null,null,null,null,0,{"$f":"IF(AH16>$AI$12,AH16-($AI$12+AI15+AI14),0)","v":0},false,false,null,0,null,0,0,0,0,0,40,0,0,0,null,0,0,0,0,0,0,{"$f":"IF(AND(AH15<=40),40-AH15,0)","v":40},0,null,{"$f":"IF(AND(G16>0,E16>0),1,0)","v":0},40,0,0,{"$f":"SUM(E14:E16)","v":0},0,{"$f":"IF(AND(BM16=1,J16>8),K16,(IF(AND(BM16=1,J16>0),J16,0)))","v":0},{"$f":"IF(AND(BM16=1,40-BL15>0,40-BL15<8),40-BL15,IF(AND(J16<K16),J16,K16))","v":0},0]
[false,null,null,"Wednesday",{"$f":"'Nov 16 - Nov 30'!E33","v":0},{"$f":"'Nov 16 - Nov 30'!F33","v":0},{"$f":"'Nov 16 - Nov 30'!G33","v":0},{"$f":"'Nov 16 - Nov 30'!H33","v":0},{"$f":"'Nov 16 - Nov 30'!I33","v":0},{"$f":"'Nov 16 - Nov 30'!J33","v":0},{"$f":"'Nov 16 - Nov 30'!K33","v":0},{"$f":"'Nov 16 - Nov 30'!L33","v":0},{"$f":"'Nov 16 - Nov 30'!M33","v":0},{"$f":"'Nov 16 - Nov 30'!N33","v":0},{"$f":"SUM(E17:N17)-J17","v":0},"",null,"",null,null,0,0,null,{"$f":"IF(ISNA(INDEX('Conversion Factors'!$B$6:$B$371,MATCH('Dec 1 - Dec 15'!$Z$14:$Z$20,'Conversion Factors'!$A$6:$A$371,0))),\"\",INDEX('Conversion Factors'!$B$6:$B$371,MATCH('Dec 1 - Dec 15'!$Z$14:$Z$20,'Conversion Factors'!$A$6:$A$371,0)))","v":""},null,false,0,"",null,null,null,null,null,0,{"$f":"IF(AH17>$AI$12,AH17-($AI$12+AI16+AI15+AI14),0)","v":0},false,false,null,0,null,0,0,0,0,0,40,0,0,0,null,0,0,0,0,0,0,40,0,null,0,40,0,0,{"$f":"SUM(E14:E17)","v":0},0,{"$f":"IF(AND(BM17=1,J17>8),K17,(IF(AND(BM17=1,J17>0),J17,0)))","v":0},{"$f":"IF(AND(BM17=1,40-BL16>0,40-BL16<8),40-BL16,IF(AND(J17<K17),J17,K17))","v":0},0]
["2022-12-01",null,null,"Thursday",null,null,null,null,null,null,null,null,null,null,0,"",null,"",null,null,0,0,null,{"$f":"IF(ISNA(INDEX('Conversion Factors'!$B$6:$B$371,MATCH('Dec 1 - Dec 15'!$Z$14:$Z$20,'Conversion Factors'!$A$6:$A$371,0))),\"\",INDEX('Conversion Factors'!$B$6:$B$371,MATCH('Dec 1 - Dec 15'!$Z$14:$Z$20,'Conversion Factors'!$A$6:$A$371,0)))","v":7.8789999999999996},null,"2022-12-01","","",null,null,null,null,null,0,{"$f":"IF(AH18>$AI$12,AH18-($AI$12+AI17+AI16+AI15+AI14),0)","v":0},false,false,null,0,null,0,0,0,0,0,{"$f":"IF(AND(AH17<=40),40-AH17,0)","v":40},0,0,0,null,0,0,0,0,0,0,40,0,null,0,40,0,0,{"$f":"SUM(E14:E18)","v":0},0,0,0,0]
["2022-12-02",null,null,"Friday",null,null,null,null,null,null,null,null,null,null,0,"",null,"",null,null,0,0,null,{"$f":"IF(ISNA(INDEX('Conversion Factors'!$B$6:$B$371,MATCH('Dec 1 - Dec 15'!$Z$14:$Z$20,'Conversion Factors'!$A$6:$A$371,0))),\"\",INDEX('Conversion Factors'!$B$6:$B$371,MATCH('Dec 1 - Dec 15'!$Z$14:$Z$20,'Conversion Factors'!$A$6:$A$371,0)))","v":7.8789999999999996},null,"2022-12-02","","",null,null,null,null,null,0,{"$f":"IF(AH19>$AI$12,AH19-($AI$12+AI18+AI17+AI16+AI15+AI14),0)","v":0},false,false,null,0,null,0,0,0,0,0,{"$f":"IF(AND(AH18<=40),40-AH18,0)","v":40},0,0,0,null,0,0,0,0,0,0,40,0,null,0,40,0,0,{"$f":"SUM(E14:E19)","v":0},0,0,0,{"$f":"IF(AND(BM19=1,BL19>40,J19<=K19),J19-BO19,IF(AND(BM19=1,BL19>0,J19>K19),K19-BO19,0))","v":0}]
["2022-12-03",null,null,"Saturday",null,null,null,null,null,null,null,null,null,null,{"$f":"SUM(E20:N20)-J20","v":0},"",null,"",null,null,0,0,null,{"$f":"IF(ISNA(INDEX('Conversion Factors'!$B$6:$B$371,MATCH('Dec 1 - Dec 15'!$Z$14:$Z$20,'Conversion Factors'!$A$6:$A$371,0))),\"\",INDEX('Conversion Factors'!$B$6:$B$371,MATCH('Dec 1 - Dec 15'!$Z$14:$Z$20,'Conversion Factors'!$A$6:$A$371,0)))","v":7.8789999999999996},null,"2022-12-03","","",null,null,null,null,null,0,{"$f":"IF(AH20>$AI$12,AH20-($AI$12+AI19+AI18+AI17+AI16+AI15+AI14),0)","v":0},false,false,null,0,null,0,0,0,0,0,40,0,0,0,null,0,0,0,0,0,0,40,0,null,0,40,0,0,{"$f":"SUM(E14:E20)","v":0},0,0,0,{"$f":"IF(AND(BM20=1,BL20>40,J20<=K20),J20-BO20,IF(AND(BM20=1,BL20>0,J20>K20),K20-BO20,0))","v":0}]
["Week 1 Totals",null,null,null,{"$f":"SUM(E14:E20)","v":0},{"$f":"SUM(F14:F20)","v":0},0,0,0,null,0,0,0,0,{"$f":"SUM(O14:O20)","v":0},{"$f":"-SUM(P14:P20)","v":0},{"$f":"SUM(Q14:Q20)","v":0},{"$f":"SUM(R14:R20)","v":0},{"$f":"IF(E21>40,(E21-40)-V21-BP21,0)","v":0},{"$f":"MROUND(AL21,0.25)","v":0},{"$f":"SUM(U14:U20)","v":0},{"$f":"SUM(V14:V20)","v":0},{"$f":"IF(E21-(E11-(G21+K21+F21+H21+I21+L21+M21))-(S21+U21+V21)>0,E21-(E11-(G21+K21+F21+H21+I21+L21+M21))-(S21+U21+V21),0)","v":0},null,null,null,null,null,{"$f":"SUM(F21:N21)","v":0},{"$f":"IF(AND(AG21<40,O21>=AG21),O21-(AG21+S21),IF(AND(O21<AG21,E21=O21),O21-E21,IF(AND(E21>AG21,E21<40),E21-AG21,IF(AND(O21>AG21,E21<AG21),E21-(AG21-AC21),IF(AND(O21>AG21,E21>40),E21-(AG21-AC21+S21),IF(AND(O21>AG21,O21>40),O21-(S21+AG21),0))))))","v":0},{"$f":"AD21-U21-V21","v":0},{"$f":"$W$11","v":"Please Select"},{"$f":"$E$11","v":40},null,{"$f":"IF(AH21>$AI$12,-$AI$12,0)","v":0},null,null,{"$f":"IF(AF21=\"Yes\",S21*1.5,0)","v":0},null,null,null,null,null,null,null,null,null,null,null,null,null,null,null,null,null,null,null,null,null,null,null,null,null,null,null,null,null,{"$f":"SUM(BP14:BP20)","v":0},{"$f":"E11+U21","v":40}]
[{"$f":"IF(A20=0,\"\",IF(A20<$O$7,A20+1,IF(A20=$O$7,\"\")))","v":"2022-12-04"},null,null,"Sunday",null,null,null,null,null,null,null,null,null,null,{"$f":"SUM(E22:N22)-J22","v":0},{"$f":"IF(AND(ISNUMBER(AA22),ISNUMBER(X22)),AA22*X22,\"\")","v":""},null,{"$f":"IF(AND(ISNUMBER(AB22),ISNUMBER(X22)),AB22*X22,\"\")","v":""},null,null,{"$f":"IF(BJ22>0,BJ22,BN22)","v":0},{"$f":"IF(BK22>0,BK22,0)","v":0},null,{"$f":"IF(ISNA(INDEX('Conversion Factors'!$B$6:$B$371,MATCH('Dec 1 - Dec 15'!$Z$22:$Z$28,'Conversion Factors'!$A$6:$A$371,0))),\"\",INDEX('Conversion Factors'!$B$6:$B$371,MATCH('Dec 1 - Dec 15'!$Z$22:$Z$28,'Conversion Factors'!$A$6:$A$371,0)))","v":7.8789999999999996},null,{"$f":"A22","v":"2022-12-04"},{"$f":"IF(AND(ISNUMBER(N22),ISNUMBER($Z$12)),N22/$Z$12,\"\")","v":""},{"$f":"IF(AND(ISNUMBER(Q22),ISNUMBER($Z$12)),Q22/$Z$12,\"\")","v":""},null,null,null,null,null,{"$f":"E22+AH21","v":0},{"$f":"IF(AH22>$AI$12,AH22-($AI$12+AI21),0)","v":0},{"$f":"IF(AND(AZ22>0,AZ22),IF(BA22>0,BA22,IF(BB22>0,BB22,IF(BC22>0,BC22,IF(BF22>0,BF22,\"\")))))","v":false},{"$f":"IF(AND(AO22>0,AO22),IF(AP22>0,AP22,IF(AQ22>0,AQ22,IF(AR22>0,AR22,IF(AU22>0,AU22,\"\")))))","v":false},null,{"$f":"J22","v":0},null,{"$f":"IF(G22=0,0,\"\")","v":0},{"$f":"IF(AND(AH22<=40,E22=G22),G22,0)","v":0},{"$f":"IF(AND(AH22<=40,E22>=G22,G22>0),O22-E22,0)","v":0},{"$f":"IF(AND(AH22<=40,E22<G22),O22-G22,0)","v":0},{"$f":"IF(AND(G22=0),G22,IF(AND(G22>0,AI22>0,G22=AT22),AT22,IF(AND(G22>0,AI22>0,G22-AT22),AT22,0)))","v":0},null,{"$f":"AS22","v":0},{"$f":"IF(AND(AH21+AU22=40,AI22>0,AI22>AU22),AI22-AU22,IF(AND(AH21+AU22=40,AI22>0,AI22<AU22,AU22+AI22=G22),AI22,IF(AND(AH21>40,AH22>40,G22=AI22),AI22,0)))","v":0},{"$f":"AV22","v":0},null,{"$f":"IF(AND(J22>0,AI22>0,BB22<=AI22),AI22-BB22,IF(AND(J22>0,AI22>0,BB22>AI22),J22-BB22,0))","v":0},{"$f":"IF(J22=0,0,\"\")","v":0},{"$f":"IF(AND(AH22<=40,E22=J22),J22,0)","v":0},{"$f":"IF(AND(AZ22=0),AZ22,IF(AND(AH22>40,E22>=J22),BE22,IF(AND(AH22<=40,E22>J22),J22,0)))","v":0},{"$f":"IF(AND(AH22<=40,E22<J22),O22-J22,0)","v":0},{"$f":"IF(AND(J22=0),J22,IF(AND(J22>0,AI22>0,J22=BC22),BC22,IF(AND(J22>0,AI22>0,J22-BC22),BC22,0)))","v":0},null,{"$f":"BD22","v":0},null,{"$f":"IF(AND(G22>0,E22>0),1,0)","v":0},{"$f":"40-AH22","v":40},0,{"$f":"IF(AND(BH22=1,BL22>40,E22<G22),E22-BJ22,(IF(AND(BH22=1,BL22>0,E22>=G22),G22-BJ22,0)))","v":0},{"$f":"E22","v":0},{"$f":"IF(AND(K22>0,E22>0),1,0)","v":0},{"$f":"IF(AND(BM22=1,J22>8),K22,(IF(AND(BM22=1,J22>0),J22,0)))","v":0},{"$f":"IF(AND(BM22=1,40-BL21>0,40-BL21<8),40-BL21,IF(AND(J22<K22),J22,K22))","v":0},{"$f":"IF(AND(BM22=1,BL22>40,J22<=K22),J22-BO22,IF(AND(BM22=1,BL22>0,J22>K22),K22-BO22,0))","v":0}]
[{"$f":"IF(A22<$O$7,A22+1,IF(A22=$O$7,\"\"))","v":"2022-12-05"},null,null,"Monday",null,null,null,null,null,null,null,null,null,null,{"$f":"SUM(E23:N23)-J23","v":0},{"$f":"IF(AND(ISNUMBER(AA23),ISNUMBER(X23)),AA23*X23,\"\")","v":""},null,{"$f":"IF(AND(ISNUMBER(AB23),ISNUMBER(X23)),AB23*X23,\"\")","v":""},null,null,{"$f":"IF(BJ23>0,BJ23,BN23)","v":0},{"$f":"IF(BK23>0,BK23,0)","v":0},null,{"$f":"IF(ISNA(INDEX('Conversion Factors'!$B$6:$B$371,MATCH('Dec 1 - Dec 15'!$Z$22:$Z$28,'Conversion Factors'!$A$6:$A$371,0))),\"\",INDEX('Conversion Factors'!$B$6:$B$371,MATCH('Dec 1 - Dec 15'!$Z$22:$Z$28,'Conversion Factors'!$A$6:$A$371,0)))","v":7.8789999999999996},null,"2022-12-05","","",null,null,null,null,null,0,{"$f":"IF(AH23>$AI$12,AH23-($AI$12+AI22+AI21),0)","v":0},false,{"$f":"IF(AND(AO23>0,AO23),IF(AP23>0,AP23,IF(AQ23>0,AQ23,IF(AR23>0,AR23,IF(AU23>0,AU23,0)))))","v":false},null,0,null,0,0,0,0,0,{"$f":"IF(AND(AH22<=40),40-AH22,0)","v":40},{"$f":"AS23","v":0},0,{"$f":"AV23","v":0},null,{"$f":"IF(AND(J23>0,AI23>0,BB23<=AI23),AI23-BB23,IF(AND(J23>0,AI23>0,BB23>AI23),J23-BB23,0))","v":0},0,0,0,0,0,{"$f":"IF(AND(AH22<=40),40-AH22,0)","v":40},{"$f":"BD23","v":0},null,{"$f":"IF(AND(G23>0,E23>0),1,0)","v":0},40,0,0,{"$f":"SUM(E22:E23)","v":0},{"$f":"IF(AND(K23>0,E23>0),1,0)","v":0},{"$f":"IF(AND(BM23=1,J23>8),K23,(IF(AND(BM23=1,J23>0),J23,0)))","v":0},0,0]
["2022-12-06",null,null,"Tuesday",null,null,null,null,null,null,null,null,null,null,{"$f":"SUM(E24:N24)-J24","v":0},"",null,"",null,null,{"$f":"IF(BJ24>0,BJ24,BN24)","v":0},0,null,{"$f":"IF(ISNA(INDEX('Conversion Factors'!$B$6:$B$371,MATCH('Dec 1 - Dec 15'!$Z$22:$Z$28,'Conversion Factors'!$A$6:$A$371,0))),\"\",INDEX('Conversion Factors'!$B$6:$B$371,MATCH('Dec 1 - Dec 15'!$Z$22:$Z$28,'Conversion Factors'!$A$6:$A$371,0)))","v":7.8789999999999996},null,"2022-12-06","","",null,null,null,null,null,0,{"$f":"IF(AH24>$AI$12,AH24-($AI$12+AI23+AI22+AI21),0)","v":0},false,false,null,0,null,0,0,0,0,0,40,0,0,0,null,{"$f":"IF(AND(J24>0,AI24>0,BB24<=AI24),AI24-BB24,IF(AND(J24>0,AI24>0,BB24>AI24),J24-BB24,0))","v":0},0,0,0,0,0,{"$f":"IF(AND(AH23<=40),40-AH23,0)","v":40},0,null,{"$f":"IF(AND(G24>0,E24>0),1,0)","v":0},40,0,0,{"$f":"SUM(E22:E24)","v":0},0,{"$f":"IF(AND(BM24=1,J24>8),K24,(IF(AND(BM24=1,J24>0),J24,0)))","v":0},{"$f":"IF(AND(BM24=1,40-BL23>0,40-BL23<8),40-BL23,IF(AND(J24<K24),J24,K24))","v":0},0]
["2022-12-07",null,null,"Wednesday",null,null,null,null,null,null,null,null,null,null,0,"",null,"",null,null,0,0,null,{"$f":"IF(ISNA(INDEX('Conversion Factors'!$B$6:$B$371,MATCH('Dec 1 - Dec 15'!$Z$22:$Z$28,'Conversion Factors'!$A$6:$A$371,0))),\"\",INDEX('Conversion Factors'!$B$6:$B$371,MATCH('Dec 1 - Dec 15'!$Z$22:$Z$28,'Conversion Factors'!$A$6:$A$371,0)))","v":7.8789999999999996},null,"2022-12-07","","",null,null,null,null,null,0,{"$f":"IF(AH25>$AI$12,AH25-($AI$12+AI24+AI23+AI22+AI21),0)","v":0},false,false,null,0,null,0,0,0,0,0,40,0,0,0,null,{"$f":"IF(AND(J25>0,AI25>0,BB25<=AI25),AI25-BB25,IF(AND(J25>0,AI25>0,BB25>AI25),J25-BB25,0))","v":0},0,0,0,0,0,40,0,null,0,40,0,0,{"$f":"SUM(E22:E25)","v":0},0,{"$f":"IF(AND(BM25=1,J25>8),K25,(IF(AND(BM25=1,J25>0),J25,0)))","v":0},{"$f":"IF(AND(BM25=1,40-BL24>0,40-BL24<8),40-BL24,IF(AND(J25<K25),J25,K25))","v":0},0]
["2022-12-08",null,null,"Thursday",null,null,null,null,null,null,null,null,null,null,0,"",null,"",null,null,0,0,null,{"$f":"IF(ISNA(INDEX('Conversion Factors'!$B$6:$B$371,MATCH('Dec 1 - Dec 15'!$Z$22:$Z$28,'Conversion Factors'!$A$6:$A$371,0))),\"\",INDEX('Conversion Factors'!$B$6:$B$371,MATCH('Dec 1 - Dec 15'!$Z$22:$Z$28,'Conversion Factors'!$A$6:$A$371,0)))","v":7.8789999999999996},null,"2022-12-08","","",null,null,null,null,null,0,{"$f":"IF(AH26>$AI$12,AH26-($AI$12+AI25+AI24+AI23+AI22+AI21),0)","v":0},false,false,null,0,null,0,0,0,0,0,{"$f":"IF(AND(AH25<=40),40-AH25,0)","v":40},0,0,0,null,{"$f":"IF(AND(J26>0,AI26>=J26,BB26=0),O26-AI26,IF(AND(J26>0,AI26>0,BB26<=AI26),AI26-BB26,IF(AND(J26>0,AI26>0,BB26>AI26),J26-BB26,0)))","v":0},0,0,0,0,0,40,0,null,0,40,0,0,{"$f":"SUM(E22:E26)","v":0},0,0,0,0]
["2022-12-09",null,null,"Friday",null,null,null,null,null,null,null,null,null,null,0,"",null,"",null,null,0,0,null,{"$f":"IF(ISNA(INDEX('Conversion Factors'!$B$6:$B$371,MATCH('Dec 1 - Dec 15'!$Z$22:$Z$28,'Conversion Factors'!$A$6:$A$371,0))),\"\",INDEX('Conversion Factors'!$B$6:$B$371,MATCH('Dec 1 - Dec 15'!$Z$22:$Z$28,'Conversion Factors'!$A$6:$A$371,0)))","v":7.8789999999999996},null,"2022-12-09","","",null,null,null,null,null,0,{"$f":"IF(AH27>$AI$12,AH27-($AI$12+AI26+AI25+AI24+AI23+AI22+AI21),0)","v":0},false,false,null,0,null,0,0,0,0,0,{"$f":"IF(AND(AH26<=40),40-AH26,0)","v":40},0,0,0,null,{"$f":"IF(AND(J27>0,AI27>=J27,BB27=0),O27-AI27,IF(AND(J27>0,AI27>0,BB27<=AI27),AI27-BB27,IF(AND(J27>0,AI27>0,BB27>AI27),J27-BB27,0)))","v":0},0,0,0,0,0,40,0,null,0,40,0,0,{"$f":"SUM(E22:E27)","v":0},0,0,0,{"$f":"IF(AND(BM27=1,BL27>40,J27<=K27),J27-BO27,IF(AND(BM27=1,BL27>0,J27>K27),K27-BO27,0))","v":0}]
["2022-12-10",null,null,"Saturday",null,null,null,null,null,null,null,null,null,null,{"$f":"SUM(E28:N28)-J28","v":0},"",null,"",null,null,0,0,null,{"$f":"IF(ISNA(INDEX('Conversion Factors'!$B$6:$B$371,MATCH('Dec 1 - Dec 15'!$Z$22:$Z$28,'Conversion Factors'!$A$6:$A$371,0))),\"\",INDEX('Conversion Factors'!$B$6:$B$371,MATCH('Dec 1 - Dec 15'!$Z$22:$Z$28,'Conversion Factors'!$A$6:$A$371,0)))","v":7.8789999999999996},null,"2022-12-10","","",null,null,null,null,null,0,{"$f":"IF(AH28>$AI$12,AH28-($AI$12+AI27+AI26+AI25+AI24+AI23+AI22+AI21),0)","v":0},false,false,null,0,null,0,0,0,0,0,40,0,0,0,null,{"$f":"IF(AND(J28>0,AI28>=J28,BB28=0),O28-AI28,IF(AND(J28>0,AI28>0,BB28<=AI28),AI28-BB28,IF(AND(J28>0,AI28>0,BB28>AI28),J28-BB28,0)))","v":0},0,0,0,0,0,40,0,null,0,40,0,0,{"$f":"SUM(E22:E28)","v":0},0,0,0,{"$f":"IF(AND(BM28=1,BL28>40,J28<=K28),J28-BO28,IF(AND(BM28=1,BL28>0,J28>K28),K28-BO28,0))","v":0}]
["Week 2 Totals",null,null,null,{"$f":"SUM(E22:E28)","v":0},0,0,0,0,null,0,0,0,0,{"$f":"SUM(O22:O28)","v":0},{"$f":"-SUM(P22:P28)","v":0},{"$f":"SUM(Q22:Q28)","v":0},{"$f":"SUM(R22:R28)","v":0},{"$f":"IF(E29>40,(E29-40)-V29,0)","v":0},{"$f":"MROUND(AL29,0.25)","v":0},{"$f":"SUM(U22:U28)","v":0},{"$f":"SUM(V22:V28)","v":0},{"$f":"IF(E29-(E11-(G29+K29+F29+H29+I29+L29+M29))-(S29+U29+V29)>0,E29-(E11-(G29+K29+F29+H29+I29+L29+M29))-(S29+U29+V29),0)","v":0},null,null,null,null,null,{"$f":"SUM(F29:N29)","v":0},{"$f":"IF(AND(AG29<40,O29>=AG29),O29-(AG29+S29),IF(AND(O29<AG29,E29=O29),O29-E29,IF(AND(E29>AG29,E29<40),E29-AG29,IF(AND(O29>AG29,E29<AG29),E29-(AG29-AC29),IF(AND(O29>AG29,E29>40),E29-(AG29-AC29+S29),IF(AND(O29>AG29,O29>40),O29-(S29+AG29),0))))))","v":0},{"$f":"AD29-U29-V29","v":0},{"$f":"$W$11","v":"Please Select"},{"$f":"$E$11","v":40},null,{"$f":"IF(AH29>$AI$12,-$AI$12,0)","v":0},null,null,{"$f":"IF(AF29=\"Yes\",S29*1.5,0)","v":0},0,null,null,null,null,null,null,null,null,null,null,null,null,0,null,null,null,null,null,null,null,null,null,null,null,null,null,null,null,{"$f":"SUM(BP22:BP28)","v":0},{"$f":"U29+E11","v":40}]
[{"$f":"IF(A28<$O$7,A28+1,IF(A28=$O$7,\"\"))","v":"2022-12-11"},null,null,"Sunday",null,null,null,null,null,null,null,null,null,null,{"$f":"SUM(E30:N30)-J30","v":0},{"$f":"IF(AND(ISNUMBER(AA30),ISNUMBER(X30)),AA30*X30,\"\")","v":""},null,{"$f":"IF(AND(ISNUMBER(AB30),ISNUMBER(X30)),AB30*X30,\"\")","v":""},null,null,{"$f":"IF(BJ30>0,BJ30,BN30)","v":0},{"$f":"IF(BK30>0,BK30,0)","v":0},null,{"$f":"IF(ISNA(INDEX('Conversion Factors'!$B$6:$B$370,MATCH('Dec 1 - Dec 15'!$Z$30:$Z$36,'Conversion Factors'!$A$6:$A$370,0))),\"\",INDEX('Conversion Factors'!$B$6:$B$370,MATCH('Dec 1 - Dec 15'!$Z$30:$Z$36,'Conversion Factors'!$A$6:$A$370,0)))","v":7.8789999999999996},null,{"$f":"A30","v":"2022-12-11"},{"$f":"IF(AND(ISNUMBER(N30),ISNUMBER($Z$12)),N30/$Z$12,\"\")","v":""},{"$f":"IF(AND(ISNUMBER(Q30),ISNUMBER($Z$12)),Q30/$Z$12,\"\")","v":""},null,null,null,null,null,{"$f":"E30+AH29","v":0},{"$f":"IF(AH30>$AI$12,AH30-($AI$12+AI29),0)","v":0},{"$f":"IF(AND(AZ30>0,AZ30),IF(BA30>0,BA30,IF(BB30>0,BB30,IF(BC30>0,BC30,IF(BF30>0,BF30,\"\")))))","v":false},{"$f":"IF(AND(AO30>0,AO30),IF(AP30>0,AP30,IF(AQ30>0,AQ30,IF(AR30>0,AR30,IF(AU30>0,AU30,\"\")))))","v":false},null,0,null,{"$f":"IF(G30=0,0,\"\")","v":0},{"$f":"IF(AND(AH30<=40,E30=G30),G30,0)","v":0},{"$f":"IF(AND(AH30<=40,E30>=G30,G30>0),O30-E30,0)","v":0},{"$f":"IF(AND(AH30<=40,E30<G30),O30-G30,0)","v":0},{"$f":"IF(AND(G30=0),G30,IF(AND(G30>0,AI30>0,G30=AT30),AT30,IF(AND(G30>0,AI30>0,G30-AT30),AT30,0)))","v":0},null,{"$f":"AS30","v":0},{"$f":"IF(AND(AH29+AU30=40,AI30>0,AI30>AU30),AI30-AU30,IF(AND(AH29+AU30=40,AI30>0,AI30<AU30,AU30+AI30=G30),AI30,IF(AND(AH29>40,AH30>40,G30=AI30),AI30,0)))","v":0},{"$f":"AV30","v":0},null,{"$f":"IF(AND(J30>0,AI30>=J30,BB30=0),O30-AI30,IF(AND(J30>0,AI30>0,BB30<=AI30),AI30-BB30,IF(AND(J30>0,AI30>0,BB30>AI30),J30-BB30,0)))","v":0},0,{"$f":"IF(AND(AH30<=40,E30=J30),J30,0)","v":0},{"$f":"IF(AND(AZ30=0),AZ30,IF(AND(AH30>40,E30>=J30),BE30,IF(AND(AH30<=40,E30>J30),J30,0)))","v":0},{"$f":"IF(AND(AH30<=40,E30<J30),O30-J30,0)","v":0},{"$f":"IF(AND(J30=0),J30,IF(AND(J30>0,AI30>0,J30=BC30),BC30,IF(AND(J30>0,AI30>0,J30-BC30),BC30,0)))","v":0},null,{"$f":"BD30","v":0},null,{"$f":"IF(AND(G30>0,E30>0),1,0)","v":0},{"$f":"40-AH30","v":40},0,{"$f":"IF(AND(BH30=1,BL30>40,E30<G30),E30-BJ30,(IF(AND(BH30=1,BL30>0,E30>=G30),G30-BJ30,0)))","v":0},{"$f":"E30","v":0},{"$f":"IF(AND(K30>0,E30>0),1,0)","v":0},{"$f":"IF(AND(BM30=1,J30>8),K30,(IF(AND(BM30=1,J30>0),J30,0)))","v":0},{"$f":"IF(AND(BM30=1,40-BL29>0,40-BL29<8),40-BL29,IF(AND(J30<K30),J30,K30))","v":0},{"$f":"IF(AND(BM30=1,BL30>40,J30<=K30),J30-BO30,IF(AND(BM30=1,BL30>0,J30>K30),K30-BO30,0))","v":0}]
[{"$f":"IF(A30<$O$7,A30+1,IF(A30=$O$7,\"\"))","v":"2022-12-12"},null,null,"Monday",null,null,null,null,null,null,null,null,null,null,{"$f":"SUM(E31:N31)-J31","v":0},{"$f":"IF(AND(ISNUMBER(AA31),ISNUMBER(X31)),AA31*X31,\"\")","v":""},null,{"$f":"IF(AND(ISNUMBER(AB31),ISNUMBER(X31)),AB31*X31,\"\")","v":""},null,null,0,{"$f":"IF(BK31>0,BK31,0)","v":0},null,{"$f":"IF(ISNA(INDEX('Conversion Factors'!$B$6:$B$370,MATCH('Dec 1 - Dec 15'!$Z$30:$Z$36,'Conversion Factors'!$A$6:$A$370,0))),\"\",INDEX('Conversion Factors'!$B$6:$B$370,MATCH('Dec 1 - Dec 15'!$Z$30:$Z$36,'Conversion Factors'!$A$6:$A$370,0)))","v":7.8789999999999996},null,"2022-12-12","","",null,null,null,null,null,0,{"$f":"IF(AH31>$AI$12,AH31-($AI$12+AI30+AI29),0)","v":0},false,{"$f":"IF(AND(AO31>0,AO31),IF(AP31>0,AP31,IF(AQ31>0,AQ31,IF(AR31>0,AR31,IF(AU31>0,AU31,0)))))","v":false},null,0,null,0,0,0,0,0,{"$f":"IF(AND(AH30<=40),40-AH30,0)","v":40},{"$f":"AS31","v":0},0,{"$f":"AV31","v":0},null,0,0,0,0,0,0,{"$f":"IF(AND(AH30<=40),40-AH30,0)","v":40},{"$f":"BD31","v":0},null,{"$f":"IF(AND(G31>0,E31>0),1,0)","v":0},40,0,0,{"$f":"SUM(E30:E31)","v":0},{"$f":"IF(AND(K31>0,E31>0),1,0)","v":0},{"$f":"IF(AND(BM31=1,J31>8),K31,(IF(AND(BM31=1,J31>0),J31,0)))","v":0},0,0]
["2022-12-13",null,null,"Tuesday",null,null,null,null,null,null,null,null,null,null,0,"",null,"",null,null,0,0,null,{"$f":"IF(ISNA(INDEX('Conversion Factors'!$B$6:$B$370,MATCH('Dec 1 - Dec 15'!$Z$30:$Z$36,'Conversion Factors'!$A$6:$A$370,0))),\"\",INDEX('Conversion Factors'!$B$6:$B$370,MATCH('Dec 1 - Dec 15'!$Z$30:$Z$36,'Conversion Factors'!$A$6:$A$370,0)))","v":7.8789999999999996},null,"2022-12-13","","",null,null,null,null,null,0,{"$f":"IF(AH32>$AI$12,AH32-($AI$12+AI31+AI30+AI29),0)","v":0},false,false,null,0,null,0,0,0,0,0,40,0,0,0,null,0,0,0,0,0,0,{"$f":"IF(AND(AH31<=40),40-AH31,0)","v":40},0,null,{"$f":"IF(AND(G32>0,E32>0),1,0)","v":0},40,0,0,{"$f":"SUM(E30:E32)","v":0},0,{"$f":"IF(AND(BM32=1,J32>8),K32,(IF(AND(BM32=1,J32>0),J32,0)))","v":0},{"$f":"IF(AND(BM32=1,40-BL31>0,40-BL31<8),40-BL31,IF(AND(J32<K32),J32,K32))","v":0},0]
["2022-12-14",null,null,"Wednesday",null,null,null,null,null,null,null,null,null,null,0,"",null,"",null,null,0,0,null,{"$f":"IF(ISNA(INDEX('Conversion Factors'!$B$6:$B$370,MATCH('Dec 1 - Dec 15'!$Z$30:$Z$36,'Conversion Factors'!$A$6:$A$370,0))),\"\",INDEX('Conversion Factors'!$B$6:$B$370,MATCH('Dec 1 - Dec 15'!$Z$30:$Z$36,'Conversion Factors'!$A$6:$A$370,0)))","v":7.8789999999999996},null,"2022-12-14","","",null,null,null,null,null,0,{"$f":"IF(AH33>$AI$12,AH33-($AI$12+AI32+AI31+AI30+AI29),0)","v":0},false,false,null,0,null,0,0,0,0,0,40,0,0,0,null,0,0,0,0,0,0,40,0,null,{"$f":"IF(AND(G33>0,E33>0),1,0)","v":0},40,0,0,{"$f":"SUM(E30:E33)","v":0},0,{"$f":"IF(AND(BM33=1,J33>8),K33,(IF(AND(BM33=1,J33>0),J33,0)))","v":0},{"$f":"IF(AND(BM33=1,40-BL32>0,40-BL32<8),40-BL32,IF(AND(J33<K33),J33,K33))","v":0},0]
["2022-12-15",null,null,"Thursday",null,null,null,null,null,null,null,null,null,null,0,"",null,"",null,null,0,0,null,{"$f":"IF(ISNA(INDEX('Conversion Factors'!$B$6:$B$370,MATCH('Dec 1 - Dec 15'!$Z$30:$Z$36,'Conversion Factors'!$A$6:$A$370,0))),\"\",INDEX('Conversion Factors'!$B$6:$B$370,MATCH('Dec 1 - Dec 15'!$Z$30:$Z$36,'Conversion Factors'!$A$6:$A$370,0)))","v":7.8789999999999996},null,"2022-12-15","","",null,null,null,null,null,0,{"$f":"IF(AH34>$AI$12,AH34-($AI$12+AI33+AI32+AI31+AI30+AI29),0)","v":0},false,false,null,0,null,0,0,0,0,0,{"$f":"IF(AND(AH33<=40),40-AH33,0)","v":40},0,0,0,null,0,0,0,0,0,0,40,0,null,0,40,0,0,{"$f":"SUM(E30:E34)","v":0},0,0,0,0]
["",null,null,"Friday",null,null,null,null,null,null,null,null,null,null,0,"",null,"",null,null,0,0,null,{"$f":"IF(ISNA(INDEX('Conversion Factors'!$B$6:$B$370,MATCH('Dec 1 - Dec 15'!$Z$30:$Z$36,'Conversion Factors'!$A$6:$A$370,0))),\"\",INDEX('Conversion Factors'!$B$6:$B$370,MATCH('Dec 1 - Dec 15'!$Z$30:$Z$36,'Conversion Factors'!$A$6:$A$370,0)))","v":""},null,"","","",null,null,null,null,null,0,{"$f":"IF(AH35>$AI$12,AH35-($AI$12+AI34+AI33+AI32+AI31+AI30+AI29),0)","v":0},false,false,null,0,null,0,0,0,0,0,{"$f":"IF(AND(AH34<=40),40-AH34,0)","v":40},0,0,0,null,0,0,0,0,0,0,40,0,null,0,40,0,0,{"$f":"SUM(E30:E35)","v":0},0,0,0,{"$f":"IF(AND(BM35=1,BL35>40,J35<=K35),J35-BO35,IF(AND(BM35=1,BL35>0,J35>K35),K35-BO35,0))","v":0}]
[false,null,null,"Saturday",null,null,null,null,null,null,null,null,null,null,0,"",null,"",null,null,0,0,null,{"$f":"IF(ISNA(INDEX('Conversion Factors'!$B$6:$B$370,MATCH('Dec 1 - Dec 15'!$Z$30:$Z$36,'Conversion Factors'!$A$6:$A$370,0))),\"\",INDEX('Conversion Factors'!$B$6:$B$370,MATCH('Dec 1 - Dec 15'!$Z$30:$Z$36,'Conversion Factors'!$A$6:$A$370,0)))","v":""},null,false,"","",null,null,null,null,null,0,{"$f":"IF(AH36>$AI$12,AH36-($AI$12+AI35+AI34+AI33+AI32+AI31+AI30+AI29),0)","v":0},false,false,null,0,null,0,0,0,0,0,40,0,0,0,null,0,0,0,0,0,0,40,0,null,0,40,0,0,{"$f":"SUM(E30:E36)","v":0},0,0,0,{"$f":"IF(AND(BM36=1,BL36>40,J36<=K36),J36-BO36,IF(AND(BM36=1,BL36>0,J36>K36),K36-BO36,0))","v":0}]
["Week 3 Totals",null,null,null,{"$f":"SUM(E30:E36)","v":0},0,0,0,0,null,0,0,0,0,{"$f":"SUM(O30:O36)","v":0},{"$f":"-SUM(P30:P36)","v":0},{"$f":"SUM(Q30:Q36)","v":0},{"$f":"SUM(R30:R36)","v":0},{"$f":"IF(E37>40,(E37-40)-V37,0)","v":0},{"$f":"MROUND(AL37,0.25)","v":0},{"$f":"SUM(U30:U36)","v":0},{"$f":"SUM(V30:V36)","v":0},{"$f":"IF(E37-(E11-(G37+K37+F37+H37+I37+L37+M3))-(S37+U37+V37)>0,E37-(E11-(G37+K37+F37+H37+I37+L37+M37))-(S37+U37+V37),0)","v":0},null,null,null,null,null,{"$f":"SUM(F37:N37)","v":0},{"$f":"IF(AND(AG37<40,O37>=AG37),O37-(AG37+S37),IF(AND(O37<AG37,E37=O37),O37-E37,IF(AND(E37>AG37,E37<40),E37-AG37,IF(AND(O37>AG37,E37<AG37),E37-(AG37-AC37),IF(AND(O37>AG37,E37>40),E37-(AG37-AC37+S37),IF(AND(O37>AG37,O37>40),O37-(S37+AG37),0))))))","v":0},{"$f":"AD37-U37-V37","v":0},{"$f":"$W$11","v":"Please Select"},{"$f":"$E$11","v":40},null,{"$f":"IF(AH37>$AI$12,-$AI$12,0)","v":0},null,null,{"$f":"IF(AF37=\"Yes\",S37*1.5,0)","v":0},null,null,null,null,null,null,null,null,null,null,null,null,null,null,null,null,null,null,null,null,null,0,null,null,null,null,null,null,null,{"$f":"SUM(BP30:BP36)","v":0},{"$f":"U37+E11","v":40}]
[{"$f":"IF(A36<$O$7,A36+1,IF(A36=$O$7,\"\"))","v":false},null,null,"Sunday",null,null,null,null,null,null,null,null,null,null,{"$f":"SUM(E38:N38)-J38","v":0},{"$f":"IF(AND(ISNUMBER(AA38),ISNUMBER(X38)),AA38*X38,\"\")","v":""},null,{"$f":"IF(AND(ISNUMBER(AB38),ISNUMBER(X38)),AB38*X38,\"\")","v":""},null,null,0,{"$f":"IF(BK38>0,BK38,0)","v":0},null,{"$f":"IF(ISNA(INDEX('Conversion Factors'!$B$6:$B$370,MATCH('Dec 1 - Dec 15'!$Z$38:$Z$44,'Conversion Factors'!$A$6:$A$370,0))),\"\",INDEX('Conversion Factors'!$B$6:$B$370,MATCH('Dec 1 - Dec 15'!$Z$38:$Z$44,'Conversion Factors'!$A$6:$A$370,0)))","v":""},null,{"$f":"A38","v":false},{"$f":"IF(AND(ISNUMBER(N38),ISNUMBER($Z$12)),N38/$Z$12,\"\")","v":""},{"$f":"IF(AND(ISNUMBER(Q38),ISNUMBER($Z$12)),Q38/$Z$12,\"\")","v":""},null,null,null,null,null,{"$f":"E38+AH37","v":0},{"$f":"IF(AH38>$AI$12,AH38-($AI$12+AI37),0)","v":0},{"$f":"IF(AND(AZ38>0,AZ38),IF(BA38>0,BA38,IF(BB38>0,BB38,IF(BC38>0,BC38,IF(BF38>0,BF38,\"\")))))","v":false},{"$f":"IF(AND(AO38>0,AO38),IF(AP38>0,AP38,IF(AQ38>0,AQ38,IF(AR38>0,AR38,IF(AU38>0,AU38,\"\")))))","v":false},null,{"$f":"J38","v":0},null,{"$f":"IF(G38=0,0,\"\")","v":0},{"$f":"IF(AND(AH38<=40,E38=G38),G38,0)","v":0},{"$f":"IF(AND(AH38<=40,E38>=G38,G38>0),O38-E38,0)","v":0},{"$f":"IF(AND(AH38<=40,E38<G38),O38-G38,0)","v":0},{"$f":"IF(AND(G38=0),G38,IF(AND(G38>0,AI38>0,G38=AT38),AT38,IF(AND(G38>0,AI38>0,G38-AT38),AT38,0)))","v":0},null,{"$f":"AS38","v":0},{"$f":"IF(AND(AH37+AU38=40,AI38>0,AI38>AU38),AI38-AU38,IF(AND(AH37+AU38=40,AI38>0,AI38<AU38,AU38+AI38=G38),AI38,IF(AND(AH37>40,AH38>40,G38=AI38),AI38,0)))","v":0},{"$f":"AV38","v":0},null,{"$f":"IF(AND(J38>0,AI38>=J38,BB38=0),O38-AI38,IF(AND(J38>0,AI38>0,BB38<=AI38),AI38-BB38,IF(AND(J38>0,AI38>0,BB38>AI38),J38-BB38,0)))","v":0},{"$f":"IF(J38=0,0,\"\")","v":0},{"$f":"IF(AND(AH38<=40,E38=J38),J38,0)","v":0},{"$f":"IF(AND(AZ38=0),AZ38,IF(AND(AH38>40,E38>=J38),BE38,IF(AND(AH38<=40,E38>J38),J38,0)))","v":0},{"$f":"IF(AND(AH38<=40,E38<J38),O38-J38,0)","v":0},{"$f":"IF(AND(J38=0),J38,IF(AND(J38>0,AI38>0,J38=BC38),BC38,IF(AND(J38>0,AI38>0,J38-BC38),BC38,0)))","v":0},null,{"$f":"BD38","v":0},null,{"$f":"IF(AND(G38>0,E38>0),1,0)","v":0},{"$f":"40-AH38","v":40},0,{"$f":"IF(AND(BH38=1,BL38>40,E38<G38),E38-BJ38,(IF(AND(BH38=1,BL38>0,E38>=G38),G38-BJ38,0)))","v":0},{"$f":"E38","v":0},{"$f":"IF(AND(K38>0,E38>0),1,0)","v":0},{"$f":"IF(AND(BM38=1,J38>8),K38,(IF(AND(BM38=1,J38>0),J38,0)))","v":0},{"$f":"IF(AND(BM38=1,40-BL37>0,40-BL37<8),40-BL37,IF(AND(J38<K38),J38,K38))","v":0},{"$f":"IF(AND(BM38=1,BL38>40,J38<=K38),J38-BO38,IF(AND(BM38=1,BL38>0,J38>K38),K38-BO38,0))","v":0}]
[{"$f":"IF(A38<$O$7,A38+1,IF(A38=$O$7,\"\"))","v":false},null,null,"Monday",null,null,null,0,null,null,null,null,null,null,{"$f":"SUM(E39:N39)-J39","v":0},{"$f":"IF(AND(ISNUMBER(AA39),ISNUMBER(X39)),AA39*X39,\"\")","v":""},null,{"$f":"IF(AND(ISNUMBER(AB39),ISNUMBER(X39)),AB39*X39,\"\")","v":""},null,null,0,{"$f":"IF(BK39>0,BK39,0)","v":0},null,{"$f":"IF(ISNA(INDEX('Conversion Factors'!$B$6:$B$370,MATCH('Dec 1 - Dec 15'!$Z$38:$Z$44,'Conversion Factors'!$A$6:$A$370,0))),\"\",INDEX('Conversion Factors'!$B$6:$B$370,MATCH('Dec 1 - Dec 15'!$Z$38:$Z$44,'Conversion Factors'!$A$6:$A$370,0)))","v":""},null,false,"","",null,null,null,null,null,0,{"$f":"IF(AH39>$AI$12,AH39-($AI$12+AI38+AI37),0)","v":0},false,{"$f":"IF(AND(AO39>0,AO39),IF(AP39>0,AP39,IF(AQ39>0,AQ39,IF(AR39>0,AR39,IF(AU39>0,AU39,0)))))","v":false},null,0,null,0,0,0,0,0,{"$f":"IF(AND(AH38<=40),40-AH38,0)","v":40},{"$f":"AS39","v":0},0,{"$f":"AV39","v":0},null,0,0,0,0,0,0,{"$f":"IF(AND(AH38<=40),40-AH38,0)","v":40},{"$f":"BD39","v":0},null,{"$f":"IF(AND(G39>0,E39>0),1,0)","v":0},40,0,0,{"$f":"SUM(E38:E39)","v":0},{"$f":"IF(AND(K39>0,E39>0),1,0)","v":0},{"$f":"IF(AND(BM39=1,J39>8),K39,(IF(AND(BM39=1,J39>0),J39,0)))","v":0},0,0]
[false,null,null,"Tuesday",null,null,null,null,null,0,0,null,null,null,{"$f":"SUM(E40:N40)-J40","v":0},"",null,"",null,null,0,0,null,{"$f":"IF(ISNA(INDEX('Conversion Factors'!$B$6:$B$370,MATCH('Dec 1 - Dec 15'!$Z$38:$Z$44,'Conversion Factors'!$A$6:$A$370,0))),\"\",INDEX('Conversion Factors'!$B$6:$B$370,MATCH('Dec 1 - Dec 15'!$Z$38:$Z$44,'Conversion Factors'!$A$6:$A$370,0)))","v":""},null,false,"","",null,null,null,null,null,0,{"$f":"IF(AH40>$AI$12,AH40-($AI$12+AI39+AI38+AI37),0)","v":0},false,false,null,0,null,0,0,0,0,0,40,0,0,0,null,0,0,0,0,0,0,{"$f":"IF(AND(AH39<=40),40-AH39,0)","v":40},0,null,{"$f":"IF(AND(G40>0,E40>0),1,0)","v":0},40,0,0,{"$f":"SUM(E38:E40)","v":0},0,{"$f":"IF(AND(BM40=1,J40>8),K40,(IF(AND(BM40=1,J40>0),J40,0)))","v":0},{"$f":"IF(AND(BM40=1,40-BL39>0,40-BL39<8),40-BL39,IF(AND(J40<K40),J40,K40))","v":0},0]
[false,null,null,"Wednesday",null,null,null,null,null,null,null,null,null,null,0,"",null,"",null,null,0,0,null,{"$f":"IF(ISNA(INDEX('Conversion Factors'!$B$6:$B$370,MATCH('Dec 1 - Dec 15'!$Z$38:$Z$44,'Conversion Factors'!$A$6:$A$370,0))),\"\",INDEX('Conversion Factors'!$B$6:$B$370,MATCH('Dec 1 - Dec 15'!$Z$38:$Z$44,'Conversion Factors'!$A$6:$A$370,0)))","v":""},null,false,"","",null,null,null,null,null,0,{"$f":"IF(AH41>$AI$12,AH41-($AI$12+AI40+AI39+AI38+AI37),0)","v":0},false,false,null,0,null,0,0,0,0,0,40,0,0,0,null,0,0,0,0,0,0,40,0,null,{"$f":"IF(AND(G41>0,E41>0),1,0)","v":0},40,0,0,{"$f":"SUM(E38:E41)","v":0},0,{"$f":"IF(AND(BM41=1,J41>8),K41,(IF(AND(BM41=1,J41>0),J41,0)))","v":0},{"$f":"IF(AND(BM41=1,40-BL40>0,40-BL40<8),40-BL40,IF(AND(J41<K41),J41,K41))","v":0},0]
[false,null,null,"Thursday",null,null,null,null,null,null,null,null,null,null,0,"",null,"",null,null,0,0,null,{"$f":"IF(ISNA(INDEX('Conversion Factors'!$B$6:$B$370,MATCH('Dec 1 - Dec 15'!$Z$38:$Z$44,'Conversion Factors'!$A$6:$A$370,0))),\"\",INDEX('Conversion Factors'!$B$6:$B$370,MATCH('Dec 1 - Dec 15'!$Z$38:$Z$44,'Conversion Factors'!$A$6:$A$370,0)))","v":""},null,false,"","",null,null,null,null,null,0,{"$f":"IF(AH42>$AI$12,AH42-($AI$12+AI41+AI40+AI39+AI38+AI37),0)","v":0},false,false,null,0,null,0,0,0,0,0,{"$f":"IF(AND(AH41<=40),40-AH41,0)","v":40},0,0,0,null,0,0,0,0,0,0,40,0,null,0,40,0,0,{"$f":"SUM(E38:E42)","v":0},0,0,0,0]
[false,null,null,"Friday",null,null,null,null,null,null,null,null,null,null,0,"",null,"",null,null,0,0,null,{"$f":"IF(ISNA(INDEX('Conversion Factors'!$B$6:$B$370,MATCH('Dec 1 - Dec 15'!$Z$38:$Z$44,'Conversion Factors'!$A$6:$A$370,0))),\"\",INDEX('Conversion Factors'!$B$6:$B$370,MATCH('Dec 1 - Dec 15'!$Z$38:$Z$44,'Conversion Factors'!$A$6:$A$370,0)))","v":""},null,false,"","",null,null,null,null,null,0,{"$f":"IF(AH43>$AI$12,AH43-($AI$12+AI42+AI41+AI40+AI39+AI38+AI37),0)","v":0},false,false,null,0,null,0,0,0,0,0,{"$f":"IF(AND(AH42<=40),40-AH42,0)","v":40},0,0,0,null,0,0,0,0,0,0,40,0,null,0,40,0,0,{"$f":"SUM(E38:E43)","v":0},0,0,0,{"$f":"IF(AND(BM43=1,BL43>40,J43<=K43),J43-BO43,IF(AND(BM43=1,BL43>0,J43>K43),K43-BO43,0))","v":0}]
[false,null,null,"Saturday",null,null,null,null,null,null,null,null,null,null,{"$f":"SUM(E44:N44)-J44","v":0},"",null,"",null,null,0,0,null,{"$f":"IF(ISNA(INDEX('Conversion Factors'!$B$6:$B$370,MATCH('Dec 1 - Dec 15'!$Z$38:$Z$44,'Conversion Factors'!$A$6:$A$370,0))),\"\",INDEX('Conversion Factors'!$B$6:$B$370,MATCH('Dec 1 - Dec 15'!$Z$38:$Z$44,'Conversion Factors'!$A$6:$A$370,0)))","v":""},null,false,"","",null,null,null,null,null,0,{"$f":"IF(AH44>$AI$12,AH44-($AI$12+AI43+AI42+AI41+AI40+AI39+AI38+AI37),0)","v":0},false,false,null,0,null,0,0,0,0,0,40,0,0,0,null,0,0,0,0,0,0,40,0,null,0,40,0,0,{"$f":"SUM(E38:E44)","v":0},0,0,0,{"$f":"IF(AND(BM44=1,BL44>40,J44<=K44),J44-BO44,IF(AND(BM44=1,BL44>0,J44>K44),K44-BO44,0))","v":0}]
["Week 4 Totals",null,null,null,{"$f":"SUM(E38:E44)","v":0},{"$f":"SUM(F38:F44)","v":0},0,0,0,null,0,0,0,0,{"$f":"SUM(O38:O44)","v":0},{"$f":"-SUM(P38:P44)","v":0},{"$f":"SUM(Q38:Q44)","v":0},{"$f":"SUM(R38:R44)","v":0},{"$f":"IF(E45>40,(E45-40)-V45,0)","v":0},{"$f":"MROUND(AL45,0.25)","v":0},{"$f":"SUM(U38:U44)","v":0},{"$f":"SUM(V38:V44)","v":0},{"$f":"IF(E45-(E11-(G45+K45+F45+H45+I45+L45+M45))-(S45+U45+V45)>0,E45-(E11-(G45+K45+F45+H45+I45+L45+M45))-(S45+U45+V45),0)","v":0},null,null,null,null,null,{"$f":"SUM(F45:N45)","v":0},{"$f":"IF(AND(AG45<40,O45>=AG45),O45-(AG45+S45),IF(AND(O45<AG45,E45=O45),O45-E45,IF(AND(E45>AG45,E45<40),E45-AG45,IF(AND(O45>AG45,E45<AG45),E45-(AG45-AC45),IF(AND(O45>AG45,E45>40),E45-(AG45-AC45+S45),IF(AND(O45>AG45,O45>40),O45-(S45+AG45),0))))))","v":0},{"$f":"AD45-U45-V45","v":0},{"$f":"$W$11","v":"Please Select"},{"$f":"$E$11","v":40},null,{"$f":"IF(AH45>$AI$12,-$AI$12,0)","v":0},null,null,{"$f":"IF(AF45=\"Yes\",S45*1.5,0)","v":0},null,null,null,null,null,null,null,null,null,null,null,null,null,null,null,null,null,null,null,null,null,null,null,null,null,null,null,null,null,{"$f":"SUM(BP38:BP44)","v":0},{"$f":"E44+E11","v":40}]
[null,null,null,null,null,null,null,null,"Total-Net Previous Week",null,null,null,null,null,{"$f":"(O21+O29+O37+O45)-O13","v":0},{"$f":"(P21+P29+P37+P45)-P13","v":0},0,0,0,0,0,0,0,0]
[]
[null,null,null,null,null,null,null,null,null,null,null,null,null,null,"Leave/Leave Without Pay Policy"]
["Employee signature",null,null,null,null,null,"Date",null,null,null,null,null,null,null,"Overtime/Compensatory Time"]
["I certify this record is accurate and accounts for my time during the indicated period.",null,null,null,null,null,null,null,null,null,null,null,null,null,"Time Sheet Definitions/Policies"]
[]
[null,null,null,null,null,null,null,null,null,null,"“Actual Work Hours During Administrative Close Period” – Only key the hours actually worked during the admministrative closing period into this field. "]
[]
["Manager signature",null,null,null,null,null,"Date"]
["I certify the hours recorded and coded on this form are correct and in compliance with University policy.",null,null,null,null,null,null,null,null,null,"“Administrative Closing/Leave Period field.”  Entter the number of hours of the declared period of administrative closing. (The total hours worked during the entire day will be entered into the “Actual Hours Worked” field.)"]

{"sheet":"Dec 16 - Dec 31","index":18,"n_rows":55,"n_cols":69,"rows_kept":55,"cut":false,"hidden":false,"merged":[[47,14,47,22],[48,14,48,19],[49,14,49,22],[51,10,53,22],[54,10,56,22],[45,8,45,13],[34,0,34,2],[35,0,35,2],[36,0,36,2],[37,0,37,2],[38,0,38,2],[39,0,39,2],[40,0,40,2],[41,0,41,2],[42,0,42,2],[43,0,43,2],[44,0,44,2],[33,0,33,2],[22,0,22,2],[23,0,23,2],[24,0,24,2],[25,0,25,2],[26,0,26,2],[27,0,27,2],[28,0,28,2],[29,0,29,2],[30,0,30,2],[31,0,31,2],[32,0,32,2],[21,0,21,2],[11,0,11,2],[11,29,11,30],[12,0,12,3],[13,0,13,2],[14,0,14,2],[15,0,15,2],[16,0,16,2],[17,0,17,2],[18,0,18,2],[19,0,19,2],[20,0,20,2],[10,40,10,46],[6,2,6,7],[6,8,6,13],[6,14,6,19],[7,2,7,7],[7,8,7,13],[7,14,7,19],[10,0,10,3],[10,4,10,5],[10,6,10,17],[10,18,10,21],[10,22,10,23],[0,0,0,22],[1,0,1,22],[3,0,3,23],[5,2,5,7],[5,8,5,13],[5,14,5,19]]}
["Mississippi State University"]
["Non-Exempt Employee Semi-Monthly Time Report"]
[]
["Instructions:  The Fair Labor Standards Act requires that a record of hours worked on a weekly basis be maintained for all employees except executive, administrative, managerial, faculty, and professional (non-faculty).  Department/unit heads are responsible for compiling and maintaining this record in department files on each covered employee for a period of at least (3) years."]
[]
["MSU ID #:",null,{"$f":"'July 1 - July 15'!C6","v":0},null,null,null,null,null,"Pay period start date:",null,null,null,null,null,{"$f":"'Dates & Notes'!$A$13","v":"2022-12-16"},null,null,null,null,null,null,null,null,null,null,{"$f":"TEXT(O6,\"dddd\")","v":"Friday"},null,null,null,"Please Select"]
["Name:",null,{"$f":"'July 1 - July 15'!C7","v":0},null,null,null,null,null,"Pay period end date:",null,null,null,null,null,{"$f":"'Dates & Notes'!$B$13","v":"2022-12-31"},null,null,null,null,null,null,null,null,null,null,null,null,null,null,"No"]
["Department:",null,{"$f":"'July 1 - July 15'!C8","v":0},null,null,null,null,null,"Pay Period Number:",null,null,null,null,null,{"$f":"'Dates & Notes'!$C$13","v":24},null,null,null,null,null,null,null,null,null,null,null,null,null,null,"Yes"]
[]
[]
["Employee Scheduled Hours Per Week",null,null,null,40,null,"FIELDS MUST BE ENTERED FOR CALULATIONS TO WORK PROPERLY",null,null,null,null,null,null,null,null,null,null,null,"Receive Compensatory Time",null,null,null,"Please Select",null,null,null,null,null,null,null,null,null,null,null,"Over 40",null,null,null,null,null,"HOW ANALYSIS"]
["Work Week Dates",null,null,"Day of The Week","Actual Hours Worked","Compensatory Time Used","Holiday","Medical Leave","Personal Leave","Actual Wrk Hrs During  Admin Close Period","Administrative Closing/Leave Period","Jury Duty","Military Leave","Leave Without Pay","Totals","DOC-Payroll Conversion","RTO","RTO-Payroll Conversion","Overtime Hours","Hours Transferred to Comp. Record","HOW-Holiday Pay or Admin/Leave Closing","HOT-Holiday Pay","SST-Payroll","Conversion Factor",null,8,"DOC","RTO",null,"SST",null,null,null,"Cumm Actual HRS",40,"Administrative Leave","HOW-Holiday Pay","Comp. Time","Administrative/Schedule",null,"Holiday=0\n1",2,3,4,null,"<=40\n5",null,"HOT Workup","HOT-Holiday Pay (HOLIDAY PAY)",null,"HOT-Administrative HRS","Administrative=0\n1",2,3,4,null,"<=40\n5",null,null,"Holiday Flag","Up to 40","How","Hot","Actual Hours Worked","Admin Flag","Admin","Admin HOW","Admin OVT"]
["Hours-Previous WK (Due to Split WK)",null,null,null,{"$f":"SUM(E14:E18)","v":0},0,0,0,0,0,0,0,0,0,{"$f":"SUM(E13:N13)-J13","v":0},{"$f":"'Dec 1 - Dec 15'!P37","v":0},{"$f":"'Dec 1 - Dec 15'!Q37","v":0},{"$f":"'Dec 1 - Dec 15'!R37","v":0},{"$f":"'Dec 1 - Dec 15'!S37","v":0},{"$f":"'Dec 1 - Dec 15'!T37","v":0},{"$f":"'Dec 1 - Dec 15'!U37","v":0},{"$f":"'Dec 1 - Dec 15'!V37","v":0},{"$f":"'Dec 1 - Dec 15'!W37","v":0},null,null,null,null,null,null,null,null,null,null,null,null,{"$f":"IF(AND(AM13=0,J13=0),AM13,IF(AND(E13>AM13,J13=0),J13,IF(AND(J13<AM13,AI13=0),J13,IF(AND(AM13=J13,AI13<AM13),AM13-AI13,IF(AND(J13=AM13,AI13=AM13),AI13,IF(AND(J13<AM13,AI13>0),AM13-J13,IF(AND(AM13>J13,AI13<E13),E13-AI13,IF(AND(E13>AM13,AI13=E13),O13-AI13,0))))))))","v":0},{"$f":"IF(AND(G13=0,E13>G13),G13,IF(AND(E13>G13,AI13=0),G13,IF(AND(E13<G13,AI13=0),E13,IF(AND(E13=G13,AI13<G13),G13-AI13,IF(AND(E13=G13,AI13=G13),AI13,IF(AND(E13<G13,AI13>0),G13-E13,IF(AND(E13>G13,AI13<E13),E13-AI13,IF(AND(E13>G13,AI13=E13),O13-AI13,0))))))))","v":0},null,{"$f":"K13","v":0}]
[{"$f":"IF(EXACT(D14,$Z$6)=TRUE,$O$6,IF(A12=0,\"\",IF(A12<$O$7,A12+1,IF(A12=$O$7,\"\"))))","v":false},null,null,"Sunday",{"$f":"'Dec 1 - Dec 15'!E30","v":0},{"$f":"'Dec 1 - Dec 15'!F30","v":0},{"$f":"'Dec 1 - Dec 15'!G30","v":0},{"$f":"'Dec 1 - Dec 15'!H30","v":0},{"$f":"'Dec 1 - Dec 15'!I30","v":0},{"$f":"'Dec 1 - Dec 15'!J30","v":0},{"$f":"'Dec 1 - Dec 15'!K30","v":0},{"$f":"'Dec 1 - Dec 15'!L30","v":0},{"$f":"'Dec 1 - Dec 15'!M30","v":0},{"$f":"'Dec 1 - Dec 15'!N30","v":0},{"$f":"SUM(E14:N14)-J14","v":0},{"$f":"IF(AND(ISNUMBER(AA14),ISNUMBER(X14)),AA14*X14,\"\")","v":""},null,{"$f":"IF(AND(ISNUMBER(AB14),ISNUMBER(X14)),AB14*X14,\"\")","v":""},null,null,{"$f":"IF(BJ14>0,BJ14,BN14)","v":0},{"$f":"IF(BK14>0,BK14,0)","v":0},null,{"$f":"IF(ISNA(INDEX('Conversion Factors'!$B$6:$B$371,MATCH('Dec 16 - Dec 31'!$Z$14:$Z$20,'Conversion Factors'!$A$6:$A$371,0))),\"\",INDEX('Conversion Factors'!$B$6:$B$371,MATCH('Dec 16 - Dec 31'!$Z$14:$Z$20,'Conversion Factors'!$A$6:$A$371,0)))","v":""},null,{"$f":"A14","v":false},{"$f":"IF(AND(ISNUMBER(N14),ISNUMBER($Z$12)),N14/$Z$12,\"\")","v":0},{"$f":"IF(AND(ISNUMBER(Q14),ISNUMBER($Z$12)),Q14/$Z$12,\"\")","v":""},null,null,null,null,null,{"$f":"E14","v":0},{"$f":"IF(AH14>$AI$12,AH14-$AI$12,0)","v":0},{"$f":"IF(AND(AZ14>0,AZ14),IF(BA14>0,BA14,IF(BB14>0,BB14,IF(BC14>0,BC14,IF(BF14>0,BF14,\"\")))))","v":false},{"$f":"IF(AND(AO14>0,AO14),IF(AP14>0,AP14,IF(AQ14>0,AQ14,IF(AR14>0,AR14,IF(AU14>0,AU14,\"\")))))","v":false},null,{"$f":"J14","v":0},null,{"$f":"IF(G14=0,0,\"\")","v":0},{"$f":"IF(AND(AH14<=40,E14=G14),G14,0)","v":0},{"$f":"IF(AND(AH14<=40,E14>=G14,G14>0),O14-E14,0)","v":0},{"$f":"IF(AND(AH14<=40,E14<G14),O14-G14,0)","v":0},{"$f":"IF(AND(G14=0),G14,IF(AND(G14>0,AI14>0,G14=AT14),AT14,IF(AND(G14>0,AI14>0,G14-AT14),AT14,0)))","v":0},null,{"$f":"AS14","v":0},{"$f":"IF(AND(AH13+AU14=40,AI14>0,AI14>AU14),AI14-AU14,IF(AND(AH13+AU14=40,AI14>0,AI14<AU14,AU14+AI14=G14),AI14,IF(AND(AH13>40,AH14>40,G14=AI14),AI14,0)))","v":0},{"$f":"AV14","v":0},null,{"$f":"IF(AND(J14>0,AI14>=J14,BB14=0),O14-AI14,IF(AND(J14>0,AI14>0,BB14<=AI14),AI14-BB14,IF(AND(J14>0,AI14>0,BB14>AI14),J14-BB14,0)))","v":0},{"$f":"IF(J14=0,0,\"\")","v":0},{"$f":"IF(AND(AH14<=40,E14=J14),J14,0)","v":0},{"$f":"IF(AND(AZ14=0),AZ14,IF(AND(AH14>40,E14>=J14),BE14,IF(AND(AH14<=40,E14>J14),J14,0)))","v":0},{"$f":"IF(AND(AH14<=40,E14<J14),O14-J14,0)","v":0},{"$f":"IF(AND(J14=0),J14,IF(AND(J14>0,AI14>0,J14=BC14),BC14,IF(AND(J14>0,AI14>0,J14-BC14),BC14,0)))","v":0},null,{"$f":"BD14","v":0},null,{"$f":"IF(AND(G14>0,E14>0),1,0)","v":0},{"$f":"40-AH14","v":40},{"$f":"IF(AND(BH14=1,E14<8),E14,(IF(AND(BH14=1,E14>0),G14,0)))","v":0},{"$f":"IF(AND(BH14=1,BL14>40,E14<G14),E14-BJ14,(IF(AND(BH14=1,BL14>0,E14>=G14),G14-BJ14,0)))","v":0},{"$f":"E14","v":0},{"$f":"IF(AND(K14>0,E14>0),1,0)","v":0},{"$f":"IF(AND(BM14=1,J14>8),K14,(IF(AND(BM14=1,J14>0),J14,0)))","v":0},{"$f":"IF(AND(BM14=1,40-BL13>0,40-BL13<8),40-BL13,IF(AND(J14<K14),J14,K14))","v":0},{"$f":"IF(AND(BM14=1,BL14>40,J14<=K14),J14-BO14,IF(AND(BM14=1,BL14>0,J14>K14),K14-BO14,0))","v":0}]
[{"$f":"IF(EXACT(D15,$Z$6)=TRUE,$O$6,IF(A14=0,\"\",IF(A14<$O$7,A14+1,IF(A14=$O$7,\"\"))))","v":false},null,null,"Monday",{"$f":"'Dec 1 - Dec 15'!E31","v":0},{"$f":"'Dec 1 - Dec 15'!F31","v":0},{"$f":"'Dec 1 - Dec 15'!G31","v":0},{"$f":"'Dec 1 - Dec 15'!H31","v":0},{"$f":"'Dec 1 - Dec 15'!I31","v":0},{"$f":"'Dec 1 - Dec 15'!J31","v":0},{"$f":"'Dec 1 - Dec 15'!K31","v":0},{"$f":"'Dec 1 - Dec 15'!L31","v":0},{"$f":"'Dec 1 - Dec 15'!M31","v":0},{"$f":"'Dec 1 - Dec 15'!N31","v":0},{"$f":"SUM(E15:N15)-J15","v":0},{"$f":"IF(AND(ISNUMBER(AA15),ISNUMBER(X15)),AA15*X15,\"\")","v":""},null,{"$f":"IF(AND(ISNUMBER(AB15),ISNUMBER(X15)),AB15*X15,\"\")","v":""},null,null,{"$f":"IF(BJ15>0,BJ15,BN15)","v":0},{"$f":"IF(BK15>0,BK15,0)","v":0},null,{"$f":"IF(ISNA(INDEX('Conversion Factors'!$B$6:$B$371,MATCH('Dec 16 - Dec 31'!$Z$14:$Z$20,'Conversion Factors'!$A$6:$A$371,0))),\"\",INDEX('Conversion Factors'!$B$6:$B$371,MATCH('Dec 16 - Dec 31'!$Z$14:$Z$20,'Conversion Factors'!$A$6:$A$371,0)))","v":""},null,false,0,"",null,null,null,null,null,{"$f":"E15+AH14","v":0},{"$f":"IF(AH15>$AI$12,AH15-($AI$12+AI14),0)","v":0},{"$f":"IF(AND(AZ15>0,AZ15),IF(BA15>0,BA15,IF(BB15>0,BB15,IF(BC15>0,BC15,IF(BF15>0,BF15,\"\")))))","v":false},{"$f":"IF(AND(AO15>0,AO15),IF(AP15>0,AP15,IF(AQ15>0,AQ15,IF(AR15>0,AR15,IF(AU15>0,AU15,0)))))","v":false},null,0,null,0,0,0,0,0,{"$f":"IF(AND(AH14<=40),40-AH14,0)","v":40},{"$f":"AS15","v":0},0,{"$f":"AV15","v":0},null,0,0,0,0,0,0,{"$f":"IF(AND(AH14<=40),40-AH14,0)","v":40},{"$f":"BD15","v":0},null,{"$f":"IF(AND(G15>0,E15>0),1,0)","v":0},40,0,0,{"$f":"SUM(E14:E15)","v":0},{"$f":"IF(AND(K15>0,E15>0),1,0)","v":0},{"$f":"IF(AND(BM15=1,J15>8),K15,(IF(AND(BM15=1,J15>0),J15,0)))","v":0},0,0]
[false,null,null,"Tuesday",{"$f":"'Dec 1 - Dec 15'!E32","v":0},{"$f":"'Dec 1 - Dec 15'!F32","v":0},{"$f":"'Dec 1 - Dec 15'!G32","v":0},{"$f":"'Dec 1 - Dec 15'!H32","v":0},{"$f":"'Dec 1 - Dec 15'!I32","v":0},{"$f":"'Dec 1 - Dec 15'!J32","v":0},{"$f":"'Dec 1 - Dec 15'!K32","v":0},{"$f":"'Dec 1 - Dec 15'!L32","v":0},{"$f":"'Dec 1 - Dec 15'!M32","v":0},{"$f":"'Dec 1 - Dec 15'!N32","v":0},{"$f":"SUM(E16:N16)-J16","v":0},"",null,"",null,null,{"$f":"IF(BJ16>0,BJ16,BN16)","v":0},0,null,{"$f":"IF(ISNA(INDEX('Conversion Factors'!$B$6:$B$371,MATCH('Dec 16 - Dec 31'!$Z$14:$Z$20,'Conversion Factors'!$A$6:$A$371,0))),\"\",INDEX('Conversion Factors'!$B$6:$B$371,MATCH('Dec 16 - Dec 31'!$Z$14:$Z$20,'Conversion Factors'!$A$6:$A$371,0)))","v":""},null,false,0,"",null,null,null,null,null,0,{"$f":"IF(AH16>$AI$12,AH16-($AI$12+AI15+AI14),0)","v":0},false,false,null,0,null,0,0,0,0,0,40,0,0,0,null,0,0,0,0,0,0,{"$f":"IF(AND(AH15<=40),40-AH15,0)","v":40},0,null,{"$f":"IF(AND(G16>0,E16>0),1,0)","v":0},40,0,0,{"$f":"SUM(E14:E16)","v":0},0,{"$f":"IF(AND(BM16=1,J16>8),K16,(IF(AND(BM16=1,J16>0),J16,0)))","v":0},{"$f":"IF(AND(BM16=1,40-BL15>0,40-BL15<8),40-BL15,IF(AND(J16<K16),J16,K16))","v":0},0]
[false,null,null,"Wednesday",{"$f":"'Dec 1 - Dec 15'!E33","v":0},{"$f":"'Dec 1 - Dec 15'!F33","v":0},{"$f":"'Dec 1 - Dec 15'!G33","v":0},{"$f":"'Dec 1 - Dec 15'!H33","v":0},{"$f":"'Dec 1 - Dec 15'!I33","v":0},{"$f":"'Dec 1 - Dec 15'!J33","v":0},{"$f":"'Dec 1 - Dec 15'!K33","v":0},{"$f":"'Dec 1 - Dec 15'!L33","v":0},{"$f":"'Dec 1 - Dec 15'!M33","v":0},{"$f":"'Dec 1 - Dec 15'!N33","v":0},{"$f":"SUM(E17:N17)-J17","v":0},"",null,"",null,null,0,0,null,{"$f":"IF(ISNA(INDEX('Conversion Factors'!$B$6:$B$371,MATCH('Dec 16 - Dec 31'!$Z$14:$Z$20,'Conversion Factors'!$A$6:$A$371,0))),\"\",INDEX('Conversion Factors'!$B$6:$B$371,MATCH('Dec 16 - Dec 31'!$Z$14:$Z$20,'Conversion Factors'!$A$6:$A$371,0)))","v":""},null,false,0,"",null,null,null,null,null,0,{"$f":"IF(AH17>$AI$12,AH17-($AI$12+AI16+AI15+AI14),0)","v":0},false,false,null,0,null,0,0,0,0,0,40,0,0,0,null,0,0,0,0,0,0,40,0,null,0,40,0,0,{"$f":"SUM(E14:E17)","v":0},0,{"$f":"IF(AND(BM17=1,J17>8),K17,(IF(AND(BM17=1,J17>0),J17,0)))","v":0},{"$f":"IF(AND(BM17=1,40-BL16>0,40-BL16<8),40-BL16,IF(AND(J17<K17),J17,K17))","v":0},0]
[false,null,null,"Thursday",{"$f":"'Dec 1 - Dec 15'!E34","v":0},{"$f":"'Dec 1 - Dec 15'!F34","v":0},{"$f":"'Dec 1 - Dec 15'!G34","v":0},{"$f":"'Dec 1 - Dec 15'!H34","v":0},{"$f":"'Dec 1 - Dec 15'!I34","v":0},{"$f":"'Dec 1 - Dec 15'!J34","v":0},{"$f":"'Dec 1 - Dec 15'!K34","v":0},{"$f":"'Dec 1 - Dec 15'!L34","v":0},{"$f":"'Dec 1 - Dec 15'!M34","v":0},{"$f":"'Dec 1 - Dec 15'!N34","v":0},0,"",null,"",null,null,0,0,null,{"$f":"IF(ISNA(INDEX('Conversion Factors'!$B$6:$B$371,MATCH('Dec 16 - Dec 31'!$Z$14:$Z$20,'Conversion Factors'!$A$6:$A$371,0))),\"\",INDEX('Conversion Factors'!$B$6:$B$371,MATCH('Dec 16 - Dec 31'!$Z$14:$Z$20,'Conversion Factors'!$A$6:$A$371,0)))","v":""},null,false,0,"",null,null,null,null,null,0,{"$f":"IF(AH18>$AI$12,AH18-($AI$12+AI17+AI16+AI15+AI14),0)","v":0},false,false,null,0,null,0,0,0,0,0,{"$f":"IF(AND(AH17<=40),40-AH17,0)","v":40},0,0,0,null,0,0,0,0,0,0,40,0,null,0,40,0,0,{"$f":"SUM(E14:E18)","v":0},0,0,0,0]
["2022-12-16",null,null,"Friday",null,null,null,null,null,null,null,null,null,null,0,"",null,"",null,null,0,0,null,{"$f":"IF(ISNA(INDEX('Conversion Factors'!$B$6:$B$371,MATCH('Dec 16 - Dec 31'!$Z$14:$Z$20,'Conversion Factors'!$A$6:$A$371,0))),\"\",INDEX('Conversion Factors'!$B$6:$B$371,MATCH('Dec 16 - Dec 31'!$Z$14:$Z$20,'Conversion Factors'!$A$6:$A$371,0)))","v":7.8789999999999996},null,"2022-12-16","","",null,null,null,null,null,0,{"$f":"IF(AH19>$AI$12,AH19-($AI$12+AI18+AI17+AI16+AI15+AI14),0)","v":0},false,false,null,0,null,0,0,0,0,0,{"$f":"IF(AND(AH18<=40),40-AH18,0)","v":40},0,0,0,null,0,0,0,0,0,0,40,0,null,0,40,0,0,{"$f":"SUM(E14:E19)","v":0},0,0,0,{"$f":"IF(AND(BM19=1,BL19>40,J19<=K19),J19-BO19,IF(AND(BM19=1,BL19>0,J19>K19),K19-BO19,0))","v":0}]
["2022-12-17",null,null,"Saturday",null,null,null,null,null,null,null,null,null,null,{"$f":"SUM(E20:N20)-J20","v":0},"",null,"",null,null,0,0,null,{"$f":"IF(ISNA(INDEX('Conversion Factors'!$B$6:$B$371,MATCH('Dec 16 - Dec 31'!$Z$14:$Z$20,'Conversion Factors'!$A$6:$A$371,0))),\"\",INDEX('Conversion Factors'!$B$6:$B$371,MATCH('Dec 16 - Dec 31'!$Z$14:$Z$20,'Conversion Factors'!$A$6:$A$371,0)))","v":7.8789999999999996},null,"2022-12-17","","",null,null,null,null,null,0,{"$f":"IF(AH20>$AI$12,AH20-($AI$12+AI19+AI18+AI17+AI16+AI15+AI14),0)","v":0},false,false,null,0,null,0,0,0,0,0,40,0,0,0,null,0,0,0,0,0,0,40,0,null,0,40,0,0,{"$f":"SUM(E14:E20)","v":0},0,0,0,{"$f":"IF(AND(BM20=1,BL20>40,J20<=K20),J20-BO20,IF(AND(BM20=1,BL20>0,J20>K20),K20-BO20,0))","v":0}]
["Week 1 Totals",null,null,null,{"$f":"SUM(E14:E20)","v":0},{"$f":"SUM(F14:F20)","v":0},0,0,0,null,0,0,0,0,{"$f":"SUM(O14:O20)","v":0},{"$f":"-SUM(P14:P20)","v":0},{"$f":"SUM(Q14:Q20)","v":0},{"$f":"SUM(R14:R20)","v":0},{"$f":"IF(E21>40,(E21-40)-V21-BP21,0)","v":0},{"$f":"MROUND(AL21,0.25)","v":0},{"$f":"SUM(U14:U20)","v":0},{"$f":"SUM(V14:V20)","v":0},{"$f":"IF(E21-(E11-(G21+K21+F21+H21+I21+L21+M21))-(S21+U21+V21)>0,E21-(E11-(G21+K21+F21+H21+I21+L21+M21))-(S21+U21+V21),0)","v":0},null,null,null,null,null,{"$f":"SUM(F21:N21)","v":0},{"$f":"IF(AND(AG21<40,O21>=AG21),O21-(AG21+S21),IF(AND(O21<AG21,E21=O21),O21-E21,IF(AND(E21>AG21,E21<40),E21-AG21,IF(AND(O21>AG21,E21<AG21),E21-(AG21-AC21),IF(AND(O21>AG21,E21>40),E21-(AG21-AC21+S21),IF(AND(O21>AG21,O21>40),O21-(S21+AG21),0))))))","v":0},{"$f":"AD21-U21-V21","v":0},{"$f":"$W$11","v":"Please Select"},{"$f":"$E$11","v":40},null,{"$f":"IF(AH21>$AI$12,-$AI$12,0)","v":0},null,null,{"$f":"IF(AF21=\"Yes\",S21*1.5,0)","v":0},null,null,null,null,null,null,null,null,null,null,null,null,null,null,null,null,null,null,null,null,null,null,null,null,null,null,null,null,null,{"$f":"SUM(BP14:BP20)","v":0},{"$f":"E11+U21","v":40}]
[{"$f":"IF(A20=0,\"\",IF(A20<$O$7,A20+1,IF(A20=$O$7,\"\")))","v":"2022-12-18"},null,null,"Sunday",null,null,null,null,null,null,null,null,null,null,{"$f":"SUM(E22:N22)-J22","v":0},{"$f":"IF(AND(ISNUMBER(AA22),ISNUMBER(X22)),AA22*X22,\"\")","v":""},null,{"$f":"IF(AND(ISNUMBER(AB22),ISNUMBER(X22)),AB22*X22,\"\")","v":""},null,null,{"$f":"IF(BJ22>0,BJ22,BN22)","v":0},{"$f":"IF(BK22>0,BK22,0)","v":0},null,{"$f":"IF(ISNA(INDEX('Conversion Factors'!$B$6:$B$371,MATCH('Dec 16 - Dec 31'!$Z$22:$Z$28,'Conversion Factors'!$A$6:$A$371,0))),\"\",INDEX('Conversion Factors'!$B$6:$B$371,MATCH('Dec 16 - Dec 31'!$Z$22:$Z$28,'Conversion Factors'!$A$6:$A$371,0)))","v":7.8789999999999996},null,{"$f":"A22","v":"2022-12-18"},{"$f":"IF(AND(ISNUMBER(N22),ISNUMBER($Z$12)),N22/$Z$12,\"\")","v":""},{"$f":"IF(AND(ISNUMBER(Q22),ISNUMBER($Z$12)),Q22/$Z$12,\"\")","v":""},null,null,null,null,null,{"$f":"E22+AH21","v":0},{"$f":"IF(AH22>$AI$12,AH22-($AI$12+AI21),0)","v":0},{"$f":"IF(AND(AZ22>0,AZ22),IF(BA22>0,BA22,IF(BB22>0,BB22,IF(BC22>0,BC22,IF(BF22>0,BF22,\"\")))))","v":false},{"$f":"IF(AND(AO22>0,AO22),IF(AP22>0,AP22,IF(AQ22>0,AQ22,IF(AR22>0,AR22,IF(AU22>0,AU22,\"\")))))","v":false},null,{"$f":"J22","v":0},null,{"$f":"IF(G22=0,0,\"\")","v":0},{"$f":"IF(AND(AH22<=40,E22=G22),G22,0)","v":0},{"$f":"IF(AND(AH22<=40,E22>=G22,G22>0),O22-E22,0)","v":0},{"$f":"IF(AND(AH22<=40,E22<G22),O22-G22,0)","v":0},{"$f":"IF(AND(G22=0),G22,IF(AND(G22>0,AI22>0,G22=AT22),AT22,IF(AND(G22>0,AI22>0,G22-AT22),AT22,0)))","v":0},null,{"$f":"AS22","v":0},{"$f":"IF(AND(AH21+AU22=40,AI22>0,AI22>AU22),AI22-AU22,IF(AND(AH21+AU22=40,AI22>0,AI22<AU22,AU22+AI22=G22),AI22,IF(AND(AH21>40,AH22>40,G22=AI22),AI22,0)))","v":0},{"$f":"AV22","v":0},null,{"$f":"IF(AND(J22>0,AI22>0,BB22<=AI22),AI22-BB22,IF(AND(J22>0,AI22>0,BB22>AI22),J22-BB22,0))","v":0},{"$f":"IF(J22=0,0,\"\")","v":0},{"$f":"IF(AND(AH22<=40,E22=J22),J22,0)","v":0},{"$f":"IF(AND(AZ22=0),AZ22,IF(AND(AH22>40,E22>=J22),BE22,IF(AND(AH22<=40,E22>J22),J22,0)))","v":0},{"$f":"IF(AND(AH22<=40,E22<J22),O22-J22,0)","v":0},{"$f":"IF(AND(J22=0),J22,IF(AND(J22>0,AI22>0,J22=BC22),BC22,IF(AND(J22>0,AI22>0,J22-BC22),BC22,0)))","v":0},null,{"$f":"BD22","v":0},null,{"$f":"IF(AND(G22>0,E22>0),1,0)","v":0},{"$f":"40-AH22","v":40},0,{"$f":"IF(AND(BH22=1,BL22>40,E22<G22),E22-BJ22,(IF(AND(BH22=1,BL22>0,E22>=G22),G22-BJ22,0)))","v":0},{"$f":"E22","v":0},{"$f":"IF(AND(K22>0,E22>0),1,0)","v":0},{"$f":"IF(AND(BM22=1,J22>8),K22,(IF(AND(BM22=1,J22>0),J22,0)))","v":0},{"$f":"IF(AND(BM22=1,40-BL21>0,40-BL21<8),40-BL21,IF(AND(J22<K22),J22,K22))","v":0},{"$f":"IF(AND(BM22=1,BL22>40,J22<=K22),J22-BO22,IF(AND(BM22=1,BL22>0,J22>K22),K22-BO22,0))","v":0}]
[{"$f":"IF(A22<$O$7,A22+1,IF(A22=$O$7,\"\"))","v":"2022-12-19"},null,null,"Monday",null,null,null,null,null,null,null,null,null,null,{"$f":"SUM(E23:N23)-J23","v":0},{"$f":"IF(AND(ISNUMBER(AA23),ISNUMBER(X23)),AA23*X23,\"\")","v":""},null,{"$f":"IF(AND(ISNUMBER(AB23),ISNUMBER(X23)),AB23*X23,\"\")","v":""},null,null,{"$f":"IF(BJ23>0,BJ23,BN23)","v":0},{"$f":"IF(BK23>0,BK23,0)","v":0},null,{"$f":"IF(ISNA(INDEX('Conversion Factors'!$B$6:$B$371,MATCH('Dec 16 - Dec 31'!$Z$22:$Z$28,'Conversion Factors'!$A$6:$A$371,0))),\"\",INDEX('Conversion Factors'!$B$6:$B$371,MATCH('Dec 16 - Dec 31'!$Z$22:$Z$28,'Conversion Factors'!$A$6:$A$371,0)))","v":7.8789999999999996},null,"2022-12-19","","",null,null,null,null,null,0,{"$f":"IF(AH23>$AI$12,AH23-($AI$12+AI22+AI21),0)","v":0},false,{"$f":"IF(AND(AO23>0,AO23),IF(AP23>0,AP23,IF(AQ23>0,AQ23,IF(AR23>0,AR23,IF(AU23>0,AU23,0)))))","v":false},null,0,null,0,0,0,0,0,{"$f":"IF(AND(AH22<=40),40-AH22,0)","v":40},{"$f":"AS23","v":0},0,{"$f":"AV23","v":0},null,{"$f":"IF(AND(J23>0,AI23>0,BB23<=AI23),AI23-BB23,IF(AND(J23>0,AI23>0,BB23>AI23),J23-BB23,0))","v":0},0,0,0,0,0,{"$f":"IF(AND(AH22<=40),40-AH22,0)","v":40},{"$f":"BD23","v":0},null,{"$f":"IF(AND(G23>0,E23>0),1,0)","v":0},40,0,0,{"$f":"SUM(E22:E23)","v":0},{"$f":"IF(AND(K23>0,E23>0),1,0)","v":0},{"$f":"IF(AND(BM23=1,J23>8),K23,(IF(AND(BM23=1,J23>0),J23,0)))","v":0},0,0]
["2022-12-20",null,null,"Tuesday",null,null,null,null,null,null,null,null,null,null,{"$f":"SUM(E24:N24)-J24","v":0},"",null,"",null,null,{"$f":"IF(BJ24>0,BJ24,BN24)","v":0},0,null,{"$f":"IF(ISNA(INDEX('Conversion Factors'!$B$6:$B$371,MATCH('Dec 16 - Dec 31'!$Z$22:$Z$28,'Conversion Factors'!$A$6:$A$371,0))),\"\",INDEX('Conversion Factors'!$B$6:$B$371,MATCH('Dec 16 - Dec 31'!$Z$22:$Z$28,'Conversion Factors'!$A$6:$A$371,0)))","v":7.8789999999999996},null,"2022-12-20","","",null,null,null,null,null,0,{"$f":"IF(AH24>$AI$12,AH24-($AI$12+AI23+AI22+AI21),0)","v":0},false,false,null,0,null,0,0,0,0,0,40,0,0,0,null,{"$f":"IF(AND(J24>0,AI24>0,BB24<=AI24),AI24-BB24,IF(AND(J24>0,AI24>0,BB24>AI24),J24-BB24,0))","v":0},0,0,0,0,0,{"$f":"IF(AND(AH23<=40),40-AH23,0)","v":40},0,null,{"$f":"IF(AND(G24>0,E24>0),1,0)","v":0},40,0,0,{"$f":"SUM(E22:E24)","v":0},0,{"$f":"IF(AND(BM24=1,J24>8),K24,(IF(AND(BM24=1,J24>0),J24,0)))","v":0},{"$f":"IF(AND(BM24=1,40-BL23>0,40-BL23<8),40-BL23,IF(AND(J24<K24),J24,K24))","v":0},0]
["2022-12-21",null,null,"Wednesday",null,null,null,null,null,null,null,null,null,null,0,"",null,"",null,null,0,0,null,{"$f":"IF(ISNA(INDEX('Conversion Factors'!$B$6:$B$371,MATCH('Dec 16 - Dec 31'!$Z$22:$Z$28,'Conversion Factors'!$A$6:$A$371,0))),\"\",INDEX('Conversion Factors'!$B$6:$B$371,MATCH('Dec 16 - Dec 31'!$Z$22:$Z$28,'Conversion Factors'!$A$6:$A$371,0)))","v":7.8789999999999996},null,"2022-12-21","","",null,null,null,null,null,0,{"$f":"IF(AH25>$AI$12,AH25-($AI$12+AI24+AI23+AI22+AI21),0)","v":0},false,false,null,0,null,0,0,0,0,0,40,0,0,0,null,{"$f":"IF(AND(J25>0,AI25>0,BB25<=AI25),AI25-BB25,IF(AND(J25>0,AI25>0,BB25>AI25),J25-BB25,0))","v":0},0,0,0,0,0,40,0,null,0,40,0,0,{"$f":"SUM(E22:E25)","v":0},0,{"$f":"IF(AND(BM25=1,J25>8),K25,(IF(AND(BM25=1,J25>0),J25,0)))","v":0},{"$f":"IF(AND(BM25=1,40-BL24>0,40-BL24<8),40-BL24,IF(AND(J25<K25),J25,K25))","v":0},0]
["2022-12-22",null,null,"Thursday",null,null,null,null,null,null,null,null,null,null,0,"",null,"",null,null,0,0,null,{"$f":"IF(ISNA(INDEX('Conversion Factors'!$B$6:$B$371,MATCH('Dec 16 - Dec 31'!$Z$22:$Z$28,'Conversion Factors'!$A$6:$A$371,0))),\"\",INDEX('Conversion Factors'!$B$6:$B$371,MATCH('Dec 16 - Dec 31'!$Z$22:$Z$28,'Conversion Factors'!$A$6:$A$371,0)))","v":7.8789999999999996},null,"2022-12-22","","",null,null,null,null,null,0,{"$f":"IF(AH26>$AI$12,AH26-($AI$12+AI25+AI24+AI23+AI22+AI21),0)","v":0},false,false,null,0,null,0,0,0,0,0,{"$f":"IF(AND(AH25<=40),40-AH25,0)","v":40},0,0,0,null,{"$f":"IF(AND(J26>0,AI26>=J26,BB26=0),O26-AI26,IF(AND(J26>0,AI26>0,BB26<=AI26),AI26-BB26,IF(AND(J26>0,AI26>0,BB26>AI26),J26-BB26,0)))","v":0},0,0,0,0,0,40,0,null,0,40,0,0,{"$f":"SUM(E22:E26)","v":0},0,0,0,0]
["2022-12-23",null,null,"Friday",null,null,null,null,null,null,null,null,null,null,0,"",null,"",null,null,0,0,null,{"$f":"IF(ISNA(INDEX('Conversion Factors'!$B$6:$B$371,MATCH('Dec 16 - Dec 31'!$Z$22:$Z$28,'Conversion Factors'!$A$6:$A$371,0))),\"\",INDEX('Conversion Factors'!$B$6:$B$371,MATCH('Dec 16 - Dec 31'!$Z$22:$Z$28,'Conversion Factors'!$A$6:$A$371,0)))","v":7.8789999999999996},null,"2022-12-23","","",null,null,null,null,null,0,{"$f":"IF(AH27>$AI$12,AH27-($AI$12+AI26+AI25+AI24+AI23+AI22+AI21),0)","v":0},false,false,null,0,null,0,0,0,0,0,{"$f":"IF(AND(AH26<=40),40-AH26,0)","v":40},0,0,0,null,{"$f":"IF(AND(J27>0,AI27>=J27,BB27=0),O27-AI27,IF(AND(J27>0,AI27>0,BB27<=AI27),AI27-BB27,IF(AND(J27>0,AI27>0,BB27>AI27),J27-BB27,0)))","v":0},0,0,0,0,0,40,0,null,0,40,0,0,{"$f":"SUM(E22:E27)","v":0},0,0,0,{"$f":"IF(AND(BM27=1,BL27>40,J27<=K27),J27-BO27,IF(AND(BM27=1,BL27>0,J27>K27),K27-BO27,0))","v":0}]
["2022-12-24",null,null,"Saturday",null,null,null,null,null,null,null,null,null,null,{"$f":"SUM(E28:N28)-J28","v":0},"",null,"",null,null,0,0,null,{"$f":"IF(ISNA(INDEX('Conversion Factors'!$B$6:$B$371,MATCH('Dec 16 - Dec 31'!$Z$22:$Z$28,'Conversion Factors'!$A$6:$A$371,0))),\"\",INDEX('Conversion Factors'!$B$6:$B$371,MATCH('Dec 16 - Dec 31'!$Z$22:$Z$28,'Conversion Factors'!$A$6:$A$371,0)))","v":7.8789999999999996},null,"2022-12-24","","",null,null,null,null,null,0,{"$f":"IF(AH28>$AI$12,AH28-($AI$12+AI27+AI26+AI25+AI24+AI23+AI22+AI21),0)","v":0},false,false,null,0,null,0,0,0,0,0,40,0,0,0,null,{"$f":"IF(AND(J28>0,AI28>=J28,BB28=0),O28-AI28,IF(AND(J28>0,AI28>0,BB28<=AI28),AI28-BB28,IF(AND(J28>0,AI28>0,BB28>AI28),J28-BB28,0)))","v":0},0,0,0,0,0,40,0,null,0,40,0,0,{"$f":"SUM(E22:E28)","v":0},0,0,0,{"$f":"IF(AND(BM28=1,BL28>40,J28<=K28),J28-BO28,IF(AND(BM28=1,BL28>0,J28>K28),K28-BO28,0))","v":0}]
["Week 2 Totals",null,null,null,{"$f":"SUM(E22:E28)","v":0},0,0,0,0,null,0,0,0,0,{"$f":"SUM(O22:O28)","v":0},{"$f":"-SUM(P22:P28)","v":0},{"$f":"SUM(Q22:Q28)","v":0},{"$f":"SUM(R22:R28)","v":0},{"$f":"IF(E29>40,(E29-40)-V29,0)","v":0},{"$f":"MROUND(AL29,0.25)","v":0},{"$f":"SUM(U22:U28)","v":0},{"$f":"SUM(V22:V28)","v":0},{"$f":"IF(E29-(E11-(G29+K29+F29+H29+I29+L29+M29))-(S29+U29+V29)>0,E29-(E11-(G29+K29+F29+H29+I29+L29+M29))-(S29+U29+V29),0)","v":0},null,null,null,null,null,{"$f":"SUM(F29:N29)","v":0},{"$f":"IF(AND(AG29<40,O29>=AG29),O29-(AG29+S29),IF(AND(O29<AG29,E29=O29),O29-E29,IF(AND(E29>AG29,E29<40),E29-AG29,IF(AND(O29>AG29,E29<AG29),E29-(AG29-AC29),IF(AND(O29>AG29,E29>40),E29-(AG29-AC29+S29),IF(AND(O29>AG29,O29>40),O29-(S29+AG29),0))))))","v":0},{"$f":"AD29-U29-V29","v":0},{"$f":"$W$11","v":"Please Select"},{"$f":"$E$11","v":40},null,{"$f":"IF(AH29>$AI$12,-$AI$12,0)","v":0},null,null,{"$f":"IF(AF29=\"Yes\",S29*1.5,0)","v":0},0,null,null,null,null,null,null,null,null,null,null,null,null,0,null,null,null,null,null,null,null,null,null,null,null,null,null,null,null,{"$f":"SUM(BP22:BP28)","v":0},{"$f":"U29+E11","v":40}]
[{"$f":"IF(A28<$O$7,A28+1,IF(A28=$O$7,\"\"))","v":"2022-12-25"},null,null,"Sunday",null,null,null,null,null,null,null,null,null,null,{"$f":"SUM(E30:N30)-J30","v":0},{"$f":"IF(AND(ISNUMBER(AA30),ISNUMBER(X30)),AA30*X30,\"\")","v":""},null,{"$f":"IF(AND(ISNUMBER(AB30),ISNUMBER(X30)),AB30*X30,\"\")","v":""},null,null,{"$f":"IF(BJ30>0,BJ30,BN30)","v":0},{"$f":"IF(BK30>0,BK30,0)","v":0},null,{"$f":"IF(ISNA(INDEX('Conversion Factors'!$B$6:$B$370,MATCH('Dec 16 - Dec 31'!$Z$30:$Z$36,'Conversion Factors'!$A$6:$A$370,0))),\"\",INDEX('Conversion Factors'!$B$6:$B$370,MATCH('Dec 16 - Dec 31'!$Z$30:$Z$36,'Conversion Factors'!$A$6:$A$370,0)))","v":7.8789999999999996},null,{"$f":"A30","v":"2022-12-25"},{"$f":"IF(AND(ISNUMBER(N30),ISNUMBER($Z$12)),N30/$Z$12,\"\")","v":""},{"$f":"IF(AND(ISNUMBER(Q30),ISNUMBER($Z$12)),Q30/$Z$12,\"\")","v":""},null,null,null,null,null,{"$f":"E30+AH29","v":0},{"$f":"IF(AH30>$AI$12,AH30-($AI$12+AI29),0)","v":0},{"$f":"IF(AND(AZ30>0,AZ30),IF(BA30>0,BA30,IF(BB30>0,BB30,IF(BC30>0,BC30,IF(BF30>0,BF30,\"\")))))","v":false},{"$f":"IF(AND(AO30>0,AO30),IF(AP30>0,AP30,IF(AQ30>0,AQ30,IF(AR30>0,AR30,IF(AU30>0,AU30,\"\")))))","v":false},null,0,null,{"$f":"IF(G30=0,0,\"\")","v":0},{"$f":"IF(AND(AH30<=40,E30=G30),G30,0)","v":0},{"$f":"IF(AND(AH30<=40,E30>=G30,G30>0),O30-E30,0)","v":0},{"$f":"IF(AND(AH30<=40,E30<G30),O30-G30,0)","v":0},{"$f":"IF(AND(G30=0),G30,IF(AND(G30>0,AI30>0,G30=AT30),AT30,IF(AND(G30>0,AI30>0,G30-AT30),AT30,0)))","v":0},null,{"$f":"AS30","v":0},{"$f":"IF(AND(AH29+AU30=40,AI30>0,AI30>AU30),AI30-AU30,IF(AND(AH29+AU30=40,AI30>0,AI30<AU30,AU30+AI30=G30),AI30,IF(AND(AH29>40,AH30>40,G30=AI30),AI30,0)))","v":0},{"$f":"AV30","v":0},null,{"$f":"IF(AND(J30>0,AI30>=J30,BB30=0),O30-AI30,IF(AND(J30>0,AI30>0,BB30<=AI30),AI30-BB30,IF(AND(J30>0,AI30>0,BB30>AI30),J30-BB30,0)))","v":0},0,{"$f":"IF(AND(AH30<=40,E30=J30),J30,0)","v":0},{"$f":"IF(AND(AZ30=0),AZ30,IF(AND(AH30>40,E30>=J30),BE30,IF(AND(AH30<=40,E30>J30),J30,0)))","v":0},{"$f":"IF(AND(AH30<=40,E30<J30),O30-J30,0)","v":0},{"$f":"IF(AND(J30=0),J30,IF(AND(J30>0,AI30>0,J30=BC30),BC30,IF(AND(J30>0,AI30>0,J30-BC30),BC30,0)))","v":0},null,{"$f":"BD30","v":0},null,{"$f":"IF(AND(G30>0,E30>0),1,0)","v":0},{"$f":"40-AH30","v":40},0,{"$f":"IF(AND(BH30=1,BL30>40,E30<G30),E30-BJ30,(IF(AND(BH30=1,BL30>0,E30>=G30),G30-BJ30,0)))","v":0},{"$f":"E30","v":0},{"$f":"IF(AND(K30>0,E30>0),1,0)","v":0},{"$f":"IF(AND(BM30=1,J30>8),K30,(IF(AND(BM30=1,J30>0),J30,0)))","v":0},{"$f":"IF(AND(BM30=1,40-BL29>0,40-BL29<8),40-BL29,IF(AND(J30<K30),J30,K30))","v":0},{"$f":"IF(AND(BM30=1,BL30>40,J30<=K30),J30-BO30,IF(AND(BM30=1,BL30>0,J30>K30),K30-BO30,0))","v":0}]
[{"$f":"IF(A30<$O$7,A30+1,IF(A30=$O$7,\"\"))","v":"2022-12-26"},null,null,"Monday",null,null,null,null,null,null,null,null,null,null,{"$f":"SUM(E31:N31)-J31","v":0},{"$f":"IF(AND(ISNUMBER(AA31),ISNUMBER(X31)),AA31*X31,\"\")","v":""},null,{"$f":"IF(AND(ISNUMBER(AB31),ISNUMBER(X31)),AB31*X31,\"\")","v":""},null,null,0,{"$f":"IF(BK31>0,BK31,0)","v":0},null,{"$f":"IF(ISNA(INDEX('Conversion Factors'!$B$6:$B$370,MATCH('Dec 16 - Dec 31'!$Z$30:$Z$36,'Conversion Factors'!$A$6:$A$370,0))),\"\",INDEX('Conversion Factors'!$B$6:$B$370,MATCH('Dec 16 - Dec 31'!$Z$30:$Z$36,'Conversion Factors'!$A$6:$A$370,0)))","v":7.8789999999999996},null,"2022-12-26","","",null,null,null,null,null,0,{"$f":"IF(AH31>$AI$12,AH31-($AI$12+AI30+AI29),0)","v":0},false,{"$f":"IF(AND(AO31>0,AO31),IF(AP31>0,AP31,IF(AQ31>0,AQ31,IF(AR31>0,AR31,IF(AU31>0,AU31,0)))))","v":false},null,0,null,0,0,0,0,0,{"$f":"IF(AND(AH30<=40),40-AH30,0)","v":40},{"$f":"AS31","v":0},0,{"$f":"AV31","v":0},null,0,0,0,0,0,0,{"$f":"IF(AND(AH30<=40),40-AH30,0)","v":40},{"$f":"BD31","v":0},null,{"$f":"IF(AND(G31>0,E31>0),1,0)","v":0},40,0,0,{"$f":"SUM(E30:E31)","v":0},{"$f":"IF(AND(K31>0,E31>0),1,0)","v":0},{"$f":"IF(AND(BM31=1,J31>8),K31,(IF(AND(BM31=1,J31>0),J31,0)))","v":0},0,0]
["2022-12-27",null,null,"Tuesday",null,null,null,null,null,null,null,null,null,null,0,"",null,"",null,null,0,0,null,{"$f":"IF(ISNA(INDEX('Conversion Factors'!$B$6:$B$370,MATCH('Dec 16 - Dec 31'!$Z$30:$Z$36,'Conversion Factors'!$A$6:$A$370,0))),\"\",INDEX('Conversion Factors'!$B$6:$B$370,MATCH('Dec 16 - Dec 31'!$Z$30:$Z$36,'Conversion Factors'!$A$6:$A$370,0)))","v":7.8789999999999996},null,"2022-12-27","","",null,null,null,null,null,0,{"$f":"IF(AH32>$AI$12,AH32-($AI$12+AI31+AI30+AI29),0)","v":0},false,false,null,0,null,0,0,0,0,0,40,0,0,0,null,0,0,0,0,0,0,{"$f":"IF(AND(AH31<=40),40-AH31,0)","v":40},0,null,{"$f":"IF(AND(G32>0,E32>0),1,0)","v":0},40,0,0,{"$f":"SUM(E30:E32)","v":0},0,{"$f":"IF(AND(BM32=1,J32>8),K32,(IF(AND(BM32=1,J32>0),J32,0)))","v":0},{"$f":"IF(AND(BM32=1,40-BL31>0,40-BL31<8),40-BL31,IF(AND(J32<K32),J32,K32))","v":0},0]
["2022-12-28",null,null,"Wednesday",null,null,null,null,null,null,null,null,null,null,0,"",null,"",null,null,0,0,null,{"$f":"IF(ISNA(INDEX('Conversion Factors'!$B$6:$B$370,MATCH('Dec 16 - Dec 31'!$Z$30:$Z$36,'Conversion Factors'!$A$6:$A$370,0))),\"\",INDEX('Conversion Factors'!$B$6:$B$370,MATCH('Dec 16 - Dec 31'!$Z$30:$Z$36,'Conversion Factors'!$A$6:$A$370,0)))","v":7.8789999999999996},null,"2022-12-28","","",null,null,null,null,null,0,{"$f":"IF(AH33>$AI$12,AH33-($AI$12+AI32+AI31+AI30+AI29),0)","v":0},false,false,null,0,null,0,0,0,0,0,40,0,0,0,null,0,0,0,0,0,0,40,0,null,{"$f":"IF(AND(G33>0,E33>0),1,0)","v":0},40,0,0,{"$f":"SUM(E30:E33)","v":0},0,{"$f":"IF(AND(BM33=1,J33>8),K33,(IF(AND(BM33=1,J33>0),J33,0)))","v":0},{"$f":"IF(AND(BM33=1,40-BL32>0,40-BL32<8),40-BL32,IF(AND(J33<K33),J33,K33))","v":0},0]
["2022-12-29",null,null,"Thursday",null,null,null,null,null,null,null,null,null,null,0,"",null,"",null,null,0,0,null,{"$f":"IF(ISNA(INDEX('Conversion Factors'!$B$6:$B$370,MATCH('Dec 16 - Dec 31'!$Z$30:$Z$36,'Conversion Factors'!$A$6:$A$370,0))),\"\",INDEX('Conversion Factors'!$B$6:$B$370,MATCH('Dec 16 - Dec 31'!$Z$30:$Z$36,'Conversion Factors'!$A$6:$A$370,0)))","v":7.8789999999999996},null,"2022-12-29","","",null,null,null,null,null,0,{"$f":"IF(AH34>$AI$12,AH34-($AI$12+AI33+AI32+AI31+AI30+AI29),0)","v":0},false,false,null,0,null,0,0,0,0,0,{"$f":"IF(AND(AH33<=40),40-AH33,0)","v":40},0,0,0,null,0,0,0,0,0,0,40,0,null,0,40,0,0,{"$f":"SUM(E30:E34)","v":0},0,0,0,0]
["2022-12-30",null,null,"Friday",null,null,null,null,null,null,null,null,null,null,0,"",null,"",null,null,0,0,null,{"$f":"IF(ISNA(INDEX('Conversion Factors'!$B$6:$B$370,MATCH('Dec 16 - Dec 31'!$Z$30:$Z$36,'Conversion Factors'!$A$6:$A$370,0))),\"\",INDEX('Conversion Factors'!$B$6:$B$370,MATCH('Dec 16 - Dec 31'!$Z$30:$Z$36,'Conversion Factors'!$A$6:$A$370,0)))","v":7.8789999999999996},null,"2022-12-30","","",null,null,null,null,null,0,{"$f":"IF(AH35>$AI$12,AH35-($AI$12+AI34+AI33+AI32+AI31+AI30+AI29),0)","v":0},false,false,null,0,null,0,0,0,0,0,{"$f":"IF(AND(AH34<=40),40-AH34,0)","v":40},0,0,0,null,0,0,0,0,0,0,40,0,null,0,40,0,0,{"$f":"SUM(E30:E35)","v":0},0,0,0,{"$f":"IF(AND(BM35=1,BL35>40,J35<=K35),J35-BO35,IF(AND(BM35=1,BL35>0,J35>K35),K35-BO35,0))","v":0}]
["2022-12-31",null,null,"Saturday",null,null,null,null,null,null,null,null,null,null,0,"",null,"",null,null,0,0,null,{"$f":"IF(ISNA(INDEX('Conversion Factors'!$B$6:$B$370,MATCH('Dec 16 - Dec 31'!$Z$30:$Z$36,'Conversion Factors'!$A$6:$A$370,0))),\"\",INDEX('Conversion Factors'!$B$6:$B$370,MATCH('Dec 16 - Dec 31'!$Z$30:$Z$36,'Conversion Factors'!$A$6:$A$370,0)))","v":7.8789999999999996},null,"2022-12-31","","",null,null,null,null,null,0,{"$f":"IF(AH36>$AI$12,AH36-($AI$12+AI35+AI34+AI33+AI32+AI31+AI30+AI29),0)","v":0},false,false,null,0,null,0,0,0,0,0,40,0,0,0,null,0,0,0,0,0,0,40,0,null,0,40,0,0,{"$f":"SUM(E30:E36)","v":0},0,0,0,{"$f":"IF(AND(BM36=1,BL36>40,J36<=K36),J36-BO36,IF(AND(BM36=1,BL36>0,J36>K36),K36-BO36,0))","v":0}]
["Week 3 Totals",null,null,null,{"$f":"SUM(E30:E36)","v":0},0,0,0,0,null,0,0,0,0,{"$f":"SUM(O30:O36)","v":0},{"$f":"-SUM(P30:P36)","v":0},{"$f":"SUM(Q30:Q36)","v":0},{"$f":"SUM(R30:R36)","v":0},{"$f":"IF(E37>40,(E37-40)-V37,0)","v":0},{"$f":"MROUND(AL37,0.25)","v":0},{"$f":"SUM(U30:U36)","v":0},{"$f":"SUM(V30:V36)","v":0},{"$f":"IF(E37-(E11-(G37+K37+F37+H37+I37+L37+M3))-(S37+U37+V37)>0,E37-(E11-(G37+K37+F37+H37+I37+L37+M37))-(S37+U37+V37),0)","v":0},null,null,null,null,null,{"$f":"SUM(F37:N37)","v":0},{"$f":"IF(AND(AG37<40,O37>=AG37),O37-(AG37+S37),IF(AND(O37<AG37,E37=O37),O37-E37,IF(AND(E37>AG37,E37<40),E37-AG37,IF(AND(O37>AG37,E37<AG37),E37-(AG37-AC37),IF(AND(O37>AG37,E37>40),E37-(AG37-AC37+S37),IF(AND(O37>AG37,O37>40),O37-(S37+AG37),0))))))","v":0},{"$f":"AD37-U37-V37","v":0},{"$f":"$W$11","v":"Please Select"},{"$f":"$E$11","v":40},null,{"$f":"IF(AH37>$AI$12,-$AI$12,0)","v":0},null,null,{"$f":"IF(AF37=\"Yes\",S37*1.5,0)","v":0},null,null,null,null,null,null,null,null,null,null,null,null,null,null,null,null,null,null,null,null,null,0,null,null,null,null,null,null,null,{"$f":"SUM(BP30:BP36)","v":0},{"$f":"U37+E11","v":40}]
[{"$f":"IF(A36<$O$7,A36+1,IF(A36=$O$7,\"\"))","v":""},null,null,"Sunday",null,null,null,null,null,null,null,null,null,null,{"$f":"SUM(E38:N38)-J38","v":0},{"$f":"IF(AND(ISNUMBER(AA38),ISNUMBER(X38)),AA38*X38,\"\")","v":""},null,{"$f":"IF(AND(ISNUMBER(AB38),ISNUMBER(X38)),AB38*X38,\"\")","v":""},null,null,0,{"$f":"IF(BK38>0,BK38,0)","v":0},null,{"$f":"IF(ISNA(INDEX('Conversion Factors'!$B$6:$B$370,MATCH('Dec 16 - Dec 31'!$Z$38:$Z$44,'Conversion Factors'!$A$6:$A$370,0))),\"\",INDEX('Conversion Factors'!$B$6:$B$370,MATCH('Dec 16 - Dec 31'!$Z$38:$Z$44,'Conversion Factors'!$A$6:$A$370,0)))","v":""},null,{"$f":"A38","v":""},{"$f":"IF(AND(ISNUMBER(N38),ISNUMBER($Z$12)),N38/$Z$12,\"\")","v":""},{"$f":"IF(AND(ISNUMBER(Q38),ISNUMBER($Z$12)),Q38/$Z$12,\"\")","v":""},null,null,null,null,null,{"$f":"E38+AH37","v":0},{"$f":"IF(AH38>$AI$12,AH38-($AI$12+AI37),0)","v":0},{"$f":"IF(AND(AZ38>0,AZ38),IF(BA38>0,BA38,IF(BB38>0,BB38,IF(BC38>0,BC38,IF(BF38>0,BF38,\"\")))))","v":false},{"$f":"IF(AND(AO38>0,AO38),IF(AP38>0,AP38,IF(AQ38>0,AQ38,IF(AR38>0,AR38,IF(AU38>0,AU38,\"\")))))","v":false},null,{"$f":"J38","v":0},null,{"$f":"IF(G38=0,0,\"\")","v":0},{"$f":"IF(AND(AH38<=40,E38=G38),G38,0)","v":0},{"$f":"IF(AND(AH38<=40,E38>=G38,G38>0),O38-E38,0)","v":0},{"$f":"IF(AND(AH38<=40,E38<G38),O38-G38,0)","v":0},{"$f":"IF(AND(G38=0),G38,IF(AND(G38>0,AI38>0,G38=AT38),AT38,IF(AND(G38>0,AI38>0,G38-AT38),AT38,0)))","v":0},null,{"$f":"AS38","v":0},{"$f":"IF(AND(AH37+AU38=40,AI38>0,AI38>AU38),AI38-AU38,IF(AND(AH37+AU38=40,AI38>0,AI38<AU38,AU38+AI38=G38),AI38,IF(AND(AH37>40,AH38>40,G38=AI38),AI38,0)))","v":0},{"$f":"AV38","v":0},null,{"$f":"IF(AND(J38>0,AI38>=J38,BB38=0),O38-AI38,IF(AND(J38>0,AI38>0,BB38<=AI38),AI38-BB38,IF(AND(J38>0,AI38>0,BB38>AI38),J38-BB38,0)))","v":0},{"$f":"IF(J38=0,0,\"\")","v":0},{"$f":"IF(AND(AH38<=40,E38=J38),J38,0)","v":0},{"$f":"IF(AND(AZ38=0),AZ38,IF(AND(AH38>40,E38>=J38),BE38,IF(AND(AH38<=40,E38>J38),J38,0)))","v":0},{"$f":"IF(AND(AH38<=40,E38<J38),O38-J38,0)","v":0},{"$f":"IF(AND(J38=0),J38,IF(AND(J38>0,AI38>0,J38=BC38),BC38,IF(AND(J38>0,AI38>0,J38-BC38),BC38,0)))","v":0},null,{"$f":"BD38","v":0},null,{"$f":"IF(AND(G38>0,E38>0),1,0)","v":0},{"$f":"40-AH38","v":40},0,{"$f":"IF(AND(BH38=1,BL38>40,E38<G38),E38-BJ38,(IF(AND(BH38=1,BL38>0,E38>=G38),G38-BJ38,0)))","v":0},{"$f":"E38","v":0},{"$f":"IF(AND(K38>0,E38>0),1,0)","v":0},{"$f":"IF(AND(BM38=1,J38>8),K38,(IF(AND(BM38=1,J38>0),J38,0)))","v":0},{"$f":"IF(AND(BM38=1,40-BL37>0,40-BL37<8),40-BL37,IF(AND(J38<K38),J38,K38))","v":0},{"$f":"IF(AND(BM38=1,BL38>40,J38<=K38),J38-BO38,IF(AND(BM38=1,BL38>0,J38>K38),K38-BO38,0))","v":0}]
[{"$f":"IF(A38<$O$7,A38+1,IF(A38=$O$7,\"\"))","v":false},null,null,"Monday",null,null,null,0,null,null,null,null,null,null,{"$f":"SUM(E39:N39)-J39","v":0},{"$f":"IF(AND(ISNUMBER(AA39),ISNUMBER(X39)),AA39*X39,\"\")","v":""},null,{"$f":"IF(AND(ISNUMBER(AB39),ISNUMBER(X39)),AB39*X39,\"\")","v":""},null,null,0,{"$f":"IF(BK39>0,BK39,0)","v":0},null,{"$f":"IF(ISNA(INDEX('Conversion Factors'!$B$6:$B$370,MATCH('Dec 16 - Dec 31'!$Z$38:$Z$44,'Conversion Factors'!$A$6:$A$370,0))),\"\",INDEX('Conversion Factors'!$B$6:$B$370,MATCH('Dec 16 - Dec 31'!$Z$38:$Z$44,'Conversion Factors'!$A$6:$A$370,0)))","v":""},null,false,"","",null,null,null,null,null,0,{"$f":"IF(AH39>$AI$12,AH39-($AI$12+AI38+AI37),0)","v":0},false,{"$f":"IF(AND(AO39>0,AO39),IF(AP39>0,AP39,IF(AQ39>0,AQ39,IF(AR39>0,AR39,IF(AU39>0,AU39,0)))))","v":false},null,0,null,0,0,0,0,0,{"$f":"IF(AND(AH38<=40),40-AH38,0)","v":40},{"$f":"AS39","v":0},0,{"$f":"AV39","v":0},null,0,0,0,0,0,0,{"$f":"IF(AND(AH38<=40),40-AH38,0)","v":40},{"$f":"BD39","v":0},null,{"$f":"IF(AND(G39>0,E39>0),1,0)","v":0},40,0,0,{"$f":"SUM(E38:E39)","v":0},{"$f":"IF(AND(K39>0,E39>0),1,0)","v":0},{"$f":"IF(AND(BM39=1,J39>8),K39,(IF(AND(BM39=1,J39>0),J39,0)))","v":0},0,0]
[false,null,null,"Tuesday",null,null,null,null,null,0,0,null,null,null,{"$f":"SUM(E40:N40)-J40","v":0},"",null,"",null,null,0,0,null,{"$f":"IF(ISNA(INDEX('Conversion Factors'!$B$6:$B$370,MATCH('Dec 16 - Dec 31'!$Z$38:$Z$44,'Conversion Factors'!$A$6:$A$370,0))),\"\",INDEX('Conversion Factors'!$B$6:$B$370,MATCH('Dec 16 - Dec 31'!$Z$38:$Z$44,'Conversion Factors'!$A$6:$A$370,0)))","v":""},null,false,"","",null,null,null,null,null,0,{"$f":"IF(AH40>$AI$12,AH40-($AI$12+AI39+AI38+AI37),0)","v":0},false,false,null,0,null,0,0,0,0,0,40,0,0,0,null,0,0,0,0,0,0,{"$f":"IF(AND(AH39<=40),40-AH39,0)","v":40},0,null,{"$f":"IF(AND(G40>0,E40>0),1,0)","v":0},40,0,0,{"$f":"SUM(E38:E40)","v":0},0,{"$f":"IF(AND(BM40=1,J40>8),K40,(IF(AND(BM40=1,J40>0),J40,0)))","v":0},{"$f":"IF(AND(BM40=1,40-BL39>0,40-BL39<8),40-BL39,IF(AND(J40<K40),J40,K40))","v":0},0]
[false,null,null,"Wednesday",null,null,null,null,null,null,null,null,null,null,0,"",null,"",null,null,0,0,null,{"$f":"IF(ISNA(INDEX('Conversion Factors'!$B$6:$B$370,MATCH('Dec 16 - Dec 31'!$Z$38:$Z$44,'Conversion Factors'!$A$6:$A$370,0))),\"\",INDEX('Conversion Factors'!$B$6:$B$370,MATCH('Dec 16 - Dec 31'!$Z$38:$Z$44,'Conversion Factors'!$A$6:$A$370,0)))","v":""},null,false,"","",null,null,null,null,null,0,{"$f":"IF(AH41>$AI$12,AH41-($AI$12+AI40+AI39+AI38+AI37),0)","v":0},false,false,null,0,null,0,0,0,0,0,40,0,0,0,null,0,0,0,0,0,0,40,0,null,{"$f":"IF(AND(G41>0,E41>0),1,0)","v":0},40,0,0,{"$f":"SUM(E38:E41)","v":0},0,{"$f":"IF(AND(BM41=1,J41>8),K41,(IF(AND(BM41=1,J41>0),J41,0)))","v":0},{"$f":"IF(AND(BM41=1,40-BL40>0,40-BL40<8),40-BL40,IF(AND(J41<K41),J41,K41))","v":0},0]
[false,null,null,"Thursday",null,null,null,null,null,null,null,null,null,null,0,"",null,"",null,null,0,0,null,{"$f":"IF(ISNA(INDEX('Conversion Factors'!$B$6:$B$370,MATCH('Dec 16 - Dec 31'!$Z$38:$Z$44,'Conversion Factors'!$A$6:$A$370,0))),\"\",INDEX('Conversion Factors'!$B$6:$B$370,MATCH('Dec 16 - Dec 31'!$Z$38:$Z$44,'Conversion Factors'!$A$6:$A$370,0)))","v":""},null,false,"","",null,null,null,null,null,0,{"$f":"IF(AH42>$AI$12,AH42-($AI$12+AI41+AI40+AI39+AI38+AI37),0)","v":0},false,false,null,0,null,0,0,0,0,0,{"$f":"IF(AND(AH41<=40),40-AH41,0)","v":40},0,0,0,null,0,0,0,0,0,0,40,0,null,0,40,0,0,{"$f":"SUM(E38:E42)","v":0},0,0,0,0]
[false,null,null,"Friday",null,null,null,null,null,null,null,null,null,null,0,"",null,"",null,null,0,0,null,{"$f":"IF(ISNA(INDEX('Conversion Factors'!$B$6:$B$370,MATCH('Dec 16 - Dec 31'!$Z$38:$Z$44,'Conversion Factors'!$A$6:$A$370,0))),\"\",INDEX('Conversion Factors'!$B$6:$B$370,MATCH('Dec 16 - Dec 31'!$Z$38:$Z$44,'Conversion Factors'!$A$6:$A$370,0)))","v":""},null,false,"","",null,null,null,null,null,0,{"$f":"IF(AH43>$AI$12,AH43-($AI$12+AI42+AI41+AI40+AI39+AI38+AI37),0)","v":0},false,false,null,0,null,0,0,0,0,0,{"$f":"IF(AND(AH42<=40),40-AH42,0)","v":40},0,0,0,null,0,0,0,0,0,0,40,0,null,0,40,0,0,{"$f":"SUM(E38:E43)","v":0},0,0,0,{"$f":"IF(AND(BM43=1,BL43>40,J43<=K43),J43-BO43,IF(AND(BM43=1,BL43>0,J43>K43),K43-BO43,0))","v":0}]
[false,null,null,"Saturday",null,null,null,null,null,null,null,null,null,null,{"$f":"SUM(E44:N44)-J44","v":0},"",null,"",null,null,0,0,null,{"$f":"IF(ISNA(INDEX('Conversion Factors'!$B$6:$B$370,MATCH('Dec 16 - Dec 31'!$Z$38:$Z$44,'Conversion Factors'!$A$6:$A$370,0))),\"\",INDEX('Conversion Factors'!$B$6:$B$370,MATCH('Dec 16 - Dec 31'!$Z$38:$Z$44,'Conversion Factors'!$A$6:$A$370,0)))","v":""},null,false,"","",null,null,null,null,null,0,{"$f":"IF(AH44>$AI$12,AH44-($AI$12+AI43+AI42+AI41+AI40+AI39+AI38+AI37),0)","v":0},false,false,null,0,null,0,0,0,0,0,40,0,0,0,null,0,0,0,0,0,0,40,0,null,0,40,0,0,{"$f":"SUM(E38:E44)","v":0},0,0,0,{"$f":"IF(AND(BM44=1,BL44>40,J44<=K44),J44-BO44,IF(AND(BM44=1,BL44>0,J44>K44),K44-BO44,0))","v":0}]
["Week 4 Totals",null,null,null,{"$f":"SUM(E38:E44)","v":0},{"$f":"SUM(F38:F44)","v":0},0,0,0,null,0,0,0,0,{"$f":"SUM(O38:O44)","v":0},{"$f":"-SUM(P38:P44)","v":0},{"$f":"SUM(Q38:Q44)","v":0},{"$f":"SUM(R38:R44)","v":0},{"$f":"IF(E45>40,(E45-40)-V45,0)","v":0},{"$f":"MROUND(AL45,0.25)","v":0},{"$f":"SUM(U38:U44)","v":0},{"$f":"SUM(V38:V44)","v":0},{"$f":"IF(E45-(E11-(G45+K45+F45+H45+I45+L45+M45))-(S45+U45+V45)>0,E45-(E11-(G45+K45+F45+H45+I45+L45+M45))-(S45+U45+V45),0)","v":0},null,null,null,null,null,{"$f":"SUM(F45:N45)","v":0},{"$f":"IF(AND(AG45<40,O45>=AG45),O45-(AG45+S45),IF(AND(O45<AG45,E45=O45),O45-E45,IF(AND(E45>AG45,E45<40),E45-AG45,IF(AND(O45>AG45,E45<AG45),E45-(AG45-AC45),IF(AND(O45>AG45,E45>40),E45-(AG45-AC45+S45),IF(AND(O45>AG45,O45>40),O45-(S45+AG45),0))))))","v":0},{"$f":"AD45-U45-V45","v":0},{"$f":"$W$11","v":"Please Select"},{"$f":"$E$11","v":40},null,{"$f":"IF(AH45>$AI$12,-$AI$12,0)","v":0},null,null,{"$f":"IF(AF45=\"Yes\",S45*1.5,0)","v":0},null,null,null,null,null,null,null,null,null,null,null,null,null,null,null,null,null,null,null,null,null,null,null,null,null,null,null,null,null,{"$f":"SUM(BP38:BP44)","v":0},{"$f":"E44+E11","v":40}]
[null,null,null,null,null,null,null,null,"Total-Net Previous Week",null,null,null,null,null,{"$f":"(O21+O29+O37+O45)-O13","v":0},{"$f":"(P21+P29+P37+P45)-P13","v":0},0,0,0,0,0,0,0,0]
[]
[null,null,null,null,null,null,null,null,null,null,null,null,null,null,"Leave/Leave Without Pay Policy"]
["Employee signature",null,null,null,null,null,"Date",null,null,null,null,null,null,null,"Overtime/Compensatory Time"]
["I certify this record is accurate and accounts for my time during the indicated period.",null,null,null,null,null,null,null,null,null,null,null,null,null,"Time Sheet Definitions/Policies"]
[]
[null,null,null,null,null,null,null,null,null,null,"“Actual Work Hours During Administrative Close Period” – Only key the hours actually worked during the admministrative closing period into this field. "]
[]
["Manager signature",null,null,null,null,null,"Date"]
["I certify the hours recorded and coded on this form are correct and in compliance with University policy.",null,null,null,null,null,null,null,null,null,"“Administrative Closing/Leave Period field.”  Entter the number of hours of the declared period of administrative closing. (The total hours worked during the entire day will be entered into the “Actual Hours Worked” field.)"]

{"sheet":"Jan 1 - Jan 15","index":19,"n_rows":55,"n_cols":69,"rows_kept":55,"cut":false,"hidden":false,"merged":[[47,14,47,22],[48,14,48,19],[49,14,49,22],[51,10,53,22],[54,10,56,22],[45,8,45,13],[34,0,34,2],[35,0,35,2],[36,0,36,2],[37,0,37,2],[38,0,38,2],[39,0,39,2],[40,0,40,2],[41,0,41,2],[42,0,42,2],[43,0,43,2],[44,0,44,2],[33,0,33,2],[22,0,22,2],[23,0,23,2],[24,0,24,2],[25,0,25,2],[26,0,26,2],[27,0,27,2],[28,0,28,2],[29,0,29,2],[30,0,30,2],[31,0,31,2],[32,0,32,2],[21,0,21,2],[11,0,11,2],[11,29,11,30],[12,0,12,3],[13,0,13,2],[14,0,14,2],[15,0,15,2],[16,0,16,2],[17,0,17,2],[18,0,18,2],[19,0,19,2],[20,0,20,2],[10,40,10,46],[6,2,6,7],[6,8,6,13],[6,14,6,19],[7,2,7,7],[7,8,7,13],[7,14,7,19],[10,0,10,3],[10,4,10,5],[10,6,10,17],[10,18,10,21],[10,22,10,23],[0,0,0,22],[1,0,1,22],[3,0,3,23],[5,2,5,7],[5,8,5,13],[5,14,5,19]]}
["Mississippi State University"]
["Non-Exempt Employee Semi-Monthly Time Report"]
[]
["Instructions:  The Fair Labor Standards Act requires that a record of hours worked on a weekly basis be maintained for all employees except executive, administrative, managerial, faculty, and professional (non-faculty).  Department/unit heads are responsible for compiling and maintaining this record in department files on each covered employee for a period of at least (3) years."]
[]
["MSU ID #:",null,{"$f":"'July 1 - July 15'!C6","v":0},null,null,null,null,null,"Pay period start date:",null,null,null,null,null,{"$f":"'Dates & Notes'!$A$14","v":"2023-01-01"},null,null,null,null,null,null,null,null,null,null,{"$f":"TEXT(O6,\"dddd\")","v":"Sunday"},null,null,null,"Please Select"]
["Name:",null,{"$f":"'July 1 - July 15'!C7","v":0},null,null,null,null,null,"Pay period end date:",null,null,null,null,null,{"$f":"'Dates & Notes'!$B$14","v":"2023-01-15"},null,null,null,null,null,null,null,null,null,null,null,null,null,null,"No"]
["Department:",null,{"$f":"'July 1 - July 15'!C8","v":0},null,null,null,null,null,"Pay Period Number:",null,null,null,null,null,{"$f":"'Dates & Notes'!$C$14","v":1},null,null,null,null,null,null,null,null,null,null,null,null,null,null,"Yes"]
[]
[]
["Employee Scheduled Hours Per Week",null,null,null,40,null,"FIELDS MUST BE ENTERED FOR CALULATIONS TO WORK PROPERLY",null,null,null,null,null,null,null,null,null,null,null,"Receive Compensatory Time",null,null,null,"Please Select",null,null,null,null,null,null,null,null,null,null,null,"Over 40",null,null,null,null,null,"HOW ANALYSIS"]
["Work Week Dates",null,null,"Day of The Week","Actual Hours Worked","Compensatory Time Used","Holiday","Medical Leave","Personal Leave","Actual Wrk Hrs During  Admin Close Period","Administrative Closing/Leave Period","Jury Duty","Military Leave","Leave Without Pay","Totals","DOC-Payroll Conversion","RTO","RTO-Payroll Conversion","Overtime Hours","Hours Transferred to Comp. Record","HOW-Holiday Pay or Admin/Leave Closing","HOT-Holiday Pay","SST-Payroll","Conversion Factor",null,8,"DOC","RTO",null,"SST",null,null,null,"Cumm Actual HRS",40,"Administrative Leave","HOW-Holiday Pay","Comp. Time","Administrative/Schedule",null,"Holiday=0\n1",2,3,4,null,"<=40\n5",null,"HOT Workup","HOT-Holiday Pay (HOLIDAY PAY)",null,"HOT-Administrative HRS","Administrative=0\n1",2,3,4,null,"<=40\n5",null,null,"Holiday Flag","Up to 40","How","Hot","Actual Hours Worked","Admin Flag","Admin","Admin HOW","Admin OVT"]
["Hours-Previous WK (Due to Split WK)",null,null,null,null,null,null,null,null,null,null,null,null,null,{"$f":"SUM(E13:N13)-J13","v":0},null,null,null,null,null,null,null,null,null,null,null,null,null,null,null,null,null,null,null,null,{"$f":"IF(AND(AM13=0,J13=0),AM13,IF(AND(E13>AM13,J13=0),J13,IF(AND(J13<AM13,AI13=0),J13,IF(AND(AM13=J13,AI13<AM13),AM13-AI13,IF(AND(J13=AM13,AI13=AM13),AI13,IF(AND(J13<AM13,AI13>0),AM13-J13,IF(AND(AM13>J13,AI13<E13),E13-AI13,IF(AND(E13>AM13,AI13=E13),O13-AI13,0))))))))","v":0},{"$f":"IF(AND(G13=0,E13>G13),G13,IF(AND(E13>G13,AI13=0),G13,IF(AND(E13<G13,AI13=0),E13,IF(AND(E13=G13,AI13<G13),G13-AI13,IF(AND(E13=G13,AI13=G13),AI13,IF(AND(E13<G13,AI13>0),G13-E13,IF(AND(E13>G13,AI13<E13),E13-AI13,IF(AND(E13>G13,AI13=E13),O13-AI13,0))))))))","v":0},null,{"$f":"K13","v":0}]
[{"$f":"IF(EXACT(D14,$Z$6)=TRUE,$O$6,IF(A12=0,\"\",IF(A12<$O$7,A12+1,IF(A12=$O$7,\"\"))))","v":"2023-01-01"},null,null,"Sunday",null,null,null,null,null,null,null,null,null,null,{"$f":"SUM(E14:N14)-J14","v":0},{"$f":"IF(AND(ISNUMBER(AA14),ISNUMBER(X14)),AA14*X14,\"\")","v":""},null,{"$f":"IF(AND(ISNUMBER(AB14),ISNUMBER(X14)),AB14*X14,\"\")","v":""},null,null,{"$f":"IF(BJ14>0,BJ14,BN14)","v":0},{"$f":"IF(BK14>0,BK14,0)","v":0},null,{"$f":"IF(ISNA(INDEX('Conversion Factors'!$B$6:$B$371,MATCH('Jan 1 - Jan 15'!$Z$14:$Z$20,'Conversion Factors'!$A$6:$A$371,0))),\"\",INDEX('Conversion Factors'!$B$6:$B$371,MATCH('Jan 1 - Jan 15'!$Z$14:$Z$20,'Conversion Factors'!$A$6:$A$371,0)))","v":8.6669999999999998},null,{"$f":"A14","v":"2023-01-01"},{"$f":"IF(AND(ISNUMBER(N14),ISNUMBER($Z$12)),N14/$Z$12,\"\")","v":""},{"$f":"IF(AND(ISNUMBER(Q14),ISNUMBER($Z$12)),Q14/$Z$12,\"\")","v":""},null,null,null,null,null,{"$f":"E14","v":0},{"$f":"IF(AH14>$AI$12,AH14-$AI$12,0)","v":0},{"$f":"IF(AND(AZ14>0,AZ14),IF(BA14>0,BA14,IF(BB14>0,BB14,IF(BC14>0,BC14,IF(BF14>0,BF14,\"\")))))","v":false},{"$f":"IF(AND(AO14>0,AO14),IF(AP14>0,AP14,IF(AQ14>0,AQ14,IF(AR14>0,AR14,IF(AU14>0,AU14,\"\")))))","v":false},null,{"$f":"J14","v":0},null,{"$f":"IF(G14=0,0,\"\")","v":0},{"$f":"IF(AND(AH14<=40,E14=G14),G14,0)","v":0},{"$f":"IF(AND(AH14<=40,E14>=G14,G14>0),O14-E14,0)","v":0},{"$f":"IF(AND(AH14<=40,E14<G14),O14-G14,0)","v":0},{"$f":"IF(AND(G14=0),G14,IF(AND(G14>0,AI14>0,G14=AT14),AT14,IF(AND(G14>0,AI14>0,G14-AT14),AT14,0)))","v":0},null,{"$f":"AS14","v":0},{"$f":"IF(AND(AH13+AU14=40,AI14>0,AI14>AU14),AI14-AU14,IF(AND(AH13+AU14=40,AI14>0,AI14<AU14,AU14+AI14=G14),AI14,IF(AND(AH13>40,AH14>40,G14=AI14),AI14,0)))","v":0},{"$f":"AV14","v":0},null,{"$f":"IF(AND(J14>0,AI14>=J14,BB14=0),O14-AI14,IF(AND(J14>0,AI14>0,BB14<=AI14),AI14-BB14,IF(AND(J14>0,AI14>0,BB14>AI14),J14-BB14,0)))","v":0},{"$f":"IF(J14=0,0,\"\")","v":0},{"$f":"IF(AND(AH14<=40,E14=J14),J14,0)","v":0},{"$f":"IF(AND(AZ14=0),AZ14,IF(AND(AH14>40,E14>=J14),BE14,IF(AND(AH14<=40,E14>J14),J14,0)))","v":0},{"$f":"IF(AND(AH14<=40,E14<J14),O14-J14,0)","v":0},{"$f":"IF(AND(J14=0),J14,IF(AND(J14>0,AI14>0,J14=BC14),BC14,IF(AND(J14>0,AI14>0,J14-BC14),BC14,0)))","v":0},null,{"$f":"BD14","v":0},null,{"$f":"IF(AND(G14>0,E14>0),1,0)","v":0},{"$f":"40-AH14","v":40},{"$f":"IF(AND(BH14=1,E14<8),E14,(IF(AND(BH14=1,E14>0),G14,0)))","v":0},{"$f":"IF(AND(BH14=1,BL14>40,E14<G14),E14-BJ14,(IF(AND(BH14=1,BL14>0,E14>=G14),G14-BJ14,0)))","v":0},{"$f":"E14","v":0},{"$f":"IF(AND(K14>0,E14>0),1,0)","v":0},{"$f":"IF(AND(BM14=1,J14>8),K14,(IF(AND(BM14=1,J14>0),J14,0)))","v":0},{"$f":"IF(AND(BM14=1,40-BL13>0,40-BL13<8),40-BL13,IF(AND(J14<K14),J14,K14))","v":0},{"$f":"IF(AND(BM14=1,BL14>40,J14<=K14),J14-BO14,IF(AND(BM14=1,BL14>0,J14>K14),K14-BO14,0))","v":0}]
[{"$f":"IF(EXACT(D15,$Z$6)=TRUE,$O$6,IF(A14=0,\"\",IF(A14<$O$7,A14+1,IF(A14=$O$7,\"\"))))","v":"2023-01-02"},null,null,"Monday",null,null,null,null,null,null,null,null,null,null,{"$f":"SUM(E15:N15)-J15","v":0},{"$f":"IF(AND(ISNUMBER(AA15),ISNUMBER(X15)),AA15*X15,\"\")","v":""},null,{"$f":"IF(AND(ISNUMBER(AB15),ISNUMBER(X15)),AB15*X15,\"\")","v":""},null,null,{"$f":"IF(BJ15>0,BJ15,BN15)","v":0},{"$f":"IF(BK15>0,BK15,0)","v":0},null,{"$f":"IF(ISNA(INDEX('Conversion Factors'!$B$6:$B$371,MATCH('Jan 1 - Jan 15'!$Z$14:$Z$20,'Conversion Factors'!$A$6:$A$371,0))),\"\",INDEX('Conversion Factors'!$B$6:$B$371,MATCH('Jan 1 - Jan 15'!$Z$14:$Z$20,'Conversion Factors'!$A$6:$A$371,0)))","v":8.6669999999999998},null,"2023-01-02","","",null,null,null,null,null,{"$f":"E15+AH14","v":0},{"$f":"IF(AH15>$AI$12,AH15-($AI$12+AI14),0)","v":0},{"$f":"IF(AND(AZ15>0,AZ15),IF(BA15>0,BA15,IF(BB15>0,BB15,IF(BC15>0,BC15,IF(BF15>0,BF15,\"\")))))","v":false},{"$f":"IF(AND(AO15>0,AO15),IF(AP15>0,AP15,IF(AQ15>0,AQ15,IF(AR15>0,AR15,IF(AU15>0,AU15,0)))))","v":false},null,0,null,0,0,0,0,0,{"$f":"IF(AND(AH14<=40),40-AH14,0)","v":40},{"$f":"AS15","v":0},0,{"$f":"AV15","v":0},null,0,0,0,0,0,0,{"$f":"IF(AND(AH14<=40),40-AH14,0)","v":40},{"$f":"BD15","v":0},null,{"$f":"IF(AND(G15>0,E15>0),1,0)","v":0},40,0,0,{"$f":"SUM(E14:E15)","v":0},{"$f":"IF(AND(K15>0,E15>0),1,0)","v":0},{"$f":"IF(AND(BM15=1,J15>8),K15,(IF(AND(BM15=1,J15>0),J15,0)))","v":0},0,0]
["2023-01-03",null,null,"Tuesday",null,null,null,null,null,null,null,null,null,null,{"$f":"SUM(E16:N16)-J16","v":0},"",null,"",null,null,{"$f":"IF(BJ16>0,BJ16,BN16)","v":0},0,null,{"$f":"IF(ISNA(INDEX('Conversion Factors'!$B$6:$B$371,MATCH('Jan 1 - Jan 15'!$Z$14:$Z$20,'Conversion Factors'!$A$6:$A$371,0))),\"\",INDEX('Conversion Factors'!$B$6:$B$371,MATCH('Jan 1 - Jan 15'!$Z$14:$Z$20,'Conversion Factors'!$A$6:$A$371,0)))","v":8.6669999999999998},null,"2023-01-03","","",null,null,null,null,null,0,{"$f":"IF(AH16>$AI$12,AH16-($AI$12+AI15+AI14),0)","v":0},false,false,null,0,null,0,0,0,0,0,40,0,0,0,null,0,0,0,0,0,0,{"$f":"IF(AND(AH15<=40),40-AH15,0)","v":40},0,null,{"$f":"IF(AND(G16>0,E16>0),1,0)","v":0},40,0,0,{"$f":"SUM(E14:E16)","v":0},0,{"$f":"IF(AND(BM16=1,J16>8),K16,(IF(AND(BM16=1,J16>0),J16,0)))","v":0},{"$f":"IF(AND(BM16=1,40-BL15>0,40-BL15<8),40-BL15,IF(AND(J16<K16),J16,K16))","v":0},0]
["2023-01-04",null,null,"Wednesday",null,null,null,null,null,null,null,null,null,null,{"$f":"SUM(E17:N17)-J17","v":0},"",null,"",null,null,0,0,null,{"$f":"IF(ISNA(INDEX('Conversion Factors'!$B$6:$B$371,MATCH('Jan 1 - Jan 15'!$Z$14:$Z$20,'Conversion Factors'!$A$6:$A$371,0))),\"\",INDEX('Conversion Factors'!$B$6:$B$371,MATCH('Jan 1 - Jan 15'!$Z$14:$Z$20,'Conversion Factors'!$A$6:$A$371,0)))","v":8.6669999999999998},null,"2023-01-04","","",null,null,null,null,null,0,{"$f":"IF(AH17>$AI$12,AH17-($AI$12+AI16+AI15+AI14),0)","v":0},false,false,null,0,null,0,0,0,0,0,40,0,0,0,null,0,0,0,0,0,0,40,0,null,0,40,0,0,{"$f":"SUM(E14:E17)","v":0},0,{"$f":"IF(AND(BM17=1,J17>8),K17,(IF(AND(BM17=1,J17>0),J17,0)))","v":0},{"$f":"IF(AND(BM17=1,40-BL16>0,40-BL16<8),40-BL16,IF(AND(J17<K17),J17,K17))","v":0},0]
["2023-01-05",null,null,"Thursday",null,null,null,null,null,null,null,null,null,null,0,"",null,"",null,null,0,0,null,{"$f":"IF(ISNA(INDEX('Conversion Factors'!$B$6:$B$371,MATCH('Jan 1 - Jan 15'!$Z$14:$Z$20,'Conversion Factors'!$A$6:$A$371,0))),\"\",INDEX('Conversion Factors'!$B$6:$B$371,MATCH('Jan 1 - Jan 15'!$Z$14:$Z$20,'Conversion Factors'!$A$6:$A$371,0)))","v":8.6669999999999998},null,"2023-01-05","","",null,null,null,null,null,0,{"$f":"IF(AH18>$AI$12,AH18-($AI$12+AI17+AI16+AI15+AI14),0)","v":0},false,false,null,0,null,0,0,0,0,0,{"$f":"IF(AND(AH17<=40),40-AH17,0)","v":40},0,0,0,null,0,0,0,0,0,0,40,0,null,0,40,0,0,{"$f":"SUM(E14:E18)","v":0},0,0,0,0]
["2023-01-06",null,null,"Friday",null,null,null,null,null,null,null,null,null,null,0,"",null,"",null,null,0,0,null,{"$f":"IF(ISNA(INDEX('Conversion Factors'!$B$6:$B$371,MATCH('Jan 1 - Jan 15'!$Z$14:$Z$20,'Conversion Factors'!$A$6:$A$371,0))),\"\",INDEX('Conversion Factors'!$B$6:$B$371,MATCH('Jan 1 - Jan 15'!$Z$14:$Z$20,'Conversion Factors'!$A$6:$A$371,0)))","v":8.6669999999999998},null,"2023-01-06","","",null,null,null,null,null,0,{"$f":"IF(AH19>$AI$12,AH19-($AI$12+AI18+AI17+AI16+AI15+AI14),0)","v":0},false,false,null,0,null,0,0,0,0,0,{"$f":"IF(AND(AH18<=40),40-AH18,0)","v":40},0,0,0,null,0,0,0,0,0,0,40,0,null,0,40,0,0,{"$f":"SUM(E14:E19)","v":0},0,0,0,{"$f":"IF(AND(BM19=1,BL19>40,J19<=K19),J19-BO19,IF(AND(BM19=1,BL19>0,J19>K19),K19-BO19,0))","v":0}]
["2023-01-07",null,null,"Saturday",null,null,null,null,null,null,null,null,null,null,{"$f":"SUM(E20:N20)-J20","v":0},"",null,"",null,null,0,0,null,{"$f":"IF(ISNA(INDEX('Conversion Factors'!$B$6:$B$371,MATCH('Jan 1 - Jan 15'!$Z$14:$Z$20,'Conversion Factors'!$A$6:$A$371,0))),\"\",INDEX('Conversion Factors'!$B$6:$B$371,MATCH('Jan 1 - Jan 15'!$Z$14:$Z$20,'Conversion Factors'!$A$6:$A$371,0)))","v":8.6669999999999998},null,"2023-01-07","","",null,null,null,null,null,0,{"$f":"IF(AH20>$AI$12,AH20-($AI$12+AI19+AI18+AI17+AI16+AI15+AI14),0)","v":0},false,false,null,0,null,0,0,0,0,0,40,0,0,0,null,0,0,0,0,0,0,40,0,null,0,40,0,0,{"$f":"SUM(E14:E20)","v":0},0,0,0,{"$f":"IF(AND(BM20=1,BL20>40,J20<=K20),J20-BO20,IF(AND(BM20=1,BL20>0,J20>K20),K20-BO20,0))","v":0}]
["Week 1 Totals",null,null,null,{"$f":"SUM(E14:E20)","v":0},{"$f":"SUM(F14:F20)","v":0},0,0,0,null,0,0,0,0,{"$f":"SUM(O14:O20)","v":0},{"$f":"-SUM(P14:P20)","v":0},{"$f":"SUM(Q14:Q20)","v":0},{"$f":"SUM(R14:R20)","v":0},{"$f":"IF(E21>40,(E21-40)-V21-BP21,0)","v":0},{"$f":"MROUND(AL21,0.25)","v":0},{"$f":"SUM(U14:U20)","v":0},{"$f":"SUM(V14:V20)","v":0},{"$f":"IF(E21-(E11-(G21+K21+F21+H21+I21+L21+M21))-(S21+U21+V21)>0,E21-(E11-(G21+K21+F21+H21+I21+L21+M21))-(S21+U21+V21),0)","v":0},null,null,null,null,null,{"$f":"SUM(F21:N21)","v":0},{"$f":"IF(AND(AG21<40,O21>=AG21),O21-(AG21+S21),IF(AND(O21<AG21,E21=O21),O21-E21,IF(AND(E21>AG21,E21<40),E21-AG21,IF(AND(O21>AG21,E21<AG21),E21-(AG21-AC21),IF(AND(O21>AG21,E21>40),E21-(AG21-AC21+S21),IF(AND(O21>AG21,O21>40),O21-(S21+AG21),0))))))","v":0},{"$f":"AD21-U21-V21","v":0},{"$f":"$W$11","v":"Please Select"},{"$f":"$E$11","v":40},null,{"$f":"IF(AH21>$AI$12,-$AI$12,0)","v":0},null,null,{"$f":"IF(AF21=\"Yes\",S21*1.5,0)","v":0},null,null,null,null,null,null,null,null,null,null,null,null,null,null,null,null,null,null,null,null,null,null,null,null,null,null,null,null,null,{"$f":"SUM(BP14:BP20)","v":0},{"$f":"E11+U21","v":40}]
[{"$f":"IF(A20=0,\"\",IF(A20<$O$7,A20+1,IF(A20=$O$7,\"\")))","v":"2023-01-08"},null,null,"Sunday",null,null,null,null,null,null,null,null,null,null,{"$f":"SUM(E22:N22)-J22","v":0},{"$f":"IF(AND(ISNUMBER(AA22),ISNUMBER(X22)),AA22*X22,\"\")","v":""},null,{"$f":"IF(AND(ISNUMBER(AB22),ISNUMBER(X22)),AB22*X22,\"\")","v":""},null,null,{"$f":"IF(BJ22>0,BJ22,BN22)","v":0},{"$f":"IF(BK22>0,BK22,0)","v":0},null,{"$f":"IF(ISNA(INDEX('Conversion Factors'!$B$6:$B$371,MATCH('Jan 1 - Jan 15'!$Z$22:$Z$28,'Conversion Factors'!$A$6:$A$371,0))),\"\",INDEX('Conversion Factors'!$B$6:$B$371,MATCH('Jan 1 - Jan 15'!$Z$22:$Z$28,'Conversion Factors'!$A$6:$A$371,0)))","v":8.6669999999999998},null,{"$f":"A22","v":"2023-01-08"},{"$f":"IF(AND(ISNUMBER(N22),ISNUMBER($Z$12)),N22/$Z$12,\"\")","v":""},{"$f":"IF(AND(ISNUMBER(Q22),ISNUMBER($Z$12)),Q22/$Z$12,\"\")","v":""},null,null,null,null,null,{"$f":"E22+AH21","v":0},{"$f":"IF(AH22>$AI$12,AH22-($AI$12+AI21),0)","v":0},{"$f":"IF(AND(AZ22>0,AZ22),IF(BA22>0,BA22,IF(BB22>0,BB22,IF(BC22>0,BC22,IF(BF22>0,BF22,\"\")))))","v":false},{"$f":"IF(AND(AO22>0,AO22),IF(AP22>0,AP22,IF(AQ22>0,AQ22,IF(AR22>0,AR22,IF(AU22>0,AU22,\"\")))))","v":false},null,{"$f":"J22","v":0},null,{"$f":"IF(G22=0,0,\"\")","v":0},{"$f":"IF(AND(AH22<=40,E22=G22),G22,0)","v":0},{"$f":"IF(AND(AH22<=40,E22>=G22,G22>0),O22-E22,0)","v":0},{"$f":"IF(AND(AH22<=40,E22<G22),O22-G22,0)","v":0},{"$f":"IF(AND(G22=0),G22,IF(AND(G22>0,AI22>0,G22=AT22),AT22,IF(AND(G22>0,AI22>0,G22-AT22),AT22,0)))","v":0},null,{"$f":"AS22","v":0},{"$f":"IF(AND(AH21+AU22=40,AI22>0,AI22>AU22),AI22-AU22,IF(AND(AH21+AU22=40,AI22>0,AI22<AU22,AU22+AI22=G22),AI22,IF(AND(AH21>40,AH22>40,G22=AI22),AI22,0)))","v":0},{"$f":"AV22","v":0},null,{"$f":"IF(AND(J22>0,AI22>0,BB22<=AI22),AI22-BB22,IF(AND(J22>0,AI22>0,BB22>AI22),J22-BB22,0))","v":0},{"$f":"IF(J22=0,0,\"\")","v":0},{"$f":"IF(AND(AH22<=40,E22=J22),J22,0)","v":0},{"$f":"IF(AND(AZ22=0),AZ22,IF(AND(AH22>40,E22>=J22),BE22,IF(AND(AH22<=40,E22>J22),J22,0)))","v":0},{"$f":"IF(AND(AH22<=40,E22<J22),O22-J22,0)","v":0},{"$f":"IF(AND(J22=0),J22,IF(AND(J22>0,AI22>0,J22=BC22),BC22,IF(AND(J22>0,AI22>0,J22-BC22),BC22,0)))","v":0},null,{"$f":"BD22","v":0},null,{"$f":"IF(AND(G22>0,E22>0),1,0)","v":0},{"$f":"40-AH22","v":40},0,{"$f":"IF(AND(BH22=1,BL22>40,E22<G22),E22-BJ22,(IF(AND(BH22=1,BL22>0,E22>=G22),G22-BJ22,0)))","v":0},{"$f":"E22","v":0},{"$f":"IF(AND(K22>0,E22>0),1,0)","v":0},{"$f":"IF(AND(BM22=1,J22>8),K22,(IF(AND(BM22=1,J22>0),J22,0)))","v":0},{"$f":"IF(AND(BM22=1,40-BL21>0,40-BL21<8),40-BL21,IF(AND(J22<K22),J22,K22))","v":0},{"$f":"IF(AND(BM22=1,BL22>40,J22<=K22),J22-BO22,IF(AND(BM22=1,BL22>0,J22>K22),K22-BO22,0))","v":0}]
[{"$f":"IF(A22<$O$7,A22+1,IF(A22=$O$7,\"\"))","v":"2023-01-09"},null,null,"Monday",null,null,null,null,null,null,null,null,null,null,{"$f":"SUM(E23:N23)-J23","v":0},{"$f":"IF(AND(ISNUMBER(AA23),ISNUMBER(X23)),AA23*X23,\"\")","v":""},null,{"$f":"IF(AND(ISNUMBER(AB23),ISNUMBER(X23)),AB23*X23,\"\")","v":""},null,null,{"$f":"IF(BJ23>0,BJ23,BN23)","v":0},{"$f":"IF(BK23>0,BK23,0)","v":0},null,{"$f":"IF(ISNA(INDEX('Conversion Factors'!$B$6:$B$371,MATCH('Jan 1 - Jan 15'!$Z$22:$Z$28,'Conversion Factors'!$A$6:$A$371,0))),\"\",INDEX('Conversion Factors'!$B$6:$B$371,MATCH('Jan 1 - Jan 15'!$Z$22:$Z$28,'Conversion Factors'!$A$6:$A$371,0)))","v":8.6669999999999998},null,"2023-01-09","","",null,null,null,null,null,0,{"$f":"IF(AH23>$AI$12,AH23-($AI$12+AI22+AI21),0)","v":0},false,{"$f":"IF(AND(AO23>0,AO23),IF(AP23>0,AP23,IF(AQ23>0,AQ23,IF(AR23>0,AR23,IF(AU23>0,AU23,0)))))","v":false},null,0,null,0,0,0,0,0,{"$f":"IF(AND(AH22<=40),40-AH22,0)","v":40},{"$f":"AS23","v":0},0,{"$f":"AV23","v":0},null,{"$f":"IF(AND(J23>0,AI23>0,BB23<=AI23),AI23-BB23,IF(AND(J23>0,AI23>0,BB23>AI23),J23-BB23,0))","v":0},0,0,0,0,0,{"$f":"IF(AND(AH22<=40),40-AH22,0)","v":40},{"$f":"BD23","v":0},null,{"$f":"IF(AND(G23>0,E23>0),1,0)","v":0},40,0,0,{"$f":"SUM(E22:E23)","v":0},{"$f":"IF(AND(K23>0,E23>0),1,0)","v":0},{"$f":"IF(AND(BM23=1,J23>8),K23,(IF(AND(BM23=1,J23>0),J23,0)))","v":0},0,0]
["2023-01-10",null,null,"Tuesday",null,null,null,null,null,null,null,null,null,null,{"$f":"SUM(E24:N24)-J24","v":0},"",null,"",null,null,{"$f":"IF(BJ24>0,BJ24,BN24)","v":0},0,null,{"$f":"IF(ISNA(INDEX('Conversion Factors'!$B$6:$B$371,MATCH('Jan 1 - Jan 15'!$Z$22:$Z$28,'Conversion Factors'!$A$6:$A$371,0))),\"\",INDEX('Conversion Factors'!$B$6:$B$371,MATCH('Jan 1 - Jan 15'!$Z$22:$Z$28,'Conversion Factors'!$A$6:$A$371,0)))","v":8.6669999999999998},null,"2023-01-10","","",null,null,null,null,null,0,{"$f":"IF(AH24>$AI$12,AH24-($AI$12+AI23+AI22+AI21),0)","v":0},false,false,null,0,null,0,0,0,0,0,40,0,0,0,null,{"$f":"IF(AND(J24>0,AI24>0,BB24<=AI24),AI24-BB24,IF(AND(J24>0,AI24>0,BB24>AI24),J24-BB24,0))","v":0},0,0,0,0,0,{"$f":"IF(AND(AH23<=40),40-AH23,0)","v":40},0,null,{"$f":"IF(AND(G24>0,E24>0),1,0)","v":0},40,0,0,{"$f":"SUM(E22:E24)","v":0},0,{"$f":"IF(AND(BM24=1,J24>8),K24,(IF(AND(BM24=1,J24>0),J24,0)))","v":0},{"$f":"IF(AND(BM24=1,40-BL23>0,40-BL23<8),40-BL23,IF(AND(J24<K24),J24,K24))","v":0},0]
["2023-01-11",null,null,"Wednesday",null,null,null,null,null,null,null,null,null,null,0,"",null,"",null,null,0,0,null,{"$f":"IF(ISNA(INDEX('Conversion Factors'!$B$6:$B$371,MATCH('Jan 1 - Jan 15'!$Z$22:$Z$28,'Conversion Factors'!$A$6:$A$371,0))),\"\",INDEX('Conversion Factors'!$B$6:$B$371,MATCH('Jan 1 - Jan 15'!$Z$22:$Z$28,'Conversion Factors'!$A$6:$A$371,0)))","v":8.6669999999999998},null,"2023-01-11","","",null,null,null,null,null,0,{"$f":"IF(AH25>$AI$12,AH25-($AI$12+AI24+AI23+AI22+AI21),0)","v":0},false,false,null,0,null,0,0,0,0,0,40,0,0,0,null,{"$f":"IF(AND(J25>0,AI25>0,BB25<=AI25),AI25-BB25,IF(AND(J25>0,AI25>0,BB25>AI25),J25-BB25,0))","v":0},0,0,0,0,0,40,0,null,0,40,0,0,{"$f":"SUM(E22:E25)","v":0},0,{"$f":"IF(AND(BM25=1,J25>8),K25,(IF(AND(BM25=1,J25>0),J25,0)))","v":0},{"$f":"IF(AND(BM25=1,40-BL24>0,40-BL24<8),40-BL24,IF(AND(J25<K25),J25,K25))","v":0},0]
["2023-01-12",null,null,"Thursday",null,null,null,null,null,null,null,null,null,null,0,"",null,"",null,null,0,0,null,{"$f":"IF(ISNA(INDEX('Conversion Factors'!$B$6:$B$371,MATCH('Jan 1 - Jan 15'!$Z$22:$Z$28,'Conversion Factors'!$A$6:$A$371,0))),\"\",INDEX('Conversion Factors'!$B$6:$B$371,MATCH('Jan 1 - Jan 15'!$Z$22:$Z$28,'Conversion Factors'!$A$6:$A$371,0)))","v":8.6669999999999998},null,"2023-01-12","","",null,null,null,null,null,0,{"$f":"IF(AH26>$AI$12,AH26-($AI$12+AI25+AI24+AI23+AI22+AI21),0)","v":0},false,false,null,0,null,0,0,0,0,0,{"$f":"IF(AND(AH25<=40),40-AH25,0)","v":40},0,0,0,null,{"$f":"IF(AND(J26>0,AI26>=J26,BB26=0),O26-AI26,IF(AND(J26>0,AI26>0,BB26<=AI26),AI26-BB26,IF(AND(J26>0,AI26>0,BB26>AI26),J26-BB26,0)))","v":0},0,0,0,0,0,40,0,null,0,40,0,0,{"$f":"SUM(E22:E26)","v":0},0,0,0,0]
["2023-01-13",null,null,"Friday",null,null,null,null,null,null,null,null,null,null,0,"",null,"",null,null,0,0,null,{"$f":"IF(ISNA(INDEX('Conversion Factors'!$B$6:$B$371,MATCH('Jan 1 - Jan 15'!$Z$22:$Z$28,'Conversion Factors'!$A$6:$A$371,0))),\"\",INDEX('Conversion Factors'!$B$6:$B$371,MATCH('Jan 1 - Jan 15'!$Z$22:$Z$28,'Conversion Factors'!$A$6:$A$371,0)))","v":8.6669999999999998},null,"2023-01-13","","",null,null,null,null,null,0,{"$f":"IF(AH27>$AI$12,AH27-($AI$12+AI26+AI25+AI24+AI23+AI22+AI21),0)","v":0},false,false,null,0,null,0,0,0,0,0,{"$f":"IF(AND(AH26<=40),40-AH26,0)","v":40},0,0,0,null,{"$f":"IF(AND(J27>0,AI27>=J27,BB27=0),O27-AI27,IF(AND(J27>0,AI27>0,BB27<=AI27),AI27-BB27,IF(AND(J27>0,AI27>0,BB27>AI27),J27-BB27,0)))","v":0},0,0,0,0,0,40,0,null,0,40,0,0,{"$f":"SUM(E22:E27)","v":0},0,0,0,{"$f":"IF(AND(BM27=1,BL27>40,J27<=K27),J27-BO27,IF(AND(BM27=1,BL27>0,J27>K27),K27-BO27,0))","v":0}]
["2023-01-14",null,null,"Saturday",null,null,null,null,null,null,null,null,null,null,{"$f":"SUM(E28:N28)-J28","v":0},"",null,"",null,null,0,0,null,{"$f":"IF(ISNA(INDEX('Conversion Factors'!$B$6:$B$371,MATCH('Jan 1 - Jan 15'!$Z$22:$Z$28,'Conversion Factors'!$A$6:$A$371,0))),\"\",INDEX('Conversion Factors'!$B$6:$B$371,MATCH('Jan 1 - Jan 15'!$Z$22:$Z$28,'Conversion Factors'!$A$6:$A$371,0)))","v":8.6669999999999998},null,"2023-01-14","","",null,null,null,null,null,0,{"$f":"IF(AH28>$AI$12,AH28-($AI$12+AI27+AI26+AI25+AI24+AI23+AI22+AI21),0)","v":0},false,false,null,0,null,0,0,0,0,0,40,0,0,0,null,{"$f":"IF(AND(J28>0,AI28>=J28,BB28=0),O28-AI28,IF(AND(J28>0,AI28>0,BB28<=AI28),AI28-BB28,IF(AND(J28>0,AI28>0,BB28>AI28),J28-BB28,0)))","v":0},0,0,0,0,0,40,0,null,0,40,0,0,{"$f":"SUM(E22:E28)","v":0},0,0,0,{"$f":"IF(AND(BM28=1,BL28>40,J28<=K28),J28-BO28,IF(AND(BM28=1,BL28>0,J28>K28),K28-BO28,0))","v":0}]
["Week 2 Totals",null,null,null,{"$f":"SUM(E22:E28)","v":0},0,0,0,0,null,0,0,0,0,{"$f":"SUM(O22:O28)","v":0},{"$f":"-SUM(P22:P28)","v":0},{"$f":"SUM(Q22:Q28)","v":0},{"$f":"SUM(R22:R28)","v":0},{"$f":"IF(E29>40,(E29-40)-V29,0)","v":0},{"$f":"MROUND(AL29,0.25)","v":0},{"$f":"SUM(U22:U28)","v":0},{"$f":"SUM(V22:V28)","v":0},{"$f":"IF(E29-(E11-(G29+K29+F29+H29+I29+L29+M29))-(S29+U29+V29)>0,E29-(E11-(G29+K29+F29+H29+I29+L29+M29))-(S29+U29+V29),0)","v":0},null,null,null,null,null,{"$f":"SUM(F29:N29)","v":0},{"$f":"IF(AND(AG29<40,O29>=AG29),O29-(AG29+S29),IF(AND(O29<AG29,E29=O29),O29-E29,IF(AND(E29>AG29,E29<40),E29-AG29,IF(AND(O29>AG29,E29<AG29),E29-(AG29-AC29),IF(AND(O29>AG29,E29>40),E29-(AG29-AC29+S29),IF(AND(O29>AG29,O29>40),O29-(S29+AG29),0))))))","v":0},{"$f":"AD29-U29-V29","v":0},{"$f":"$W$11","v":"Please Select"},{"$f":"$E$11","v":40},null,{"$f":"IF(AH29>$AI$12,-$AI$12,0)","v":0},null,null,{"$f":"IF(AF29=\"Yes\",S29*1.5,0)","v":0},0,null,null,null,null,null,null,null,null,null,null,null,null,0,null,null,null,null,null,null,null,null,null,null,null,null,null,null,null,{"$f":"SUM(BP22:BP28)","v":0},{"$f":"U29+E11","v":40}]
[{"$f":"IF(A28<$O$7,A28+1,IF(A28=$O$7,\"\"))","v":"2023-01-15"},null,null,"Sunday",null,null,null,null,null,null,null,null,null,null,{"$f":"SUM(E30:N30)-J30","v":0},{"$f":"IF(AND(ISNUMBER(AA30),ISNUMBER(X30)),AA30*X30,\"\")","v":""},null,{"$f":"IF(AND(ISNUMBER(AB30),ISNUMBER(X30)),AB30*X30,\"\")","v":""},null,null,{"$f":"IF(BJ30>0,BJ30,BN30)","v":0},{"$f":"IF(BK30>0,BK30,0)","v":0},null,{"$f":"IF(ISNA(INDEX('Conversion Factors'!$B$6:$B$370,MATCH('Jan 1 - Jan 15'!$Z$30:$Z$36,'Conversion Factors'!$A$6:$A$370,0))),\"\",INDEX('Conversion Factors'!$B$6:$B$370,MATCH('Jan 1 - Jan 15'!$Z$30:$Z$36,'Conversion Factors'!$A$6:$A$370,0)))","v":8.6669999999999998},null,{"$f":"A30","v":"2023-01-15"},{"$f":"IF(AND(ISNUMBER(N30),ISNUMBER($Z$12)),N30/$Z$12,\"\")","v":""},{"$f":"IF(AND(ISNUMBER(Q30),ISNUMBER($Z$12)),Q30/$Z$12,\"\")","v":""},null,null,null,null,null,{"$f":"E30+AH29","v":0},{"$f":"IF(AH30>$AI$12,AH30-($AI$12+AI29),0)","v":0},{"$f":"IF(AND(AZ30>0,AZ30),IF(BA30>0,BA30,IF(BB30>0,BB30,IF(BC30>0,BC30,IF(BF30>0,BF30,\"\")))))","v":false},{"$f":"IF(AND(AO30>0,AO30),IF(AP30>0,AP30,IF(AQ30>0,AQ30,IF(AR30>0,AR30,IF(AU30>0,AU30,\"\")))))","v":false},null,0,null,{"$f":"IF(G30=0,0,\"\")","v":0},{"$f":"IF(AND(AH30<=40,E30=G30),G30,0)","v":0},{"$f":"IF(AND(AH30<=40,E30>=G30,G30>0),O30-E30,0)","v":0},{"$f":"IF(AND(AH30<=40,E30<G30),O30-G30,0)","v":0},{"$f":"IF(AND(G30=0),G30,IF(AND(G30>0,AI30>0,G30=AT30),AT30,IF(AND(G30>0,AI30>0,G30-AT30),AT30,0)))","v":0},null,{"$f":"AS30","v":0},{"$f":"IF(AND(AH29+AU30=40,AI30>0,AI30>AU30),AI30-AU30,IF(AND(AH29+AU30=40,AI30>0,AI30<AU30,AU30+AI30=G30),AI30,IF(AND(AH29>40,AH30>40,G30=AI30),AI30,0)))","v":0},{"$f":"AV30","v":0},null,{"$f":"IF(AND(J30>0,AI30>=J30,BB30=0),O30-AI30,IF(AND(J30>0,AI30>0,BB30<=AI30),AI30-BB30,IF(AND(J30>0,AI30>0,BB30>AI30),J30-BB30,0)))","v":0},0,{"$f":"IF(AND(AH30<=40,E30=J30),J30,0)","v":0},{"$f":"IF(AND(AZ30=0),AZ30,IF(AND(AH30>40,E30>=J30),BE30,IF(AND(AH30<=40,E30>J30),J30,0)))","v":0},{"$f":"IF(AND(AH30<=40,E30<J30),O30-J30,0)","v":0},{"$f":"IF(AND(J30=0),J30,IF(AND(J30>0,AI30>0,J30=BC30),BC30,IF(AND(J30>0,AI30>0,J30-BC30),BC30,0)))","v":0},null,{"$f":"BD30","v":0},null,{"$f":"IF(AND(G30>0,E30>0),1,0)","v":0},{"$f":"40-AH30","v":40},0,{"$f":"IF(AND(BH30=1,BL30>40,E30<G30),E30-BJ30,(IF(AND(BH30=1,BL30>0,E30>=G30),G30-BJ30,0)))","v":0},{"$f":"E30","v":0},{"$f":"IF(AND(K30>0,E30>0),1,0)","v":0},{"$f":"IF(AND(BM30=1,J30>8),K30,(IF(AND(BM30=1,J30>0),J30,0)))","v":0},{"$f":"IF(AND(BM30=1,40-BL29>0,40-BL29<8),40-BL29,IF(AND(J30<K30),J30,K30))","v":0},{"$f":"IF(AND(BM30=1,BL30>40,J30<=K30),J30-BO30,IF(AND(BM30=1,BL30>0,J30>K30),K30-BO30,0))","v":0}]
[{"$f":"IF(A30<$O$7,A30+1,IF(A30=$O$7,\"\"))","v":""},null,null,"Monday",null,null,null,null,null,null,null,null,null,null,{"$f":"SUM(E31:N31)-J31","v":0},{"$f":"IF(AND(ISNUMBER(AA31),ISNUMBER(X31)),AA31*X31,\"\")","v":""},null,{"$f":"IF(AND(ISNUMBER(AB31),ISNUMBER(X31)),AB31*X31,\"\")","v":""},null,null,0,{"$f":"IF(BK31>0,BK31,0)","v":0},null,{"$f":"IF(ISNA(INDEX('Conversion Factors'!$B$6:$B$370,MATCH('Jan 1 - Jan 15'!$Z$30:$Z$36,'Conversion Factors'!$A$6:$A$370,0))),\"\",INDEX('Conversion Factors'!$B$6:$B$370,MATCH('Jan 1 - Jan 15'!$Z$30:$Z$36,'Conversion Factors'!$A$6:$A$370,0)))","v":""},null,"","","",null,null,null,null,null,0,{"$f":"IF(AH31>$AI$12,AH31-($AI$12+AI30+AI29),0)","v":0},false,{"$f":"IF(AND(AO31>0,AO31),IF(AP31>0,AP31,IF(AQ31>0,AQ31,IF(AR31>0,AR31,IF(AU31>0,AU31,0)))))","v":false},null,0,null,0,0,0,0,0,{"$f":"IF(AND(AH30<=40),40-AH30,0)","v":40},{"$f":"AS31","v":0},0,{"$f":"AV31","v":0},null,0,0,0,0,0,0,{"$f":"IF(AND(AH30<=40),40-AH30,0)","v":40},{"$f":"BD31","v":0},null,{"$f":"IF(AND(G31>0,E31>0),1,0)","v":0},40,0,0,{"$f":"SUM(E30:E31)","v":0},{"$f":"IF(AND(K31>0,E31>0),1,0)","v":0},{"$f":"IF(AND(BM31=1,J31>8),K31,(IF(AND(BM31=1,J31>0),J31,0)))","v":0},0,0]
[false,null,null,"Tuesday",null,null,null,null,null,null,null,null,null,null,0,"",null,"",null,null,0,0,null,{"$f":"IF(ISNA(INDEX('Conversion Factors'!$B$6:$B$370,MATCH('Jan 1 - Jan 15'!$Z$30:$Z$36,'Conversion Factors'!$A$6:$A$370,0))),\"\",INDEX('Conversion Factors'!$B$6:$B$370,MATCH('Jan 1 - Jan 15'!$Z$30:$Z$36,'Conversion Factors'!$A$6:$A$370,0)))","v":""},null,false,"","",null,null,null,null,null,0,{"$f":"IF(AH32>$AI$12,AH32-($AI$12+AI31+AI30+AI29),0)","v":0},false,false,null,0,null,0,0,0,0,0,40,0,0,0,null,0,0,0,0,0,0,{"$f":"IF(AND(AH31<=40),40-AH31,0)","v":40},0,null,{"$f":"IF(AND(G32>0,E32>0),1,0)","v":0},40,0,0,{"$f":"SUM(E30:E32)","v":0},0,{"$f":"IF(AND(BM32=1,J32>8),K32,(IF(AND(BM32=1,J32>0),J32,0)))","v":0},{"$f":"IF(AND(BM32=1,40-BL31>0,40-BL31<8),40-BL31,IF(AND(J32<K32),J32,K32))","v":0},0]
[false,null,null,"Wednesday",null,null,null,null,null,null,null,null,null,null,0,"",null,"",null,null,0,0,null,{"$f":"IF(ISNA(INDEX('Conversion Factors'!$B$6:$B$370,MATCH('Jan 1 - Jan 15'!$Z$30:$Z$36,'Conversion Factors'!$A$6:$A$370,0))),\"\",INDEX('Conversion Factors'!$B$6:$B$370,MATCH('Jan 1 - Jan 15'!$Z$30:$Z$36,'Conversion Factors'!$A$6:$A$370,0)))","v":""},null,false,"","",null,null,null,null,null,0,{"$f":"IF(AH33>$AI$12,AH33-($AI$12+AI32+AI31+AI30+AI29),0)","v":0},false,false,null,0,null,0,0,0,0,0,40,0,0,0,null,0,0,0,0,0,0,40,0,null,{"$f":"IF(AND(G33>0,E33>0),1,0)","v":0},40,0,0,{"$f":"SUM(E30:E33)","v":0},0,{"$f":"IF(AND(BM33=1,J33>8),K33,(IF(AND(BM33=1,J33>0),J33,0)))","v":0},{"$f":"IF(AND(BM33=1,40-BL32>0,40-BL32<8),40-BL32,IF(AND(J33<K33),J33,K33))","v":0},0]
[false,null,null,"Thursday",null,null,null,null,null,null,null,null,null,null,0,"",null,"",null,null,0,0,null,{"$f":"IF(ISNA(INDEX('Conversion Factors'!$B$6:$B$370,MATCH('Jan 1 - Jan 15'!$Z$30:$Z$36,'Conversion Factors'!$A$6:$A$370,0))),\"\",INDEX('Conversion Factors'!$B$6:$B$370,MATCH('Jan 1 - Jan 15'!$Z$30:$Z$36,'Conversion Factors'!$A$6:$A$370,0)))","v":""},null,false,"","",null,null,null,null,null,0,{"$f":"IF(AH34>$AI$12,AH34-($AI$12+AI33+AI32+AI31+AI30+AI29),0)","v":0},false,false,null,0,null,0,0,0,0,0,{"$f":"IF(AND(AH33<=40),40-AH33,0)","v":40},0,0,0,null,0,0,0,0,0,0,40,0,null,0,40,0,0,{"$f":"SUM(E30:E34)","v":0},0,0,0,0]
[false,null,null,"Friday",null,null,null,null,null,null,null,null,null,null,0,"",null,"",null,null,0,0,null,{"$f":"IF(ISNA(INDEX('Conversion Factors'!$B$6:$B$370,MATCH('Jan 1 - Jan 15'!$Z$30:$Z$36,'Conversion Factors'!$A$6:$A$370,0))),\"\",INDEX('Conversion Factors'!$B$6:$B$370,MATCH('Jan 1 - Jan 15'!$Z$30:$Z$36,'Conversion Factors'!$A$6:$A$370,0)))","v":""},null,false,"","",null,null,null,null,null,0,{"$f":"IF(AH35>$AI$12,AH35-($AI$12+AI34+AI33+AI32+AI31+AI30+AI29),0)","v":0},false,false,null,0,null,0,0,0,0,0,{"$f":"IF(AND(AH34<=40),40-AH34,0)","v":40},0,0,0,null,0,0,0,0,0,0,40,0,null,0,40,0,0,{"$f":"SUM(E30:E35)","v":0},0,0,0,{"$f":"IF(AND(BM35=1,BL35>40,J35<=K35),J35-BO35,IF(AND(BM35=1,BL35>0,J35>K35),K35-BO35,0))","v":0}]
[false,null,null,"Saturday",null,null,null,null,null,null,null,null,null,null,0,"",null,"",null,null,0,0,null,{"$f":"IF(ISNA(INDEX('Conversion Factors'!$B$6:$B$370,MATCH('Jan 1 - Jan 15'!$Z$30:$Z$36,'Conversion Factors'!$A$6:$A$370,0))),\"\",INDEX('Conversion Factors'!$B$6:$B$370,MATCH('Jan 1 - Jan 15'!$Z$30:$Z$36,'Conversion Factors'!$A$6:$A$370,0)))","v":""},null,false,"","",null,null,null,null,null,0,{"$f":"IF(AH36>$AI$12,AH36-($AI$12+AI35+AI34+AI33+AI32+AI31+AI30+AI29),0)","v":0},false,false,null,0,null,0,0,0,0,0,40,0,0,0,null,0,0,0,0,0,0,40,0,null,0,40,0,0,{"$f":"SUM(E30:E36)","v":0},0,0,0,{"$f":"IF(AND(BM36=1,BL36>40,J36<=K36),J36-BO36,IF(AND(BM36=1,BL36>0,J36>K36),K36-BO36,0))","v":0}]
["Week 3 Totals",null,null,null,{"$f":"SUM(E30:E36)","v":0},0,0,0,0,null,0,0,0,0,{"$f":"SUM(O30:O36)","v":0},{"$f":"-SUM(P30:P36)","v":0},{"$f":"SUM(Q30:Q36)","v":0},{"$f":"SUM(R30:R36)","v":0},{"$f":"IF(E37>40,(E37-40)-V37,0)","v":0},{"$f":"MROUND(AL37,0.25)","v":0},{"$f":"SUM(U30:U36)","v":0},{"$f":"SUM(V30:V36)","v":0},{"$f":"IF(E37-(E11-(G37+K37+F37+H37+I37+L37+M3))-(S37+U37+V37)>0,E37-(E11-(G37+K37+F37+H37+I37+L37+M37))-(S37+U37+V37),0)","v":0},null,null,null,null,null,{"$f":"SUM(F37:N37)","v":0},{"$f":"IF(AND(AG37<40,O37>=AG37),O37-(AG37+S37),IF(AND(O37<AG37,E37=O37),O37-E37,IF(AND(E37>AG37,E37<40),E37-AG37,IF(AND(O37>AG37,E37<AG37),E37-(AG37-AC37),IF(AND(O37>AG37,E37>40),E37-(AG37-AC37+S37),IF(AND(O37>AG37,O37>40),O37-(S37+AG37),0))))))","v":0},{"$f":"AD37-U37-V37","v":0},{"$f":"$W$11","v":"Please Select"},{"$f":"$E$11","v":40},null,{"$f":"IF(AH37>$AI$12,-$AI$12,0)","v":0},null,null,{"$f":"IF(AF37=\"Yes\",S37*1.5,0)","v":0},null,null,null,null,null,null,null,null,null,null,null,null,null,null,null,null,null,null,null,null,null,0,null,null,null,null,null,null,null,{"$f":"SUM(BP30:BP36)","v":0},{"$f":"U37+E11","v":40}]
[{"$f":"IF(A36<$O$7,A36+1,IF(A36=$O$7,\"\"))","v":false},null,null,"Sunday",null,null,null,null,null,null,null,null,null,null,{"$f":"SUM(E38:N38)-J38","v":0},{"$f":"IF(AND(ISNUMBER(AA38),ISNUMBER(X38)),AA38*X38,\"\")","v":""},null,{"$f":"IF(AND(ISNUMBER(AB38),ISNUMBER(X38)),AB38*X38,\"\")","v":""},null,null,0,{"$f":"IF(BK38>0,BK38,0)","v":0},null,{"$f":"IF(ISNA(INDEX('Conversion Factors'!$B$6:$B$370,MATCH('Jan 1 - Jan 15'!$Z$38:$Z$44,'Conversion Factors'!$A$6:$A$370,0))),\"\",INDEX('Conversion Factors'!$B$6:$B$370,MATCH('Jan 1 - Jan 15'!$Z$38:$Z$44,'Conversion Factors'!$A$6:$A$370,0)))","v":""},null,{"$f":"A38","v":false},{"$f":"IF(AND(ISNUMBER(N38),ISNUMBER($Z$12)),N38/$Z$12,\"\")","v":""},{"$f":"IF(AND(ISNUMBER(Q38),ISNUMBER($Z$12)),Q38/$Z$12,\"\")","v":""},null,null,null,null,null,{"$f":"E38+AH37","v":0},{"$f":"IF(AH38>$AI$12,AH38-($AI$12+AI37),0)","v":0},{"$f":"IF(AND(AZ38>0,AZ38),IF(BA38>0,BA38,IF(BB38>0,BB38,IF(BC38>0,BC38,IF(BF38>0,BF38,\"\")))))","v":false},{"$f":"IF(AND(AO38>0,AO38),IF(AP38>0,AP38,IF(AQ38>0,AQ38,IF(AR38>0,AR38,IF(AU38>0,AU38,\"\")))))","v":false},null,{"$f":"J38","v":0},null,{"$f":"IF(G38=0,0,\"\")","v":0},{"$f":"IF(AND(AH38<=40,E38=G38),G38,0)","v":0},{"$f":"IF(AND(AH38<=40,E38>=G38,G38>0),O38-E38,0)","v":0},{"$f":"IF(AND(AH38<=40,E38<G38),O38-G38,0)","v":0},{"$f":"IF(AND(G38=0),G38,IF(AND(G38>0,AI38>0,G38=AT38),AT38,IF(AND(G38>0,AI38>0,G38-AT38),AT38,0)))","v":0},null,{"$f":"AS38","v":0},{"$f":"IF(AND(AH37+AU38=40,AI38>0,AI38>AU38),AI38-AU38,IF(AND(AH37+AU38=40,AI38>0,AI38<AU38,AU38+AI38=G38),AI38,IF(AND(AH37>40,AH38>40,G38=AI38),AI38,0)))","v":0},{"$f":"AV38","v":0},null,{"$f":"IF(AND(J38>0,AI38>=J38,BB38=0),O38-AI38,IF(AND(J38>0,AI38>0,BB38<=AI38),AI38-BB38,IF(AND(J38>0,AI38>0,BB38>AI38),J38-BB38,0)))","v":0},{"$f":"IF(J38=0,0,\"\")","v":0},{"$f":"IF(AND(AH38<=40,E38=J38),J38,0)","v":0},{"$f":"IF(AND(AZ38=0),AZ38,IF(AND(AH38>40,E38>=J38),BE38,IF(AND(AH38<=40,E38>J38),J38,0)))","v":0},{"$f":"IF(AND(AH38<=40,E38<J38),O38-J38,0)","v":0},{"$f":"IF(AND(J38=0),J38,IF(AND(J38>0,AI38>0,J38=BC38),BC38,IF(AND(J38>0,AI38>0,J38-BC38),BC38,0)))","v":0},null,{"$f":"BD38","v":0},null,{"$f":"IF(AND(G38>0,E38>0),1,0)","v":0},{"$f":"40-AH38","v":40},0,{"$f":"IF(AND(BH38=1,BL38>40,E38<G38),E38-BJ38,(IF(AND(BH38=1,BL38>0,E38>=G38),G38-BJ38,0)))","v":0},{"$f":"E38","v":0},{"$f":"IF(AND(K38>0,E38>0),1,0)","v":0},{"$f":"IF(AND(BM38=1,J38>8),K38,(IF(AND(BM38=1,J38>0),J38,0)))","v":0},{"$f":"IF(AND(BM38=1,40-BL37>0,40-BL37<8),40-BL37,IF(AND(J38<K38),J38,K38))","v":0},{"$f":"IF(AND(BM38=1,BL38>40,J38<=K38),J38-BO38,IF(AND(BM38=1,BL38>0,J38>K38),K38-BO38,0))","v":0}]
[{"$f":"IF(A38<$O$7,A38+1,IF(A38=$O$7,\"\"))","v":false},null,null,"Monday",null,null,null,0,null,null,null,null,null,null,{"$f":"SUM(E39:N39)-J39","v":0},{"$f":"IF(AND(ISNUMBER(AA39),ISNUMBER(X39)),AA39*X39,\"\")","v":""},null,{"$f":"IF(AND(ISNUMBER(AB39),ISNUMBER(X39)),AB39*X39,\"\")","v":""},null,null,0,{"$f":"IF(BK39>0,BK39,0)","v":0},null,{"$f":"IF(ISNA(INDEX('Conversion Factors'!$B$6:$B$370,MATCH('Jan 1 - Jan 15'!$Z$38:$Z$44,'Conversion Factors'!$A$6:$A$370,0))),\"\",INDEX('Conversion Factors'!$B$6:$B$370,MATCH('Jan 1 - Jan 15'!$Z$38:$Z$44,'Conversion Factors'!$A$6:$A$370,0)))","v":""},null,false,"","",null,null,null,null,null,0,{"$f":"IF(AH39>$AI$12,AH39-($AI$12+AI38+AI37),0)","v":0},false,{"$f":"IF(AND(AO39>0,AO39),IF(AP39>0,AP39,IF(AQ39>0,AQ39,IF(AR39>0,AR39,IF(AU39>0,AU39,0)))))","v":false},null,0,null,0,0,0,0,0,{"$f":"IF(AND(AH38<=40),40-AH38,0)","v":40},{"$f":"AS39","v":0},0,{"$f":"AV39","v":0},null,0,0,0,0,0,0,{"$f":"IF(AND(AH38<=40),40-AH38,0)","v":40},{"$f":"BD39","v":0},null,{"$f":"IF(AND(G39>0,E39>0),1,0)","v":0},40,0,0,{"$f":"SUM(E38:E39)","v":0},{"$f":"IF(AND(K39>0,E39>0),1,0)","v":0},{"$f":"IF(AND(BM39=1,J39>8),K39,(IF(AND(BM39=1,J39>0),J39,0)))","v":0},0,0]
[false,null,null,"Tuesday",null,null,null,null,null,0,0,null,null,null,{"$f":"SUM(E40:N40)-J40","v":0},"",null,"",null,null,0,0,null,{"$f":"IF(ISNA(INDEX('Conversion Factors'!$B$6:$B$370,MATCH('Jan 1 - Jan 15'!$Z$38:$Z$44,'Conversion Factors'!$A$6:$A$370,0))),\"\",INDEX('Conversion Factors'!$B$6:$B$370,MATCH('Jan 1 - Jan 15'!$Z$38:$Z$44,'Conversion Factors'!$A$6:$A$370,0)))","v":""},null,false,"","",null,null,null,null,null,0,{"$f":"IF(AH40>$AI$12,AH40-($AI$12+AI39+AI38+AI37),0)","v":0},false,false,null,0,null,0,0,0,0,0,40,0,0,0,null,0,0,0,0,0,0,{"$f":"IF(AND(AH39<=40),40-AH39,0)","v":40},0,null,{"$f":"IF(AND(G40>0,E40>0),1,0)","v":0},40,0,0,{"$f":"SUM(E38:E40)","v":0},0,{"$f":"IF(AND(BM40=1,J40>8),K40,(IF(AND(BM40=1,J40>0),J40,0)))","v":0},{"$f":"IF(AND(BM40=1,40-BL39>0,40-BL39<8),40-BL39,IF(AND(J40<K40),J40,K40))","v":0},0]
[false,null,null,"Wednesday",null,null,null,null,null,null,null,null,null,null,0,"",null,"",null,null,0,0,null,{"$f":"IF(ISNA(INDEX('Conversion Factors'!$B$6:$B$370,MATCH('Jan 1 - Jan 15'!$Z$38:$Z$44,'Conversion Factors'!$A$6:$A$370,0))),\"\",INDEX('Conversion Factors'!$B$6:$B$370,MATCH('Jan 1 - Jan 15'!$Z$38:$Z$44,'Conversion Factors'!$A$6:$A$370,0)))","v":""},null,false,"","",null,null,null,null,null,0,{"$f":"IF(AH41>$AI$12,AH41-($AI$12+AI40+AI39+AI38+AI37),0)","v":0},false,false,null,0,null,0,0,0,0,0,40,0,0,0,null,0,0,0,0,0,0,40,0,null,{"$f":"IF(AND(G41>0,E41>0),1,0)","v":0},40,0,0,{"$f":"SUM(E38:E41)","v":0},0,{"$f":"IF(AND(BM41=1,J41>8),K41,(IF(AND(BM41=1,J41>0),J41,0)))","v":0},{"$f":"IF(AND(BM41=1,40-BL40>0,40-BL40<8),40-BL40,IF(AND(J41<K41),J41,K41))","v":0},0]
[false,null,null,"Thursday",null,null,null,null,null,null,null,null,null,null,0,"",null,"",null,null,0,0,null,{"$f":"IF(ISNA(INDEX('Conversion Factors'!$B$6:$B$370,MATCH('Jan 1 - Jan 15'!$Z$38:$Z$44,'Conversion Factors'!$A$6:$A$370,0))),\"\",INDEX('Conversion Factors'!$B$6:$B$370,MATCH('Jan 1 - Jan 15'!$Z$38:$Z$44,'Conversion Factors'!$A$6:$A$370,0)))","v":""},null,false,"","",null,null,null,null,null,0,{"$f":"IF(AH42>$AI$12,AH42-($AI$12+AI41+AI40+AI39+AI38+AI37),0)","v":0},false,false,null,0,null,0,0,0,0,0,{"$f":"IF(AND(AH41<=40),40-AH41,0)","v":40},0,0,0,null,0,0,0,0,0,0,40,0,null,0,40,0,0,{"$f":"SUM(E38:E42)","v":0},0,0,0,0]
[false,null,null,"Friday",null,null,null,null,null,null,null,null,null,null,0,"",null,"",null,null,0,0,null,{"$f":"IF(ISNA(INDEX('Conversion Factors'!$B$6:$B$370,MATCH('Jan 1 - Jan 15'!$Z$38:$Z$44,'Conversion Factors'!$A$6:$A$370,0))),\"\",INDEX('Conversion Factors'!$B$6:$B$370,MATCH('Jan 1 - Jan 15'!$Z$38:$Z$44,'Conversion Factors'!$A$6:$A$370,0)))","v":""},null,false,"","",null,null,null,null,null,0,{"$f":"IF(AH43>$AI$12,AH43-($AI$12+AI42+AI41+AI40+AI39+AI38+AI37),0)","v":0},false,false,null,0,null,0,0,0,0,0,{"$f":"IF(AND(AH42<=40),40-AH42,0)","v":40},0,0,0,null,0,0,0,0,0,0,40,0,null,0,40,0,0,{"$f":"SUM(E38:E43)","v":0},0,0,0,{"$f":"IF(AND(BM43=1,BL43>40,J43<=K43),J43-BO43,IF(AND(BM43=1,BL43>0,J43>K43),K43-BO43,0))","v":0}]
[false,null,null,"Saturday",null,null,null,null,null,null,null,null,null,null,{"$f":"SUM(E44:N44)-J44","v":0},"",null,"",null,null,0,0,null,{"$f":"IF(ISNA(INDEX('Conversion Factors'!$B$6:$B$370,MATCH('Jan 1 - Jan 15'!$Z$38:$Z$44,'Conversion Factors'!$A$6:$A$370,0))),\"\",INDEX('Conversion Factors'!$B$6:$B$370,MATCH('Jan 1 - Jan 15'!$Z$38:$Z$44,'Conversion Factors'!$A$6:$A$370,0)))","v":""},null,false,"","",null,null,null,null,null,0,{"$f":"IF(AH44>$AI$12,AH44-($AI$12+AI43+AI42+AI41+AI40+AI39+AI38+AI37),0)","v":0},false,false,null,0,null,0,0,0,0,0,40,0,0,0,null,0,0,0,0,0,0,40,0,null,0,40,0,0,{"$f":"SUM(E38:E44)","v":0},0,0,0,{"$f":"IF(AND(BM44=1,BL44>40,J44<=K44),J44-BO44,IF(AND(BM44=1,BL44>0,J44>K44),K44-BO44,0))","v":0}]
["Week 4 Totals",null,null,null,{"$f":"SUM(E38:E44)","v":0},{"$f":"SUM(F38:F44)","v":0},0,0,0,null,0,0,0,0,{"$f":"SUM(O38:O44)","v":0},{"$f":"-SUM(P38:P44)","v":0},{"$f":"SUM(Q38:Q44)","v":0},{"$f":"SUM(R38:R44)","v":0},{"$f":"IF(E45>40,(E45-40)-V45,0)","v":0},{"$f":"MROUND(AL45,0.25)","v":0},{"$f":"SUM(U38:U44)","v":0},{"$f":"SUM(V38:V44)","v":0},{"$f":"IF(E45-(E11-(G45+K45+F45+H45+I45+L45+M45))-(S45+U45+V45)>0,E45-(E11-(G45+K45+F45+H45+I45+L45+M45))-(S45+U45+V45),0)","v":0},null,null,null,null,null,{"$f":"SUM(F45:N45)","v":0},{"$f":"IF(AND(AG45<40,O45>=AG45),O45-(AG45+S45),IF(AND(O45<AG45,E45=O45),O45-E45,IF(AND(E45>AG45,E45<40),E45-AG45,IF(AND(O45>AG45,E45<AG45),E45-(AG45-AC45),IF(AND(O45>AG45,E45>40),E45-(AG45-AC45+S45),IF(AND(O45>AG45,O45>40),O45-(S45+AG45),0))))))","v":0},{"$f":"AD45-U45-V45","v":0},{"$f":"$W$11","v":"Please Select"},{"$f":"$E$11","v":40},null,{"$f":"IF(AH45>$AI$12,-$AI$12,0)","v":0},null,null,{"$f":"IF(AF45=\"Yes\",S45*1.5,0)","v":0},null,null,null,null,null,null,null,null,null,null,null,null,null,null,null,null,null,null,null,null,null,null,null,null,null,null,null,null,null,{"$f":"SUM(BP38:BP44)","v":0},{"$f":"E44+E11","v":40}]
[null,null,null,null,null,null,null,null,"Total-Net Previous Week",null,null,null,null,null,{"$f":"(O21+O29+O37+O45)-O13","v":0},{"$f":"(P21+P29+P37+P45)-P13","v":0},0,0,0,0,0,0,0,0]
[]
[null,null,null,null,null,null,null,null,null,null,null,null,null,null,"Leave/Leave Without Pay Policy"]
["Employee signature",null,null,null,null,null,"Date",null,null,null,null,null,null,null,"Overtime/Compensatory Time"]
["I certify this record is accurate and accounts for my time during the indicated period.",null,null,null,null,null,null,null,null,null,null,null,null,null,"Time Sheet Definitions/Policies"]
[]
[null,null,null,null,null,null,null,null,null,null,"“Actual Work Hours During Administrative Close Period” – Only key the hours actually worked during the admministrative closing period into this field. "]
[]
["Manager signature",null,null,null,null,null,"Date"]
["I certify the hours recorded and coded on this form are correct and in compliance with University policy.",null,null,null,null,null,null,null,null,null,"“Administrative Closing/Leave Period field.”  Entter the number of hours of the declared period of administrative closing. (The total hours worked during the entire day will be entered into the “Actual Hours Worked” field.)"]

{"sheet":"Jan 16 - Jan 31","index":20,"n_rows":55,"n_cols":69,"rows_kept":55,"cut":false,"hidden":false,"merged":[[47,14,47,22],[48,14,48,19],[49,14,49,22],[51,10,53,22],[54,10,56,22],[45,8,45,13],[34,0,34,2],[35,0,35,2],[36,0,36,2],[37,0,37,2],[38,0,38,2],[39,0,39,2],[40,0,40,2],[41,0,41,2],[42,0,42,2],[43,0,43,2],[44,0,44,2],[33,0,33,2],[22,0,22,2],[23,0,23,2],[24,0,24,2],[25,0,25,2],[26,0,26,2],[27,0,27,2],[28,0,28,2],[29,0,29,2],[30,0,30,2],[31,0,31,2],[32,0,32,2],[21,0,21,2],[11,0,11,2],[11,29,11,30],[12,0,12,3],[13,0,13,2],[14,0,14,2],[15,0,15,2],[16,0,16,2],[17,0,17,2],[18,0,18,2],[19,0,19,2],[20,0,20,2],[10,40,10,46],[6,2,6,7],[6,8,6,13],[6,14,6,19],[7,2,7,7],[7,8,7,13],[7,14,7,19],[10,0,10,3],[10,4,10,5],[10,6,10,17],[10,18,10,21],[10,22,10,23],[0,0,0,22],[1,0,1,22],[3,0,3,23],[5,2,5,7],[5,8,5,13],[5,14,5,19]]}
["Mississippi State University"]
["Non-Exempt Employee Semi-Monthly Time Report"]
[]
["Instructions:  The Fair Labor Standards Act requires that a record of hours worked on a weekly basis be maintained for all employees except executive, administrative, managerial, faculty, and professional (non-faculty).  Department/unit heads are responsible for compiling and maintaining this record in department files on each covered employee for a period of at least (3) years."]
[]
["MSU ID #:",null,{"$f":"'July 1 - July 15'!C6","v":0},null,null,null,null,null,"Pay period start date:",null,null,null,null,null,{"$f":"'Dates & Notes'!$A$15","v":"2023-01-16"},null,null,null,null,null,null,null,null,null,null,{"$f":"TEXT(O6,\"dddd\")","v":"Monday"},null,null,null,"Please Select"]
["Name:",null,{"$f":"'July 1 - July 15'!C7","v":0},null,null,null,null,null,"Pay period end date:",null,null,null,null,null,{"$f":"'Dates & Notes'!$B$15","v":"2023-01-31"},null,null,null,null,null,null,null,null,null,null,null,null,null,null,"No"]
["Department:",null,{"$f":"'July 1 - July 15'!C8","v":0},null,null,null,null,null,"Pay Period Number:",null,null,null,null,null,{"$f":"'Dates & Notes'!$C$15","v":2},null,null,null,null,null,null,null,null,null,null,null,null,null,null,"Yes"]
[]
[]
["Employee Scheduled Hours Per Week",null,null,null,40,null,"FIELDS MUST BE ENTERED FOR CALULATIONS TO WORK PROPERLY",null,null,null,null,null,null,null,null,null,null,null,"Receive Compensatory Time",null,null,null,"Please Select",null,null,null,null,null,null,null,null,null,null,null,"Over 40",null,null,null,null,null,"HOW ANALYSIS"]
["Work Week Dates",null,null,"Day of The Week","Actual Hours Worked","Compensatory Time Used","Holiday","Medical Leave","Personal Leave","Actual Wrk Hrs During  Admin Close Period","Administrative Closing/Leave Period","Jury Duty","Military Leave","Leave Without Pay","Totals","DOC-Payroll Conversion","RTO","RTO-Payroll Conversion","Overtime Hours","Hours Transferred to Comp. Record","HOW-Holiday Pay or Admin/Leave Closing","HOT-Holiday Pay","SST-Payroll","Conversion Factor",null,8,"DOC","RTO",null,"SST",null,null,null,"Cumm Actual HRS",40,"Administrative Leave","HOW-Holiday Pay","Comp. Time","Administrative/Schedule",null,"Holiday=0\n1",2,3,4,null,"<=40\n5",null,"HOT Workup","HOT-Holiday Pay (HOLIDAY PAY)",null,"HOT-Administrative HRS","Administrative=0\n1",2,3,4,null,"<=40\n5",null,null,"Holiday Flag","Up to 40","How","Hot","Actual Hours Worked","Admin Flag","Admin","Admin HOW","Admin OVT"]
["Hours-Previous WK (Due to Split WK)",null,null,null,{"$f":"E14","v":0},0,0,0,0,0,0,0,0,0,{"$f":"SUM(E13:N13)-J13","v":0},{"$f":"'Jan 1 - Jan 15'!P30","v":""},{"$f":"'Jan 1 - Jan 15'!Q30","v":0},{"$f":"'Jan 1 - Jan 15'!R30","v":""},{"$f":"'Jan 1 - Jan 15'!S30","v":0},{"$f":"'Jan 1 - Jan 15'!T30","v":0},{"$f":"'Jan 1 - Jan 15'!U30","v":0},{"$f":"'Jan 1 - Jan 15'!V30","v":0},{"$f":"'Jan 1 - Jan 15'!W30","v":0},null,null,null,null,null,null,null,null,null,null,null,null,{"$f":"IF(AND(AM13=0,J13=0),AM13,IF(AND(E13>AM13,J13=0),J13,IF(AND(J13<AM13,AI13=0),J13,IF(AND(AM13=J13,AI13<AM13),AM13-AI13,IF(AND(J13=AM13,AI13=AM13),AI13,IF(AND(J13<AM13,AI13>0),AM13-J13,IF(AND(AM13>J13,AI13<E13),E13-AI13,IF(AND(E13>AM13,AI13=E13),O13-AI13,0))))))))","v":0},{"$f":"IF(AND(G13=0,E13>G13),G13,IF(AND(E13>G13,AI13=0),G13,IF(AND(E13<G13,AI13=0),E13,IF(AND(E13=G13,AI13<G13),G13-AI13,IF(AND(E13=G13,AI13=G13),AI13,IF(AND(E13<G13,AI13>0),G13-E13,IF(AND(E13>G13,AI13<E13),E13-AI13,IF(AND(E13>G13,AI13=E13),O13-AI13,0))))))))","v":0},null,{"$f":"K13","v":0}]
[{"$f":"IF(EXACT(D14,$Z$6)=TRUE,$O$6,IF(A12=0,\"\",IF(A12<$O$7,A12+1,IF(A12=$O$7,\"\"))))","v":false},null,null,"Sunday",{"$f":"'Jan 1 - Jan 15'!E30","v":0},{"$f":"'Jan 1 - Jan 15'!F30","v":0},{"$f":"'Jan 1 - Jan 15'!G23","v":0},{"$f":"'Jan 1 - Jan 15'!H30","v":0},{"$f":"'Jan 1 - Jan 15'!I30","v":0},{"$f":"'Jan 1 - Jan 15'!J23","v":0},{"$f":"'Jan 1 - Jan 15'!K23","v":0},{"$f":"'Jan 1 - Jan 15'!L30","v":0},{"$f":"'Jan 1 - Jan 15'!M30","v":0},{"$f":"'Jan 1 - Jan 15'!N30","v":0},{"$f":"SUM(E14:N14)-J14","v":0},{"$f":"IF(AND(ISNUMBER(AA14),ISNUMBER(X14)),AA14*X14,\"\")","v":""},null,{"$f":"IF(AND(ISNUMBER(AB14),ISNUMBER(X14)),AB14*X14,\"\")","v":""},null,null,{"$f":"IF(BJ14>0,BJ14,BN14)","v":0},{"$f":"IF(BK14>0,BK14,0)","v":0},null,{"$f":"IF(ISNA(INDEX('Conversion Factors'!$B$6:$B$371,MATCH('Jan 16 - Jan 31'!$Z$14:$Z$20,'Conversion Factors'!$A$6:$A$371,0))),\"\",INDEX('Conversion Factors'!$B$6:$B$371,MATCH('Jan 16 - Jan 31'!$Z$14:$Z$20,'Conversion Factors'!$A$6:$A$371,0)))","v":""},null,{"$f":"A14","v":false},{"$f":"IF(AND(ISNUMBER(N14),ISNUMBER($Z$12)),N14/$Z$12,\"\")","v":0},{"$f":"IF(AND(ISNUMBER(Q14),ISNUMBER($Z$12)),Q14/$Z$12,\"\")","v":""},null,null,null,null,null,{"$f":"E14","v":0},{"$f":"IF(AH14>$AI$12,AH14-$AI$12,0)","v":0},{"$f":"IF(AND(AZ14>0,AZ14),IF(BA14>0,BA14,IF(BB14>0,BB14,IF(BC14>0,BC14,IF(BF14>0,BF14,\"\")))))","v":false},{"$f":"IF(AND(AO14>0,AO14),IF(AP14>0,AP14,IF(AQ14>0,AQ14,IF(AR14>0,AR14,IF(AU14>0,AU14,\"\")))))","v":false},null,{"$f":"J14","v":0},null,{"$f":"IF(G14=0,0,\"\")","v":0},{"$f":"IF(AND(AH14<=40,E14=G14),G14,0)","v":0},{"$f":"IF(AND(AH14<=40,E14>=G14,G14>0),O14-E14,0)","v":0},{"$f":"IF(AND(AH14<=40,E14<G14),O14-G14,0)","v":0},{"$f":"IF(AND(G14=0),G14,IF(AND(G14>0,AI14>0,G14=AT14),AT14,IF(AND(G14>0,AI14>0,G14-AT14),AT14,0)))","v":0},null,{"$f":"AS14","v":0},{"$f":"IF(AND(AH13+AU14=40,AI14>0,AI14>AU14),AI14-AU14,IF(AND(AH13+AU14=40,AI14>0,AI14<AU14,AU14+AI14=G14),AI14,IF(AND(AH13>40,AH14>40,G14=AI14),AI14,0)))","v":0},{"$f":"AV14","v":0},null,{"$f":"IF(AND(J14>0,AI14>=J14,BB14=0),O14-AI14,IF(AND(J14>0,AI14>0,BB14<=AI14),AI14-BB14,IF(AND(J14>0,AI14>0,BB14>AI14),J14-BB14,0)))","v":0},{"$f":"IF(J14=0,0,\"\")","v":0},{"$f":"IF(AND(AH14<=40,E14=J14),J14,0)","v":0},{"$f":"IF(AND(AZ14=0),AZ14,IF(AND(AH14>40,E14>=J14),BE14,IF(AND(AH14<=40,E14>J14),J14,0)))","v":0},{"$f":"IF(AND(AH14<=40,E14<J14),O14-J14,0)","v":0},{"$f":"IF(AND(J14=0),J14,IF(AND(J14>0,AI14>0,J14=BC14),BC14,IF(AND(J14>0,AI14>0,J14-BC14),BC14,0)))","v":0},null,{"$f":"BD14","v":0},null,{"$f":"IF(AND(G14>0,E14>0),1,0)","v":0},{"$f":"40-AH14","v":40},{"$f":"IF(AND(BH14=1,E14<8),E14,(IF(AND(BH14=1,E14>0),G14,0)))","v":0},{"$f":"IF(AND(BH14=1,BL14>40,E14<G14),E14-BJ14,(IF(AND(BH14=1,BL14>0,E14>=G14),G14-BJ14,0)))","v":0},{"$f":"E14","v":0},{"$f":"IF(AND(K14>0,E14>0),1,0)","v":0},{"$f":"IF(AND(BM14=1,J14>8),K14,(IF(AND(BM14=1,J14>0),J14,0)))","v":0},{"$f":"IF(AND(BM14=1,40-BL13>0,40-BL13<8),40-BL13,IF(AND(J14<K14),J14,K14))","v":0},{"$f":"IF(AND(BM14=1,BL14>40,J14<=K14),J14-BO14,IF(AND(BM14=1,BL14>0,J14>K14),K14-BO14,0))","v":0}]
[{"$f":"IF(EXACT(D15,$Z$6)=TRUE,$O$6,IF(A14=0,\"\",IF(A14<$O$7,A14+1,IF(A14=$O$7,\"\"))))","v":"2023-01-16"},null,null,"Monday",null,null,null,null,null,null,null,null,null,null,{"$f":"SUM(E15:N15)-J15","v":0},{"$f":"IF(AND(ISNUMBER(AA15),ISNUMBER(X15)),AA15*X15,\"\")","v":""},null,{"$f":"IF(AND(ISNUMBER(AB15),ISNUMBER(X15)),AB15*X15,\"\")","v":""},null,null,{"$f":"IF(BJ15>0,BJ15,BN15)","v":0},{"$f":"IF(BK15>0,BK15,0)","v":0},null,{"$f":"IF(ISNA(INDEX('Conversion Factors'!$B$6:$B$371,MATCH('Jan 16 - Jan 31'!$Z$14:$Z$20,'Conversion Factors'!$A$6:$A$371,0))),\"\",INDEX('Conversion Factors'!$B$6:$B$371,MATCH('Jan 16 - Jan 31'!$Z$14:$Z$20,'Conversion Factors'!$A$6:$A$371,0)))","v":7.2229999999999999},null,"2023-01-16","","",null,null,null,null,null,{"$f":"E15+AH14","v":0},{"$f":"IF(AH15>$AI$12,AH15-($AI$12+AI14),0)","v":0},{"$f":"IF(AND(AZ15>0,AZ15),IF(BA15>0,BA15,IF(BB15>0,BB15,IF(BC15>0,BC15,IF(BF15>0,BF15,\"\")))))","v":false},{"$f":"IF(AND(AO15>0,AO15),IF(AP15>0,AP15,IF(AQ15>0,AQ15,IF(AR15>0,AR15,IF(AU15>0,AU15,0)))))","v":false},null,0,null,0,0,0,0,0,{"$f":"IF(AND(AH14<=40),40-AH14,0)","v":40},{"$f":"AS15","v":0},0,{"$f":"AV15","v":0},null,0,0,0,0,0,0,{"$f":"IF(AND(AH14<=40),40-AH14,0)","v":40},{"$f":"BD15","v":0},null,{"$f":"IF(AND(G15>0,E15>0),1,0)","v":0},40,0,0,{"$f":"SUM(E14:E15)","v":0},{"$f":"IF(AND(K15>0,E15>0),1,0)","v":0},{"$f":"IF(AND(BM15=1,J15>8),K15,(IF(AND(BM15=1,J15>0),J15,0)))","v":0},0,0]
["2023-01-17",null,null,"Tuesday",null,null,null,null,null,null,null,null,null,null,{"$f":"SUM(E16:N16)-J16","v":0},"",null,"",null,null,{"$f":"IF(BJ16>0,BJ16,BN16)","v":0},0,null,{"$f":"IF(ISNA(INDEX('Conversion Factors'!$B$6:$B$371,MATCH('Jan 16 - Jan 31'!$Z$14:$Z$20,'Conversion Factors'!$A$6:$A$371,0))),\"\",INDEX('Conversion Factors'!$B$6:$B$371,MATCH('Jan 16 - Jan 31'!$Z$14:$Z$20,'Conversion Factors'!$A$6:$A$371,0)))","v":7.2229999999999999},null,"2023-01-17","","",null,null,null,null,null,0,{"$f":"IF(AH16>$AI$12,AH16-($AI$12+AI15+AI14),0)","v":0},false,false,null,0,null,0,0,0,0,0,40,0,0,0,null,0,0,0,0,0,0,{"$f":"IF(AND(AH15<=40),40-AH15,0)","v":40},0,null,{"$f":"IF(AND(G16>0,E16>0),1,0)","v":0},40,0,0,{"$f":"SUM(E14:E16)","v":0},0,{"$f":"IF(AND(BM16=1,J16>8),K16,(IF(AND(BM16=1,J16>0),J16,0)))","v":0},{"$f":"IF(AND(BM16=1,40-BL15>0,40-BL15<8),40-BL15,IF(AND(J16<K16),J16,K16))","v":0},0]
["2023-01-18",null,null,"Wednesday",null,null,null,null,null,null,null,null,null,null,{"$f":"SUM(E17:N17)-J17","v":0},"",null,"",null,null,0,0,null,{"$f":"IF(ISNA(INDEX('Conversion Factors'!$B$6:$B$371,MATCH('Jan 16 - Jan 31'!$Z$14:$Z$20,'Conversion Factors'!$A$6:$A$371,0))),\"\",INDEX('Conversion Factors'!$B$6:$B$371,MATCH('Jan 16 - Jan 31'!$Z$14:$Z$20,'Conversion Factors'!$A$6:$A$371,0)))","v":7.2229999999999999},null,"2023-01-18","","",null,null,null,null,null,0,{"$f":"IF(AH17>$AI$12,AH17-($AI$12+AI16+AI15+AI14),0)","v":0},false,false,null,0,null,0,0,0,0,0,40,0,0,0,null,0,0,0,0,0,0,40,0,null,0,40,0,0,{"$f":"SUM(E14:E17)","v":0},0,{"$f":"IF(AND(BM17=1,J17>8),K17,(IF(AND(BM17=1,J17>0),J17,0)))","v":0},{"$f":"IF(AND(BM17=1,40-BL16>0,40-BL16<8),40-BL16,IF(AND(J17<K17),J17,K17))","v":0},0]
["2023-01-19",null,null,"Thursday",null,null,null,null,null,null,null,null,null,null,0,"",null,"",null,null,0,0,null,{"$f":"IF(ISNA(INDEX('Conversion Factors'!$B$6:$B$371,MATCH('Jan 16 - Jan 31'!$Z$14:$Z$20,'Conversion Factors'!$A$6:$A$371,0))),\"\",INDEX('Conversion Factors'!$B$6:$B$371,MATCH('Jan 16 - Jan 31'!$Z$14:$Z$20,'Conversion Factors'!$A$6:$A$371,0)))","v":7.2229999999999999},null,"2023-01-19","","",null,null,null,null,null,0,{"$f":"IF(AH18>$AI$12,AH18-($AI$12+AI17+AI16+AI15+AI14),0)","v":0},false,false,null,0,null,0,0,0,0,0,{"$f":"IF(AND(AH17<=40),40-AH17,0)","v":40},0,0,0,null,0,0,0,0,0,0,40,0,null,0,40,0,0,{"$f":"SUM(E14:E18)","v":0},0,0,0,0]
["2023-01-20",null,null,"Friday",null,null,null,null,null,null,null,null,null,null,0,"",null,"",null,null,0,0,null,{"$f":"IF(ISNA(INDEX('Conversion Factors'!$B$6:$B$371,MATCH('Jan 16 - Jan 31'!$Z$14:$Z$20,'Conversion Factors'!$A$6:$A$371,0))),\"\",INDEX('Conversion Factors'!$B$6:$B$371,MATCH('Jan 16 - Jan 31'!$Z$14:$Z$20,'Conversion Factors'!$A$6:$A$371,0)))","v":7.2229999999999999},null,"2023-01-20","","",null,null,null,null,null,0,{"$f":"IF(AH19>$AI$12,AH19-($AI$12+AI18+AI17+AI16+AI15+AI14),0)","v":0},false,false,null,0,null,0,0,0,0,0,{"$f":"IF(AND(AH18<=40),40-AH18,0)","v":40},0,0,0,null,0,0,0,0,0,0,40,0,null,0,40,0,0,{"$f":"SUM(E14:E19)","v":0},0,0,0,{"$f":"IF(AND(BM19=1,BL19>40,J19<=K19),J19-BO19,IF(AND(BM19=1,BL19>0,J19>K19),K19-BO19,0))","v":0}]
["2023-01-21",null,null,"Saturday",null,null,null,null,null,null,null,null,null,null,{"$f":"SUM(E20:N20)-J20","v":0},"",null,"",null,null,0,0,null,{"$f":"IF(ISNA(INDEX('Conversion Factors'!$B$6:$B$371,MATCH('Jan 16 - Jan 31'!$Z$14:$Z$20,'Conversion Factors'!$A$6:$A$371,0))),\"\",INDEX('Conversion Factors'!$B$6:$B$371,MATCH('Jan 16 - Jan 31'!$Z$14:$Z$20,'Conversion Factors'!$A$6:$A$371,0)))","v":7.2229999999999999},null,"2023-01-21","","",null,null,null,null,null,0,{"$f":"IF(AH20>$AI$12,AH20-($AI$12+AI19+AI18+AI17+AI16+AI15+AI14),0)","v":0},false,false,null,0,null,0,0,0,0,0,40,0,0,0,null,0,0,0,0,0,0,40,0,null,0,40,0,0,{"$f":"SUM(E14:E20)","v":0},0,0,0,{"$f":"IF(AND(BM20=1,BL20>40,J20<=K20),J20-BO20,IF(AND(BM20=1,BL20>0,J20>K20),K20-BO20,0))","v":0}]
["Week 1 Totals",null,null,null,{"$f":"SUM(E14:E20)","v":0},{"$f":"SUM(F14:F20)","v":0},0,0,0,null,0,0,0,0,{"$f":"SUM(O14:O20)","v":0},{"$f":"-SUM(P14:P20)","v":0},{"$f":"SUM(Q14:Q20)","v":0},{"$f":"SUM(R14:R20)","v":0},{"$f":"IF(E21>40,(E21-40)-V21-BP21,0)","v":0},{"$f":"MROUND(AL21,0.25)","v":0},{"$f":"SUM(U14:U20)","v":0},{"$f":"SUM(V14:V20)","v":0},{"$f":"IF(E21-(E11-(G21+K21+F21+H21+I21+L21+M21))-(S21+U21+V21)>0,E21-(E11-(G21+K21+F21+H21+I21+L21+M21))-(S21+U21+V21),0)","v":0},null,null,null,null,null,{"$f":"SUM(F21:N21)","v":0},{"$f":"IF(AND(AG21<40,O21>=AG21),O21-(AG21+S21),IF(AND(O21<AG21,E21=O21),O21-E21,IF(AND(E21>AG21,E21<40),E21-AG21,IF(AND(O21>AG21,E21<AG21),E21-(AG21-AC21),IF(AND(O21>AG21,E21>40),E21-(AG21-AC21+S21),IF(AND(O21>AG21,O21>40),O21-(S21+AG21),0))))))","v":0},{"$f":"AD21-U21-V21","v":0},{"$f":"$W$11","v":"Please Select"},{"$f":"$E$11","v":40},null,{"$f":"IF(AH21>$AI$12,-$AI$12,0)","v":0},null,null,{"$f":"IF(AF21=\"Yes\",S21*1.5,0)","v":0},null,null,null,null,null,null,null,null,null,null,null,null,null,null,null,null,null,null,null,null,null,null,null,null,null,null,null,null,null,{"$f":"SUM(BP14:BP20)","v":0},{"$f":"E11+U21","v":40}]
[{"$f":"IF(A20=0,\"\",IF(A20<$O$7,A20+1,IF(A20=$O$7,\"\")))","v":"2023-01-22"},null,null,"Sunday",null,null,null,null,null,null,null,null,null,null,{"$f":"SUM(E22:N22)-J22","v":0},{"$f":"IF(AND(ISNUMBER(AA22),ISNUMBER(X22)),AA22*X22,\"\")","v":""},null,{"$f":"IF(AND(ISNUMBER(AB22),ISNUMBER(X22)),AB22*X22,\"\")","v":""},null,null,{"$f":"IF(BJ22>0,BJ22,BN22)","v":0},{"$f":"IF(BK22>0,BK22,0)","v":0},null,{"$f":"IF(ISNA(INDEX('Conversion Factors'!$B$6:$B$371,MATCH('Jan 16 - Jan 31'!$Z$22:$Z$28,'Conversion Factors'!$A$6:$A$371,0))),\"\",INDEX('Conversion Factors'!$B$6:$B$371,MATCH('Jan 16 - Jan 31'!$Z$22:$Z$28,'Conversion Factors'!$A$6:$A$371,0)))","v":7.2229999999999999},null,{"$f":"A22","v":"2023-01-22"},{"$f":"IF(AND(ISNUMBER(N22),ISNUMBER($Z$12)),N22/$Z$12,\"\")","v":""},{"$f":"IF(AND(ISNUMBER(Q22),ISNUMBER($Z$12)),Q22/$Z$12,\"\")","v":""},null,null,null,null,null,{"$f":"E22+AH21","v":0},{"$f":"IF(AH22>$AI$12,AH22-($AI$12+AI21),0)","v":0},{"$f":"IF(AND(AZ22>0,AZ22),IF(BA22>0,BA22,IF(BB22>0,BB22,IF(BC22>0,BC22,IF(BF22>0,BF22,\"\")))))","v":false},{"$f":"IF(AND(AO22>0,AO22),IF(AP22>0,AP22,IF(AQ22>0,AQ22,IF(AR22>0,AR22,IF(AU22>0,AU22,\"\")))))","v":false},null,{"$f":"J22","v":0},null,{"$f":"IF(G22=0,0,\"\")","v":0},{"$f":"IF(AND(AH22<=40,E22=G22),G22,0)","v":0},{"$f":"IF(AND(AH22<=40,E22>=G22,G22>0),O22-E22,0)","v":0},{"$f":"IF(AND(AH22<=40,E22<G22),O22-G22,0)","v":0},{"$f":"IF(AND(G22=0),G22,IF(AND(G22>0,AI22>0,G22=AT22),AT22,IF(AND(G22>0,AI22>0,G22-AT22),AT22,0)))","v":0},null,{"$f":"AS22","v":0},{"$f":"IF(AND(AH21+AU22=40,AI22>0,AI22>AU22),AI22-AU22,IF(AND(AH21+AU22=40,AI22>0,AI22<AU22,AU22+AI22=G22),AI22,IF(AND(AH21>40,AH22>40,G22=AI22),AI22,0)))","v":0},{"$f":"AV22","v":0},null,{"$f":"IF(AND(J22>0,AI22>0,BB22<=AI22),AI22-BB22,IF(AND(J22>0,AI22>0,BB22>AI22),J22-BB22,0))","v":0},{"$f":"IF(J22=0,0,\"\")","v":0},{"$f":"IF(AND(AH22<=40,E22=J22),J22,0)","v":0},{"$f":"IF(AND(AZ22=0),AZ22,IF(AND(AH22>40,E22>=J22),BE22,IF(AND(AH22<=40,E22>J22),J22,0)))","v":0},{"$f":"IF(AND(AH22<=40,E22<J22),O22-J22,0)","v":0},{"$f":"IF(AND(J22=0),J22,IF(AND(J22>0,AI22>0,J22=BC22),BC22,IF(AND(J22>0,AI22>0,J22-BC22),BC22,0)))","v":0},null,{"$f":"BD22","v":0},null,{"$f":"IF(AND(G22>0,E22>0),1,0)","v":0},{"$f":"40-AH22","v":40},0,{"$f":"IF(AND(BH22=1,BL22>40,E22<G22),E22-BJ22,(IF(AND(BH22=1,BL22>0,E22>=G22),G22-BJ22,0)))","v":0},{"$f":"E22","v":0},{"$f":"IF(AND(K22>0,E22>0),1,0)","v":0},{"$f":"IF(AND(BM22=1,J22>8),K22,(IF(AND(BM22=1,J22>0),J22,0)))","v":0},{"$f":"IF(AND(BM22=1,40-BL21>0,40-BL21<8),40-BL21,IF(AND(J22<K22),J22,K22))","v":0},{"$f":"IF(AND(BM22=1,BL22>40,J22<=K22),J22-BO22,IF(AND(BM22=1,BL22>0,J22>K22),K22-BO22,0))","v":0}]
[{"$f":"IF(A22<$O$7,A22+1,IF(A22=$O$7,\"\"))","v":"2023-01-23"},null,null,"Monday",null,null,null,null,null,null,null,null,null,null,{"$f":"SUM(E23:N23)-J23","v":0},{"$f":"IF(AND(ISNUMBER(AA23),ISNUMBER(X23)),AA23*X23,\"\")","v":""},null,{"$f":"IF(AND(ISNUMBER(AB23),ISNUMBER(X23)),AB23*X23,\"\")","v":""},null,null,{"$f":"IF(BJ23>0,BJ23,BN23)","v":0},{"$f":"IF(BK23>0,BK23,0)","v":0},null,{"$f":"IF(ISNA(INDEX('Conversion Factors'!$B$6:$B$371,MATCH('Jan 16 - Jan 31'!$Z$22:$Z$28,'Conversion Factors'!$A$6:$A$371,0))),\"\",INDEX('Conversion Factors'!$B$6:$B$371,MATCH('Jan 16 - Jan 31'!$Z$22:$Z$28,'Conversion Factors'!$A$6:$A$371,0)))","v":7.2229999999999999},null,"2023-01-23","","",null,null,null,null,null,0,{"$f":"IF(AH23>$AI$12,AH23-($AI$12+AI22+AI21),0)","v":0},false,{"$f":"IF(AND(AO23>0,AO23),IF(AP23>0,AP23,IF(AQ23>0,AQ23,IF(AR23>0,AR23,IF(AU23>0,AU23,0)))))","v":false},null,0,null,0,0,0,0,0,{"$f":"IF(AND(AH22<=40),40-AH22,0)","v":40},{"$f":"AS23","v":0},0,{"$f":"AV23","v":0},null,{"$f":"IF(AND(J23>0,AI23>0,BB23<=AI23),AI23-BB23,IF(AND(J23>0,AI23>0,BB23>AI23),J23-BB23,0))","v":0},0,0,0,0,0,{"$f":"IF(AND(AH22<=40),40-AH22,0)","v":40},{"$f":"BD23","v":0},null,{"$f":"IF(AND(G23>0,E23>0),1,0)","v":0},40,0,0,{"$f":"SUM(E22:E23)","v":0},{"$f":"IF(AND(K23>0,E23>0),1,0)","v":0},{"$f":"IF(AND(BM23=1,J23>8),K23,(IF(AND(BM23=1,J23>0),J23,0)))","v":0},0,0]
["2023-01-24",null,null,"Tuesday",null,null,null,null,null,null,null,null,null,null,{"$f":"SUM(E24:N24)-J24","v":0},"",null,"",null,null,{"$f":"IF(BJ24>0,BJ24,BN24)","v":0},0,null,{"$f":"IF(ISNA(INDEX('Conversion Factors'!$B$6:$B$371,MATCH('Jan 16 - Jan 31'!$Z$22:$Z$28,'Conversion Factors'!$A$6:$A$371,0))),\"\",INDEX('Conversion Factors'!$B$6:$B$371,MATCH('Jan 16 - Jan 31'!$Z$22:$Z$28,'Conversion Factors'!$A$6:$A$371,0)))","v":7.2229999999999999},null,"2023-01-24","","",null,null,null,null,null,0,{"$f":"IF(AH24>$AI$12,AH24-($AI$12+AI23+AI22+AI21),0)","v":0},false,false,null,0,null,0,0,0,0,0,40,0,0,0,null,{"$f":"IF(AND(J24>0,AI24>0,BB24<=AI24),AI24-BB24,IF(AND(J24>0,AI24>0,BB24>AI24),J24-BB24,0))","v":0},0,0,0,0,0,{"$f":"IF(AND(AH23<=40),40-AH23,0)","v":40},0,null,{"$f":"IF(AND(G24>0,E24>0),1,0)","v":0},40,0,0,{"$f":"SUM(E22:E24)","v":0},0,{"$f":"IF(AND(BM24=1,J24>8),K24,(IF(AND(BM24=1,J24>0),J24,0)))","v":0},{"$f":"IF(AND(BM24=1,40-BL23>0,40-BL23<8),40-BL23,IF(AND(J24<K24),J24,K24))","v":0},0]
["2023-01-25",null,null,"Wednesday",null,null,null,null,null,null,null,null,null,null,0,"",null,"",null,null,0,0,null,{"$f":"IF(ISNA(INDEX('Conversion Factors'!$B$6:$B$371,MATCH('Jan 16 - Jan 31'!$Z$22:$Z$28,'Conversion Factors'!$A$6:$A$371,0))),\"\",INDEX('Conversion Factors'!$B$6:$B$371,MATCH('Jan 16 - Jan 31'!$Z$22:$Z$28,'Conversion Factors'!$A$6:$A$371,0)))","v":7.2229999999999999},null,"2023-01-25","","",null,null,null,null,null,0,{"$f":"IF(AH25>$AI$12,AH25-($AI$12+AI24+AI23+AI22+AI21),0)","v":0},false,false,null,0,null,0,0,0,0,0,40,0,0,0,null,{"$f":"IF(AND(J25>0,AI25>0,BB25<=AI25),AI25-BB25,IF(AND(J25>0,AI25>0,BB25>AI25),J25-BB25,0))","v":0},0,0,0,0,0,40,0,null,0,40,0,0,{"$f":"SUM(E22:E25)","v":0},0,{"$f":"IF(AND(BM25=1,J25>8),K25,(IF(AND(BM25=1,J25>0),J25,0)))","v":0},{"$f":"IF(AND(BM25=1,40-BL24>0,40-BL24<8),40-BL24,IF(AND(J25<K25),J25,K25))","v":0},0]
["2023-01-26",null,null,"Thursday",null,null,null,null,null,null,null,null,null,null,0,"",null,"",null,null,0,0,null,{"$f":"IF(ISNA(INDEX('Conversion Factors'!$B$6:$B$371,MATCH('Jan 16 - Jan 31'!$Z$22:$Z$28,'Conversion Factors'!$A$6:$A$371,0))),\"\",INDEX('Conversion Factors'!$B$6:$B$371,MATCH('Jan 16 - Jan 31'!$Z$22:$Z$28,'Conversion Factors'!$A$6:$A$371,0)))","v":7.2229999999999999},null,"2023-01-26","","",null,null,null,null,null,0,{"$f":"IF(AH26>$AI$12,AH26-($AI$12+AI25+AI24+AI23+AI22+AI21),0)","v":0},false,false,null,0,null,0,0,0,0,0,{"$f":"IF(AND(AH25<=40),40-AH25,0)","v":40},0,0,0,null,{"$f":"IF(AND(J26>0,AI26>=J26,BB26=0),O26-AI26,IF(AND(J26>0,AI26>0,BB26<=AI26),AI26-BB26,IF(AND(J26>0,AI26>0,BB26>AI26),J26-BB26,0)))","v":0},0,0,0,0,0,40,0,null,0,40,0,0,{"$f":"SUM(E22:E26)","v":0},0,0,0,0]
["2023-01-27",null,null,"Friday",null,null,null,null,null,null,null,null,null,null,0,"",null,"",null,null,0,0,null,{"$f":"IF(ISNA(INDEX('Conversion Factors'!$B$6:$B$371,MATCH('Jan 16 - Jan 31'!$Z$22:$Z$28,'Conversion Factors'!$A$6:$A$371,0))),\"\",INDEX('Conversion Factors'!$B$6:$B$371,MATCH('Jan 16 - Jan 31'!$Z$22:$Z$28,'Conversion Factors'!$A$6:$A$371,0)))","v":7.2229999999999999},null,"2023-01-27","","",null,null,null,null,null,0,{"$f":"IF(AH27>$AI$12,AH27-($AI$12+AI26+AI25+AI24+AI23+AI22+AI21),0)","v":0},false,false,null,0,null,0,0,0,0,0,{"$f":"IF(AND(AH26<=40),40-AH26,0)","v":40},0,0,0,null,{"$f":"IF(AND(J27>0,AI27>=J27,BB27=0),O27-AI27,IF(AND(J27>0,AI27>0,BB27<=AI27),AI27-BB27,IF(AND(J27>0,AI27>0,BB27>AI27),J27-BB27,0)))","v":0},0,0,0,0,0,40,0,null,0,40,0,0,{"$f":"SUM(E22:E27)","v":0},0,0,0,{"$f":"IF(AND(BM27=1,BL27>40,J27<=K27),J27-BO27,IF(AND(BM27=1,BL27>0,J27>K27),K27-BO27,0))","v":0}]
["2023-01-28",null,null,"Saturday",null,null,null,null,null,null,null,null,null,null,{"$f":"SUM(E28:N28)-J28","v":0},"",null,"",null,null,0,0,null,{"$f":"IF(ISNA(INDEX('Conversion Factors'!$B$6:$B$371,MATCH('Jan 16 - Jan 31'!$Z$22:$Z$28,'Conversion Factors'!$A$6:$A$371,0))),\"\",INDEX('Conversion Factors'!$B$6:$B$371,MATCH('Jan 16 - Jan 31'!$Z$22:$Z$28,'Conversion Factors'!$A$6:$A$371,0)))","v":7.2229999999999999},null,"2023-01-28","","",null,null,null,null,null,0,{"$f":"IF(AH28>$AI$12,AH28-($AI$12+AI27+AI26+AI25+AI24+AI23+AI22+AI21),0)","v":0},false,false,null,0,null,0,0,0,0,0,40,0,0,0,null,{"$f":"IF(AND(J28>0,AI28>=J28,BB28=0),O28-AI28,IF(AND(J28>0,AI28>0,BB28<=AI28),AI28-BB28,IF(AND(J28>0,AI28>0,BB28>AI28),J28-BB28,0)))","v":0},0,0,0,0,0,40,0,null,0,40,0,0,{"$f":"SUM(E22:E28)","v":0},0,0,0,{"$f":"IF(AND(BM28=1,BL28>40,J28<=K28),J28-BO28,IF(AND(BM28=1,BL28>0,J28>K28),K28-BO28,0))","v":0}]
["Week 2 Totals",null,null,null,{"$f":"SUM(E22:E28)","v":0},0,0,0,0,null,0,0,0,0,{"$f":"SUM(O22:O28)","v":0},{"$f":"-SUM(P22:P28)","v":0},{"$f":"SUM(Q22:Q28)","v":0},{"$f":"SUM(R22:R28)","v":0},{"$f":"IF(E29>40,(E29-40)-V29,0)","v":0},{"$f":"MROUND(AL29,0.25)","v":0},{"$f":"SUM(U22:U28)","v":0},{"$f":"SUM(V22:V28)","v":0},{"$f":"IF(E29-(E11-(G29+K29+F29+H29+I29+L29+M29))-(S29+U29+V29)>0,E29-(E11-(G29+K29+F29+H29+I29+L29+M29))-(S29+U29+V29),0)","v":0},null,null,null,null,null,{"$f":"SUM(F29:N29)","v":0},{"$f":"IF(AND(AG29<40,O29>=AG29),O29-(AG29+S29),IF(AND(O29<AG29,E29=O29),O29-E29,IF(AND(E29>AG29,E29<40),E29-AG29,IF(AND(O29>AG29,E29<AG29),E29-(AG29-AC29),IF(AND(O29>AG29,E29>40),E29-(AG29-AC29+S29),IF(AND(O29>AG29,O29>40),O29-(S29+AG29),0))))))","v":0},{"$f":"AD29-U29-V29","v":0},{"$f":"$W$11","v":"Please Select"},{"$f":"$E$11","v":40},null,{"$f":"IF(AH29>$AI$12,-$AI$12,0)","v":0},null,null,{"$f":"IF(AF29=\"Yes\",S29*1.5,0)","v":0},0,null,null,null,null,null,null,null,null,null,null,null,null,0,null,null,null,null,null,null,null,null,null,null,null,null,null,null,null,{"$f":"SUM(BP22:BP28)","v":0},{"$f":"U29+E11","v":40}]
[{"$f":"IF(A28<$O$7,A28+1,IF(A28=$O$7,\"\"))","v":"2023-01-29"},null,null,"Sunday",null,null,null,null,null,null,null,null,null,null,{"$f":"SUM(E30:N30)-J30","v":0},{"$f":"IF(AND(ISNUMBER(AA30),ISNUMBER(X30)),AA30*X30,\"\")","v":""},null,{"$f":"IF(AND(ISNUMBER(AB30),ISNUMBER(X30)),AB30*X30,\"\")","v":""},null,null,{"$f":"IF(BJ30>0,BJ30,BN30)","v":0},{"$f":"IF(BK30>0,BK30,0)","v":0},null,{"$f":"IF(ISNA(INDEX('Conversion Factors'!$B$6:$B$370,MATCH('Jan 16 - Jan 31'!$Z$30:$Z$36,'Conversion Factors'!$A$6:$A$370,0))),\"\",INDEX('Conversion Factors'!$B$6:$B$370,MATCH('Jan 16 - Jan 31'!$Z$30:$Z$36,'Conversion Factors'!$A$6:$A$370,0)))","v":7.2229999999999999},null,{"$f":"A30","v":"2023-01-29"},{"$f":"IF(AND(ISNUMBER(N30),ISNUMBER($Z$12)),N30/$Z$12,\"\")","v":""},{"$f":"IF(AND(ISNUMBER(Q30),ISNUMBER($Z$12)),Q30/$Z$12,\"\")","v":""},null,null,null,null,null,{"$f":"E30+AH29","v":0},{"$f":"IF(AH30>$AI$12,AH30-($AI$12+AI29),0)","v":0},{"$f":"IF(AND(AZ30>0,AZ30),IF(BA30>0,BA30,IF(BB30>0,BB30,IF(BC30>0,BC30,IF(BF30>0,BF30,\"\")))))","v":false},{"$f":"IF(AND(AO30>0,AO30),IF(AP30>0,AP30,IF(AQ30>0,AQ30,IF(AR30>0,AR30,IF(AU30>0,AU30,\"\")))))","v":false},null,0,null,{"$f":"IF(G30=0,0,\"\")","v":0},{"$f":"IF(AND(AH30<=40,E30=G30),G30,0)","v":0},{"$f":"IF(AND(AH30<=40,E30>=G30,G30>0),O30-E30,0)","v":0},{"$f":"IF(AND(AH30<=40,E30<G30),O30-G30,0)","v":0},{"$f":"IF(AND(G30=0),G30,IF(AND(G30>0,AI30>0,G30=AT30),AT30,IF(AND(G30>0,AI30>0,G30-AT30),AT30,0)))","v":0},null,{"$f":"AS30","v":0},{"$f":"IF(AND(AH29+AU30=40,AI30>0,AI30>AU30),AI30-AU30,IF(AND(AH29+AU30=40,AI30>0,AI30<AU30,AU30+AI30=G30),AI30,IF(AND(AH29>40,AH30>40,G30=AI30),AI30,0)))","v":0},{"$f":"AV30","v":0},null,{"$f":"IF(AND(J30>0,AI30>=J30,BB30=0),O30-AI30,IF(AND(J30>0,AI30>0,BB30<=AI30),AI30-BB30,IF(AND(J30>0,AI30>0,BB30>AI30),J30-BB30,0)))","v":0},0,{"$f":"IF(AND(AH30<=40,E30=J30),J30,0)","v":0},{"$f":"IF(AND(AZ30=0),AZ30,IF(AND(AH30>40,E30>=J30),BE30,IF(AND(AH30<=40,E30>J30),J30,0)))","v":0},{"$f":"IF(AND(AH30<=40,E30<J30),O30-J30,0)","v":0},{"$f":"IF(AND(J30=0),J30,IF(AND(J30>0,AI30>0,J30=BC30),BC30,IF(AND(J30>0,AI30>0,J30-BC30),BC30,0)))","v":0},null,{"$f":"BD30","v":0},null,{"$f":"IF(AND(G30>0,E30>0),1,0)","v":0},{"$f":"40-AH30","v":40},0,{"$f":"IF(AND(BH30=1,BL30>40,E30<G30),E30-BJ30,(IF(AND(BH30=1,BL30>0,E30>=G30),G30-BJ30,0)))","v":0},{"$f":"E30","v":0},{"$f":"IF(AND(K30>0,E30>0),1,0)","v":0},{"$f":"IF(AND(BM30=1,J30>8),K30,(IF(AND(BM30=1,J30>0),J30,0)))","v":0},{"$f":"IF(AND(BM30=1,40-BL29>0,40-BL29<8),40-BL29,IF(AND(J30<K30),J30,K30))","v":0},{"$f":"IF(AND(BM30=1,BL30>40,J30<=K30),J30-BO30,IF(AND(BM30=1,BL30>0,J30>K30),K30-BO30,0))","v":0}]
[{"$f":"IF(A30<$O$7,A30+1,IF(A30=$O$7,\"\"))","v":"2023-01-30"},null,null,"Monday",null,null,null,null,null,null,null,null,null,null,{"$f":"SUM(E31:N31)-J31","v":0},{"$f":"IF(AND(ISNUMBER(AA31),ISNUMBER(X31)),AA31*X31,\"\")","v":""},null,{"$f":"IF(AND(ISNUMBER(AB31),ISNUMBER(X31)),AB31*X31,\"\")","v":""},null,null,0,{"$f":"IF(BK31>0,BK31,0)","v":0},null,{"$f":"IF(ISNA(INDEX('Conversion Factors'!$B$6:$B$370,MATCH('Jan 16 - Jan 31'!$Z$30:$Z$36,'Conversion Factors'!$A$6:$A$370,0))),\"\",INDEX('Conversion Factors'!$B$6:$B$370,MATCH('Jan 16 - Jan 31'!$Z$30:$Z$36,'Conversion Factors'!$A$6:$A$370,0)))","v":7.2229999999999999},null,"2023-01-30","","",null,null,null,null,null,0,{"$f":"IF(AH31>$AI$12,AH31-($AI$12+AI30+AI29),0)","v":0},false,{"$f":"IF(AND(AO31>0,AO31),IF(AP31>0,AP31,IF(AQ31>0,AQ31,IF(AR31>0,AR31,IF(AU31>0,AU31,0)))))","v":false},null,0,null,0,0,0,0,0,{"$f":"IF(AND(AH30<=40),40-AH30,0)","v":40},{"$f":"AS31","v":0},0,{"$f":"AV31","v":0},null,0,0,0,0,0,0,{"$f":"IF(AND(AH30<=40),40-AH30,0)","v":40},{"$f":"BD31","v":0},null,{"$f":"IF(AND(G31>0,E31>0),1,0)","v":0},40,0,0,{"$f":"SUM(E30:E31)","v":0},{"$f":"IF(AND(K31>0,E31>0),1,0)","v":0},{"$f":"IF(AND(BM31=1,J31>8),K31,(IF(AND(BM31=1,J31>0),J31,0)))","v":0},0,0]
["2023-01-31",null,null,"Tuesday",null,null,null,null,null,null,null,null,null,null,0,"",null,"",null,null,0,0,null,{"$f":"IF(ISNA(INDEX('Conversion Factors'!$B$6:$B$370,MATCH('Jan 16 - Jan 31'!$Z$30:$Z$36,'Conversion Factors'!$A$6:$A$370,0))),\"\",INDEX('Conversion Factors'!$B$6:$B$370,MATCH('Jan 16 - Jan 31'!$Z$30:$Z$36,'Conversion Factors'!$A$6:$A$370,0)))","v":7.2229999999999999},null,"2023-01-31","","",null,null,null,null,null,0,{"$f":"IF(AH32>$AI$12,AH32-($AI$12+AI31+AI30+AI29),0)","v":0},false,false,null,0,null,0,0,0,0,0,40,0,0,0,null,0,0,0,0,0,0,{"$f":"IF(AND(AH31<=40),40-AH31,0)","v":40},0,null,{"$f":"IF(AND(G32>0,E32>0),1,0)","v":0},40,0,0,{"$f":"SUM(E30:E32)","v":0},0,{"$f":"IF(AND(BM32=1,J32>8),K32,(IF(AND(BM32=1,J32>0),J32,0)))","v":0},{"$f":"IF(AND(BM32=1,40-BL31>0,40-BL31<8),40-BL31,IF(AND(J32<K32),J32,K32))","v":0},0]
["",null,null,"Wednesday",null,null,null,null,null,null,null,null,null,null,0,"",null,"",null,null,0,0,null,{"$f":"IF(ISNA(INDEX('Conversion Factors'!$B$6:$B$370,MATCH('Jan 16 - Jan 31'!$Z$30:$Z$36,'Conversion Factors'!$A$6:$A$370,0))),\"\",INDEX('Conversion Factors'!$B$6:$B$370,MATCH('Jan 16 - Jan 31'!$Z$30:$Z$36,'Conversion Factors'!$A$6:$A$370,0)))","v":""},null,"","","",null,null,null,null,null,0,{"$f":"IF(AH33>$AI$12,AH33-($AI$12+AI32+AI31+AI30+AI29),0)","v":0},false,false,null,0,null,0,0,0,0,0,40,0,0,0,null,0,0,0,0,0,0,40,0,null,{"$f":"IF(AND(G33>0,E33>0),1,0)","v":0},40,0,0,{"$f":"SUM(E30:E33)","v":0},0,{"$f":"IF(AND(BM33=1,J33>8),K33,(IF(AND(BM33=1,J33>0),J33,0)))","v":0},{"$f":"IF(AND(BM33=1,40-BL32>0,40-BL32<8),40-BL32,IF(AND(J33<K33),J33,K33))","v":0},0]
[false,null,null,"Thursday",null,null,null,null,null,null,null,null,null,null,0,"",null,"",null,null,0,0,null,{"$f":"IF(ISNA(INDEX('Conversion Factors'!$B$6:$B$370,MATCH('Jan 16 - Jan 31'!$Z$30:$Z$36,'Conversion Factors'!$A$6:$A$370,0))),\"\",INDEX('Conversion Factors'!$B$6:$B$370,MATCH('Jan 16 - Jan 31'!$Z$30:$Z$36,'Conversion Factors'!$A$6:$A$370,0)))","v":""},null,false,"","",null,null,null,null,null,0,{"$f":"IF(AH34>$AI$12,AH34-($AI$12+AI33+AI32+AI31+AI30+AI29),0)","v":0},false,false,null,0,null,0,0,0,0,0,{"$f":"IF(AND(AH33<=40),40-AH33,0)","v":40},0,0,0,null,0,0,0,0,0,0,40,0,null,0,40,0,0,{"$f":"SUM(E30:E34)","v":0},0,0,0,0]
[false,null,null,"Friday",null,null,null,null,null,null,null,null,null,null,0,"",null,"",null,null,0,0,null,{"$f":"IF(ISNA(INDEX('Conversion Factors'!$B$6:$B$370,MATCH('Jan 16 - Jan 31'!$Z$30:$Z$36,'Conversion Factors'!$A$6:$A$370,0))),\"\",INDEX('Conversion Factors'!$B$6:$B$370,MATCH('Jan 16 - Jan 31'!$Z$30:$Z$36,'Conversion Factors'!$A$6:$A$370,0)))","v":""},null,false,"","",null,null,null,null,null,0,{"$f":"IF(AH35>$AI$12,AH35-($AI$12+AI34+AI33+AI32+AI31+AI30+AI29),0)","v":0},false,false,null,0,null,0,0,0,0,0,{"$f":"IF(AND(AH34<=40),40-AH34,0)","v":40},0,0,0,null,0,0,0,0,0,0,40,0,null,0,40,0,0,{"$f":"SUM(E30:E35)","v":0},0,0,0,{"$f":"IF(AND(BM35=1,BL35>40,J35<=K35),J35-BO35,IF(AND(BM35=1,BL35>0,J35>K35),K35-BO35,0))","v":0}]
[false,null,null,"Saturday",null,null,null,null,null,null,null,null,null,null,0,"",null,"",null,null,0,0,null,{"$f":"IF(ISNA(INDEX('Conversion Factors'!$B$6:$B$370,MATCH('Jan 16 - Jan 31'!$Z$30:$Z$36,'Conversion Factors'!$A$6:$A$370,0))),\"\",INDEX('Conversion Factors'!$B$6:$B$370,MATCH('Jan 16 - Jan 31'!$Z$30:$Z$36,'Conversion Factors'!$A$6:$A$370,0)))","v":""},null,false,"","",null,null,null,null,null,0,{"$f":"IF(AH36>$AI$12,AH36-($AI$12+AI35+AI34+AI33+AI32+AI31+AI30+AI29),0)","v":0},false,false,null,0,null,0,0,0,0,0,40,0,0,0,null,0,0,0,0,0,0,40,0,null,0,40,0,0,{"$f":"SUM(E30:E36)","v":0},0,0,0,{"$f":"IF(AND(BM36=1,BL36>40,J36<=K36),J36-BO36,IF(AND(BM36=1,BL36>0,J36>K36),K36-BO36,0))","v":0}]
["Week 3 Totals",null,null,null,{"$f":"SUM(E30:E36)","v":0},0,0,0,0,null,0,0,0,0,{"$f":"SUM(O30:O36)","v":0},{"$f":"-SUM(P30:P36)","v":0},{"$f":"SUM(Q30:Q36)","v":0},{"$f":"SUM(R30:R36)","v":0},{"$f":"IF(E37>40,(E37-40)-V37,0)","v":0},{"$f":"MROUND(AL37,0.25)","v":0},{"$f":"SUM(U30:U36)","v":0},{"$f":"SUM(V30:V36)","v":0},{"$f":"IF(E37-(E11-(G37+K37+F37+H37+I37+L37+M3))-(S37+U37+V37)>0,E37-(E11-(G37+K37+F37+H37+I37+L37+M37))-(S37+U37+V37),0)","v":0},null,null,null,null,null,{"$f":"SUM(F37:N37)","v":0},{"$f":"IF(AND(AG37<40,O37>=AG37),O37-(AG37+S37),IF(AND(O37<AG37,E37=O37),O37-E37,IF(AND(E37>AG37,E37<40),E37-AG37,IF(AND(O37>AG37,E37<AG37),E37-(AG37-AC37),IF(AND(O37>AG37,E37>40),E37-(AG37-AC37+S37),IF(AND(O37>AG37,O37>40),O37-(S37+AG37),0))))))","v":0},{"$f":"AD37-U37-V37","v":0},{"$f":"$W$11","v":"Please Select"},{"$f":"$E$11","v":40},null,{"$f":"IF(AH37>$AI$12,-$AI$12,0)","v":0},null,null,{"$f":"IF(AF37=\"Yes\",S37*1.5,0)","v":0},null,null,null,null,null,null,null,null,null,null,null,null,null,null,null,null,null,null,null,null,null,0,null,null,null,null,null,null,null,{"$f":"SUM(BP30:BP36)","v":0},{"$f":"U37+E11","v":40}]
[{"$f":"IF(A36<$O$7,A36+1,IF(A36=$O$7,\"\"))","v":false},null,null,"Sunday",null,null,null,null,null,null,null,null,null,null,{"$f":"SUM(E38:N38)-J38","v":0},{"$f":"IF(AND(ISNUMBER(AA38),ISNUMBER(X38)),AA38*X38,\"\")","v":""},null,{"$f":"IF(AND(ISNUMBER(AB38),ISNUMBER(X38)),AB38*X38,\"\")","v":""},null,null,0,{"$f":"IF(BK38>0,BK38,0)","v":0},null,{"$f":"IF(ISNA(INDEX('Conversion Factors'!$B$6:$B$370,MATCH('Jan 16 - Jan 31'!$Z$38:$Z$44,'Conversion Factors'!$A$6:$A$370,0))),\"\",INDEX('Conversion Factors'!$B$6:$B$370,MATCH('Jan 16 - Jan 31'!$Z$38:$Z$44,'Conversion Factors'!$A$6:$A$370,0)))","v":""},null,{"$f":"A38","v":false},{"$f":"IF(AND(ISNUMBER(N38),ISNUMBER($Z$12)),N38/$Z$12,\"\")","v":""},{"$f":"IF(AND(ISNUMBER(Q38),ISNUMBER($Z$12)),Q38/$Z$12,\"\")","v":""},null,null,null,null,null,{"$f":"E38+AH37","v":0},{"$f":"IF(AH38>$AI$12,AH38-($AI$12+AI37),0)","v":0},{"$f":"IF(AND(AZ38>0,AZ38),IF(BA38>0,BA38,IF(BB38>0,BB38,IF(BC38>0,BC38,IF(BF38>0,BF38,\"\")))))","v":false},{"$f":"IF(AND(AO38>0,AO38),IF(AP38>0,AP38,IF(AQ38>0,AQ38,IF(AR38>0,AR38,IF(AU38>0,AU38,\"\")))))","v":false},null,{"$f":"J38","v":0},null,{"$f":"IF(G38=0,0,\"\")","v":0},{"$f":"IF(AND(AH38<=40,E38=G38),G38,0)","v":0},{"$f":"IF(AND(AH38<=40,E38>=G38,G38>0),O38-E38,0)","v":0},{"$f":"IF(AND(AH38<=40,E38<G38),O38-G38,0)","v":0},{"$f":"IF(AND(G38=0),G38,IF(AND(G38>0,AI38>0,G38=AT38),AT38,IF(AND(G38>0,AI38>0,G38-AT38),AT38,0)))","v":0},null,{"$f":"AS38","v":0},{"$f":"IF(AND(AH37+AU38=40,AI38>0,AI38>AU38),AI38-AU38,IF(AND(AH37+AU38=40,AI38>0,AI38<AU38,AU38+AI38=G38),AI38,IF(AND(AH37>40,AH38>40,G38=AI38),AI38,0)))","v":0},{"$f":"AV38","v":0},null,{"$f":"IF(AND(J38>0,AI38>=J38,BB38=0),O38-AI38,IF(AND(J38>0,AI38>0,BB38<=AI38),AI38-BB38,IF(AND(J38>0,AI38>0,BB38>AI38),J38-BB38,0)))","v":0},{"$f":"IF(J38=0,0,\"\")","v":0},{"$f":"IF(AND(AH38<=40,E38=J38),J38,0)","v":0},{"$f":"IF(AND(AZ38=0),AZ38,IF(AND(AH38>40,E38>=J38),BE38,IF(AND(AH38<=40,E38>J38),J38,0)))","v":0},{"$f":"IF(AND(AH38<=40,E38<J38),O38-J38,0)","v":0},{"$f":"IF(AND(J38=0),J38,IF(AND(J38>0,AI38>0,J38=BC38),BC38,IF(AND(J38>0,AI38>0,J38-BC38),BC38,0)))","v":0},null,{"$f":"BD38","v":0},null,{"$f":"IF(AND(G38>0,E38>0),1,0)","v":0},{"$f":"40-AH38","v":40},0,{"$f":"IF(AND(BH38=1,BL38>40,E38<G38),E38-BJ38,(IF(AND(BH38=1,BL38>0,E38>=G38),G38-BJ38,0)))","v":0},{"$f":"E38","v":0},{"$f":"IF(AND(K38>0,E38>0),1,0)","v":0},{"$f":"IF(AND(BM38=1,J38>8),K38,(IF(AND(BM38=1,J38>0),J38,0)))","v":0},{"$f":"IF(AND(BM38=1,40-BL37>0,40-BL37<8),40-BL37,IF(AND(J38<K38),J38,K38))","v":0},{"$f":"IF(AND(BM38=1,BL38>40,J38<=K38),J38-BO38,IF(AND(BM38=1,BL38>0,J38>K38),K38-BO38,0))","v":0}]
[{"$f":"IF(A38<$O$7,A38+1,IF(A38=$O$7,\"\"))","v":false},null,null,"Monday",null,null,null,0,null,null,null,null,null,null,{"$f":"SUM(E39:N39)-J39","v":0},{"$f":"IF(AND(ISNUMBER(AA39),ISNUMBER(X39)),AA39*X39,\"\")","v":""},null,{"$f":"IF(AND(ISNUMBER(AB39),ISNUMBER(X39)),AB39*X39,\"\")","v":""},null,null,0,{"$f":"IF(BK39>0,BK39,0)","v":0},null,{"$f":"IF(ISNA(INDEX('Conversion Factors'!$B$6:$B$370,MATCH('Jan 16 - Jan 31'!$Z$38:$Z$44,'Conversion Factors'!$A$6:$A$370,0))),\"\",INDEX('Conversion Factors'!$B$6:$B$370,MATCH('Jan 16 - Jan 31'!$Z$38:$Z$44,'Conversion Factors'!$A$6:$A$370,0)))","v":""},null,false,"","",null,null,null,null,null,0,{"$f":"IF(AH39>$AI$12,AH39-($AI$12+AI38+AI37),0)","v":0},false,{"$f":"IF(AND(AO39>0,AO39),IF(AP39>0,AP39,IF(AQ39>0,AQ39,IF(AR39>0,AR39,IF(AU39>0,AU39,0)))))","v":false},null,0,null,0,0,0,0,0,{"$f":"IF(AND(AH38<=40),40-AH38,0)","v":40},{"$f":"AS39","v":0},0,{"$f":"AV39","v":0},null,0,0,0,0,0,0,{"$f":"IF(AND(AH38<=40),40-AH38,0)","v":40},{"$f":"BD39","v":0},null,{"$f":"IF(AND(G39>0,E39>0),1,0)","v":0},40,0,0,{"$f":"SUM(E38:E39)","v":0},{"$f":"IF(AND(K39>0,E39>0),1,0)","v":0},{"$f":"IF(AND(BM39=1,J39>8),K39,(IF(AND(BM39=1,J39>0),J39,0)))","v":0},0,0]
[false,null,null,"Tuesday",null,null,null,null,null,0,0,null,null,null,{"$f":"SUM(E40:N40)-J40","v":0},"",null,"",null,null,0,0,null,{"$f":"IF(ISNA(INDEX('Conversion Factors'!$B$6:$B$370,MATCH('Jan 16 - Jan 31'!$Z$38:$Z$44,'Conversion Factors'!$A$6:$A$370,0))),\"\",INDEX('Conversion Factors'!$B$6:$B$370,MATCH('Jan 16 - Jan 31'!$Z$38:$Z$44,'Conversion Factors'!$A$6:$A$370,0)))","v":""},null,false,"","",null,null,null,null,null,0,{"$f":"IF(AH40>$AI$12,AH40-($AI$12+AI39+AI38+AI37),0)","v":0},false,false,null,0,null,0,0,0,0,0,40,0,0,0,null,0,0,0,0,0,0,{"$f":"IF(AND(AH39<=40),40-AH39,0)","v":40},0,null,{"$f":"IF(AND(G40>0,E40>0),1,0)","v":0},40,0,0,{"$f":"SUM(E38:E40)","v":0},0,{"$f":"IF(AND(BM40=1,J40>8),K40,(IF(AND(BM40=1,J40>0),J40,0)))","v":0},{"$f":"IF(AND(BM40=1,40-BL39>0,40-BL39<8),40-BL39,IF(AND(J40<K40),J40,K40))","v":0},0]
[false,null,null,"Wednesday",null,null,null,null,null,null,null,null,null,null,0,"",null,"",null,null,0,0,null,{"$f":"IF(ISNA(INDEX('Conversion Factors'!$B$6:$B$370,MATCH('Jan 16 - Jan 31'!$Z$38:$Z$44,'Conversion Factors'!$A$6:$A$370,0))),\"\",INDEX('Conversion Factors'!$B$6:$B$370,MATCH('Jan 16 - Jan 31'!$Z$38:$Z$44,'Conversion Factors'!$A$6:$A$370,0)))","v":""},null,false,"","",null,null,null,null,null,0,{"$f":"IF(AH41>$AI$12,AH41-($AI$12+AI40+AI39+AI38+AI37),0)","v":0},false,false,null,0,null,0,0,0,0,0,40,0,0,0,null,0,0,0,0,0,0,40,0,null,{"$f":"IF(AND(G41>0,E41>0),1,0)","v":0},40,0,0,{"$f":"SUM(E38:E41)","v":0},0,{"$f":"IF(AND(BM41=1,J41>8),K41,(IF(AND(BM41=1,J41>0),J41,0)))","v":0},{"$f":"IF(AND(BM41=1,40-BL40>0,40-BL40<8),40-BL40,IF(AND(J41<K41),J41,K41))","v":0},0]
[false,null,null,"Thursday",null,null,null,null,null,null,null,null,null,null,0,"",null,"",null,null,0,0,null,{"$f":"IF(ISNA(INDEX('Conversion Factors'!$B$6:$B$370,MATCH('Jan 16 - Jan 31'!$Z$38:$Z$44,'Conversion Factors'!$A$6:$A$370,0))),\"\",INDEX('Conversion Factors'!$B$6:$B$370,MATCH('Jan 16 - Jan 31'!$Z$38:$Z$44,'Conversion Factors'!$A$6:$A$370,0)))","v":""},null,false,"","",null,null,null,null,null,0,{"$f":"IF(AH42>$AI$12,AH42-($AI$12+AI41+AI40+AI39+AI38+AI37),0)","v":0},false,false,null,0,null,0,0,0,0,0,{"$f":"IF(AND(AH41<=40),40-AH41,0)","v":40},0,0,0,null,0,0,0,0,0,0,40,0,null,0,40,0,0,{"$f":"SUM(E38:E42)","v":0},0,0,0,0]
[false,null,null,"Friday",null,null,null,null,null,null,null,null,null,null,0,"",null,"",null,null,0,0,null,{"$f":"IF(ISNA(INDEX('Conversion Factors'!$B$6:$B$370,MATCH('Jan 16 - Jan 31'!$Z$38:$Z$44,'Conversion Factors'!$A$6:$A$370,0))),\"\",INDEX('Conversion Factors'!$B$6:$B$370,MATCH('Jan 16 - Jan 31'!$Z$38:$Z$44,'Conversion Factors'!$A$6:$A$370,0)))","v":""},null,false,"","",null,null,null,null,null,0,{"$f":"IF(AH43>$AI$12,AH43-($AI$12+AI42+AI41+AI40+AI39+AI38+AI37),0)","v":0},false,false,null,0,null,0,0,0,0,0,{"$f":"IF(AND(AH42<=40),40-AH42,0)","v":40},0,0,0,null,0,0,0,0,0,0,40,0,null,0,40,0,0,{"$f":"SUM(E38:E43)","v":0},0,0,0,{"$f":"IF(AND(BM43=1,BL43>40,J43<=K43),J43-BO43,IF(AND(BM43=1,BL43>0,J43>K43),K43-BO43,0))","v":0}]
[false,null,null,"Saturday",null,null,null,null,null,null,null,null,null,null,{"$f":"SUM(E44:N44)-J44","v":0},"",null,"",null,null,0,0,null,{"$f":"IF(ISNA(INDEX('Conversion Factors'!$B$6:$B$370,MATCH('Jan 16 - Jan 31'!$Z$38:$Z$44,'Conversion Factors'!$A$6:$A$370,0))),\"\",INDEX('Conversion Factors'!$B$6:$B$370,MATCH('Jan 16 - Jan 31'!$Z$38:$Z$44,'Conversion Factors'!$A$6:$A$370,0)))","v":""},null,false,"","",null,null,null,null,null,0,{"$f":"IF(AH44>$AI$12,AH44-($AI$12+AI43+AI42+AI41+AI40+AI39+AI38+AI37),0)","v":0},false,false,null,0,null,0,0,0,0,0,40,0,0,0,null,0,0,0,0,0,0,40,0,null,0,40,0,0,{"$f":"SUM(E38:E44)","v":0},0,0,0,{"$f":"IF(AND(BM44=1,BL44>40,J44<=K44),J44-BO44,IF(AND(BM44=1,BL44>0,J44>K44),K44-BO44,0))","v":0}]
["Week 4 Totals",null,null,null,{"$f":"SUM(E38:E44)","v":0},{"$f":"SUM(F38:F44)","v":0},0,0,0,null,0,0,0,0,{"$f":"SUM(O38:O44)","v":0},{"$f":"-SUM(P38:P44)","v":0},{"$f":"SUM(Q38:Q44)","v":0},{"$f":"SUM(R38:R44)","v":0},{"$f":"IF(E45>40,(E45-40)-V45,0)","v":0},{"$f":"MROUND(AL45,0.25)","v":0},{"$f":"SUM(U38:U44)","v":0},{"$f":"SUM(V38:V44)","v":0},{"$f":"IF(E45-(E11-(G45+K45+F45+H45+I45+L45+M45))-(S45+U45+V45)>0,E45-(E11-(G45+K45+F45+H45+I45+L45+M45))-(S45+U45+V45),0)","v":0},null,null,null,null,null,{"$f":"SUM(F45:N45)","v":0},{"$f":"IF(AND(AG45<40,O45>=AG45),O45-(AG45+S45),IF(AND(O45<AG45,E45=O45),O45-E45,IF(AND(E45>AG45,E45<40),E45-AG45,IF(AND(O45>AG45,E45<AG45),E45-(AG45-AC45),IF(AND(O45>AG45,E45>40),E45-(AG45-AC45+S45),IF(AND(O45>AG45,O45>40),O45-(S45+AG45),0))))))","v":0},{"$f":"AD45-U45-V45","v":0},{"$f":"$W$11","v":"Please Select"},{"$f":"$E$11","v":40},null,{"$f":"IF(AH45>$AI$12,-$AI$12,0)","v":0},null,null,{"$f":"IF(AF45=\"Yes\",S45*1.5,0)","v":0},null,null,null,null,null,null,null,null,null,null,null,null,null,null,null,null,null,null,null,null,null,null,null,null,null,null,null,null,null,{"$f":"SUM(BP38:BP44)","v":0},{"$f":"E44+E11","v":40}]
[null,null,null,null,null,null,null,null,"Total-Net Previous Week",null,null,null,null,null,{"$f":"(O21+O29+O37+O45)-O13","v":0},{"$f":"(P21+P29+P37)","v":0},{"$f":"(Q21+Q29+Q37)-Q13","v":0},{"$f":"(R21+R29+R37)","v":0},{"$f":"(S21+S29+Q37)-S13","v":0},{"$f":"(T21+T29+Q37)-T13","v":0},{"$f":"(U21+U29+Q37)-U13","v":0},{"$f":"(V21+V29+Q37)-V13","v":0},{"$f":"(W21+W29+Q37)-W13","v":0},{"$f":"(X21+X29+X37+X45)-X13","v":0}]
[]
[null,null,null,null,null,null,null,null,null,null,null,null,null,null,"Leave/Leave Without Pay Policy"]
["Employee signature",null,null,null,null,null,"Date",null,null,null,null,null,null,null,"Overtime/Compensatory Time"]
["I certify this record is accurate and accounts for my time during the indicated period.",null,null,null,null,null,null,null,null,null,null,null,null,null,"Time Sheet Definitions/Policies"]
[]
[null,null,null,null,null,null,null,null,null,null,"“Actual Work Hours During Administrative Close Period” – Only key the hours actually worked during the admministrative closing period into this field. "]
[]
["Manager signature",null,null,null,null,null,"Date"]
["I certify the hours recorded and coded on this form are correct and in compliance with University policy.",null,null,null,null,null,null,null,null,null,"“Administrative Closing/Leave Period field.”  Entter the number of hours of the declared period of administrative closing. (The total hours worked during the entire day will be entered into the “Actual Hours Worked” field.)"]

{"sheet":"Feb 1 - Feb 15","index":21,"n_rows":55,"n_cols":69,"rows_kept":55,"cut":false,"hidden":false,"merged":[[47,14,47,22],[48,14,48,19],[49,14,49,22],[51,10,53,22],[54,10,56,22],[45,8,45,13],[34,0,34,2],[35,0,35,2],[36,0,36,2],[37,0,37,2],[38,0,38,2],[39,0,39,2],[40,0,40,2],[41,0,41,2],[42,0,42,2],[43,0,43,2],[44,0,44,2],[33,0,33,2],[22,0,22,2],[23,0,23,2],[24,0,24,2],[25,0,25,2],[26,0,26,2],[27,0,27,2],[28,0,28,2],[29,0,29,2],[30,0,30,2],[31,0,31,2],[32,0,32,2],[21,0,21,2],[11,0,11,2],[11,29,11,30],[12,0,12,3],[13,0,13,2],[14,0,14,2],[15,0,15,2],[16,0,16,2],[17,0,17,2],[18,0,18,2],[19,0,19,2],[20,0,20,2],[10,40,10,46],[6,2,6,7],[6,8,6,13],[6,14,6,19],[7,2,7,7],[7,8,7,13],[7,14,7,19],[10,0,10,3],[10,4,10,5],[10,6,10,17],[10,18,10,21],[10,22,10,23],[0,0,0,22],[1,0,1,22],[3,0,3,23],[5,2,5,7],[5,8,5,13],[5,14,5,19]]}
["Mississippi State University"]
["Non-Exempt Employee Semi-Monthly Time Report"]
[]
["Instructions:  The Fair Labor Standards Act requires that a record of hours worked on a weekly basis be maintained for all employees except executive, administrative, managerial, faculty, and professional (non-faculty).  Department/unit heads are responsible for compiling and maintaining this record in department files on each covered employee for a period of at least (3) years."]
[]
["MSU ID #:",null,{"$f":"'July 1 - July 15'!C6","v":0},null,null,null,null,null,"Pay period start date:",null,null,null,null,null,{"$f":"'Dates & Notes'!$A$16","v":"2023-02-01"},null,null,null,null,null,null,null,null,null,null,{"$f":"TEXT(O6,\"dddd\")","v":"Wednesday"},null,null,null,"Please Select"]
["Name:",null,{"$f":"'July 1 - July 15'!C7","v":0},null,null,null,null,null,"Pay period end date:",null,null,null,null,null,{"$f":"'Dates & Notes'!$B$16","v":"2023-02-15"},null,null,null,null,null,null,null,null,null,null,null,null,null,null,"No"]
["Department:",null,{"$f":"'July 1 - July 15'!C8","v":0},null,null,null,null,null,"Pay Period Number:",null,null,null,null,null,{"$f":"'Dates & Notes'!$C$16","v":3},null,null,null,null,null,null,null,null,null,null,null,null,null,null,"Yes"]
[]
[]
["Employee Scheduled Hours Per Week",null,null,null,40,null,"FIELDS MUST BE ENTERED FOR CALULATIONS TO WORK PROPERLY",null,null,null,null,null,null,null,null,null,null,null,"Receive Compensatory Time",null,null,null,"Please Select",null,null,null,null,null,null,null,null,null,null,null,"Over 40",null,null,null,null,null,"HOW ANALYSIS"]
["Work Week Dates",null,null,"Day of The Week","Actual Hours Worked","Compensatory Time Used","Holiday","Medical Leave","Personal Leave","Actual Wrk Hrs During  Admin Close Period","Administrative Closing/Leave Period","Jury Duty","Military Leave","Leave Without Pay","Totals","DOC-Payroll Conversion","RTO","RTO-Payroll Conversion","Overtime Hours","Hours Transferred to Comp. Record","HOW-Holiday Pay or Admin/Leave Closing","HOT-Holiday Pay","SST-Payroll","Conversion Factor",null,8,"DOC","RTO",null,"SST",null,null,null,"Cumm Actual HRS",40,"Administrative Leave","HOW-Holiday Pay","Comp. Time","Administrative/Schedule",null,"Holiday=0\n1",2,3,4,null,"<=40\n5",null,"HOT Workup","HOT-Holiday Pay (HOLIDAY PAY)",null,"HOT-Administrative HRS","Administrative=0\n1",2,3,4,null,"<=40\n5",null,null,"Holiday Flag","Up to 40","How","Hot","Actual Hours Worked","Admin Flag","Admin","Admin HOW","Admin OVT"]
["Hours-Previous WK (Due to Split WK)",null,null,null,{"$f":"SUM(E14:E16)","v":0},0,0,0,0,0,0,0,0,0,{"$f":"SUM(E13:N13)-J13","v":0},{"$f":"'Jan 16 - Jan 31'!P37","v":0},{"$f":"'Jan 16 - Jan 31'!Q37","v":0},{"$f":"'Jan 16 - Jan 31'!R37","v":0},{"$f":"'Jan 16 - Jan 31'!S37","v":0},{"$f":"'Jan 16 - Jan 31'!T37","v":0},{"$f":"'Jan 16 - Jan 31'!U37","v":0},{"$f":"'Jan 16 - Jan 31'!V37","v":0},{"$f":"'Jan 16 - Jan 31'!W37","v":0},null,null,null,null,null,null,null,null,null,null,null,null,{"$f":"IF(AND(AM13=0,J13=0),AM13,IF(AND(E13>AM13,J13=0),J13,IF(AND(J13<AM13,AI13=0),J13,IF(AND(AM13=J13,AI13<AM13),AM13-AI13,IF(AND(J13=AM13,AI13=AM13),AI13,IF(AND(J13<AM13,AI13>0),AM13-J13,IF(AND(AM13>J13,AI13<E13),E13-AI13,IF(AND(E13>AM13,AI13=E13),O13-AI13,0))))))))","v":0},{"$f":"IF(AND(G13=0,E13>G13),G13,IF(AND(E13>G13,AI13=0),G13,IF(AND(E13<G13,AI13=0),E13,IF(AND(E13=G13,AI13<G13),G13-AI13,IF(AND(E13=G13,AI13=G13),AI13,IF(AND(E13<G13,AI13>0),G13-E13,IF(AND(E13>G13,AI13<E13),E13-AI13,IF(AND(E13>G13,AI13=E13),O13-AI13,0))))))))","v":0},null,{"$f":"K13","v":0}]
[{"$f":"IF(EXACT(D14,$Z$6)=TRUE,$O$6,IF(A12=0,\"\",IF(A12<$O$7,A12+1,IF(A12=$O$7,\"\"))))","v":false},null,null,"Sunday",{"$f":"'Jan 16 - Jan 31'!E30","v":0},{"$f":"'Jan 16 - Jan 31'!F30","v":0},{"$f":"'Jan 16 - Jan 31'!G23","v":0},{"$f":"'Jan 16 - Jan 31'!H30","v":0},{"$f":"'Jan 16 - Jan 31'!I30","v":0},{"$f":"'Jan 16 - Jan 31'!J23","v":0},{"$f":"'Jan 16 - Jan 31'!K30","v":0},{"$f":"'Jan 16 - Jan 31'!L30","v":0},{"$f":"'Jan 16 - Jan 31'!M30","v":0},{"$f":"'Jan 16 - Jan 31'!N30","v":0},{"$f":"SUM(E14:N14)-J14","v":0},{"$f":"IF(AND(ISNUMBER(AA14),ISNUMBER(X14)),AA14*X14,\"\")","v":""},null,{"$f":"IF(AND(ISNUMBER(AB14),ISNUMBER(X14)),AB14*X14,\"\")","v":""},null,null,{"$f":"IF(BJ14>0,BJ14,BN14)","v":0},{"$f":"IF(BK14>0,BK14,0)","v":0},null,{"$f":"IF(ISNA(INDEX('Conversion Factors'!$B$6:$B$371,MATCH('Feb 1 - Feb 15'!$Z$14:$Z$20,'Conversion Factors'!$A$6:$A$371,0))),\"\",INDEX('Conversion Factors'!$B$6:$B$371,MATCH('Feb 1 - Feb 15'!$Z$14:$Z$20,'Conversion Factors'!$A$6:$A$371,0)))","v":""},null,{"$f":"A14","v":false},{"$f":"IF(AND(ISNUMBER(N14),ISNUMBER($Z$12)),N14/$Z$12,\"\")","v":0},{"$f":"IF(AND(ISNUMBER(Q14),ISNUMBER($Z$12)),Q14/$Z$12,\"\")","v":""},null,null,null,null,null,{"$f":"E14","v":0},{"$f":"IF(AH14>$AI$12,AH14-$AI$12,0)","v":0},{"$f":"IF(AND(AZ14>0,AZ14),IF(BA14>0,BA14,IF(BB14>0,BB14,IF(BC14>0,BC14,IF(BF14>0,BF14,\"\")))))","v":false},{"$f":"IF(AND(AO14>0,AO14),IF(AP14>0,AP14,IF(AQ14>0,AQ14,IF(AR14>0,AR14,IF(AU14>0,AU14,\"\")))))","v":false},null,{"$f":"J14","v":0},null,{"$f":"IF(G14=0,0,\"\")","v":0},{"$f":"IF(AND(AH14<=40,E14=G14),G14,0)","v":0},{"$f":"IF(AND(AH14<=40,E14>=G14,G14>0),O14-E14,0)","v":0},{"$f":"IF(AND(AH14<=40,E14<G14),O14-G14,0)","v":0},{"$f":"IF(AND(G14=0),G14,IF(AND(G14>0,AI14>0,G14=AT14),AT14,IF(AND(G14>0,AI14>0,G14-AT14),AT14,0)))","v":0},null,{"$f":"AS14","v":0},{"$f":"IF(AND(AH13+AU14=40,AI14>0,AI14>AU14),AI14-AU14,IF(AND(AH13+AU14=40,AI14>0,AI14<AU14,AU14+AI14=G14),AI14,IF(AND(AH13>40,AH14>40,G14=AI14),AI14,0)))","v":0},{"$f":"AV14","v":0},null,{"$f":"IF(AND(J14>0,AI14>=J14,BB14=0),O14-AI14,IF(AND(J14>0,AI14>0,BB14<=AI14),AI14-BB14,IF(AND(J14>0,AI14>0,BB14>AI14),J14-BB14,0)))","v":0},{"$f":"IF(J14=0,0,\"\")","v":0},{"$f":"IF(AND(AH14<=40,E14=J14),J14,0)","v":0},{"$f":"IF(AND(AZ14=0),AZ14,IF(AND(AH14>40,E14>=J14),BE14,IF(AND(AH14<=40,E14>J14),J14,0)))","v":0},{"$f":"IF(AND(AH14<=40,E14<J14),O14-J14,0)","v":0},{"$f":"IF(AND(J14=0),J14,IF(AND(J14>0,AI14>0,J14=BC14),BC14,IF(AND(J14>0,AI14>0,J14-BC14),BC14,0)))","v":0},null,{"$f":"BD14","v":0},null,{"$f":"IF(AND(G14>0,E14>0),1,0)","v":0},{"$f":"40-AH14","v":40},{"$f":"IF(AND(BH14=1,E14<8),E14,(IF(AND(BH14=1,E14>0),G14,0)))","v":0},{"$f":"IF(AND(BH14=1,BL14>40,E14<G14),E14-BJ14,(IF(AND(BH14=1,BL14>0,E14>=G14),G14-BJ14,0)))","v":0},{"$f":"E14","v":0},{"$f":"IF(AND(K14>0,E14>0),1,0)","v":0},{"$f":"IF(AND(BM14=1,J14>8),K14,(IF(AND(BM14=1,J14>0),J14,0)))","v":0},{"$f":"IF(AND(BM14=1,40-BL13>0,40-BL13<8),40-BL13,IF(AND(J14<K14),J14,K14))","v":0},{"$f":"IF(AND(BM14=1,BL14>40,J14<=K14),J14-BO14,IF(AND(BM14=1,BL14>0,J14>K14),K14-BO14,0))","v":0}]
[{"$f":"IF(EXACT(D15,$Z$6)=TRUE,$O$6,IF(A14=0,\"\",IF(A14<$O$7,A14+1,IF(A14=$O$7,\"\"))))","v":false},null,null,"Monday",{"$f":"'Jan 16 - Jan 31'!E31","v":0},{"$f":"'Jan 16 - Jan 31'!F31","v":0},{"$f":"'Jan 16 - Jan 31'!G24","v":0},{"$f":"'Jan 16 - Jan 31'!H31","v":0},{"$f":"'Jan 16 - Jan 31'!I31","v":0},{"$f":"'Jan 16 - Jan 31'!J24","v":0},{"$f":"'Jan 16 - Jan 31'!K31","v":0},{"$f":"'Jan 16 - Jan 31'!L31","v":0},{"$f":"'Jan 16 - Jan 31'!M31","v":0},{"$f":"'Jan 16 - Jan 31'!N31","v":0},{"$f":"SUM(E15:N15)-J15","v":0},{"$f":"IF(AND(ISNUMBER(AA15),ISNUMBER(X15)),AA15*X15,\"\")","v":""},null,{"$f":"IF(AND(ISNUMBER(AB15),ISNUMBER(X15)),AB15*X15,\"\")","v":""},null,null,{"$f":"IF(BJ15>0,BJ15,BN15)","v":0},{"$f":"IF(BK15>0,BK15,0)","v":0},null,{"$f":"IF(ISNA(INDEX('Conversion Factors'!$B$6:$B$371,MATCH('Feb 1 - Feb 15'!$Z$14:$Z$20,'Conversion Factors'!$A$6:$A$371,0))),\"\",INDEX('Conversion Factors'!$B$6:$B$371,MATCH('Feb 1 - Feb 15'!$Z$14:$Z$20,'Conversion Factors'!$A$6:$A$371,0)))","v":""},null,false,0,"",null,null,null,null,null,{"$f":"E15+AH14","v":0},{"$f":"IF(AH15>$AI$12,AH15-($AI$12+AI14),0)","v":0},{"$f":"IF(AND(AZ15>0,AZ15),IF(BA15>0,BA15,IF(BB15>0,BB15,IF(BC15>0,BC15,IF(BF15>0,BF15,\"\")))))","v":false},{"$f":"IF(AND(AO15>0,AO15),IF(AP15>0,AP15,IF(AQ15>0,AQ15,IF(AR15>0,AR15,IF(AU15>0,AU15,0)))))","v":false},null,0,null,0,0,0,0,0,{"$f":"IF(AND(AH14<=40),40-AH14,0)","v":40},{"$f":"AS15","v":0},0,{"$f":"AV15","v":0},null,0,0,0,0,0,0,{"$f":"IF(AND(AH14<=40),40-AH14,0)","v":40},{"$f":"BD15","v":0},null,{"$f":"IF(AND(G15>0,E15>0),1,0)","v":0},40,0,0,{"$f":"SUM(E14:E15)","v":0},{"$f":"IF(AND(K15>0,E15>0),1,0)","v":0},{"$f":"IF(AND(BM15=1,J15>8),K15,(IF(AND(BM15=1,J15>0),J15,0)))","v":0},0,0]
[false,null,null,"Tuesday",{"$f":"'Jan 16 - Jan 31'!E32","v":0},{"$f":"'Jan 16 - Jan 31'!F32","v":0},{"$f":"'Jan 16 - Jan 31'!G25","v":0},{"$f":"'Jan 16 - Jan 31'!H32","v":0},{"$f":"'Jan 16 - Jan 31'!I32","v":0},{"$f":"'Jan 16 - Jan 31'!J25","v":0},{"$f":"'Jan 16 - Jan 31'!K32","v":0},{"$f":"'Jan 16 - Jan 31'!L32","v":0},{"$f":"'Jan 16 - Jan 31'!M32","v":0},{"$f":"'Jan 16 - Jan 31'!N32","v":0},{"$f":"SUM(E16:N16)-J16","v":0},"",null,"",null,null,{"$f":"IF(BJ16>0,BJ16,BN16)","v":0},0,null,{"$f":"IF(ISNA(INDEX('Conversion Factors'!$B$6:$B$371,MATCH('Feb 1 - Feb 15'!$Z$14:$Z$20,'Conversion Factors'!$A$6:$A$371,0))),\"\",INDEX('Conversion Factors'!$B$6:$B$371,MATCH('Feb 1 - Feb 15'!$Z$14:$Z$20,'Conversion Factors'!$A$6:$A$371,0)))","v":""},null,false,0,"",null,null,null,null,null,0,{"$f":"IF(AH16>$AI$12,AH16-($AI$12+AI15+AI14),0)","v":0},false,false,null,0,null,0,0,0,0,0,40,0,0,0,null,0,0,0,0,0,0,{"$f":"IF(AND(AH15<=40),40-AH15,0)","v":40},0,null,{"$f":"IF(AND(G16>0,E16>0),1,0)","v":0},40,0,0,{"$f":"SUM(E14:E16)","v":0},0,{"$f":"IF(AND(BM16=1,J16>8),K16,(IF(AND(BM16=1,J16>0),J16,0)))","v":0},{"$f":"IF(AND(BM16=1,40-BL15>0,40-BL15<8),40-BL15,IF(AND(J16<K16),J16,K16))","v":0},0]
["2023-02-01",null,null,"Wednesday",null,null,null,null,null,null,null,null,null,null,{"$f":"SUM(E17:N17)-J17","v":0},"",null,"",null,null,0,0,null,{"$f":"IF(ISNA(INDEX('Conversion Factors'!$B$6:$B$371,MATCH('Feb 1 - Feb 15'!$Z$14:$Z$20,'Conversion Factors'!$A$6:$A$371,0))),\"\",INDEX('Conversion Factors'!$B$6:$B$371,MATCH('Feb 1 - Feb 15'!$Z$14:$Z$20,'Conversion Factors'!$A$6:$A$371,0)))","v":7.8789999999999996},null,"2023-02-01","","",null,null,null,null,null,0,{"$f":"IF(AH17>$AI$12,AH17-($AI$12+AI16+AI15+AI14),0)","v":0},false,false,null,0,null,0,0,0,0,0,40,0,0,0,null,0,0,0,0,0,0,40,0,null,0,40,0,0,{"$f":"SUM(E14:E17)","v":0},0,{"$f":"IF(AND(BM17=1,J17>8),K17,(IF(AND(BM17=1,J17>0),J17,0)))","v":0},{"$f":"IF(AND(BM17=1,40-BL16>0,40-BL16<8),40-BL16,IF(AND(J17<K17),J17,K17))","v":0},0]
["2023-02-02",null,null,"Thursday",null,null,null,null,null,null,null,null,null,null,0,"",null,"",null,null,0,0,null,{"$f":"IF(ISNA(INDEX('Conversion Factors'!$B$6:$B$371,MATCH('Feb 1 - Feb 15'!$Z$14:$Z$20,'Conversion Factors'!$A$6:$A$371,0))),\"\",INDEX('Conversion Factors'!$B$6:$B$371,MATCH('Feb 1 - Feb 15'!$Z$14:$Z$20,'Conversion Factors'!$A$6:$A$371,0)))","v":7.8789999999999996},null,"2023-02-02","","",null,null,null,null,null,0,{"$f":"IF(AH18>$AI$12,AH18-($AI$12+AI17+AI16+AI15+AI14),0)","v":0},false,false,null,0,null,0,0,0,0,0,{"$f":"IF(AND(AH17<=40),40-AH17,0)","v":40},0,0,0,null,0,0,0,0,0,0,40,0,null,0,40,0,0,{"$f":"SUM(E14:E18)","v":0},0,0,0,0]
["2023-02-03",null,null,"Friday",null,null,null,null,null,null,null,null,null,null,0,"",null,"",null,null,0,0,null,{"$f":"IF(ISNA(INDEX('Conversion Factors'!$B$6:$B$371,MATCH('Feb 1 - Feb 15'!$Z$14:$Z$20,'Conversion Factors'!$A$6:$A$371,0))),\"\",INDEX('Conversion Factors'!$B$6:$B$371,MATCH('Feb 1 - Feb 15'!$Z$14:$Z$20,'Conversion Factors'!$A$6:$A$371,0)))","v":7.8789999999999996},null,"2023-02-03","","",null,null,null,null,null,0,{"$f":"IF(AH19>$AI$12,AH19-($AI$12+AI18+AI17+AI16+AI15+AI14),0)","v":0},false,false,null,0,null,0,0,0,0,0,{"$f":"IF(AND(AH18<=40),40-AH18,0)","v":40},0,0,0,null,0,0,0,0,0,0,40,0,null,0,40,0,0,{"$f":"SUM(E14:E19)","v":0},0,0,0,{"$f":"IF(AND(BM19=1,BL19>40,J19<=K19),J19-BO19,IF(AND(BM19=1,BL19>0,J19>K19),K19-BO19,0))","v":0}]
["2023-02-04",null,null,"Saturday",null,null,null,null,null,null,null,null,null,null,{"$f":"SUM(E20:N20)-J20","v":0},"",null,"",null,null,0,0,null,{"$f":"IF(ISNA(INDEX('Conversion Factors'!$B$6:$B$371,MATCH('Feb 1 - Feb 15'!$Z$14:$Z$20,'Conversion Factors'!$A$6:$A$371,0))),\"\",INDEX('Conversion Factors'!$B$6:$B$371,MATCH('Feb 1 - Feb 15'!$Z$14:$Z$20,'Conversion Factors'!$A$6:$A$371,0)))","v":7.8789999999999996},null,"2023-02-04","","",null,null,null,null,null,0,{"$f":"IF(AH20>$AI$12,AH20-($AI$12+AI19+AI18+AI17+AI16+AI15+AI14),0)","v":0},false,false,null,0,null,0,0,0,0,0,40,0,0,0,null,0,0,0,0,0,0,40,0,null,0,40,0,0,{"$f":"SUM(E14:E20)","v":0},0,0,0,{"$f":"IF(AND(BM20=1,BL20>40,J20<=K20),J20-BO20,IF(AND(BM20=1,BL20>0,J20>K20),K20-BO20,0))","v":0}]
["Week 1 Totals",null,null,null,{"$f":"SUM(E14:E20)","v":0},{"$f":"SUM(F14:F20)","v":0},0,0,0,null,0,0,0,0,{"$f":"SUM(O14:O20)","v":0},{"$f":"-SUM(P14:P20)","v":0},{"$f":"SUM(Q14:Q20)","v":0},{"$f":"SUM(R14:R20)","v":0},{"$f":"IF(E21>40,(E21-40)-V21-BP21,0)","v":0},{"$f":"MROUND(AL21,0.25)","v":0},{"$f":"SUM(U14:U20)","v":0},{"$f":"SUM(V14:V20)","v":0},{"$f":"IF(E21-(E11-(G21+K21+F21+H21+I21+L21+M21))-(S21+U21+V21)>0,E21-(E11-(G21+K21+F21+H21+I21+L21+M21))-(S21+U21+V21),0)","v":0},null,null,null,null,null,{"$f":"SUM(F21:N21)","v":0},{"$f":"IF(AND(AG21<40,O21>=AG21),O21-(AG21+S21),IF(AND(O21<AG21,E21=O21),O21-E21,IF(AND(E21>AG21,E21<40),E21-AG21,IF(AND(O21>AG21,E21<AG21),E21-(AG21-AC21),IF(AND(O21>AG21,E21>40),E21-(AG21-AC21+S21),IF(AND(O21>AG21,O21>40),O21-(S21+AG21),0))))))","v":0},{"$f":"AD21-U21-V21","v":0},{"$f":"$W$11","v":"Please Select"},{"$f":"$E$11","v":40},null,{"$f":"IF(AH21>$AI$12,-$AI$12,0)","v":0},null,null,{"$f":"IF(AF21=\"Yes\",S21*1.5,0)","v":0},null,null,null,null,null,null,null,null,null,null,null,null,null,null,null,null,null,null,null,null,null,null,null,null,null,null,null,null,null,{"$f":"SUM(BP14:BP20)","v":0},{"$f":"E11+U21","v":40}]
[{"$f":"IF(A20=0,\"\",IF(A20<$O$7,A20+1,IF(A20=$O$7,\"\")))","v":"2023-02-05"},null,null,"Sunday",null,null,null,null,null,null,null,null,null,null,{"$f":"SUM(E22:N22)-J22","v":0},{"$f":"IF(AND(ISNUMBER(AA22),ISNUMBER(X22)),AA22*X22,\"\")","v":""},null,{"$f":"IF(AND(ISNUMBER(AB22),ISNUMBER(X22)),AB22*X22,\"\")","v":""},null,null,{"$f":"IF(BJ22>0,BJ22,BN22)","v":0},{"$f":"IF(BK22>0,BK22,0)","v":0},null,{"$f":"IF(ISNA(INDEX('Conversion Factors'!$B$6:$B$371,MATCH('Feb 1 - Feb 15'!$Z$22:$Z$28,'Conversion Factors'!$A$6:$A$371,0))),\"\",INDEX('Conversion Factors'!$B$6:$B$371,MATCH('Feb 1 - Feb 15'!$Z$22:$Z$28,'Conversion Factors'!$A$6:$A$371,0)))","v":7.8789999999999996},null,{"$f":"A22","v":"2023-02-05"},{"$f":"IF(AND(ISNUMBER(N22),ISNUMBER($Z$12)),N22/$Z$12,\"\")","v":""},{"$f":"IF(AND(ISNUMBER(Q22),ISNUMBER($Z$12)),Q22/$Z$12,\"\")","v":""},null,null,null,null,null,{"$f":"E22+AH21","v":0},{"$f":"IF(AH22>$AI$12,AH22-($AI$12+AI21),0)","v":0},{"$f":"IF(AND(AZ22>0,AZ22),IF(BA22>0,BA22,IF(BB22>0,BB22,IF(BC22>0,BC22,IF(BF22>0,BF22,\"\")))))","v":false},{"$f":"IF(AND(AO22>0,AO22),IF(AP22>0,AP22,IF(AQ22>0,AQ22,IF(AR22>0,AR22,IF(AU22>0,AU22,\"\")))))","v":false},null,{"$f":"J22","v":0},null,{"$f":"IF(G22=0,0,\"\")","v":0},{"$f":"IF(AND(AH22<=40,E22=G22),G22,0)","v":0},{"$f":"IF(AND(AH22<=40,E22>=G22,G22>0),O22-E22,0)","v":0},{"$f":"IF(AND(AH22<=40,E22<G22),O22-G22,0)","v":0},{"$f":"IF(AND(G22=0),G22,IF(AND(G22>0,AI22>0,G22=AT22),AT22,IF(AND(G22>0,AI22>0,G22-AT22),AT22,0)))","v":0},null,{"$f":"AS22","v":0},{"$f":"IF(AND(AH21+AU22=40,AI22>0,AI22>AU22),AI22-AU22,IF(AND(AH21+AU22=40,AI22>0,AI22<AU22,AU22+AI22=G22),AI22,IF(AND(AH21>40,AH22>40,G22=AI22),AI22,0)))","v":0},{"$f":"AV22","v":0},null,{"$f":"IF(AND(J22>0,AI22>0,BB22<=AI22),AI22-BB22,IF(AND(J22>0,AI22>0,BB22>AI22),J22-BB22,0))","v":0},{"$f":"IF(J22=0,0,\"\")","v":0},{"$f":"IF(AND(AH22<=40,E22=J22),J22,0)","v":0},{"$f":"IF(AND(AZ22=0),AZ22,IF(AND(AH22>40,E22>=J22),BE22,IF(AND(AH22<=40,E22>J22),J22,0)))","v":0},{"$f":"IF(AND(AH22<=40,E22<J22),O22-J22,0)","v":0},{"$f":"IF(AND(J22=0),J22,IF(AND(J22>0,AI22>0,J22=BC22),BC22,IF(AND(J22>0,AI22>0,J22-BC22),BC22,0)))","v":0},null,{"$f":"BD22","v":0},null,{"$f":"IF(AND(G22>0,E22>0),1,0)","v":0},{"$f":"40-AH22","v":40},0,{"$f":"IF(AND(BH22=1,BL22>40,E22<G22),E22-BJ22,(IF(AND(BH22=1,BL22>0,E22>=G22),G22-BJ22,0)))","v":0},{"$f":"E22","v":0},{"$f":"IF(AND(K22>0,E22>0),1,0)","v":0},{"$f":"IF(AND(BM22=1,J22>8),K22,(IF(AND(BM22=1,J22>0),J22,0)))","v":0},{"$f":"IF(AND(BM22=1,40-BL21>0,40-BL21<8),40-BL21,IF(AND(J22<K22),J22,K22))","v":0},{"$f":"IF(AND(BM22=1,BL22>40,J22<=K22),J22-BO22,IF(AND(BM22=1,BL22>0,J22>K22),K22-BO22,0))","v":0}]
[{"$f":"IF(A22<$O$7,A22+1,IF(A22=$O$7,\"\"))","v":"2023-02-06"},null,null,"Monday",null,null,null,null,null,null,null,null,null,null,{"$f":"SUM(E23:N23)-J23","v":0},{"$f":"IF(AND(ISNUMBER(AA23),ISNUMBER(X23)),AA23*X23,\"\")","v":""},null,{"$f":"IF(AND(ISNUMBER(AB23),ISNUMBER(X23)),AB23*X23,\"\")","v":""},null,null,{"$f":"IF(BJ23>0,BJ23,BN23)","v":0},{"$f":"IF(BK23>0,BK23,0)","v":0},null,{"$f":"IF(ISNA(INDEX('Conversion Factors'!$B$6:$B$371,MATCH('Feb 1 - Feb 15'!$Z$22:$Z$28,'Conversion Factors'!$A$6:$A$371,0))),\"\",INDEX('Conversion Factors'!$B$6:$B$371,MATCH('Feb 1 - Feb 15'!$Z$22:$Z$28,'Conversion Factors'!$A$6:$A$371,0)))","v":7.8789999999999996},null,"2023-02-06","","",null,null,null,null,null,0,{"$f":"IF(AH23>$AI$12,AH23-($AI$12+AI22+AI21),0)","v":0},false,{"$f":"IF(AND(AO23>0,AO23),IF(AP23>0,AP23,IF(AQ23>0,AQ23,IF(AR23>0,AR23,IF(AU23>0,AU23,0)))))","v":false},null,0,null,0,0,0,0,0,{"$f":"IF(AND(AH22<=40),40-AH22,0)","v":40},{"$f":"AS23","v":0},0,{"$f":"AV23","v":0},null,{"$f":"IF(AND(J23>0,AI23>0,BB23<=AI23),AI23-BB23,IF(AND(J23>0,AI23>0,BB23>AI23),J23-BB23,0))","v":0},0,0,0,0,0,{"$f":"IF(AND(AH22<=40),40-AH22,0)","v":40},{"$f":"BD23","v":0},null,{"$f":"IF(AND(G23>0,E23>0),1,0)","v":0},40,0,0,{"$f":"SUM(E22:E23)","v":0},{"$f":"IF(AND(K23>0,E23>0),1,0)","v":0},{"$f":"IF(AND(BM23=1,J23>8),K23,(IF(AND(BM23=1,J23>0),J23,0)))","v":0},0,0]
["2023-02-07",null,null,"Tuesday",null,null,null,null,null,null,null,null,null,null,{"$f":"SUM(E24:N24)-J24","v":0},"",null,"",null,null,{"$f":"IF(BJ24>0,BJ24,BN24)","v":0},0,null,{"$f":"IF(ISNA(INDEX('Conversion Factors'!$B$6:$B$371,MATCH('Feb 1 - Feb 15'!$Z$22:$Z$28,'Conversion Factors'!$A$6:$A$371,0))),\"\",INDEX('Conversion Factors'!$B$6:$B$371,MATCH('Feb 1 - Feb 15'!$Z$22:$Z$28,'Conversion Factors'!$A$6:$A$371,0)))","v":7.8789999999999996},null,"2023-02-07","","",null,null,null,null,null,0,{"$f":"IF(AH24>$AI$12,AH24-($AI$12+AI23+AI22+AI21),0)","v":0},false,false,null,0,null,0,0,0,0,0,40,0,0,0,null,{"$f":"IF(AND(J24>0,AI24>0,BB24<=AI24),AI24-BB24,IF(AND(J24>0,AI24>0,BB24>AI24),J24-BB24,0))","v":0},0,0,0,0,0,{"$f":"IF(AND(AH23<=40),40-AH23,0)","v":40},0,null,{"$f":"IF(AND(G24>0,E24>0),1,0)","v":0},40,0,0,{"$f":"SUM(E22:E24)","v":0},0,{"$f":"IF(AND(BM24=1,J24>8),K24,(IF(AND(BM24=1,J24>0),J24,0)))","v":0},{"$f":"IF(AND(BM24=1,40-BL23>0,40-BL23<8),40-BL23,IF(AND(J24<K24),J24,K24))","v":0},0]
["2023-02-08",null,null,"Wednesday",null,null,null,null,null,null,null,null,null,null,0,"",null,"",null,null,0,0,null,{"$f":"IF(ISNA(INDEX('Conversion Factors'!$B$6:$B$371,MATCH('Feb 1 - Feb 15'!$Z$22:$Z$28,'Conversion Factors'!$A$6:$A$371,0))),\"\",INDEX('Conversion Factors'!$B$6:$B$371,MATCH('Feb 1 - Feb 15'!$Z$22:$Z$28,'Conversion Factors'!$A$6:$A$371,0)))","v":7.8789999999999996},null,"2023-02-08","","",null,null,null,null,null,0,{"$f":"IF(AH25>$AI$12,AH25-($AI$12+AI24+AI23+AI22+AI21),0)","v":0},false,false,null,0,null,0,0,0,0,0,40,0,0,0,null,{"$f":"IF(AND(J25>0,AI25>0,BB25<=AI25),AI25-BB25,IF(AND(J25>0,AI25>0,BB25>AI25),J25-BB25,0))","v":0},0,0,0,0,0,40,0,null,0,40,0,0,{"$f":"SUM(E22:E25)","v":0},0,{"$f":"IF(AND(BM25=1,J25>8),K25,(IF(AND(BM25=1,J25>0),J25,0)))","v":0},{"$f":"IF(AND(BM25=1,40-BL24>0,40-BL24<8),40-BL24,IF(AND(J25<K25),J25,K25))","v":0},0]
["2023-02-09",null,null,"Thursday",null,null,null,null,null,null,null,null,null,null,0,"",null,"",null,null,0,0,null,{"$f":"IF(ISNA(INDEX('Conversion Factors'!$B$6:$B$371,MATCH('Feb 1 - Feb 15'!$Z$22:$Z$28,'Conversion Factors'!$A$6:$A$371,0))),\"\",INDEX('Conversion Factors'!$B$6:$B$371,MATCH('Feb 1 - Feb 15'!$Z$22:$Z$28,'Conversion Factors'!$A$6:$A$371,0)))","v":7.8789999999999996},null,"2023-02-09","","",null,null,null,null,null,0,{"$f":"IF(AH26>$AI$12,AH26-($AI$12+AI25+AI24+AI23+AI22+AI21),0)","v":0},false,false,null,0,null,0,0,0,0,0,{"$f":"IF(AND(AH25<=40),40-AH25,0)","v":40},0,0,0,null,{"$f":"IF(AND(J26>0,AI26>=J26,BB26=0),O26-AI26,IF(AND(J26>0,AI26>0,BB26<=AI26),AI26-BB26,IF(AND(J26>0,AI26>0,BB26>AI26),J26-BB26,0)))","v":0},0,0,0,0,0,40,0,null,0,40,0,0,{"$f":"SUM(E22:E26)","v":0},0,0,0,0]
["2023-02-10",null,null,"Friday",null,null,null,null,null,null,null,null,null,null,0,"",null,"",null,null,0,0,null,{"$f":"IF(ISNA(INDEX('Conversion Factors'!$B$6:$B$371,MATCH('Feb 1 - Feb 15'!$Z$22:$Z$28,'Conversion Factors'!$A$6:$A$371,0))),\"\",INDEX('Conversion Factors'!$B$6:$B$371,MATCH('Feb 1 - Feb 15'!$Z$22:$Z$28,'Conversion Factors'!$A$6:$A$371,0)))","v":7.8789999999999996},null,"2023-02-10","","",null,null,null,null,null,0,{"$f":"IF(AH27>$AI$12,AH27-($AI$12+AI26+AI25+AI24+AI23+AI22+AI21),0)","v":0},false,false,null,0,null,0,0,0,0,0,{"$f":"IF(AND(AH26<=40),40-AH26,0)","v":40},0,0,0,null,{"$f":"IF(AND(J27>0,AI27>=J27,BB27=0),O27-AI27,IF(AND(J27>0,AI27>0,BB27<=AI27),AI27-BB27,IF(AND(J27>0,AI27>0,BB27>AI27),J27-BB27,0)))","v":0},0,0,0,0,0,40,0,null,0,40,0,0,{"$f":"SUM(E22:E27)","v":0},0,0,0,{"$f":"IF(AND(BM27=1,BL27>40,J27<=K27),J27-BO27,IF(AND(BM27=1,BL27>0,J27>K27),K27-BO27,0))","v":0}]
["2023-02-11",null,null,"Saturday",null,null,null,null,null,null,null,null,null,null,{"$f":"SUM(E28:N28)-J28","v":0},"",null,"",null,null,0,0,null,{"$f":"IF(ISNA(INDEX('Conversion Factors'!$B$6:$B$371,MATCH('Feb 1 - Feb 15'!$Z$22:$Z$28,'Conversion Factors'!$A$6:$A$371,0))),\"\",INDEX('Conversion Factors'!$B$6:$B$371,MATCH('Feb 1 - Feb 15'!$Z$22:$Z$28,'Conversion Factors'!$A$6:$A$371,0)))","v":7.8789999999999996},null,"2023-02-11","","",null,null,null,null,null,0,{"$f":"IF(AH28>$AI$12,AH28-($AI$12+AI27+AI26+AI25+AI24+AI23+AI22+AI21),0)","v":0},false,false,null,0,null,0,0,0,0,0,40,0,0,0,null,{"$f":"IF(AND(J28>0,AI28>=J28,BB28=0),O28-AI28,IF(AND(J28>0,AI28>0,BB28<=AI28),AI28-BB28,IF(AND(J28>0,AI28>0,BB28>AI28),J28-BB28,0)))","v":0},0,0,0,0,0,40,0,null,0,40,0,0,{"$f":"SUM(E22:E28)","v":0},0,0,0,{"$f":"IF(AND(BM28=1,BL28>40,J28<=K28),J28-BO28,IF(AND(BM28=1,BL28>0,J28>K28),K28-BO28,0))","v":0}]
["Week 2 Totals",null,null,null,{"$f":"SUM(E22:E28)","v":0},0,0,0,0,null,0,0,0,0,{"$f":"SUM(O22:O28)","v":0},{"$f":"-SUM(P22:P28)","v":0},{"$f":"SUM(Q22:Q28)","v":0},{"$f":"SUM(R22:R28)","v":0},{"$f":"IF(E29>40,(E29-40)-V29,0)","v":0},{"$f":"MROUND(AL29,0.25)","v":0},{"$f":"SUM(U22:U28)","v":0},{"$f":"SUM(V22:V28)","v":0},{"$f":"IF(E29-(E11-(G29+K29+F29+H29+I29+L29+M29))-(S29+U29+V29)>0,E29-(E11-(G29+K29+F29+H29+I29+L29+M29))-(S29+U29+V29),0)","v":0},null,null,null,null,null,{"$f":"SUM(F29:N29)","v":0},{"$f":"IF(AND(AG29<40,O29>=AG29),O29-(AG29+S29),IF(AND(O29<AG29,E29=O29),O29-E29,IF(AND(E29>AG29,E29<40),E29-AG29,IF(AND(O29>AG29,E29<AG29),E29-(AG29-AC29),IF(AND(O29>AG29,E29>40),E29-(AG29-AC29+S29),IF(AND(O29>AG29,O29>40),O29-(S29+AG29),0))))))","v":0},{"$f":"AD29-U29-V29","v":0},{"$f":"$W$11","v":"Please Select"},{"$f":"$E$11","v":40},null,{"$f":"IF(AH29>$AI$12,-$AI$12,0)","v":0},null,null,{"$f":"IF(AF29=\"Yes\",S29*1.5,0)","v":0},0,null,null,null,null,null,null,null,null,null,null,null,null,0,null,null,null,null,null,null,null,null,null,null,null,null,null,null,null,{"$f":"SUM(BP22:BP28)","v":0},{"$f":"U29+E11","v":40}]
[{"$f":"IF(A28<$O$7,A28+1,IF(A28=$O$7,\"\"))","v":"2023-02-12"},null,null,"Sunday",null,null,null,null,null,null,null,null,null,null,{"$f":"SUM(E30:N30)-J30","v":0},{"$f":"IF(AND(ISNUMBER(AA30),ISNUMBER(X30)),AA30*X30,\"\")","v":""},null,{"$f":"IF(AND(ISNUMBER(AB30),ISNUMBER(X30)),AB30*X30,\"\")","v":""},null,null,{"$f":"IF(BJ30>0,BJ30,BN30)","v":0},{"$f":"IF(BK30>0,BK30,0)","v":0},null,{"$f":"IF(ISNA(INDEX('Conversion Factors'!$B$6:$B$370,MATCH('Feb 1 - Feb 15'!$Z$30:$Z$36,'Conversion Factors'!$A$6:$A$370,0))),\"\",INDEX('Conversion Factors'!$B$6:$B$370,MATCH('Feb 1 - Feb 15'!$Z$30:$Z$36,'Conversion Factors'!$A$6:$A$370,0)))","v":7.8789999999999996},null,{"$f":"A30","v":"2023-02-12"},{"$f":"IF(AND(ISNUMBER(N30),ISNUMBER($Z$12)),N30/$Z$12,\"\")","v":""},{"$f":"IF(AND(ISNUMBER(Q30),ISNUMBER($Z$12)),Q30/$Z$12,\"\")","v":""},null,null,null,null,null,{"$f":"E30+AH29","v":0},{"$f":"IF(AH30>$AI$12,AH30-($AI$12+AI29),0)","v":0},{"$f":"IF(AND(AZ30>0,AZ30),IF(BA30>0,BA30,IF(BB30>0,BB30,IF(BC30>0,BC30,IF(BF30>0,BF30,\"\")))))","v":false},{"$f":"IF(AND(AO30>0,AO30),IF(AP30>0,AP30,IF(AQ30>0,AQ30,IF(AR30>0,AR30,IF(AU30>0,AU30,\"\")))))","v":false},null,0,null,{"$f":"IF(G30=0,0,\"\")","v":0},{"$f":"IF(AND(AH30<=40,E30=G30),G30,0)","v":0},{"$f":"IF(AND(AH30<=40,E30>=G30,G30>0),O30-E30,0)","v":0},{"$f":"IF(AND(AH30<=40,E30<G30),O30-G30,0)","v":0},{"$f":"IF(AND(G30=0),G30,IF(AND(G30>0,AI30>0,G30=AT30),AT30,IF(AND(G30>0,AI30>0,G30-AT30),AT30,0)))","v":0},null,{"$f":"AS30","v":0},{"$f":"IF(AND(AH29+AU30=40,AI30>0,AI30>AU30),AI30-AU30,IF(AND(AH29+AU30=40,AI30>0,AI30<AU30,AU30+AI30=G30),AI30,IF(AND(AH29>40,AH30>40,G30=AI30),AI30,0)))","v":0},{"$f":"AV30","v":0},null,{"$f":"IF(AND(J30>0,AI30>=J30,BB30=0),O30-AI30,IF(AND(J30>0,AI30>0,BB30<=AI30),AI30-BB30,IF(AND(J30>0,AI30>0,BB30>AI30),J30-BB30,0)))","v":0},0,{"$f":"IF(AND(AH30<=40,E30=J30),J30,0)","v":0},{"$f":"IF(AND(AZ30=0),AZ30,IF(AND(AH30>40,E30>=J30),BE30,IF(AND(AH30<=40,E30>J30),J30,0)))","v":0},{"$f":"IF(AND(AH30<=40,E30<J30),O30-J30,0)","v":0},{"$f":"IF(AND(J30=0),J30,IF(AND(J30>0,AI30>0,J30=BC30),BC30,IF(AND(J30>0,AI30>0,J30-BC30),BC30,0)))","v":0},null,{"$f":"BD30","v":0},null,{"$f":"IF(AND(G30>0,E30>0),1,0)","v":0},{"$f":"40-AH30","v":40},0,{"$f":"IF(AND(BH30=1,BL30>40,E30<G30),E30-BJ30,(IF(AND(BH30=1,BL30>0,E30>=G30),G30-BJ30,0)))","v":0},{"$f":"E30","v":0},{"$f":"IF(AND(K30>0,E30>0),1,0)","v":0},{"$f":"IF(AND(BM30=1,J30>8),K30,(IF(AND(BM30=1,J30>0),J30,0)))","v":0},{"$f":"IF(AND(BM30=1,40-BL29>0,40-BL29<8),40-BL29,IF(AND(J30<K30),J30,K30))","v":0},{"$f":"IF(AND(BM30=1,BL30>40,J30<=K30),J30-BO30,IF(AND(BM30=1,BL30>0,J30>K30),K30-BO30,0))","v":0}]
[{"$f":"IF(A30<$O$7,A30+1,IF(A30=$O$7,\"\"))","v":"2023-02-13"},null,null,"Monday",null,null,null,null,null,null,null,null,null,null,{"$f":"SUM(E31:N31)-J31","v":0},{"$f":"IF(AND(ISNUMBER(AA31),ISNUMBER(X31)),AA31*X31,\"\")","v":""},null,{"$f":"IF(AND(ISNUMBER(AB31),ISNUMBER(X31)),AB31*X31,\"\")","v":""},null,null,0,{"$f":"IF(BK31>0,BK31,0)","v":0},null,{"$f":"IF(ISNA(INDEX('Conversion Factors'!$B$6:$B$370,MATCH('Feb 1 - Feb 15'!$Z$30:$Z$36,'Conversion Factors'!$A$6:$A$370,0))),\"\",INDEX('Conversion Factors'!$B$6:$B$370,MATCH('Feb 1 - Feb 15'!$Z$30:$Z$36,'Conversion Factors'!$A$6:$A$370,0)))","v":7.8789999999999996},null,"2023-02-13","","",null,null,null,null,null,0,{"$f":"IF(AH31>$AI$12,AH31-($AI$12+AI30+AI29),0)","v":0},false,{"$f":"IF(AND(AO31>0,AO31),IF(AP31>0,AP31,IF(AQ31>0,AQ31,IF(AR31>0,AR31,IF(AU31>0,AU31,0)))))","v":false},null,0,null,0,0,0,0,0,{"$f":"IF(AND(AH30<=40),40-AH30,0)","v":40},{"$f":"AS31","v":0},0,{"$f":"AV31","v":0},null,0,0,0,0,0,0,{"$f":"IF(AND(AH30<=40),40-AH30,0)","v":40},{"$f":"BD31","v":0},null,{"$f":"IF(AND(G31>0,E31>0),1,0)","v":0},40,0,0,{"$f":"SUM(E30:E31)","v":0},{"$f":"IF(AND(K31>0,E31>0),1,0)","v":0},{"$f":"IF(AND(BM31=1,J31>8),K31,(IF(AND(BM31=1,J31>0),J31,0)))","v":0},0,0]
["2023-02-14",null,null,"Tuesday",null,null,null,null,null,null,null,null,null,null,0,"",null,"",null,null,0,0,null,{"$f":"IF(ISNA(INDEX('Conversion Factors'!$B$6:$B$370,MATCH('Feb 1 - Feb 15'!$Z$30:$Z$36,'Conversion Factors'!$A$6:$A$370,0))),\"\",INDEX('Conversion Factors'!$B$6:$B$370,MATCH('Feb 1 - Feb 15'!$Z$30:$Z$36,'Conversion Factors'!$A$6:$A$370,0)))","v":7.8789999999999996},null,"2023-02-14","","",null,null,null,null,null,0,{"$f":"IF(AH32>$AI$12,AH32-($AI$12+AI31+AI30+AI29),0)","v":0},false,false,null,0,null,0,0,0,0,0,40,0,0,0,null,0,0,0,0,0,0,{"$f":"IF(AND(AH31<=40),40-AH31,0)","v":40},0,null,{"$f":"IF(AND(G32>0,E32>0),1,0)","v":0},40,0,0,{"$f":"SUM(E30:E32)","v":0},0,{"$f":"IF(AND(BM32=1,J32>8),K32,(IF(AND(BM32=1,J32>0),J32,0)))","v":0},{"$f":"IF(AND(BM32=1,40-BL31>0,40-BL31<8),40-BL31,IF(AND(J32<K32),J32,K32))","v":0},0]
["2023-02-15",null,null,"Wednesday",null,null,null,null,null,null,null,null,null,null,0,"",null,"",null,null,0,0,null,{"$f":"IF(ISNA(INDEX('Conversion Factors'!$B$6:$B$370,MATCH('Feb 1 - Feb 15'!$Z$30:$Z$36,'Conversion Factors'!$A$6:$A$370,0))),\"\",INDEX('Conversion Factors'!$B$6:$B$370,MATCH('Feb 1 - Feb 15'!$Z$30:$Z$36,'Conversion Factors'!$A$6:$A$370,0)))","v":7.8789999999999996},null,"2023-02-15","","",null,null,null,null,null,0,{"$f":"IF(AH33>$AI$12,AH33-($AI$12+AI32+AI31+AI30+AI29),0)","v":0},false,false,null,0,null,0,0,0,0,0,40,0,0,0,null,0,0,0,0,0,0,40,0,null,{"$f":"IF(AND(G33>0,E33>0),1,0)","v":0},40,0,0,{"$f":"SUM(E30:E33)","v":0},0,{"$f":"IF(AND(BM33=1,J33>8),K33,(IF(AND(BM33=1,J33>0),J33,0)))","v":0},{"$f":"IF(AND(BM33=1,40-BL32>0,40-BL32<8),40-BL32,IF(AND(J33<K33),J33,K33))","v":0},0]
["",null,null,"Thursday",null,null,null,null,null,null,null,null,null,null,0,"",null,"",null,null,0,0,null,{"$f":"IF(ISNA(INDEX('Conversion Factors'!$B$6:$B$370,MATCH('Feb 1 - Feb 15'!$Z$30:$Z$36,'Conversion Factors'!$A$6:$A$370,0))),\"\",INDEX('Conversion Factors'!$B$6:$B$370,MATCH('Feb 1 - Feb 15'!$Z$30:$Z$36,'Conversion Factors'!$A$6:$A$370,0)))","v":""},null,"","","",null,null,null,null,null,0,{"$f":"IF(AH34>$AI$12,AH34-($AI$12+AI33+AI32+AI31+AI30+AI29),0)","v":0},false,false,null,0,null,0,0,0,0,0,{"$f":"IF(AND(AH33<=40),40-AH33,0)","v":40},0,0,0,null,0,0,0,0,0,0,40,0,null,0,40,0,0,{"$f":"SUM(E30:E34)","v":0},0,0,0,0]
[false,null,null,"Friday",null,null,null,null,null,null,null,null,null,null,0,"",null,"",null,null,0,0,null,{"$f":"IF(ISNA(INDEX('Conversion Factors'!$B$6:$B$370,MATCH('Feb 1 - Feb 15'!$Z$30:$Z$36,'Conversion Factors'!$A$6:$A$370,0))),\"\",INDEX('Conversion Factors'!$B$6:$B$370,MATCH('Feb 1 - Feb 15'!$Z$30:$Z$36,'Conversion Factors'!$A$6:$A$370,0)))","v":""},null,false,"","",null,null,null,null,null,0,{"$f":"IF(AH35>$AI$12,AH35-($AI$12+AI34+AI33+AI32+AI31+AI30+AI29),0)","v":0},false,false,null,0,null,0,0,0,0,0,{"$f":"IF(AND(AH34<=40),40-AH34,0)","v":40},0,0,0,null,0,0,0,0,0,0,40,0,null,0,40,0,0,{"$f":"SUM(E30:E35)","v":0},0,0,0,{"$f":"IF(AND(BM35=1,BL35>40,J35<=K35),J35-BO35,IF(AND(BM35=1,BL35>0,J35>K35),K35-BO35,0))","v":0}]
[false,null,null,"Saturday",null,null,null,null,null,null,null,null,null,null,0,"",null,"",null,null,0,0,null,{"$f":"IF(ISNA(INDEX('Conversion Factors'!$B$6:$B$370,MATCH('Feb 1 - Feb 15'!$Z$30:$Z$36,'Conversion Factors'!$A$6:$A$370,0))),\"\",INDEX('Conversion Factors'!$B$6:$B$370,MATCH('Feb 1 - Feb 15'!$Z$30:$Z$36,'Conversion Factors'!$A$6:$A$370,0)))","v":""},null,false,"","",null,null,null,null,null,0,{"$f":"IF(AH36>$AI$12,AH36-($AI$12+AI35+AI34+AI33+AI32+AI31+AI30+AI29),0)","v":0},false,false,null,0,null,0,0,0,0,0,40,0,0,0,null,0,0,0,0,0,0,40,0,null,0,40,0,0,{"$f":"SUM(E30:E36)","v":0},0,0,0,{"$f":"IF(AND(BM36=1,BL36>40,J36<=K36),J36-BO36,IF(AND(BM36=1,BL36>0,J36>K36),K36-BO36,0))","v":0}]
["Week 3 Totals",null,null,null,{"$f":"SUM(E30:E36)","v":0},0,0,0,0,null,0,0,0,0,{"$f":"SUM(O30:O36)","v":0},{"$f":"-SUM(P30:P36)","v":0},{"$f":"SUM(Q30:Q36)","v":0},{"$f":"SUM(R30:R36)","v":0},{"$f":"IF(E37>40,(E37-40)-V37,0)","v":0},{"$f":"MROUND(AL37,0.25)","v":0},{"$f":"SUM(U30:U36)","v":0},{"$f":"SUM(V30:V36)","v":0},{"$f":"IF(E37-(E11-(G37+K37+F37+H37+I37+L37+M3))-(S37+U37+V37)>0,E37-(E11-(G37+K37+F37+H37+I37+L37+M37))-(S37+U37+V37),0)","v":0},null,null,null,null,null,{"$f":"SUM(F37:N37)","v":0},{"$f":"IF(AND(AG37<40,O37>=AG37),O37-(AG37+S37),IF(AND(O37<AG37,E37=O37),O37-E37,IF(AND(E37>AG37,E37<40),E37-AG37,IF(AND(O37>AG37,E37<AG37),E37-(AG37-AC37),IF(AND(O37>AG37,E37>40),E37-(AG37-AC37+S37),IF(AND(O37>AG37,O37>40),O37-(S37+AG37),0))))))","v":0},{"$f":"AD37-U37-V37","v":0},{"$f":"$W$11","v":"Please Select"},{"$f":"$E$11","v":40},null,{"$f":"IF(AH37>$AI$12,-$AI$12,0)","v":0},null,null,{"$f":"IF(AF37=\"Yes\",S37*1.5,0)","v":0},null,null,null,null,null,null,null,null,null,null,null,null,null,null,null,null,null,null,null,null,null,0,null,null,null,null,null,null,null,{"$f":"SUM(BP30:BP36)","v":0},{"$f":"U37+E11","v":40}]
[{"$f":"IF(A36<$O$7,A36+1,IF(A36=$O$7,\"\"))","v":false},null,null,"Sunday",null,null,null,null,null,null,null,null,null,null,{"$f":"SUM(E38:N38)-J38","v":0},{"$f":"IF(AND(ISNUMBER(AA38),ISNUMBER(X38)),AA38*X38,\"\")","v":""},null,{"$f":"IF(AND(ISNUMBER(AB38),ISNUMBER(X38)),AB38*X38,\"\")","v":""},null,null,0,{"$f":"IF(BK38>0,BK38,0)","v":0},null,{"$f":"IF(ISNA(INDEX('Conversion Factors'!$B$6:$B$370,MATCH('Feb 1 - Feb 15'!$Z$38:$Z$44,'Conversion Factors'!$A$6:$A$370,0))),\"\",INDEX('Conversion Factors'!$B$6:$B$370,MATCH('Feb 1 - Feb 15'!$Z$38:$Z$44,'Conversion Factors'!$A$6:$A$370,0)))","v":""},null,{"$f":"A38","v":false},{"$f":"IF(AND(ISNUMBER(N38),ISNUMBER($Z$12)),N38/$Z$12,\"\")","v":""},{"$f":"IF(AND(ISNUMBER(Q38),ISNUMBER($Z$12)),Q38/$Z$12,\"\")","v":""},null,null,null,null,null,{"$f":"E38+AH37","v":0},{"$f":"IF(AH38>$AI$12,AH38-($AI$12+AI37),0)","v":0},{"$f":"IF(AND(AZ38>0,AZ38),IF(BA38>0,BA38,IF(BB38>0,BB38,IF(BC38>0,BC38,IF(BF38>0,BF38,\"\")))))","v":false},{"$f":"IF(AND(AO38>0,AO38),IF(AP38>0,AP38,IF(AQ38>0,AQ38,IF(AR38>0,AR38,IF(AU38>0,AU38,\"\")))))","v":false},null,{"$f":"J38","v":0},null,{"$f":"IF(G38=0,0,\"\")","v":0},{"$f":"IF(AND(AH38<=40,E38=G38),G38,0)","v":0},{"$f":"IF(AND(AH38<=40,E38>=G38,G38>0),O38-E38,0)","v":0},{"$f":"IF(AND(AH38<=40,E38<G38),O38-G38,0)","v":0},{"$f":"IF(AND(G38=0),G38,IF(AND(G38>0,AI38>0,G38=AT38),AT38,IF(AND(G38>0,AI38>0,G38-AT38),AT38,0)))","v":0},null,{"$f":"AS38","v":0},{"$f":"IF(AND(AH37+AU38=40,AI38>0,AI38>AU38),AI38-AU38,IF(AND(AH37+AU38=40,AI38>0,AI38<AU38,AU38+AI38=G38),AI38,IF(AND(AH37>40,AH38>40,G38=AI38),AI38,0)))","v":0},{"$f":"AV38","v":0},null,{"$f":"IF(AND(J38>0,AI38>=J38,BB38=0),O38-AI38,IF(AND(J38>0,AI38>0,BB38<=AI38),AI38-BB38,IF(AND(J38>0,AI38>0,BB38>AI38),J38-BB38,0)))","v":0},{"$f":"IF(J38=0,0,\"\")","v":0},{"$f":"IF(AND(AH38<=40,E38=J38),J38,0)","v":0},{"$f":"IF(AND(AZ38=0),AZ38,IF(AND(AH38>40,E38>=J38),BE38,IF(AND(AH38<=40,E38>J38),J38,0)))","v":0},{"$f":"IF(AND(AH38<=40,E38<J38),O38-J38,0)","v":0},{"$f":"IF(AND(J38=0),J38,IF(AND(J38>0,AI38>0,J38=BC38),BC38,IF(AND(J38>0,AI38>0,J38-BC38),BC38,0)))","v":0},null,{"$f":"BD38","v":0},null,{"$f":"IF(AND(G38>0,E38>0),1,0)","v":0},{"$f":"40-AH38","v":40},0,{"$f":"IF(AND(BH38=1,BL38>40,E38<G38),E38-BJ38,(IF(AND(BH38=1,BL38>0,E38>=G38),G38-BJ38,0)))","v":0},{"$f":"E38","v":0},{"$f":"IF(AND(K38>0,E38>0),1,0)","v":0},{"$f":"IF(AND(BM38=1,J38>8),K38,(IF(AND(BM38=1,J38>0),J38,0)))","v":0},{"$f":"IF(AND(BM38=1,40-BL37>0,40-BL37<8),40-BL37,IF(AND(J38<K38),J38,K38))","v":0},{"$f":"IF(AND(BM38=1,BL38>40,J38<=K38),J38-BO38,IF(AND(BM38=1,BL38>0,J38>K38),K38-BO38,0))","v":0}]
[{"$f":"IF(A38<$O$7,A38+1,IF(A38=$O$7,\"\"))","v":false},null,null,"Monday",null,null,null,0,null,null,null,null,null,null,{"$f":"SUM(E39:N39)-J39","v":0},{"$f":"IF(AND(ISNUMBER(AA39),ISNUMBER(X39)),AA39*X39,\"\")","v":""},null,{"$f":"IF(AND(ISNUMBER(AB39),ISNUMBER(X39)),AB39*X39,\"\")","v":""},null,null,0,{"$f":"IF(BK39>0,BK39,0)","v":0},null,{"$f":"IF(ISNA(INDEX('Conversion Factors'!$B$6:$B$370,MATCH('Feb 1 - Feb 15'!$Z$38:$Z$44,'Conversion Factors'!$A$6:$A$370,0))),\"\",INDEX('Conversion Factors'!$B$6:$B$370,MATCH('Feb 1 - Feb 15'!$Z$38:$Z$44,'Conversion Factors'!$A$6:$A$370,0)))","v":""},null,false,"","",null,null,null,null,null,0,{"$f":"IF(AH39>$AI$12,AH39-($AI$12+AI38+AI37),0)","v":0},false,{"$f":"IF(AND(AO39>0,AO39),IF(AP39>0,AP39,IF(AQ39>0,AQ39,IF(AR39>0,AR39,IF(AU39>0,AU39,0)))))","v":false},null,0,null,0,0,0,0,0,{"$f":"IF(AND(AH38<=40),40-AH38,0)","v":40},{"$f":"AS39","v":0},0,{"$f":"AV39","v":0},null,0,0,0,0,0,0,{"$f":"IF(AND(AH38<=40),40-AH38,0)","v":40},{"$f":"BD39","v":0},null,{"$f":"IF(AND(G39>0,E39>0),1,0)","v":0},40,0,0,{"$f":"SUM(E38:E39)","v":0},{"$f":"IF(AND(K39>0,E39>0),1,0)","v":0},{"$f":"IF(AND(BM39=1,J39>8),K39,(IF(AND(BM39=1,J39>0),J39,0)))","v":0},0,0]
[false,null,null,"Tuesday",null,null,null,null,null,0,0,null,null,null,{"$f":"SUM(E40:N40)-J40","v":0},"",null,"",null,null,0,0,null,{"$f":"IF(ISNA(INDEX('Conversion Factors'!$B$6:$B$370,MATCH('Feb 1 - Feb 15'!$Z$38:$Z$44,'Conversion Factors'!$A$6:$A$370,0))),\"\",INDEX('Conversion Factors'!$B$6:$B$370,MATCH('Feb 1 - Feb 15'!$Z$38:$Z$44,'Conversion Factors'!$A$6:$A$370,0)))","v":""},null,false,"","",null,null,null,null,null,0,{"$f":"IF(AH40>$AI$12,AH40-($AI$12+AI39+AI38+AI37),0)","v":0},false,false,null,0,null,0,0,0,0,0,40,0,0,0,null,0,0,0,0,0,0,{"$f":"IF(AND(AH39<=40),40-AH39,0)","v":40},0,null,{"$f":"IF(AND(G40>0,E40>0),1,0)","v":0},40,0,0,{"$f":"SUM(E38:E40)","v":0},0,{"$f":"IF(AND(BM40=1,J40>8),K40,(IF(AND(BM40=1,J40>0),J40,0)))","v":0},{"$f":"IF(AND(BM40=1,40-BL39>0,40-BL39<8),40-BL39,IF(AND(J40<K40),J40,K40))","v":0},0]
[false,null,null,"Wednesday",null,null,null,null,null,null,null,null,null,null,0,"",null,"",null,null,0,0,null,{"$f":"IF(ISNA(INDEX('Conversion Factors'!$B$6:$B$370,MATCH('Feb 1 - Feb 15'!$Z$38:$Z$44,'Conversion Factors'!$A$6:$A$370,0))),\"\",INDEX('Conversion Factors'!$B$6:$B$370,MATCH('Feb 1 - Feb 15'!$Z$38:$Z$44,'Conversion Factors'!$A$6:$A$370,0)))","v":""},null,false,"","",null,null,null,null,null,0,{"$f":"IF(AH41>$AI$12,AH41-($AI$12+AI40+AI39+AI38+AI37),0)","v":0},false,false,null,0,null,0,0,0,0,0,40,0,0,0,null,0,0,0,0,0,0,40,0,null,{"$f":"IF(AND(G41>0,E41>0),1,0)","v":0},40,0,0,{"$f":"SUM(E38:E41)","v":0},0,{"$f":"IF(AND(BM41=1,J41>8),K41,(IF(AND(BM41=1,J41>0),J41,0)))","v":0},{"$f":"IF(AND(BM41=1,40-BL40>0,40-BL40<8),40-BL40,IF(AND(J41<K41),J41,K41))","v":0},0]
[false,null,null,"Thursday",null,null,null,null,null,null,null,null,null,null,0,"",null,"",null,null,0,0,null,{"$f":"IF(ISNA(INDEX('Conversion Factors'!$B$6:$B$370,MATCH('Feb 1 - Feb 15'!$Z$38:$Z$44,'Conversion Factors'!$A$6:$A$370,0))),\"\",INDEX('Conversion Factors'!$B$6:$B$370,MATCH('Feb 1 - Feb 15'!$Z$38:$Z$44,'Conversion Factors'!$A$6:$A$370,0)))","v":""},null,false,"","",null,null,null,null,null,0,{"$f":"IF(AH42>$AI$12,AH42-($AI$12+AI41+AI40+AI39+AI38+AI37),0)","v":0},false,false,null,0,null,0,0,0,0,0,{"$f":"IF(AND(AH41<=40),40-AH41,0)","v":40},0,0,0,null,0,0,0,0,0,0,40,0,null,0,40,0,0,{"$f":"SUM(E38:E42)","v":0},0,0,0,0]
[false,null,null,"Friday",null,null,null,null,null,null,null,null,null,null,0,"",null,"",null,null,0,0,null,{"$f":"IF(ISNA(INDEX('Conversion Factors'!$B$6:$B$370,MATCH('Feb 1 - Feb 15'!$Z$38:$Z$44,'Conversion Factors'!$A$6:$A$370,0))),\"\",INDEX('Conversion Factors'!$B$6:$B$370,MATCH('Feb 1 - Feb 15'!$Z$38:$Z$44,'Conversion Factors'!$A$6:$A$370,0)))","v":""},null,false,"","",null,null,null,null,null,0,{"$f":"IF(AH43>$AI$12,AH43-($AI$12+AI42+AI41+AI40+AI39+AI38+AI37),0)","v":0},false,false,null,0,null,0,0,0,0,0,{"$f":"IF(AND(AH42<=40),40-AH42,0)","v":40},0,0,0,null,0,0,0,0,0,0,40,0,null,0,40,0,0,{"$f":"SUM(E38:E43)","v":0},0,0,0,{"$f":"IF(AND(BM43=1,BL43>40,J43<=K43),J43-BO43,IF(AND(BM43=1,BL43>0,J43>K43),K43-BO43,0))","v":0}]
[false,null,null,"Saturday",null,null,null,null,null,null,null,null,null,null,{"$f":"SUM(E44:N44)-J44","v":0},"",null,"",null,null,0,0,null,{"$f":"IF(ISNA(INDEX('Conversion Factors'!$B$6:$B$370,MATCH('Feb 1 - Feb 15'!$Z$38:$Z$44,'Conversion Factors'!$A$6:$A$370,0))),\"\",INDEX('Conversion Factors'!$B$6:$B$370,MATCH('Feb 1 - Feb 15'!$Z$38:$Z$44,'Conversion Factors'!$A$6:$A$370,0)))","v":""},null,false,"","",null,null,null,null,null,0,{"$f":"IF(AH44>$AI$12,AH44-($AI$12+AI43+AI42+AI41+AI40+AI39+AI38+AI37),0)","v":0},false,false,null,0,null,0,0,0,0,0,40,0,0,0,null,0,0,0,0,0,0,40,0,null,0,40,0,0,{"$f":"SUM(E38:E44)","v":0},0,0,0,{"$f":"IF(AND(BM44=1,BL44>40,J44<=K44),J44-BO44,IF(AND(BM44=1,BL44>0,J44>K44),K44-BO44,0))","v":0}]
["Week 4 Totals",null,null,null,{"$f":"SUM(E38:E44)","v":0},{"$f":"SUM(F38:F44)","v":0},0,0,0,null,0,0,0,0,{"$f":"SUM(O38:O44)","v":0},{"$f":"-SUM(P38:P44)","v":0},{"$f":"SUM(Q38:Q44)","v":0},{"$f":"SUM(R38:R44)","v":0},{"$f":"IF(E45>40,(E45-40)-V45,0)","v":0},{"$f":"MROUND(AL45,0.25)","v":0},{"$f":"SUM(U38:U44)","v":0},{"$f":"SUM(V38:V44)","v":0},{"$f":"IF(E45-(E11-(G45+K45+F45+H45+I45+L45+M45))-(S45+U45+V45)>0,E45-(E11-(G45+K45+F45+H45+I45+L45+M45))-(S45+U45+V45),0)","v":0},null,null,null,null,null,{"$f":"SUM(F45:N45)","v":0},{"$f":"IF(AND(AG45<40,O45>=AG45),O45-(AG45+S45),IF(AND(O45<AG45,E45=O45),O45-E45,IF(AND(E45>AG45,E45<40),E45-AG45,IF(AND(O45>AG45,E45<AG45),E45-(AG45-AC45),IF(AND(O45>AG45,E45>40),E45-(AG45-AC45+S45),IF(AND(O45>AG45,O45>40),O45-(S45+AG45),0))))))","v":0},{"$f":"AD45-U45-V45","v":0},{"$f":"$W$11","v":"Please Select"},{"$f":"$E$11","v":40},null,{"$f":"IF(AH45>$AI$12,-$AI$12,0)","v":0},null,null,{"$f":"IF(AF45=\"Yes\",S45*1.5,0)","v":0},null,null,null,null,null,null,null,null,null,null,null,null,null,null,null,null,null,null,null,null,null,null,null,null,null,null,null,null,null,{"$f":"SUM(BP38:BP44)","v":0},{"$f":"E44+E11","v":40}]
[null,null,null,null,null,null,null,null,"Total-Net Previous Week",null,null,null,null,null,{"$f":"(O21+O29+O37+O45)-O13","v":0},{"$f":"(P21+P29+P37+P45)-P13","v":0},0,0,0,0,0,0,0,0]
[]
[null,null,null,null,null,null,null,null,null,null,null,null,null,null,"Leave/Leave Without Pay Policy"]
["Employee signature",null,null,null,null,null,"Date",null,null,null,null,null,null,null,"Overtime/Compensatory Time"]
["I certify this record is accurate and accounts for my time during the indicated period.",null,null,null,null,null,null,null,null,null,null,null,null,null,"Time Sheet Definitions/Policies"]
[]
[null,null,null,null,null,null,null,null,null,null,"“Actual Work Hours During Administrative Close Period” – Only key the hours actually worked during the admministrative closing period into this field. "]
[]
["Manager signature",null,null,null,null,null,"Date"]
["I certify the hours recorded and coded on this form are correct and in compliance with University policy.",null,null,null,null,null,null,null,null,null,"“Administrative Closing/Leave Period field.”  Entter the number of hours of the declared period of administrative closing. (The total hours worked during the entire day will be entered into the “Actual Hours Worked” field.)"]

{"sheet":"Feb 16 - Feb 28","index":22,"n_rows":55,"n_cols":69,"rows_kept":55,"cut":false,"hidden":false,"merged":[[47,14,47,22],[48,14,48,19],[49,14,49,22],[51,10,53,22],[54,10,56,22],[45,8,45,13],[34,0,34,2],[35,0,35,2],[36,0,36,2],[37,0,37,2],[38,0,38,2],[39,0,39,2],[40,0,40,2],[41,0,41,2],[42,0,42,2],[43,0,43,2],[44,0,44,2],[33,0,33,2],[22,0,22,2],[23,0,23,2],[24,0,24,2],[25,0,25,2],[26,0,26,2],[27,0,27,2],[28,0,28,2],[29,0,29,2],[30,0,30,2],[31,0,31,2],[32,0,32,2],[21,0,21,2],[11,0,11,2],[11,29,11,30],[12,0,12,3],[13,0,13,2],[14,0,14,2],[15,0,15,2],[16,0,16,2],[17,0,17,2],[18,0,18,2],[19,0,19,2],[20,0,20,2],[10,40,10,46],[6,2,6,7],[6,8,6,13],[6,14,6,19],[7,2,7,7],[7,8,7,13],[7,14,7,19],[10,0,10,3],[10,4,10,5],[10,6,10,17],[10,18,10,21],[10,22,10,23],[0,0,0,22],[1,0,1,22],[3,0,3,23],[5,2,5,7],[5,8,5,13],[5,14,5,19]]}
["Mississippi State University"]
["Non-Exempt Employee Semi-Monthly Time Report"]
[]
["Instructions:  The Fair Labor Standards Act requires that a record of hours worked on a weekly basis be maintained for all employees except executive, administrative, managerial, faculty, and professional (non-faculty).  Department/unit heads are responsible for compiling and maintaining this record in department files on each covered employee for a period of at least (3) years."]
[]
["MSU ID #:",null,{"$f":"'July 1 - July 15'!C6","v":0},null,null,null,null,null,"Pay period start date:",null,null,null,null,null,{"$f":"'Dates & Notes'!$A$17","v":"2023-02-16"},null,null,null,null,null,null,null,null,null,null,{"$f":"TEXT(O6,\"dddd\")","v":"Thursday"},null,null,null,"Please Select"]
["Name:",null,{"$f":"'July 1 - July 15'!C7","v":0},null,null,null,null,null,"Pay period end date:",null,null,null,null,null,{"$f":"'Dates & Notes'!$B$17","v":"2023-02-28"},null,null,null,null,null,null,null,null,null,null,null,null,null,null,"No"]
["Department:",null,{"$f":"'July 1 - July 15'!C8","v":0},null,null,null,null,null,"Pay Period Number:",null,null,null,null,null,{"$f":"'Dates & Notes'!$C$17","v":4},null,null,null,null,null,null,null,null,null,null,null,null,null,null,"Yes"]
[]
[]
["Employee Scheduled Hours Per Week",null,null,null,40,null,"FIELDS MUST BE ENTERED FOR CALULATIONS TO WORK PROPERLY",null,null,null,null,null,null,null,null,null,null,null,"Receive Compensatory Time",null,null,null,"Please Select",null,null,null,null,null,null,null,null,null,null,null,"Over 40",null,null,null,null,null,"HOW ANALYSIS"]
["Work Week Dates",null,null,"Day of The Week","Actual Hours Worked","Compensatory Time Used","Holiday","Medical Leave","Personal Leave","Actual Wrk Hrs During  Admin Close Period","Administrative Closing/Leave Period","Jury Duty","Military Leave","Leave Without Pay","Totals","DOC-Payroll Conversion","RTO","RTO-Payroll Conversion","Overtime Hours","Hours Transferred to Comp. Record","HOW-Holiday Pay or Admin/Leave Closing","HOT-Holiday Pay","SST-Payroll","Conversion Factor",null,8,"DOC","RTO",null,"SST",null,null,null,"Cumm Actual HRS",40,"Administrative Leave","HOW-Holiday Pay","Comp. Time","Administrative/Schedule",null,"Holiday=0\n1",2,3,4,null,"<=40\n5",null,"HOT Workup","HOT-Holiday Pay (HOLIDAY PAY)",null,"HOT-Administrative HRS","Administrative=0\n1",2,3,4,null,"<=40\n5",null,null,"Holiday Flag","Up to 40","How","Hot","Actual Hours Worked","Admin Flag","Admin","Admin HOW","Admin OVT"]
["Hours-Previous WK (Due to Split WK)",null,null,null,{"$f":"SUM(E14:E17)","v":0},0,0,0,0,0,0,0,0,0,{"$f":"SUM(E13:N13)-J13","v":0},null,null,null,null,null,null,null,null,null,null,null,null,null,null,null,null,null,null,null,null,{"$f":"IF(AND(AM13=0,J13=0),AM13,IF(AND(E13>AM13,J13=0),J13,IF(AND(J13<AM13,AI13=0),J13,IF(AND(AM13=J13,AI13<AM13),AM13-AI13,IF(AND(J13=AM13,AI13=AM13),AI13,IF(AND(J13<AM13,AI13>0),AM13-J13,IF(AND(AM13>J13,AI13<E13),E13-AI13,IF(AND(E13>AM13,AI13=E13),O13-AI13,0))))))))","v":0},{"$f":"IF(AND(G13=0,E13>G13),G13,IF(AND(E13>G13,AI13=0),G13,IF(AND(E13<G13,AI13=0),E13,IF(AND(E13=G13,AI13<G13),G13-AI13,IF(AND(E13=G13,AI13=G13),AI13,IF(AND(E13<G13,AI13>0),G13-E13,IF(AND(E13>G13,AI13<E13),E13-AI13,IF(AND(E13>G13,AI13=E13),O13-AI13,0))))))))","v":0},null,{"$f":"K13","v":0}]
[{"$f":"IF(EXACT(D14,$Z$6)=TRUE,$O$6,IF(A12=0,\"\",IF(A12<$O$7,A12+1,IF(A12=$O$7,\"\"))))","v":false},null,null,"Sunday",{"$f":"'Feb 1 - Feb 15'!E30","v":0},{"$f":"'Feb 1 - Feb 15'!F30","v":0},{"$f":"'Feb 1 - Feb 15'!G30","v":0},{"$f":"'Feb 1 - Feb 15'!H30","v":0},{"$f":"'Feb 1 - Feb 15'!I30","v":0},{"$f":"'Feb 1 - Feb 15'!J30","v":0},{"$f":"'Feb 1 - Feb 15'!K30","v":0},{"$f":"'Feb 1 - Feb 15'!L23","v":0},{"$f":"'Feb 1 - Feb 15'!M23","v":0},{"$f":"'Feb 1 - Feb 15'!N23","v":0},{"$f":"SUM(E14:N14)-J14","v":0},{"$f":"IF(AND(ISNUMBER(AA14),ISNUMBER(X14)),AA14*X14,\"\")","v":""},null,{"$f":"IF(AND(ISNUMBER(AB14),ISNUMBER(X14)),AB14*X14,\"\")","v":""},null,null,{"$f":"IF(BJ14>0,BJ14,BN14)","v":0},{"$f":"IF(BK14>0,BK14,0)","v":0},null,{"$f":"IF(ISNA(INDEX('Conversion Factors'!$B$6:$B$371,MATCH('Feb 16 - Feb 28'!$Z$14:$Z$20,'Conversion Factors'!$A$6:$A$371,0))),\"\",INDEX('Conversion Factors'!$B$6:$B$371,MATCH('Feb 16 - Feb 28'!$Z$14:$Z$20,'Conversion Factors'!$A$6:$A$371,0)))","v":""},null,{"$f":"A14","v":false},{"$f":"IF(AND(ISNUMBER(N14),ISNUMBER($Z$12)),N14/$Z$12,\"\")","v":0},{"$f":"IF(AND(ISNUMBER(Q14),ISNUMBER($Z$12)),Q14/$Z$12,\"\")","v":""},null,null,null,null,null,{"$f":"E14","v":0},{"$f":"IF(AH14>$AI$12,AH14-$AI$12,0)","v":0},{"$f":"IF(AND(AZ14>0,AZ14),IF(BA14>0,BA14,IF(BB14>0,BB14,IF(BC14>0,BC14,IF(BF14>0,BF14,\"\")))))","v":false},{"$f":"IF(AND(AO14>0,AO14),IF(AP14>0,AP14,IF(AQ14>0,AQ14,IF(AR14>0,AR14,IF(AU14>0,AU14,\"\")))))","v":false},null,{"$f":"J14","v":0},null,{"$f":"IF(G14=0,0,\"\")","v":0},{"$f":"IF(AND(AH14<=40,E14=G14),G14,0)","v":0},{"$f":"IF(AND(AH14<=40,E14>=G14,G14>0),O14-E14,0)","v":0},{"$f":"IF(AND(AH14<=40,E14<G14),O14-G14,0)","v":0},{"$f":"IF(AND(G14=0),G14,IF(AND(G14>0,AI14>0,G14=AT14),AT14,IF(AND(G14>0,AI14>0,G14-AT14),AT14,0)))","v":0},null,{"$f":"AS14","v":0},{"$f":"IF(AND(AH13+AU14=40,AI14>0,AI14>AU14),AI14-AU14,IF(AND(AH13+AU14=40,AI14>0,AI14<AU14,AU14+AI14=G14),AI14,IF(AND(AH13>40,AH14>40,G14=AI14),AI14,0)))","v":0},{"$f":"AV14","v":0},null,{"$f":"IF(AND(J14>0,AI14>=J14,BB14=0),O14-AI14,IF(AND(J14>0,AI14>0,BB14<=AI14),AI14-BB14,IF(AND(J14>0,AI14>0,BB14>AI14),J14-BB14,0)))","v":0},{"$f":"IF(J14=0,0,\"\")","v":0},{"$f":"IF(AND(AH14<=40,E14=J14),J14,0)","v":0},{"$f":"IF(AND(AZ14=0),AZ14,IF(AND(AH14>40,E14>=J14),BE14,IF(AND(AH14<=40,E14>J14),J14,0)))","v":0},{"$f":"IF(AND(AH14<=40,E14<J14),O14-J14,0)","v":0},{"$f":"IF(AND(J14=0),J14,IF(AND(J14>0,AI14>0,J14=BC14),BC14,IF(AND(J14>0,AI14>0,J14-BC14),BC14,0)))","v":0},null,{"$f":"BD14","v":0},null,{"$f":"IF(AND(G14>0,E14>0),1,0)","v":0},{"$f":"40-AH14","v":40},{"$f":"IF(AND(BH14=1,E14<8),E14,(IF(AND(BH14=1,E14>0),G14,0)))","v":0},{"$f":"IF(AND(BH14=1,BL14>40,E14<G14),E14-BJ14,(IF(AND(BH14=1,BL14>0,E14>=G14),G14-BJ14,0)))","v":0},{"$f":"E14","v":0},{"$f":"IF(AND(K14>0,E14>0),1,0)","v":0},{"$f":"IF(AND(BM14=1,J14>8),K14,(IF(AND(BM14=1,J14>0),J14,0)))","v":0},{"$f":"IF(AND(BM14=1,40-BL13>0,40-BL13<8),40-BL13,IF(AND(J14<K14),J14,K14))","v":0},{"$f":"IF(AND(BM14=1,BL14>40,J14<=K14),J14-BO14,IF(AND(BM14=1,BL14>0,J14>K14),K14-BO14,0))","v":0}]
[{"$f":"IF(EXACT(D15,$Z$6)=TRUE,$O$6,IF(A14=0,\"\",IF(A14<$O$7,A14+1,IF(A14=$O$7,\"\"))))","v":false},null,null,"Monday",{"$f":"'Feb 1 - Feb 15'!E31","v":0},{"$f":"'Feb 1 - Feb 15'!F31","v":0},{"$f":"'Feb 1 - Feb 15'!G31","v":0},{"$f":"'Feb 1 - Feb 15'!H31","v":0},{"$f":"'Feb 1 - Feb 15'!I31","v":0},{"$f":"'Feb 1 - Feb 15'!J31","v":0},{"$f":"'Feb 1 - Feb 15'!K31","v":0},{"$f":"'Feb 1 - Feb 15'!L24","v":0},{"$f":"'Feb 1 - Feb 15'!M24","v":0},{"$f":"'Feb 1 - Feb 15'!N24","v":0},{"$f":"SUM(E15:N15)-J15","v":0},{"$f":"IF(AND(ISNUMBER(AA15),ISNUMBER(X15)),AA15*X15,\"\")","v":""},null,{"$f":"IF(AND(ISNUMBER(AB15),ISNUMBER(X15)),AB15*X15,\"\")","v":""},null,null,{"$f":"IF(BJ15>0,BJ15,BN15)","v":0},{"$f":"IF(BK15>0,BK15,0)","v":0},null,{"$f":"IF(ISNA(INDEX('Conversion Factors'!$B$6:$B$371,MATCH('Feb 16 - Feb 28'!$Z$14:$Z$20,'Conversion Factors'!$A$6:$A$371,0))),\"\",INDEX('Conversion Factors'!$B$6:$B$371,MATCH('Feb 16 - Feb 28'!$Z$14:$Z$20,'Conversion Factors'!$A$6:$A$371,0)))","v":""},null,false,0,"",null,null,null,null,null,{"$f":"E15+AH14","v":0},{"$f":"IF(AH15>$AI$12,AH15-($AI$12+AI14),0)","v":0},{"$f":"IF(AND(AZ15>0,AZ15),IF(BA15>0,BA15,IF(BB15>0,BB15,IF(BC15>0,BC15,IF(BF15>0,BF15,\"\")))))","v":false},{"$f":"IF(AND(AO15>0,AO15),IF(AP15>0,AP15,IF(AQ15>0,AQ15,IF(AR15>0,AR15,IF(AU15>0,AU15,0)))))","v":false},null,0,null,0,0,0,0,0,{"$f":"IF(AND(AH14<=40),40-AH14,0)","v":40},{"$f":"AS15","v":0},0,{"$f":"AV15","v":0},null,0,0,0,0,0,0,{"$f":"IF(AND(AH14<=40),40-AH14,0)","v":40},{"$f":"BD15","v":0},null,{"$f":"IF(AND(G15>0,E15>0),1,0)","v":0},40,0,0,{"$f":"SUM(E14:E15)","v":0},{"$f":"IF(AND(K15>0,E15>0),1,0)","v":0},{"$f":"IF(AND(BM15=1,J15>8),K15,(IF(AND(BM15=1,J15>0),J15,0)))","v":0},0,0]
[false,null,null,"Tuesday",{"$f":"'Feb 1 - Feb 15'!E32","v":0},{"$f":"'Feb 1 - Feb 15'!F32","v":0},{"$f":"'Feb 1 - Feb 15'!G32","v":0},{"$f":"'Feb 1 - Feb 15'!H32","v":0},{"$f":"'Feb 1 - Feb 15'!I32","v":0},{"$f":"'Feb 1 - Feb 15'!J32","v":0},{"$f":"'Feb 1 - Feb 15'!K32","v":0},{"$f":"'Feb 1 - Feb 15'!L25","v":0},{"$f":"'Feb 1 - Feb 15'!M25","v":0},{"$f":"'Feb 1 - Feb 15'!N25","v":0},{"$f":"SUM(E16:N16)-J16","v":0},"",null,"",null,null,{"$f":"IF(BJ16>0,BJ16,BN16)","v":0},0,null,{"$f":"IF(ISNA(INDEX('Conversion Factors'!$B$6:$B$371,MATCH('Feb 16 - Feb 28'!$Z$14:$Z$20,'Conversion Factors'!$A$6:$A$371,0))),\"\",INDEX('Conversion Factors'!$B$6:$B$371,MATCH('Feb 16 - Feb 28'!$Z$14:$Z$20,'Conversion Factors'!$A$6:$A$371,0)))","v":""},null,false,0,"",null,null,null,null,null,0,{"$f":"IF(AH16>$AI$12,AH16-($AI$12+AI15+AI14),0)","v":0},false,false,null,0,null,0,0,0,0,0,40,0,0,0,null,0,0,0,0,0,0,{"$f":"IF(AND(AH15<=40),40-AH15,0)","v":40},0,null,{"$f":"IF(AND(G16>0,E16>0),1,0)","v":0},40,0,0,{"$f":"SUM(E14:E16)","v":0},0,{"$f":"IF(AND(BM16=1,J16>8),K16,(IF(AND(BM16=1,J16>0),J16,0)))","v":0},{"$f":"IF(AND(BM16=1,40-BL15>0,40-BL15<8),40-BL15,IF(AND(J16<K16),J16,K16))","v":0},0]
[false,null,null,"Wednesday",{"$f":"'Feb 1 - Feb 15'!E33","v":0},{"$f":"'Feb 1 - Feb 15'!F33","v":0},{"$f":"'Feb 1 - Feb 15'!G33","v":0},{"$f":"'Feb 1 - Feb 15'!H33","v":0},{"$f":"'Feb 1 - Feb 15'!I33","v":0},{"$f":"'Feb 1 - Feb 15'!J33","v":0},{"$f":"'Feb 1 - Feb 15'!K33","v":0},{"$f":"'Feb 1 - Feb 15'!L26","v":0},{"$f":"'Feb 1 - Feb 15'!M26","v":0},{"$f":"'Feb 1 - Feb 15'!N26","v":0},{"$f":"SUM(E17:N17)-J17","v":0},"",null,"",null,null,0,0,null,{"$f":"IF(ISNA(INDEX('Conversion Factors'!$B$6:$B$371,MATCH('Feb 16 - Feb 28'!$Z$14:$Z$20,'Conversion Factors'!$A$6:$A$371,0))),\"\",INDEX('Conversion Factors'!$B$6:$B$371,MATCH('Feb 16 - Feb 28'!$Z$14:$Z$20,'Conversion Factors'!$A$6:$A$371,0)))","v":""},null,false,0,"",null,null,null,null,null,0,{"$f":"IF(AH17>$AI$12,AH17-($AI$12+AI16+AI15+AI14),0)","v":0},false,false,null,0,null,0,0,0,0,0,40,0,0,0,null,0,0,0,0,0,0,40,0,null,0,40,0,0,{"$f":"SUM(E14:E17)","v":0},0,{"$f":"IF(AND(BM17=1,J17>8),K17,(IF(AND(BM17=1,J17>0),J17,0)))","v":0},{"$f":"IF(AND(BM17=1,40-BL16>0,40-BL16<8),40-BL16,IF(AND(J17<K17),J17,K17))","v":0},0]
["2023-02-16",null,null,"Thursday",null,null,null,null,null,null,null,null,null,null,0,"",null,"",null,null,0,0,null,{"$f":"IF(ISNA(INDEX('Conversion Factors'!$B$6:$B$371,MATCH('Feb 16 - Feb 28'!$Z$14:$Z$20,'Conversion Factors'!$A$6:$A$371,0))),\"\",INDEX('Conversion Factors'!$B$6:$B$371,MATCH('Feb 16 - Feb 28'!$Z$14:$Z$20,'Conversion Factors'!$A$6:$A$371,0)))","v":9.6300000000000008},null,"2023-02-16","","",null,null,null,null,null,0,{"$f":"IF(AH18>$AI$12,AH18-($AI$12+AI17+AI16+AI15+AI14),0)","v":0},false,false,null,0,null,0,0,0,0,0,{"$f":"IF(AND(AH17<=40),40-AH17,0)","v":40},0,0,0,null,0,0,0,0,0,0,40,0,null,0,40,0,0,{"$f":"SUM(E14:E18)","v":0},0,0,0,0]
["2023-02-17",null,null,"Friday",null,null,null,null,null,null,null,null,null,null,0,"",null,"",null,null,0,0,null,{"$f":"IF(ISNA(INDEX('Conversion Factors'!$B$6:$B$371,MATCH('Feb 16 - Feb 28'!$Z$14:$Z$20,'Conversion Factors'!$A$6:$A$371,0))),\"\",INDEX('Conversion Factors'!$B$6:$B$371,MATCH('Feb 16 - Feb 28'!$Z$14:$Z$20,'Conversion Factors'!$A$6:$A$371,0)))","v":9.6300000000000008},null,"2023-02-17","","",null,null,null,null,null,0,{"$f":"IF(AH19>$AI$12,AH19-($AI$12+AI18+AI17+AI16+AI15+AI14),0)","v":0},false,false,null,0,null,0,0,0,0,0,{"$f":"IF(AND(AH18<=40),40-AH18,0)","v":40},0,0,0,null,0,0,0,0,0,0,40,0,null,0,40,0,0,{"$f":"SUM(E14:E19)","v":0},0,0,0,{"$f":"IF(AND(BM19=1,BL19>40,J19<=K19),J19-BO19,IF(AND(BM19=1,BL19>0,J19>K19),K19-BO19,0))","v":0}]
["2023-02-18",null,null,"Saturday",null,null,null,null,null,null,null,null,null,null,{"$f":"SUM(E20:N20)-J20","v":0},"",null,"",null,null,0,0,null,{"$f":"IF(ISNA(INDEX('Conversion Factors'!$B$6:$B$371,MATCH('Feb 16 - Feb 28'!$Z$14:$Z$20,'Conversion Factors'!$A$6:$A$371,0))),\"\",INDEX('Conversion Factors'!$B$6:$B$371,MATCH('Feb 16 - Feb 28'!$Z$14:$Z$20,'Conversion Factors'!$A$6:$A$371,0)))","v":9.6300000000000008},null,"2023-02-18","","",null,null,null,null,null,0,{"$f":"IF(AH20>$AI$12,AH20-($AI$12+AI19+AI18+AI17+AI16+AI15+AI14),0)","v":0},false,false,null,0,null,0,0,0,0,0,40,0,0,0,null,0,0,0,0,0,0,40,0,null,0,40,0,0,{"$f":"SUM(E14:E20)","v":0},0,0,0,{"$f":"IF(AND(BM20=1,BL20>40,J20<=K20),J20-BO20,IF(AND(BM20=1,BL20>0,J20>K20),K20-BO20,0))","v":0}]
["Week 1 Totals",null,null,null,{"$f":"SUM(E14:E20)","v":0},{"$f":"SUM(F14:F20)","v":0},0,0,0,null,0,0,0,0,{"$f":"SUM(O14:O20)","v":0},{"$f":"-SUM(P14:P20)","v":0},{"$f":"SUM(Q14:Q20)","v":0},{"$f":"SUM(R14:R20)","v":0},{"$f":"IF(E21>40,(E21-40)-V21-BP21,0)","v":0},{"$f":"MROUND(AL21,0.25)","v":0},{"$f":"SUM(U14:U20)","v":0},{"$f":"SUM(V14:V20)","v":0},{"$f":"IF(E21-(E11-(G21+K21+F21+H21+I21+L21+M21))-(S21+U21+V21)>0,E21-(E11-(G21+K21+F21+H21+I21+L21+M21))-(S21+U21+V21),0)","v":0},null,null,null,null,null,{"$f":"SUM(F21:N21)","v":0},{"$f":"IF(AND(AG21<40,O21>=AG21),O21-(AG21+S21),IF(AND(O21<AG21,E21=O21),O21-E21,IF(AND(E21>AG21,E21<40),E21-AG21,IF(AND(O21>AG21,E21<AG21),E21-(AG21-AC21),IF(AND(O21>AG21,E21>40),E21-(AG21-AC21+S21),IF(AND(O21>AG21,O21>40),O21-(S21+AG21),0))))))","v":0},{"$f":"AD21-U21-V21","v":0},{"$f":"$W$11","v":"Please Select"},{"$f":"$E$11","v":40},null,{"$f":"IF(AH21>$AI$12,-$AI$12,0)","v":0},null,null,{"$f":"IF(AF21=\"Yes\",S21*1.5,0)","v":0},null,null,null,null,null,null,null,null,null,null,null,null,null,null,null,null,null,null,null,null,null,null,null,null,null,null,null,null,null,{"$f":"SUM(BP14:BP20)","v":0},{"$f":"E11+U21","v":40}]
[{"$f":"IF(A20=0,\"\",IF(A20<$O$7,A20+1,IF(A20=$O$7,\"\")))","v":"2023-02-19"},null,null,"Sunday",null,null,null,null,null,null,null,null,null,null,{"$f":"SUM(E22:N22)-J22","v":0},{"$f":"IF(AND(ISNUMBER(AA22),ISNUMBER(X22)),AA22*X22,\"\")","v":""},null,{"$f":"IF(AND(ISNUMBER(AB22),ISNUMBER(X22)),AB22*X22,\"\")","v":""},null,null,{"$f":"IF(BJ22>0,BJ22,BN22)","v":0},{"$f":"IF(BK22>0,BK22,0)","v":0},null,{"$f":"IF(ISNA(INDEX('Conversion Factors'!$B$6:$B$371,MATCH('Feb 16 - Feb 28'!$Z$22:$Z$28,'Conversion Factors'!$A$6:$A$371,0))),\"\",INDEX('Conversion Factors'!$B$6:$B$371,MATCH('Feb 16 - Feb 28'!$Z$22:$Z$28,'Conversion Factors'!$A$6:$A$371,0)))","v":9.6300000000000008},null,{"$f":"A22","v":"2023-02-19"},{"$f":"IF(AND(ISNUMBER(N22),ISNUMBER($Z$12)),N22/$Z$12,\"\")","v":""},{"$f":"IF(AND(ISNUMBER(Q22),ISNUMBER($Z$12)),Q22/$Z$12,\"\")","v":""},null,null,null,null,null,{"$f":"E22+AH21","v":0},{"$f":"IF(AH22>$AI$12,AH22-($AI$12+AI21),0)","v":0},{"$f":"IF(AND(AZ22>0,AZ22),IF(BA22>0,BA22,IF(BB22>0,BB22,IF(BC22>0,BC22,IF(BF22>0,BF22,\"\")))))","v":false},{"$f":"IF(AND(AO22>0,AO22),IF(AP22>0,AP22,IF(AQ22>0,AQ22,IF(AR22>0,AR22,IF(AU22>0,AU22,\"\")))))","v":false},null,{"$f":"J22","v":0},null,{"$f":"IF(G22=0,0,\"\")","v":0},{"$f":"IF(AND(AH22<=40,E22=G22),G22,0)","v":0},{"$f":"IF(AND(AH22<=40,E22>=G22,G22>0),O22-E22,0)","v":0},{"$f":"IF(AND(AH22<=40,E22<G22),O22-G22,0)","v":0},{"$f":"IF(AND(G22=0),G22,IF(AND(G22>0,AI22>0,G22=AT22),AT22,IF(AND(G22>0,AI22>0,G22-AT22),AT22,0)))","v":0},null,{"$f":"AS22","v":0},{"$f":"IF(AND(AH21+AU22=40,AI22>0,AI22>AU22),AI22-AU22,IF(AND(AH21+AU22=40,AI22>0,AI22<AU22,AU22+AI22=G22),AI22,IF(AND(AH21>40,AH22>40,G22=AI22),AI22,0)))","v":0},{"$f":"AV22","v":0},null,{"$f":"IF(AND(J22>0,AI22>0,BB22<=AI22),AI22-BB22,IF(AND(J22>0,AI22>0,BB22>AI22),J22-BB22,0))","v":0},{"$f":"IF(J22=0,0,\"\")","v":0},{"$f":"IF(AND(AH22<=40,E22=J22),J22,0)","v":0},{"$f":"IF(AND(AZ22=0),AZ22,IF(AND(AH22>40,E22>=J22),BE22,IF(AND(AH22<=40,E22>J22),J22,0)))","v":0},{"$f":"IF(AND(AH22<=40,E22<J22),O22-J22,0)","v":0},{"$f":"IF(AND(J22=0),J22,IF(AND(J22>0,AI22>0,J22=BC22),BC22,IF(AND(J22>0,AI22>0,J22-BC22),BC22,0)))","v":0},null,{"$f":"BD22","v":0},null,{"$f":"IF(AND(G22>0,E22>0),1,0)","v":0},{"$f":"40-AH22","v":40},0,{"$f":"IF(AND(BH22=1,BL22>40,E22<G22),E22-BJ22,(IF(AND(BH22=1,BL22>0,E22>=G22),G22-BJ22,0)))","v":0},{"$f":"E22","v":0},{"$f":"IF(AND(K22>0,E22>0),1,0)","v":0},{"$f":"IF(AND(BM22=1,J22>8),K22,(IF(AND(BM22=1,J22>0),J22,0)))","v":0},{"$f":"IF(AND(BM22=1,40-BL21>0,40-BL21<8),40-BL21,IF(AND(J22<K22),J22,K22))","v":0},{"$f":"IF(AND(BM22=1,BL22>40,J22<=K22),J22-BO22,IF(AND(BM22=1,BL22>0,J22>K22),K22-BO22,0))","v":0}]
[{"$f":"IF(A22<$O$7,A22+1,IF(A22=$O$7,\"\"))","v":"2023-02-20"},null,null,"Monday",null,null,null,null,null,null,null,null,null,null,{"$f":"SUM(E23:N23)-J23","v":0},{"$f":"IF(AND(ISNUMBER(AA23),ISNUMBER(X23)),AA23*X23,\"\")","v":""},null,{"$f":"IF(AND(ISNUMBER(AB23),ISNUMBER(X23)),AB23*X23,\"\")","v":""},null,null,{"$f":"IF(BJ23>0,BJ23,BN23)","v":0},{"$f":"IF(BK23>0,BK23,0)","v":0},null,{"$f":"IF(ISNA(INDEX('Conversion Factors'!$B$6:$B$371,MATCH('Feb 16 - Feb 28'!$Z$22:$Z$28,'Conversion Factors'!$A$6:$A$371,0))),\"\",INDEX('Conversion Factors'!$B$6:$B$371,MATCH('Feb 16 - Feb 28'!$Z$22:$Z$28,'Conversion Factors'!$A$6:$A$371,0)))","v":9.6300000000000008},null,"2023-02-20","","",null,null,null,null,null,0,{"$f":"IF(AH23>$AI$12,AH23-($AI$12+AI22+AI21),0)","v":0},false,{"$f":"IF(AND(AO23>0,AO23),IF(AP23>0,AP23,IF(AQ23>0,AQ23,IF(AR23>0,AR23,IF(AU23>0,AU23,0)))))","v":false},null,0,null,0,0,0,0,0,{"$f":"IF(AND(AH22<=40),40-AH22,0)","v":40},{"$f":"AS23","v":0},0,{"$f":"AV23","v":0},null,{"$f":"IF(AND(J23>0,AI23>0,BB23<=AI23),AI23-BB23,IF(AND(J23>0,AI23>0,BB23>AI23),J23-BB23,0))","v":0},0,0,0,0,0,{"$f":"IF(AND(AH22<=40),40-AH22,0)","v":40},{"$f":"BD23","v":0},null,{"$f":"IF(AND(G23>0,E23>0),1,0)","v":0},40,0,0,{"$f":"SUM(E22:E23)","v":0},{"$f":"IF(AND(K23>0,E23>0),1,0)","v":0},{"$f":"IF(AND(BM23=1,J23>8),K23,(IF(AND(BM23=1,J23>0),J23,0)))","v":0},0,0]
["2023-02-21",null,null,"Tuesday",null,null,null,null,null,null,null,null,null,null,{"$f":"SUM(E24:N24)-J24","v":0},"",null,"",null,null,{"$f":"IF(BJ24>0,BJ24,BN24)","v":0},0,null,{"$f":"IF(ISNA(INDEX('Conversion Factors'!$B$6:$B$371,MATCH('Feb 16 - Feb 28'!$Z$22:$Z$28,'Conversion Factors'!$A$6:$A$371,0))),\"\",INDEX('Conversion Factors'!$B$6:$B$371,MATCH('Feb 16 - Feb 28'!$Z$22:$Z$28,'Conversion Factors'!$A$6:$A$371,0)))","v":9.6300000000000008},null,"2023-02-21","","",null,null,null,null,null,0,{"$f":"IF(AH24>$AI$12,AH24-($AI$12+AI23+AI22+AI21),0)","v":0},false,false,null,0,null,0,0,0,0,0,40,0,0,0,null,{"$f":"IF(AND(J24>0,AI24>0,BB24<=AI24),AI24-BB24,IF(AND(J24>0,AI24>0,BB24>AI24),J24-BB24,0))","v":0},0,0,0,0,0,{"$f":"IF(AND(AH23<=40),40-AH23,0)","v":40},0,null,{"$f":"IF(AND(G24>0,E24>0),1,0)","v":0},40,0,0,{"$f":"SUM(E22:E24)","v":0},0,{"$f":"IF(AND(BM24=1,J24>8),K24,(IF(AND(BM24=1,J24>0),J24,0)))","v":0},{"$f":"IF(AND(BM24=1,40-BL23>0,40-BL23<8),40-BL23,IF(AND(J24<K24),J24,K24))","v":0},0]
["2023-02-22",null,null,"Wednesday",null,null,null,null,null,null,null,null,null,null,0,"",null,"",null,null,0,0,null,{"$f":"IF(ISNA(INDEX('Conversion Factors'!$B$6:$B$371,MATCH('Feb 16 - Feb 28'!$Z$22:$Z$28,'Conversion Factors'!$A$6:$A$371,0))),\"\",INDEX('Conversion Factors'!$B$6:$B$371,MATCH('Feb 16 - Feb 28'!$Z$22:$Z$28,'Conversion Factors'!$A$6:$A$371,0)))","v":9.6300000000000008},null,"2023-02-22","","",null,null,null,null,null,0,{"$f":"IF(AH25>$AI$12,AH25-($AI$12+AI24+AI23+AI22+AI21),0)","v":0},false,false,null,0,null,0,0,0,0,0,40,0,0,0,null,{"$f":"IF(AND(J25>0,AI25>0,BB25<=AI25),AI25-BB25,IF(AND(J25>0,AI25>0,BB25>AI25),J25-BB25,0))","v":0},0,0,0,0,0,40,0,null,0,40,0,0,{"$f":"SUM(E22:E25)","v":0},0,{"$f":"IF(AND(BM25=1,J25>8),K25,(IF(AND(BM25=1,J25>0),J25,0)))","v":0},{"$f":"IF(AND(BM25=1,40-BL24>0,40-BL24<8),40-BL24,IF(AND(J25<K25),J25,K25))","v":0},0]
["2023-02-23",null,null,"Thursday",null,null,null,null,null,null,null,null,null,null,0,"",null,"",null,null,0,0,null,{"$f":"IF(ISNA(INDEX('Conversion Factors'!$B$6:$B$371,MATCH('Feb 16 - Feb 28'!$Z$22:$Z$28,'Conversion Factors'!$A$6:$A$371,0))),\"\",INDEX('Conversion Factors'!$B$6:$B$371,MATCH('Feb 16 - Feb 28'!$Z$22:$Z$28,'Conversion Factors'!$A$6:$A$371,0)))","v":9.6300000000000008},null,"2023-02-23","","",null,null,null,null,null,0,{"$f":"IF(AH26>$AI$12,AH26-($AI$12+AI25+AI24+AI23+AI22+AI21),0)","v":0},false,false,null,0,null,0,0,0,0,0,{"$f":"IF(AND(AH25<=40),40-AH25,0)","v":40},0,0,0,null,{"$f":"IF(AND(J26>0,AI26>=J26,BB26=0),O26-AI26,IF(AND(J26>0,AI26>0,BB26<=AI26),AI26-BB26,IF(AND(J26>0,AI26>0,BB26>AI26),J26-BB26,0)))","v":0},0,0,0,0,0,40,0,null,0,40,0,0,{"$f":"SUM(E22:E26)","v":0},0,0,0,0]
["2023-02-24",null,null,"Friday",null,null,null,null,null,null,null,null,null,null,0,"",null,"",null,null,0,0,null,{"$f":"IF(ISNA(INDEX('Conversion Factors'!$B$6:$B$371,MATCH('Feb 16 - Feb 28'!$Z$22:$Z$28,'Conversion Factors'!$A$6:$A$371,0))),\"\",INDEX('Conversion Factors'!$B$6:$B$371,MATCH('Feb 16 - Feb 28'!$Z$22:$Z$28,'Conversion Factors'!$A$6:$A$371,0)))","v":9.6300000000000008},null,"2023-02-24","","",null,null,null,null,null,0,{"$f":"IF(AH27>$AI$12,AH27-($AI$12+AI26+AI25+AI24+AI23+AI22+AI21),0)","v":0},false,false,null,0,null,0,0,0,0,0,{"$f":"IF(AND(AH26<=40),40-AH26,0)","v":40},0,0,0,null,{"$f":"IF(AND(J27>0,AI27>=J27,BB27=0),O27-AI27,IF(AND(J27>0,AI27>0,BB27<=AI27),AI27-BB27,IF(AND(J27>0,AI27>0,BB27>AI27),J27-BB27,0)))","v":0},0,0,0,0,0,40,0,null,0,40,0,0,{"$f":"SUM(E22:E27)","v":0},0,0,0,{"$f":"IF(AND(BM27=1,BL27>40,J27<=K27),J27-BO27,IF(AND(BM27=1,BL27>0,J27>K27),K27-BO27,0))","v":0}]
["2023-02-25",null,null,"Saturday",null,null,null,null,null,null,null,null,null,null,{"$f":"SUM(E28:N28)-J28","v":0},"",null,"",null,null,0,0,null,{"$f":"IF(ISNA(INDEX('Conversion Factors'!$B$6:$B$371,MATCH('Feb 16 - Feb 28'!$Z$22:$Z$28,'Conversion Factors'!$A$6:$A$371,0))),\"\",INDEX('Conversion Factors'!$B$6:$B$371,MATCH('Feb 16 - Feb 28'!$Z$22:$Z$28,'Conversion Factors'!$A$6:$A$371,0)))","v":9.6300000000000008},null,"2023-02-25","","",null,null,null,null,null,0,{"$f":"IF(AH28>$AI$12,AH28-($AI$12+AI27+AI26+AI25+AI24+AI23+AI22+AI21),0)","v":0},false,false,null,0,null,0,0,0,0,0,40,0,0,0,null,{"$f":"IF(AND(J28>0,AI28>=J28,BB28=0),O28-AI28,IF(AND(J28>0,AI28>0,BB28<=AI28),AI28-BB28,IF(AND(J28>0,AI28>0,BB28>AI28),J28-BB28,0)))","v":0},0,0,0,0,0,40,0,null,0,40,0,0,{"$f":"SUM(E22:E28)","v":0},0,0,0,{"$f":"IF(AND(BM28=1,BL28>40,J28<=K28),J28-BO28,IF(AND(BM28=1,BL28>0,J28>K28),K28-BO28,0))","v":0}]
["Week 2 Totals",null,null,null,{"$f":"SUM(E22:E28)","v":0},0,0,0,0,null,0,0,0,0,{"$f":"SUM(O22:O28)","v":0},{"$f":"-SUM(P22:P28)","v":0},{"$f":"SUM(Q22:Q28)","v":0},{"$f":"SUM(R22:R28)","v":0},{"$f":"IF(E29>40,(E29-40)-V29,0)","v":0},{"$f":"MROUND(AL29,0.25)","v":0},{"$f":"SUM(U22:U28)","v":0},{"$f":"SUM(V22:V28)","v":0},{"$f":"IF(E29-(E11-(G29+K29+F29+H29+I29+L29+M29))-(S29+U29+V29)>0,E29-(E11-(G29+K29+F29+H29+I29+L29+M29))-(S29+U29+V29),0)","v":0},null,null,null,null,null,{"$f":"SUM(F29:N29)","v":0},{"$f":"IF(AND(AG29<40,O29>=AG29),O29-(AG29+S29),IF(AND(O29<AG29,E29=O29),O29-E29,IF(AND(E29>AG29,E29<40),E29-AG29,IF(AND(O29>AG29,E29<AG29),E29-(AG29-AC29),IF(AND(O29>AG29,E29>40),E29-(AG29-AC29+S29),IF(AND(O29>AG29,O29>40),O29-(S29+AG29),0))))))","v":0},{"$f":"AD29-U29-V29","v":0},{"$f":"$W$11","v":"Please Select"},{"$f":"$E$11","v":40},null,{"$f":"IF(AH29>$AI$12,-$AI$12,0)","v":0},null,null,{"$f":"IF(AF29=\"Yes\",S29*1.5,0)","v":0},0,null,null,null,null,null,null,null,null,null,null,null,null,0,null,null,null,null,null,null,null,null,null,null,null,null,null,null,null,{"$f":"SUM(BP22:BP28)","v":0},{"$f":"U29+E11","v":40}]
[{"$f":"IF(A28<$O$7,A28+1,IF(A28=$O$7,\"\"))","v":"2023-02-26"},null,null,"Sunday",null,null,null,null,null,null,null,null,null,null,{"$f":"SUM(E30:N30)-J30","v":0},{"$f":"IF(AND(ISNUMBER(AA30),ISNUMBER(X30)),AA30*X30,\"\")","v":""},null,{"$f":"IF(AND(ISNUMBER(AB30),ISNUMBER(X30)),AB30*X30,\"\")","v":""},null,null,{"$f":"IF(BJ30>0,BJ30,BN30)","v":0},{"$f":"IF(BK30>0,BK30,0)","v":0},null,{"$f":"IF(ISNA(INDEX('Conversion Factors'!$B$6:$B$370,MATCH('Feb 16 - Feb 28'!$Z$30:$Z$36,'Conversion Factors'!$A$6:$A$370,0))),\"\",INDEX('Conversion Factors'!$B$6:$B$370,MATCH('Feb 16 - Feb 28'!$Z$30:$Z$36,'Conversion Factors'!$A$6:$A$370,0)))","v":9.6300000000000008},null,{"$f":"A30","v":"2023-02-26"},{"$f":"IF(AND(ISNUMBER(N30),ISNUMBER($Z$12)),N30/$Z$12,\"\")","v":""},{"$f":"IF(AND(ISNUMBER(Q30),ISNUMBER($Z$12)),Q30/$Z$12,\"\")","v":""},null,null,null,null,null,{"$f":"E30+AH29","v":0},{"$f":"IF(AH30>$AI$12,AH30-($AI$12+AI29),0)","v":0},{"$f":"IF(AND(AZ30>0,AZ30),IF(BA30>0,BA30,IF(BB30>0,BB30,IF(BC30>0,BC30,IF(BF30>0,BF30,\"\")))))","v":false},{"$f":"IF(AND(AO30>0,AO30),IF(AP30>0,AP30,IF(AQ30>0,AQ30,IF(AR30>0,AR30,IF(AU30>0,AU30,\"\")))))","v":false},null,0,null,{"$f":"IF(G30=0,0,\"\")","v":0},{"$f":"IF(AND(AH30<=40,E30=G30),G30,0)","v":0},{"$f":"IF(AND(AH30<=40,E30>=G30,G30>0),O30-E30,0)","v":0},{"$f":"IF(AND(AH30<=40,E30<G30),O30-G30,0)","v":0},{"$f":"IF(AND(G30=0),G30,IF(AND(G30>0,AI30>0,G30=AT30),AT30,IF(AND(G30>0,AI30>0,G30-AT30),AT30,0)))","v":0},null,{"$f":"AS30","v":0},{"$f":"IF(AND(AH29+AU30=40,AI30>0,AI30>AU30),AI30-AU30,IF(AND(AH29+AU30=40,AI30>0,AI30<AU30,AU30+AI30=G30),AI30,IF(AND(AH29>40,AH30>40,G30=AI30),AI30,0)))","v":0},{"$f":"AV30","v":0},null,{"$f":"IF(AND(J30>0,AI30>=J30,BB30=0),O30-AI30,IF(AND(J30>0,AI30>0,BB30<=AI30),AI30-BB30,IF(AND(J30>0,AI30>0,BB30>AI30),J30-BB30,0)))","v":0},0,{"$f":"IF(AND(AH30<=40,E30=J30),J30,0)","v":0},{"$f":"IF(AND(AZ30=0),AZ30,IF(AND(AH30>40,E30>=J30),BE30,IF(AND(AH30<=40,E30>J30),J30,0)))","v":0},{"$f":"IF(AND(AH30<=40,E30<J30),O30-J30,0)","v":0},{"$f":"IF(AND(J30=0),J30,IF(AND(J30>0,AI30>0,J30=BC30),BC30,IF(AND(J30>0,AI30>0,J30-BC30),BC30,0)))","v":0},null,{"$f":"BD30","v":0},null,{"$f":"IF(AND(G30>0,E30>0),1,0)","v":0},{"$f":"40-AH30","v":40},0,{"$f":"IF(AND(BH30=1,BL30>40,E30<G30),E30-BJ30,(IF(AND(BH30=1,BL30>0,E30>=G30),G30-BJ30,0)))","v":0},{"$f":"E30","v":0},{"$f":"IF(AND(K30>0,E30>0),1,0)","v":0},{"$f":"IF(AND(BM30=1,J30>8),K30,(IF(AND(BM30=1,J30>0),J30,0)))","v":0},{"$f":"IF(AND(BM30=1,40-BL29>0,40-BL29<8),40-BL29,IF(AND(J30<K30),J30,K30))","v":0},{"$f":"IF(AND(BM30=1,BL30>40,J30<=K30),J30-BO30,IF(AND(BM30=1,BL30>0,J30>K30),K30-BO30,0))","v":0}]
[{"$f":"IF(A30<$O$7,A30+1,IF(A30=$O$7,\"\"))","v":"2023-02-27"},null,null,"Monday",null,null,null,null,null,null,null,null,null,null,{"$f":"SUM(E31:N31)-J31","v":0},{"$f":"IF(AND(ISNUMBER(AA31),ISNUMBER(X31)),AA31*X31,\"\")","v":""},null,{"$f":"IF(AND(ISNUMBER(AB31),ISNUMBER(X31)),AB31*X31,\"\")","v":""},null,null,0,{"$f":"IF(BK31>0,BK31,0)","v":0},null,{"$f":"IF(ISNA(INDEX('Conversion Factors'!$B$6:$B$370,MATCH('Feb 16 - Feb 28'!$Z$30:$Z$36,'Conversion Factors'!$A$6:$A$370,0))),\"\",INDEX('Conversion Factors'!$B$6:$B$370,MATCH('Feb 16 - Feb 28'!$Z$30:$Z$36,'Conversion Factors'!$A$6:$A$370,0)))","v":9.6300000000000008},null,"2023-02-27","","",null,null,null,null,null,0,{"$f":"IF(AH31>$AI$12,AH31-($AI$12+AI30+AI29),0)","v":0},false,{"$f":"IF(AND(AO31>0,AO31),IF(AP31>0,AP31,IF(AQ31>0,AQ31,IF(AR31>0,AR31,IF(AU31>0,AU31,0)))))","v":false},null,0,null,0,0,0,0,0,{"$f":"IF(AND(AH30<=40),40-AH30,0)","v":40},{"$f":"AS31","v":0},0,{"$f":"AV31","v":0},null,0,0,0,0,0,0,{"$f":"IF(AND(AH30<=40),40-AH30,0)","v":40},{"$f":"BD31","v":0},null,{"$f":"IF(AND(G31>0,E31>0),1,0)","v":0},40,0,0,{"$f":"SUM(E30:E31)","v":0},{"$f":"IF(AND(K31>0,E31>0),1,0)","v":0},{"$f":"IF(AND(BM31=1,J31>8),K31,(IF(AND(BM31=1,J31>0),J31,0)))","v":0},0,0]
["2023-02-28",null,null,"Tuesday",null,null,null,null,null,null,null,null,null,null,0,"",null,"",null,null,0,0,null,{"$f":"IF(ISNA(INDEX('Conversion Factors'!$B$6:$B$370,MATCH('Feb 16 - Feb 28'!$Z$30:$Z$36,'Conversion Factors'!$A$6:$A$370,0))),\"\",INDEX('Conversion Factors'!$B$6:$B$370,MATCH('Feb 16 - Feb 28'!$Z$30:$Z$36,'Conversion Factors'!$A$6:$A$370,0)))","v":9.6300000000000008},null,"2023-02-28","","",null,null,null,null,null,0,{"$f":"IF(AH32>$AI$12,AH32-($AI$12+AI31+AI30+AI29),0)","v":0},false,false,null,0,null,0,0,0,0,0,40,0,0,0,null,0,0,0,0,0,0,{"$f":"IF(AND(AH31<=40),40-AH31,0)","v":40},0,null,{"$f":"IF(AND(G32>0,E32>0),1,0)","v":0},40,0,0,{"$f":"SUM(E30:E32)","v":0},0,{"$f":"IF(AND(BM32=1,J32>8),K32,(IF(AND(BM32=1,J32>0),J32,0)))","v":0},{"$f":"IF(AND(BM32=1,40-BL31>0,40-BL31<8),40-BL31,IF(AND(J32<K32),J32,K32))","v":0},0]
["",null,null,"Wednesday",null,null,null,null,null,null,null,null,null,null,0,"",null,"",null,null,0,0,null,{"$f":"IF(ISNA(INDEX('Conversion Factors'!$B$6:$B$370,MATCH('Feb 16 - Feb 28'!$Z$30:$Z$36,'Conversion Factors'!$A$6:$A$370,0))),\"\",INDEX('Conversion Factors'!$B$6:$B$370,MATCH('Feb 16 - Feb 28'!$Z$30:$Z$36,'Conversion Factors'!$A$6:$A$370,0)))","v":""},null,"","","",null,null,null,null,null,0,{"$f":"IF(AH33>$AI$12,AH33-($AI$12+AI32+AI31+AI30+AI29),0)","v":0},false,false,null,0,null,0,0,0,0,0,40,0,0,0,null,0,0,0,0,0,0,40,0,null,{"$f":"IF(AND(G33>0,E33>0),1,0)","v":0},40,0,0,{"$f":"SUM(E30:E33)","v":0},0,{"$f":"IF(AND(BM33=1,J33>8),K33,(IF(AND(BM33=1,J33>0),J33,0)))","v":0},{"$f":"IF(AND(BM33=1,40-BL32>0,40-BL32<8),40-BL32,IF(AND(J33<K33),J33,K33))","v":0},0]
[false,null,null,"Thursday",null,null,null,null,null,null,null,null,null,null,0,"",null,"",null,null,0,0,null,{"$f":"IF(ISNA(INDEX('Conversion Factors'!$B$6:$B$370,MATCH('Feb 16 - Feb 28'!$Z$30:$Z$36,'Conversion Factors'!$A$6:$A$370,0))),\"\",INDEX('Conversion Factors'!$B$6:$B$370,MATCH('Feb 16 - Feb 28'!$Z$30:$Z$36,'Conversion Factors'!$A$6:$A$370,0)))","v":""},null,false,"","",null,null,null,null,null,0,{"$f":"IF(AH34>$AI$12,AH34-($AI$12+AI33+AI32+AI31+AI30+AI29),0)","v":0},false,false,null,0,null,0,0,0,0,0,{"$f":"IF(AND(AH33<=40),40-AH33,0)","v":40},0,0,0,null,0,0,0,0,0,0,40,0,null,0,40,0,0,{"$f":"SUM(E30:E34)","v":0},0,0,0,0]
[false,null,null,"Friday",null,null,null,null,null,null,null,null,null,null,0,"",null,"",null,null,0,0,null,{"$f":"IF(ISNA(INDEX('Conversion Factors'!$B$6:$B$370,MATCH('Feb 16 - Feb 28'!$Z$30:$Z$36,'Conversion Factors'!$A$6:$A$370,0))),\"\",INDEX('Conversion Factors'!$B$6:$B$370,MATCH('Feb 16 - Feb 28'!$Z$30:$Z$36,'Conversion Factors'!$A$6:$A$370,0)))","v":""},null,false,"","",null,null,null,null,null,0,{"$f":"IF(AH35>$AI$12,AH35-($AI$12+AI34+AI33+AI32+AI31+AI30+AI29),0)","v":0},false,false,null,0,null,0,0,0,0,0,{"$f":"IF(AND(AH34<=40),40-AH34,0)","v":40},0,0,0,null,0,0,0,0,0,0,40,0,null,0,40,0,0,{"$f":"SUM(E30:E35)","v":0},0,0,0,{"$f":"IF(AND(BM35=1,BL35>40,J35<=K35),J35-BO35,IF(AND(BM35=1,BL35>0,J35>K35),K35-BO35,0))","v":0}]
[false,null,null,"Saturday",null,null,null,null,null,null,null,null,null,null,0,"",null,"",null,null,0,0,null,{"$f":"IF(ISNA(INDEX('Conversion Factors'!$B$6:$B$370,MATCH('Feb 16 - Feb 28'!$Z$30:$Z$36,'Conversion Factors'!$A$6:$A$370,0))),\"\",INDEX('Conversion Factors'!$B$6:$B$370,MATCH('Feb 16 - Feb 28'!$Z$30:$Z$36,'Conversion Factors'!$A$6:$A$370,0)))","v":""},null,false,"","",null,null,null,null,null,0,{"$f":"IF(AH36>$AI$12,AH36-($AI$12+AI35+AI34+AI33+AI32+AI31+AI30+AI29),0)","v":0},false,false,null,0,null,0,0,0,0,0,40,0,0,0,null,0,0,0,0,0,0,40,0,null,0,40,0,0,{"$f":"SUM(E30:E36)","v":0},0,0,0,{"$f":"IF(AND(BM36=1,BL36>40,J36<=K36),J36-BO36,IF(AND(BM36=1,BL36>0,J36>K36),K36-BO36,0))","v":0}]
["Week 3 Totals",null,null,null,{"$f":"SUM(E30:E36)","v":0},0,0,0,0,null,0,0,0,0,{"$f":"SUM(O30:O36)","v":0},{"$f":"-SUM(P30:P36)","v":0},{"$f":"SUM(Q30:Q36)","v":0},{"$f":"SUM(R30:R36)","v":0},{"$f":"IF(E37>40,(E37-40)-V37,0)","v":0},{"$f":"MROUND(AL37,0.25)","v":0},{"$f":"SUM(U30:U36)","v":0},{"$f":"SUM(V30:V36)","v":0},{"$f":"IF(E37-(E11-(G37+K37+F37+H37+I37+L37+M3))-(S37+U37+V37)>0,E37-(E11-(G37+K37+F37+H37+I37+L37+M37))-(S37+U37+V37),0)","v":0},null,null,null,null,null,{"$f":"SUM(F37:N37)","v":0},{"$f":"IF(AND(AG37<40,O37>=AG37),O37-(AG37+S37),IF(AND(O37<AG37,E37=O37),O37-E37,IF(AND(E37>AG37,E37<40),E37-AG37,IF(AND(O37>AG37,E37<AG37),E37-(AG37-AC37),IF(AND(O37>AG37,E37>40),E37-(AG37-AC37+S37),IF(AND(O37>AG37,O37>40),O37-(S37+AG37),0))))))","v":0},{"$f":"AD37-U37-V37","v":0},{"$f":"$W$11","v":"Please Select"},{"$f":"$E$11","v":40},null,{"$f":"IF(AH37>$AI$12,-$AI$12,0)","v":0},null,null,{"$f":"IF(AF37=\"Yes\",S37*1.5,0)","v":0},null,null,null,null,null,null,null,null,null,null,null,null,null,null,null,null,null,null,null,null,null,0,null,null,null,null,null,null,null,{"$f":"SUM(BP30:BP36)","v":0},{"$f":"U37+E11","v":40}]
[{"$f":"IF(A36<$O$7,A36+1,IF(A36=$O$7,\"\"))","v":false},null,null,"Sunday",null,null,null,null,null,null,null,null,null,null,{"$f":"SUM(E38:N38)-J38","v":0},{"$f":"IF(AND(ISNUMBER(AA38),ISNUMBER(X38)),AA38*X38,\"\")","v":""},null,{"$f":"IF(AND(ISNUMBER(AB38),ISNUMBER(X38)),AB38*X38,\"\")","v":""},null,null,0,{"$f":"IF(BK38>0,BK38,0)","v":0},null,{"$f":"IF(ISNA(INDEX('Conversion Factors'!$B$6:$B$370,MATCH('Feb 16 - Feb 28'!$Z$38:$Z$44,'Conversion Factors'!$A$6:$A$370,0))),\"\",INDEX('Conversion Factors'!$B$6:$B$370,MATCH('Feb 16 - Feb 28'!$Z$38:$Z$44,'Conversion Factors'!$A$6:$A$370,0)))","v":""},null,{"$f":"A38","v":false},{"$f":"IF(AND(ISNUMBER(N38),ISNUMBER($Z$12)),N38/$Z$12,\"\")","v":""},{"$f":"IF(AND(ISNUMBER(Q38),ISNUMBER($Z$12)),Q38/$Z$12,\"\")","v":""},null,null,null,null,null,{"$f":"E38+AH37","v":0},{"$f":"IF(AH38>$AI$12,AH38-($AI$12+AI37),0)","v":0},{"$f":"IF(AND(AZ38>0,AZ38),IF(BA38>0,BA38,IF(BB38>0,BB38,IF(BC38>0,BC38,IF(BF38>0,BF38,\"\")))))","v":false},{"$f":"IF(AND(AO38>0,AO38),IF(AP38>0,AP38,IF(AQ38>0,AQ38,IF(AR38>0,AR38,IF(AU38>0,AU38,\"\")))))","v":false},null,{"$f":"J38","v":0},null,{"$f":"IF(G38=0,0,\"\")","v":0},{"$f":"IF(AND(AH38<=40,E38=G38),G38,0)","v":0},{"$f":"IF(AND(AH38<=40,E38>=G38,G38>0),O38-E38,0)","v":0},{"$f":"IF(AND(AH38<=40,E38<G38),O38-G38,0)","v":0},{"$f":"IF(AND(G38=0),G38,IF(AND(G38>0,AI38>0,G38=AT38),AT38,IF(AND(G38>0,AI38>0,G38-AT38),AT38,0)))","v":0},null,{"$f":"AS38","v":0},{"$f":"IF(AND(AH37+AU38=40,AI38>0,AI38>AU38),AI38-AU38,IF(AND(AH37+AU38=40,AI38>0,AI38<AU38,AU38+AI38=G38),AI38,IF(AND(AH37>40,AH38>40,G38=AI38),AI38,0)))","v":0},{"$f":"AV38","v":0},null,{"$f":"IF(AND(J38>0,AI38>=J38,BB38=0),O38-AI38,IF(AND(J38>0,AI38>0,BB38<=AI38),AI38-BB38,IF(AND(J38>0,AI38>0,BB38>AI38),J38-BB38,0)))","v":0},{"$f":"IF(J38=0,0,\"\")","v":0},{"$f":"IF(AND(AH38<=40,E38=J38),J38,0)","v":0},{"$f":"IF(AND(AZ38=0),AZ38,IF(AND(AH38>40,E38>=J38),BE38,IF(AND(AH38<=40,E38>J38),J38,0)))","v":0},{"$f":"IF(AND(AH38<=40,E38<J38),O38-J38,0)","v":0},{"$f":"IF(AND(J38=0),J38,IF(AND(J38>0,AI38>0,J38=BC38),BC38,IF(AND(J38>0,AI38>0,J38-BC38),BC38,0)))","v":0},null,{"$f":"BD38","v":0},null,{"$f":"IF(AND(G38>0,E38>0),1,0)","v":0},{"$f":"40-AH38","v":40},0,{"$f":"IF(AND(BH38=1,BL38>40,E38<G38),E38-BJ38,(IF(AND(BH38=1,BL38>0,E38>=G38),G38-BJ38,0)))","v":0},{"$f":"E38","v":0},{"$f":"IF(AND(K38>0,E38>0),1,0)","v":0},{"$f":"IF(AND(BM38=1,J38>8),K38,(IF(AND(BM38=1,J38>0),J38,0)))","v":0},{"$f":"IF(AND(BM38=1,40-BL37>0,40-BL37<8),40-BL37,IF(AND(J38<K38),J38,K38))","v":0},{"$f":"IF(AND(BM38=1,BL38>40,J38<=K38),J38-BO38,IF(AND(BM38=1,BL38>0,J38>K38),K38-BO38,0))","v":0}]
[{"$f":"IF(A38<$O$7,A38+1,IF(A38=$O$7,\"\"))","v":false},null,null,"Monday",null,null,null,0,null,null,null,null,null,null,{"$f":"SUM(E39:N39)-J39","v":0},{"$f":"IF(AND(ISNUMBER(AA39),ISNUMBER(X39)),AA39*X39,\"\")","v":""},null,{"$f":"IF(AND(ISNUMBER(AB39),ISNUMBER(X39)),AB39*X39,\"\")","v":""},null,null,0,{"$f":"IF(BK39>0,BK39,0)","v":0},null,{"$f":"IF(ISNA(INDEX('Conversion Factors'!$B$6:$B$370,MATCH('Feb 16 - Feb 28'!$Z$38:$Z$44,'Conversion Factors'!$A$6:$A$370,0))),\"\",INDEX('Conversion Factors'!$B$6:$B$370,MATCH('Feb 16 - Feb 28'!$Z$38:$Z$44,'Conversion Factors'!$A$6:$A$370,0)))","v":""},null,false,"","",null,null,null,null,null,0,{"$f":"IF(AH39>$AI$12,AH39-($AI$12+AI38+AI37),0)","v":0},false,{"$f":"IF(AND(AO39>0,AO39),IF(AP39>0,AP39,IF(AQ39>0,AQ39,IF(AR39>0,AR39,IF(AU39>0,AU39,0)))))","v":false},null,0,null,0,0,0,0,0,{"$f":"IF(AND(AH38<=40),40-AH38,0)","v":40},{"$f":"AS39","v":0},0,{"$f":"AV39","v":0},null,0,0,0,0,0,0,{"$f":"IF(AND(AH38<=40),40-AH38,0)","v":40},{"$f":"BD39","v":0},null,{"$f":"IF(AND(G39>0,E39>0),1,0)","v":0},40,0,0,{"$f":"SUM(E38:E39)","v":0},{"$f":"IF(AND(K39>0,E39>0),1,0)","v":0},{"$f":"IF(AND(BM39=1,J39>8),K39,(IF(AND(BM39=1,J39>0),J39,0)))","v":0},0,0]
[false,null,null,"Tuesday",null,null,null,null,null,0,0,null,null,null,{"$f":"SUM(E40:N40)-J40","v":0},"",null,"",null,null,0,0,null,{"$f":"IF(ISNA(INDEX('Conversion Factors'!$B$6:$B$370,MATCH('Feb 16 - Feb 28'!$Z$38:$Z$44,'Conversion Factors'!$A$6:$A$370,0))),\"\",INDEX('Conversion Factors'!$B$6:$B$370,MATCH('Feb 16 - Feb 28'!$Z$38:$Z$44,'Conversion Factors'!$A$6:$A$370,0)))","v":""},null,false,"","",null,null,null,null,null,0,{"$f":"IF(AH40>$AI$12,AH40-($AI$12+AI39+AI38+AI37),0)","v":0},false,false,null,0,null,0,0,0,0,0,40,0,0,0,null,0,0,0,0,0,0,{"$f":"IF(AND(AH39<=40),40-AH39,0)","v":40},0,null,{"$f":"IF(AND(G40>0,E40>0),1,0)","v":0},40,0,0,{"$f":"SUM(E38:E40)","v":0},0,{"$f":"IF(AND(BM40=1,J40>8),K40,(IF(AND(BM40=1,J40>0),J40,0)))","v":0},{"$f":"IF(AND(BM40=1,40-BL39>0,40-BL39<8),40-BL39,IF(AND(J40<K40),J40,K40))","v":0},0]
[false,null,null,"Wednesday",null,null,null,null,null,null,null,null,null,null,0,"",null,"",null,null,0,0,null,{"$f":"IF(ISNA(INDEX('Conversion Factors'!$B$6:$B$370,MATCH('Feb 16 - Feb 28'!$Z$38:$Z$44,'Conversion Factors'!$A$6:$A$370,0))),\"\",INDEX('Conversion Factors'!$B$6:$B$370,MATCH('Feb 16 - Feb 28'!$Z$38:$Z$44,'Conversion Factors'!$A$6:$A$370,0)))","v":""},null,false,"","",null,null,null,null,null,0,{"$f":"IF(AH41>$AI$12,AH41-($AI$12+AI40+AI39+AI38+AI37),0)","v":0},false,false,null,0,null,0,0,0,0,0,40,0,0,0,null,0,0,0,0,0,0,40,0,null,{"$f":"IF(AND(G41>0,E41>0),1,0)","v":0},40,0,0,{"$f":"SUM(E38:E41)","v":0},0,{"$f":"IF(AND(BM41=1,J41>8),K41,(IF(AND(BM41=1,J41>0),J41,0)))","v":0},{"$f":"IF(AND(BM41=1,40-BL40>0,40-BL40<8),40-BL40,IF(AND(J41<K41),J41,K41))","v":0},0]
[false,null,null,"Thursday",null,null,null,null,null,null,null,null,null,null,0,"",null,"",null,null,0,0,null,{"$f":"IF(ISNA(INDEX('Conversion Factors'!$B$6:$B$370,MATCH('Feb 16 - Feb 28'!$Z$38:$Z$44,'Conversion Factors'!$A$6:$A$370,0))),\"\",INDEX('Conversion Factors'!$B$6:$B$370,MATCH('Feb 16 - Feb 28'!$Z$38:$Z$44,'Conversion Factors'!$A$6:$A$370,0)))","v":""},null,false,"","",null,null,null,null,null,0,{"$f":"IF(AH42>$AI$12,AH42-($AI$12+AI41+AI40+AI39+AI38+AI37),0)","v":0},false,false,null,0,null,0,0,0,0,0,{"$f":"IF(AND(AH41<=40),40-AH41,0)","v":40},0,0,0,null,0,0,0,0,0,0,40,0,null,0,40,0,0,{"$f":"SUM(E38:E42)","v":0},0,0,0,0]
[false,null,null,"Friday",null,null,null,null,null,null,null,null,null,null,0,"",null,"",null,null,0,0,null,{"$f":"IF(ISNA(INDEX('Conversion Factors'!$B$6:$B$370,MATCH('Feb 16 - Feb 28'!$Z$38:$Z$44,'Conversion Factors'!$A$6:$A$370,0))),\"\",INDEX('Conversion Factors'!$B$6:$B$370,MATCH('Feb 16 - Feb 28'!$Z$38:$Z$44,'Conversion Factors'!$A$6:$A$370,0)))","v":""},null,false,"","",null,null,null,null,null,0,{"$f":"IF(AH43>$AI$12,AH43-($AI$12+AI42+AI41+AI40+AI39+AI38+AI37),0)","v":0},false,false,null,0,null,0,0,0,0,0,{"$f":"IF(AND(AH42<=40),40-AH42,0)","v":40},0,0,0,null,0,0,0,0,0,0,40,0,null,0,40,0,0,{"$f":"SUM(E38:E43)","v":0},0,0,0,{"$f":"IF(AND(BM43=1,BL43>40,J43<=K43),J43-BO43,IF(AND(BM43=1,BL43>0,J43>K43),K43-BO43,0))","v":0}]
[false,null,null,"Saturday",null,null,null,null,null,null,null,null,null,null,{"$f":"SUM(E44:N44)-J44","v":0},"",null,"",null,null,0,0,null,{"$f":"IF(ISNA(INDEX('Conversion Factors'!$B$6:$B$370,MATCH('Feb 16 - Feb 28'!$Z$38:$Z$44,'Conversion Factors'!$A$6:$A$370,0))),\"\",INDEX('Conversion Factors'!$B$6:$B$370,MATCH('Feb 16 - Feb 28'!$Z$38:$Z$44,'Conversion Factors'!$A$6:$A$370,0)))","v":""},null,false,"","",null,null,null,null,null,0,{"$f":"IF(AH44>$AI$12,AH44-($AI$12+AI43+AI42+AI41+AI40+AI39+AI38+AI37),0)","v":0},false,false,null,0,null,0,0,0,0,0,40,0,0,0,null,0,0,0,0,0,0,40,0,null,0,40,0,0,{"$f":"SUM(E38:E44)","v":0},0,0,0,{"$f":"IF(AND(BM44=1,BL44>40,J44<=K44),J44-BO44,IF(AND(BM44=1,BL44>0,J44>K44),K44-BO44,0))","v":0}]
["Week 4 Totals",null,null,null,{"$f":"SUM(E38:E44)","v":0},{"$f":"SUM(F38:F44)","v":0},0,0,0,null,0,0,0,0,{"$f":"SUM(O38:O44)","v":0},{"$f":"-SUM(P38:P44)","v":0},{"$f":"SUM(Q38:Q44)","v":0},{"$f":"SUM(R38:R44)","v":0},{"$f":"IF(E45>40,(E45-40)-V45,0)","v":0},{"$f":"MROUND(AL45,0.25)","v":0},{"$f":"SUM(U38:U44)","v":0},{"$f":"SUM(V38:V44)","v":0},{"$f":"IF(E45-(E11-(G45+K45+F45+H45+I45+L45+M45))-(S45+U45+V45)>0,E45-(E11-(G45+K45+F45+H45+I45+L45+M45))-(S45+U45+V45),0)","v":0},null,null,null,null,null,{"$f":"SUM(F45:N45)","v":0},{"$f":"IF(AND(AG45<40,O45>=AG45),O45-(AG45+S45),IF(AND(O45<AG45,E45=O45),O45-E45,IF(AND(E45>AG45,E45<40),E45-AG45,IF(AND(O45>AG45,E45<AG45),E45-(AG45-AC45),IF(AND(O45>AG45,E45>40),E45-(AG45-AC45+S45),IF(AND(O45>AG45,O45>40),O45-(S45+AG45),0))))))","v":0},{"$f":"AD45-U45-V45","v":0},{"$f":"$W$11","v":"Please Select"},{"$f":"$E$11","v":40},null,{"$f":"IF(AH45>$AI$12,-$AI$12,0)","v":0},null,null,{"$f":"IF(AF45=\"Yes\",S45*1.5,0)","v":0},null,null,null,null,null,null,null,null,null,null,null,null,null,null,null,null,null,null,null,null,null,null,null,null,null,null,null,null,null,{"$f":"SUM(BP38:BP44)","v":0},{"$f":"E44+E11","v":40}]
[null,null,null,null,null,null,null,null,"Total-Net Previous Week",null,null,null,null,null,{"$f":"(O21+O29+O37+O45)-O13","v":0},{"$f":"(P21+P29+P37+P45)-P13","v":0},0,0,0,0,0,0,0,0]
[]
[null,null,null,null,null,null,null,null,null,null,null,null,null,null,"Leave/Leave Without Pay Policy"]
["Employee signature",null,null,null,null,null,"Date",null,null,null,null,null,null,null,"Overtime/Compensatory Time"]
["I certify this record is accurate and accounts for my time during the indicated period.",null,null,null,null,null,null,null,null,null,null,null,null,null,"Time Sheet Definitions/Policies"]
[]
[null,null,null,null,null,null,null,null,null,null,"“Actual Work Hours During Administrative Close Period” – Only key the hours actually worked during the admministrative closing period into this field. "]
[]
["Manager signature",null,null,null,null,null,"Date"]
["I certify the hours recorded and coded on this form are correct and in compliance with University policy.",null,null,null,null,null,null,null,null,null,"“Administrative Closing/Leave Period field.”  Entter the number of hours of the declared period of administrative closing. (The total hours worked during the entire day will be entered into the “Actual Hours Worked” field.)"]

{"sheet":"Mar 1 - Mar 15","index":23,"n_rows":55,"n_cols":69,"rows_kept":55,"cut":false,"hidden":false,"merged":[[47,14,47,22],[48,14,48,19],[49,14,49,22],[51,10,53,22],[54,10,56,22],[45,8,45,13],[34,0,34,2],[35,0,35,2],[36,0,36,2],[37,0,37,2],[38,0,38,2],[39,0,39,2],[40,0,40,2],[41,0,41,2],[42,0,42,2],[43,0,43,2],[44,0,44,2],[33,0,33,2],[22,0,22,2],[23,0,23,2],[24,0,24,2],[25,0,25,2],[26,0,26,2],[27,0,27,2],[28,0,28,2],[29,0,29,2],[30,0,30,2],[31,0,31,2],[32,0,32,2],[21,0,21,2],[11,0,11,2],[11,29,11,30],[12,0,12,3],[13,0,13,2],[14,0,14,2],[15,0,15,2],[16,0,16,2],[17,0,17,2],[18,0,18,2],[19,0,19,2],[20,0,20,2],[10,40,10,46],[6,2,6,7],[6,8,6,13],[6,14,6,19],[7,2,7,7],[7,8,7,13],[7,14,7,19],[10,0,10,3],[10,4,10,5],[10,6,10,17],[10,18,10,21],[10,22,10,23],[0,0,0,22],[1,0,1,22],[3,0,3,23],[5,2,5,7],[5,8,5,13],[5,14,5,19]]}
["Mississippi State University"]
["Non-Exempt Employee Semi-Monthly Time Report"]
[]
["Instructions:  The Fair Labor Standards Act requires that a record of hours worked on a weekly basis be maintained for all employees except executive, administrative, managerial, faculty, and professional (non-faculty).  Department/unit heads are responsible for compiling and maintaining this record in department files on each covered employee for a period of at least (3) years."]
[]
["MSU ID #:",null,{"$f":"'July 1 - July 15'!C6","v":0},null,null,null,null,null,"Pay period start date:",null,null,null,null,null,{"$f":"'Dates & Notes'!$A$18","v":"2023-03-01"},null,null,null,null,null,null,null,null,null,null,{"$f":"TEXT(O6,\"dddd\")","v":"Wednesday"},null,null,null,"Please Select"]
["Name:",null,{"$f":"'July 1 - July 15'!C7","v":0},null,null,null,null,null,"Pay period end date:",null,null,null,null,null,{"$f":"'Dates & Notes'!$B$18","v":"2023-03-15"},null,null,null,null,null,null,null,null,null,null,null,null,null,null,"No"]
["Department:",null,{"$f":"'July 1 - July 15'!C8","v":0},null,null,null,null,null,"Pay Period Number:",null,null,null,null,null,{"$f":"'Dates & Notes'!$C$18","v":5},null,null,null,null,null,null,null,null,null,null,null,null,null,null,"Yes"]
[]
[]
["Employee Scheduled Hours Per Week",null,null,null,40,null,"FIELDS MUST BE ENTERED FOR CALULATIONS TO WORK PROPERLY",null,null,null,null,null,null,null,null,null,null,null,"Receive Compensatory Time",null,null,null,"Please Select",null,null,null,null,null,null,null,null,null,null,null,"Over 40",null,null,null,null,null,"HOW ANALYSIS"]
["Work Week Dates",null,null,"Day of The Week","Actual Hours Worked","Compensatory Time Used","Holiday","Medical Leave","Personal Leave","Actual Wrk Hrs During  Admin Close Period","Administrative Closing/Leave Period","Jury Duty","Military Leave","Leave Without Pay","Totals","DOC-Payroll Conversion","RTO","RTO-Payroll Conversion","Overtime Hours","Hours Transferred to Comp. Record","HOW-Holiday Pay or Admin/Leave Closing","HOT-Holiday Pay","SST-Payroll","Conversion Factor",null,8,"DOC","RTO",null,"SST",null,null,null,"Cumm Actual HRS",40,"Administrative Leave","HOW-Holiday Pay","Comp. Time","Administrative/Schedule",null,"Holiday=0\n1",2,3,4,null,"<=40\n5",null,"HOT Workup","HOT-Holiday Pay (HOLIDAY PAY)",null,"HOT-Administrative HRS","Administrative=0\n1",2,3,4,null,"<=40\n5",null,null,"Holiday Flag","Up to 40","How","Hot","Actual Hours Worked","Admin Flag","Admin","Admin HOW","Admin OVT"]
["Hours-Previous WK (Due to Split WK)",null,null,null,{"$f":"SUM(E14:E16)","v":0},0,0,0,0,0,0,0,0,0,{"$f":"SUM(E13:N13)-J13","v":0},null,null,null,null,null,null,null,null,null,null,null,null,null,null,null,null,null,null,null,null,{"$f":"IF(AND(AM13=0,J13=0),AM13,IF(AND(E13>AM13,J13=0),J13,IF(AND(J13<AM13,AI13=0),J13,IF(AND(AM13=J13,AI13<AM13),AM13-AI13,IF(AND(J13=AM13,AI13=AM13),AI13,IF(AND(J13<AM13,AI13>0),AM13-J13,IF(AND(AM13>J13,AI13<E13),E13-AI13,IF(AND(E13>AM13,AI13=E13),O13-AI13,0))))))))","v":0},{"$f":"IF(AND(G13=0,E13>G13),G13,IF(AND(E13>G13,AI13=0),G13,IF(AND(E13<G13,AI13=0),E13,IF(AND(E13=G13,AI13<G13),G13-AI13,IF(AND(E13=G13,AI13=G13),AI13,IF(AND(E13<G13,AI13>0),G13-E13,IF(AND(E13>G13,AI13<E13),E13-AI13,IF(AND(E13>G13,AI13=E13),O13-AI13,0))))))))","v":0},null,{"$f":"K13","v":0}]
[{"$f":"IF(EXACT(D14,$Z$6)=TRUE,$O$6,IF(A12=0,\"\",IF(A12<$O$7,A12+1,IF(A12=$O$7,\"\"))))","v":false},null,null,"Sunday",{"$f":"'Feb 16 - Feb 28'!E30","v":0},{"$f":"'Feb 16 - Feb 28'!F30","v":0},{"$f":"'Feb 16 - Feb 28'!G30","v":0},{"$f":"'Feb 16 - Feb 28'!H30","v":0},{"$f":"'Feb 16 - Feb 28'!I30","v":0},{"$f":"'Feb 16 - Feb 28'!J30","v":0},{"$f":"'Feb 16 - Feb 28'!K30","v":0},{"$f":"'Feb 16 - Feb 28'!L30","v":0},{"$f":"'Feb 16 - Feb 28'!M30","v":0},{"$f":"'Feb 16 - Feb 28'!N30","v":0},{"$f":"SUM(E14:N14)-J14","v":0},{"$f":"IF(AND(ISNUMBER(AA14),ISNUMBER(X14)),AA14*X14,\"\")","v":""},null,{"$f":"IF(AND(ISNUMBER(AB14),ISNUMBER(X14)),AB14*X14,\"\")","v":""},null,null,{"$f":"IF(BJ14>0,BJ14,BN14)","v":0},{"$f":"IF(BK14>0,BK14,0)","v":0},null,{"$f":"IF(ISNA(INDEX('Conversion Factors'!$B$6:$B$371,MATCH('Mar 1 - Mar 15'!$Z$14:$Z$20,'Conversion Factors'!$A$6:$A$371,0))),\"\",INDEX('Conversion Factors'!$B$6:$B$371,MATCH('Mar 1 - Mar 15'!$Z$14:$Z$20,'Conversion Factors'!$A$6:$A$371,0)))","v":""},null,{"$f":"A14","v":false},{"$f":"IF(AND(ISNUMBER(N14),ISNUMBER($Z$12)),N14/$Z$12,\"\")","v":0},{"$f":"IF(AND(ISNUMBER(Q14),ISNUMBER($Z$12)),Q14/$Z$12,\"\")","v":""},null,null,null,null,null,{"$f":"E14","v":0},{"$f":"IF(AH14>$AI$12,AH14-$AI$12,0)","v":0},{"$f":"IF(AND(AZ14>0,AZ14),IF(BA14>0,BA14,IF(BB14>0,BB14,IF(BC14>0,BC14,IF(BF14>0,BF14,\"\")))))","v":false},{"$f":"IF(AND(AO14>0,AO14),IF(AP14>0,AP14,IF(AQ14>0,AQ14,IF(AR14>0,AR14,IF(AU14>0,AU14,\"\")))))","v":false},null,{"$f":"J14","v":0},null,{"$f":"IF(G14=0,0,\"\")","v":0},{"$f":"IF(AND(AH14<=40,E14=G14),G14,0)","v":0},{"$f":"IF(AND(AH14<=40,E14>=G14,G14>0),O14-E14,0)","v":0},{"$f":"IF(AND(AH14<=40,E14<G14),O14-G14,0)","v":0},{"$f":"IF(AND(G14=0),G14,IF(AND(G14>0,AI14>0,G14=AT14),AT14,IF(AND(G14>0,AI14>0,G14-AT14),AT14,0)))","v":0},null,{"$f":"AS14","v":0},{"$f":"IF(AND(AH13+AU14=40,AI14>0,AI14>AU14),AI14-AU14,IF(AND(AH13+AU14=40,AI14>0,AI14<AU14,AU14+AI14=G14),AI14,IF(AND(AH13>40,AH14>40,G14=AI14),AI14,0)))","v":0},{"$f":"AV14","v":0},null,{"$f":"IF(AND(J14>0,AI14>=J14,BB14=0),O14-AI14,IF(AND(J14>0,AI14>0,BB14<=AI14),AI14-BB14,IF(AND(J14>0,AI14>0,BB14>AI14),J14-BB14,0)))","v":0},{"$f":"IF(J14=0,0,\"\")","v":0},{"$f":"IF(AND(AH14<=40,E14=J14),J14,0)","v":0},{"$f":"IF(AND(AZ14=0),AZ14,IF(AND(AH14>40,E14>=J14),BE14,IF(AND(AH14<=40,E14>J14),J14,0)))","v":0},{"$f":"IF(AND(AH14<=40,E14<J14),O14-J14,0)","v":0},{"$f":"IF(AND(J14=0),J14,IF(AND(J14>0,AI14>0,J14=BC14),BC14,IF(AND(J14>0,AI14>0,J14-BC14),BC14,0)))","v":0},null,{"$f":"BD14","v":0},null,{"$f":"IF(AND(G14>0,E14>0),1,0)","v":0},{"$f":"40-AH14","v":40},{"$f":"IF(AND(BH14=1,E14<8),E14,(IF(AND(BH14=1,E14>0),G14,0)))","v":0},{"$f":"IF(AND(BH14=1,BL14>40,E14<G14),E14-BJ14,(IF(AND(BH14=1,BL14>0,E14>=G14),G14-BJ14,0)))","v":0},{"$f":"E14","v":0},{"$f":"IF(AND(K14>0,E14>0),1,0)","v":0},{"$f":"IF(AND(BM14=1,J14>8),K14,(IF(AND(BM14=1,J14>0),J14,0)))","v":0},{"$f":"IF(AND(BM14=1,40-BL13>0,40-BL13<8),40-BL13,IF(AND(J14<K14),J14,K14))","v":0},{"$f":"IF(AND(BM14=1,BL14>40,J14<=K14),J14-BO14,IF(AND(BM14=1,BL14>0,J14>K14),K14-BO14,0))","v":0}]
[{"$f":"IF(EXACT(D15,$Z$6)=TRUE,$O$6,IF(A14=0,\"\",IF(A14<$O$7,A14+1,IF(A14=$O$7,\"\"))))","v":false},null,null,"Monday",{"$f":"'Feb 16 - Feb 28'!E31","v":0},{"$f":"'Feb 16 - Feb 28'!F31","v":0},{"$f":"'Feb 16 - Feb 28'!G31","v":0},{"$f":"'Feb 16 - Feb 28'!H31","v":0},{"$f":"'Feb 16 - Feb 28'!I31","v":0},{"$f":"'Feb 16 - Feb 28'!J31","v":0},{"$f":"'Feb 16 - Feb 28'!K31","v":0},{"$f":"'Feb 16 - Feb 28'!L31","v":0},{"$f":"'Feb 16 - Feb 28'!M31","v":0},{"$f":"'Feb 16 - Feb 28'!N31","v":0},{"$f":"SUM(E15:N15)-J15","v":0},{"$f":"IF(AND(ISNUMBER(AA15),ISNUMBER(X15)),AA15*X15,\"\")","v":""},null,{"$f":"IF(AND(ISNUMBER(AB15),ISNUMBER(X15)),AB15*X15,\"\")","v":""},null,null,{"$f":"IF(BJ15>0,BJ15,BN15)","v":0},{"$f":"IF(BK15>0,BK15,0)","v":0},null,{"$f":"IF(ISNA(INDEX('Conversion Factors'!$B$6:$B$371,MATCH('Mar 1 - Mar 15'!$Z$14:$Z$20,'Conversion Factors'!$A$6:$A$371,0))),\"\",INDEX('Conversion Factors'!$B$6:$B$371,MATCH('Mar 1 - Mar 15'!$Z$14:$Z$20,'Conversion Factors'!$A$6:$A$371,0)))","v":""},null,false,0,"",null,null,null,null,null,{"$f":"E15+AH14","v":0},{"$f":"IF(AH15>$AI$12,AH15-($AI$12+AI14),0)","v":0},{"$f":"IF(AND(AZ15>0,AZ15),IF(BA15>0,BA15,IF(BB15>0,BB15,IF(BC15>0,BC15,IF(BF15>0,BF15,\"\")))))","v":false},{"$f":"IF(AND(AO15>0,AO15),IF(AP15>0,AP15,IF(AQ15>0,AQ15,IF(AR15>0,AR15,IF(AU15>0,AU15,0)))))","v":false},null,0,null,0,0,0,0,0,{"$f":"IF(AND(AH14<=40),40-AH14,0)","v":40},{"$f":"AS15","v":0},0,{"$f":"AV15","v":0},null,0,0,0,0,0,0,{"$f":"IF(AND(AH14<=40),40-AH14,0)","v":40},{"$f":"BD15","v":0},null,{"$f":"IF(AND(G15>0,E15>0),1,0)","v":0},40,0,0,{"$f":"SUM(E14:E15)","v":0},{"$f":"IF(AND(K15>0,E15>0),1,0)","v":0},{"$f":"IF(AND(BM15=1,J15>8),K15,(IF(AND(BM15=1,J15>0),J15,0)))","v":0},0,0]
[false,null,null,"Tuesday",{"$f":"'Feb 16 - Feb 28'!E32","v":0},{"$f":"'Feb 16 - Feb 28'!F32","v":0},{"$f":"'Feb 16 - Feb 28'!G32","v":0},{"$f":"'Feb 16 - Feb 28'!H32","v":0},{"$f":"'Feb 16 - Feb 28'!I32","v":0},{"$f":"'Feb 16 - Feb 28'!J32","v":0},{"$f":"'Feb 16 - Feb 28'!K32","v":0},{"$f":"'Feb 16 - Feb 28'!L32","v":0},{"$f":"'Feb 16 - Feb 28'!M32","v":0},{"$f":"'Feb 16 - Feb 28'!N32","v":0},{"$f":"SUM(E16:N16)-J16","v":0},"",null,"",null,null,{"$f":"IF(BJ16>0,BJ16,BN16)","v":0},0,null,{"$f":"IF(ISNA(INDEX('Conversion Factors'!$B$6:$B$371,MATCH('Mar 1 - Mar 15'!$Z$14:$Z$20,'Conversion Factors'!$A$6:$A$371,0))),\"\",INDEX('Conversion Factors'!$B$6:$B$371,MATCH('Mar 1 - Mar 15'!$Z$14:$Z$20,'Conversion Factors'!$A$6:$A$371,0)))","v":""},null,false,0,"",null,null,null,null,null,0,{"$f":"IF(AH16>$AI$12,AH16-($AI$12+AI15+AI14),0)","v":0},false,false,null,0,null,0,0,0,0,0,40,0,0,0,null,0,0,0,0,0,0,{"$f":"IF(AND(AH15<=40),40-AH15,0)","v":40},0,null,{"$f":"IF(AND(G16>0,E16>0),1,0)","v":0},40,0,0,{"$f":"SUM(E14:E16)","v":0},0,{"$f":"IF(AND(BM16=1,J16>8),K16,(IF(AND(BM16=1,J16>0),J16,0)))","v":0},{"$f":"IF(AND(BM16=1,40-BL15>0,40-BL15<8),40-BL15,IF(AND(J16<K16),J16,K16))","v":0},0]
["2023-03-01",null,null,"Wednesday",null,null,null,null,null,null,null,null,null,null,{"$f":"SUM(E17:N17)-J17","v":0},"",null,"",null,null,0,0,null,{"$f":"IF(ISNA(INDEX('Conversion Factors'!$B$6:$B$371,MATCH('Mar 1 - Mar 15'!$Z$14:$Z$20,'Conversion Factors'!$A$6:$A$371,0))),\"\",INDEX('Conversion Factors'!$B$6:$B$371,MATCH('Mar 1 - Mar 15'!$Z$14:$Z$20,'Conversion Factors'!$A$6:$A$371,0)))","v":7.8789999999999996},null,"2023-03-01","","",null,null,null,null,null,0,{"$f":"IF(AH17>$AI$12,AH17-($AI$12+AI16+AI15+AI14),0)","v":0},false,false,null,0,null,0,0,0,0,0,40,0,0,0,null,0,0,0,0,0,0,40,0,null,0,40,0,0,{"$f":"SUM(E14:E17)","v":0},0,{"$f":"IF(AND(BM17=1,J17>8),K17,(IF(AND(BM17=1,J17>0),J17,0)))","v":0},{"$f":"IF(AND(BM17=1,40-BL16>0,40-BL16<8),40-BL16,IF(AND(J17<K17),J17,K17))","v":0},0]
["2023-03-02",null,null,"Thursday",null,null,null,null,null,null,null,null,null,null,0,"",null,"",null,null,0,0,null,{"$f":"IF(ISNA(INDEX('Conversion Factors'!$B$6:$B$371,MATCH('Mar 1 - Mar 15'!$Z$14:$Z$20,'Conversion Factors'!$A$6:$A$371,0))),\"\",INDEX('Conversion Factors'!$B$6:$B$371,MATCH('Mar 1 - Mar 15'!$Z$14:$Z$20,'Conversion Factors'!$A$6:$A$371,0)))","v":7.8789999999999996},null,"2023-03-02","","",null,null,null,null,null,0,{"$f":"IF(AH18>$AI$12,AH18-($AI$12+AI17+AI16+AI15+AI14),0)","v":0},false,false,null,0,null,0,0,0,0,0,{"$f":"IF(AND(AH17<=40),40-AH17,0)","v":40},0,0,0,null,0,0,0,0,0,0,40,0,null,0,40,0,0,{"$f":"SUM(E14:E18)","v":0},0,0,0,0]
["2023-03-03",null,null,"Friday",null,null,null,null,null,null,null,null,null,null,0,"",null,"",null,null,0,0,null,{"$f":"IF(ISNA(INDEX('Conversion Factors'!$B$6:$B$371,MATCH('Mar 1 - Mar 15'!$Z$14:$Z$20,'Conversion Factors'!$A$6:$A$371,0))),\"\",INDEX('Conversion Factors'!$B$6:$B$371,MATCH('Mar 1 - Mar 15'!$Z$14:$Z$20,'Conversion Factors'!$A$6:$A$371,0)))","v":7.8789999999999996},null,"2023-03-03","","",null,null,null,null,null,0,{"$f":"IF(AH19>$AI$12,AH19-($AI$12+AI18+AI17+AI16+AI15+AI14),0)","v":0},false,false,null,0,null,0,0,0,0,0,{"$f":"IF(AND(AH18<=40),40-AH18,0)","v":40},0,0,0,null,0,0,0,0,0,0,40,0,null,0,40,0,0,{"$f":"SUM(E14:E19)","v":0},0,0,0,{"$f":"IF(AND(BM19=1,BL19>40,J19<=K19),J19-BO19,IF(AND(BM19=1,BL19>0,J19>K19),K19-BO19,0))","v":0}]
["2023-03-04",null,null,"Saturday",null,null,null,null,null,null,null,null,null,null,{"$f":"SUM(E20:N20)-J20","v":0},"",null,"",null,null,0,0,null,{"$f":"IF(ISNA(INDEX('Conversion Factors'!$B$6:$B$371,MATCH('Mar 1 - Mar 15'!$Z$14:$Z$20,'Conversion Factors'!$A$6:$A$371,0))),\"\",INDEX('Conversion Factors'!$B$6:$B$371,MATCH('Mar 1 - Mar 15'!$Z$14:$Z$20,'Conversion Factors'!$A$6:$A$371,0)))","v":7.8789999999999996},null,"2023-03-04","","",null,null,null,null,null,0,{"$f":"IF(AH20>$AI$12,AH20-($AI$12+AI19+AI18+AI17+AI16+AI15+AI14),0)","v":0},false,false,null,0,null,0,0,0,0,0,40,0,0,0,null,0,0,0,0,0,0,40,0,null,0,40,0,0,{"$f":"SUM(E14:E20)","v":0},0,0,0,{"$f":"IF(AND(BM20=1,BL20>40,J20<=K20),J20-BO20,IF(AND(BM20=1,BL20>0,J20>K20),K20-BO20,0))","v":0}]
["Week 1 Totals",null,null,null,{"$f":"SUM(E14:E20)","v":0},{"$f":"SUM(F14:F20)","v":0},0,0,0,null,0,0,0,0,{"$f":"SUM(O14:O20)","v":0},{"$f":"-SUM(P14:P20)","v":0},{"$f":"SUM(Q14:Q20)","v":0},{"$f":"SUM(R14:R20)","v":0},{"$f":"IF(E21>40,(E21-40)-V21-BP21,0)","v":0},{"$f":"MROUND(AL21,0.25)","v":0},{"$f":"SUM(U14:U20)","v":0},{"$f":"SUM(V14:V20)","v":0},{"$f":"IF(E21-(E11-(G21+K21+F21+H21+I21+L21+M21))-(S21+U21+V21)>0,E21-(E11-(G21+K21+F21+H21+I21+L21+M21))-(S21+U21+V21),0)","v":0},null,null,null,null,null,{"$f":"SUM(F21:N21)","v":0},{"$f":"IF(AND(AG21<40,O21>=AG21),O21-(AG21+S21),IF(AND(O21<AG21,E21=O21),O21-E21,IF(AND(E21>AG21,E21<40),E21-AG21,IF(AND(O21>AG21,E21<AG21),E21-(AG21-AC21),IF(AND(O21>AG21,E21>40),E21-(AG21-AC21+S21),IF(AND(O21>AG21,O21>40),O21-(S21+AG21),0))))))","v":0},{"$f":"AD21-U21-V21","v":0},{"$f":"$W$11","v":"Please Select"},{"$f":"$E$11","v":40},null,{"$f":"IF(AH21>$AI$12,-$AI$12,0)","v":0},null,null,{"$f":"IF(AF21=\"Yes\",S21*1.5,0)","v":0},null,null,null,null,null,null,null,null,null,null,null,null,null,null,null,null,null,null,null,null,null,null,null,null,null,null,null,null,null,{"$f":"SUM(BP14:BP20)","v":0},{"$f":"E11+U21","v":40}]
[{"$f":"IF(A20=0,\"\",IF(A20<$O$7,A20+1,IF(A20=$O$7,\"\")))","v":"2023-03-05"},null,null,"Sunday",null,null,null,null,null,null,null,null,null,null,{"$f":"SUM(E22:N22)-J22","v":0},{"$f":"IF(AND(ISNUMBER(AA22),ISNUMBER(X22)),AA22*X22,\"\")","v":""},null,{"$f":"IF(AND(ISNUMBER(AB22),ISNUMBER(X22)),AB22*X22,\"\")","v":""},null,null,{"$f":"IF(BJ22>0,BJ22,BN22)","v":0},{"$f":"IF(BK22>0,BK22,0)","v":0},null,{"$f":"IF(ISNA(INDEX('Conversion Factors'!$B$6:$B$371,MATCH('Mar 1 - Mar 15'!$Z$22:$Z$28,'Conversion Factors'!$A$6:$A$371,0))),\"\",INDEX('Conversion Factors'!$B$6:$B$371,MATCH('Mar 1 - Mar 15'!$Z$22:$Z$28,'Conversion Factors'!$A$6:$A$371,0)))","v":7.8789999999999996},null,{"$f":"A22","v":"2023-03-05"},{"$f":"IF(AND(ISNUMBER(N22),ISNUMBER($Z$12)),N22/$Z$12,\"\")","v":""},{"$f":"IF(AND(ISNUMBER(Q22),ISNUMBER($Z$12)),Q22/$Z$12,\"\")","v":""},null,null,null,null,null,{"$f":"E22+AH21","v":0},{"$f":"IF(AH22>$AI$12,AH22-($AI$12+AI21),0)","v":0},{"$f":"IF(AND(AZ22>0,AZ22),IF(BA22>0,BA22,IF(BB22>0,BB22,IF(BC22>0,BC22,IF(BF22>0,BF22,\"\")))))","v":false},{"$f":"IF(AND(AO22>0,AO22),IF(AP22>0,AP22,IF(AQ22>0,AQ22,IF(AR22>0,AR22,IF(AU22>0,AU22,\"\")))))","v":false},null,{"$f":"J22","v":0},null,{"$f":"IF(G22=0,0,\"\")","v":0},{"$f":"IF(AND(AH22<=40,E22=G22),G22,0)","v":0},{"$f":"IF(AND(AH22<=40,E22>=G22,G22>0),O22-E22,0)","v":0},{"$f":"IF(AND(AH22<=40,E22<G22),O22-G22,0)","v":0},{"$f":"IF(AND(G22=0),G22,IF(AND(G22>0,AI22>0,G22=AT22),AT22,IF(AND(G22>0,AI22>0,G22-AT22),AT22,0)))","v":0},null,{"$f":"AS22","v":0},{"$f":"IF(AND(AH21+AU22=40,AI22>0,AI22>AU22),AI22-AU22,IF(AND(AH21+AU22=40,AI22>0,AI22<AU22,AU22+AI22=G22),AI22,IF(AND(AH21>40,AH22>40,G22=AI22),AI22,0)))","v":0},{"$f":"AV22","v":0},null,{"$f":"IF(AND(J22>0,AI22>0,BB22<=AI22),AI22-BB22,IF(AND(J22>0,AI22>0,BB22>AI22),J22-BB22,0))","v":0},{"$f":"IF(J22=0,0,\"\")","v":0},{"$f":"IF(AND(AH22<=40,E22=J22),J22,0)","v":0},{"$f":"IF(AND(AZ22=0),AZ22,IF(AND(AH22>40,E22>=J22),BE22,IF(AND(AH22<=40,E22>J22),J22,0)))","v":0},{"$f":"IF(AND(AH22<=40,E22<J22),O22-J22,0)","v":0},{"$f":"IF(AND(J22=0),J22,IF(AND(J22>0,AI22>0,J22=BC22),BC22,IF(AND(J22>0,AI22>0,J22-BC22),BC22,0)))","v":0},null,{"$f":"BD22","v":0},null,{"$f":"IF(AND(G22>0,E22>0),1,0)","v":0},{"$f":"40-AH22","v":40},0,{"$f":"IF(AND(BH22=1,BL22>40,E22<G22),E22-BJ22,(IF(AND(BH22=1,BL22>0,E22>=G22),G22-BJ22,0)))","v":0},{"$f":"E22","v":0},{"$f":"IF(AND(K22>0,E22>0),1,0)","v":0},{"$f":"IF(AND(BM22=1,J22>8),K22,(IF(AND(BM22=1,J22>0),J22,0)))","v":0},{"$f":"IF(AND(BM22=1,40-BL21>0,40-BL21<8),40-BL21,IF(AND(J22<K22),J22,K22))","v":0},{"$f":"IF(AND(BM22=1,BL22>40,J22<=K22),J22-BO22,IF(AND(BM22=1,BL22>0,J22>K22),K22-BO22,0))","v":0}]
[{"$f":"IF(A22<$O$7,A22+1,IF(A22=$O$7,\"\"))","v":"2023-03-06"},null,null,"Monday",null,null,null,null,null,null,null,null,null,null,{"$f":"SUM(E23:N23)-J23","v":0},{"$f":"IF(AND(ISNUMBER(AA23),ISNUMBER(X23)),AA23*X23,\"\")","v":""},null,{"$f":"IF(AND(ISNUMBER(AB23),ISNUMBER(X23)),AB23*X23,\"\")","v":""},null,null,{"$f":"IF(BJ23>0,BJ23,BN23)","v":0},{"$f":"IF(BK23>0,BK23,0)","v":0},null,{"$f":"IF(ISNA(INDEX('Conversion Factors'!$B$6:$B$371,MATCH('Mar 1 - Mar 15'!$Z$22:$Z$28,'Conversion Factors'!$A$6:$A$371,0))),\"\",INDEX('Conversion Factors'!$B$6:$B$371,MATCH('Mar 1 - Mar 15'!$Z$22:$Z$28,'Conversion Factors'!$A$6:$A$371,0)))","v":7.8789999999999996},null,"2023-03-06","","",null,null,null,null,null,0,{"$f":"IF(AH23>$AI$12,AH23-($AI$12+AI22+AI21),0)","v":0},false,{"$f":"IF(AND(AO23>0,AO23),IF(AP23>0,AP23,IF(AQ23>0,AQ23,IF(AR23>0,AR23,IF(AU23>0,AU23,0)))))","v":false},null,0,null,0,0,0,0,0,{"$f":"IF(AND(AH22<=40),40-AH22,0)","v":40},{"$f":"AS23","v":0},0,{"$f":"AV23","v":0},null,{"$f":"IF(AND(J23>0,AI23>0,BB23<=AI23),AI23-BB23,IF(AND(J23>0,AI23>0,BB23>AI23),J23-BB23,0))","v":0},0,0,0,0,0,{"$f":"IF(AND(AH22<=40),40-AH22,0)","v":40},{"$f":"BD23","v":0},null,{"$f":"IF(AND(G23>0,E23>0),1,0)","v":0},40,0,0,{"$f":"SUM(E22:E23)","v":0},{"$f":"IF(AND(K23>0,E23>0),1,0)","v":0},{"$f":"IF(AND(BM23=1,J23>8),K23,(IF(AND(BM23=1,J23>0),J23,0)))","v":0},0,0]
["2023-03-07",null,null,"Tuesday",null,null,null,null,null,null,null,null,null,null,{"$f":"SUM(E24:N24)-J24","v":0},"",null,"",null,null,{"$f":"IF(BJ24>0,BJ24,BN24)","v":0},0,null,{"$f":"IF(ISNA(INDEX('Conversion Factors'!$B$6:$B$371,MATCH('Mar 1 - Mar 15'!$Z$22:$Z$28,'Conversion Factors'!$A$6:$A$371,0))),\"\",INDEX('Conversion Factors'!$B$6:$B$371,MATCH('Mar 1 - Mar 15'!$Z$22:$Z$28,'Conversion Factors'!$A$6:$A$371,0)))","v":7.8789999999999996},null,"2023-03-07","","",null,null,null,null,null,0,{"$f":"IF(AH24>$AI$12,AH24-($AI$12+AI23+AI22+AI21),0)","v":0},false,false,null,0,null,0,0,0,0,0,40,0,0,0,null,{"$f":"IF(AND(J24>0,AI24>0,BB24<=AI24),AI24-BB24,IF(AND(J24>0,AI24>0,BB24>AI24),J24-BB24,0))","v":0},0,0,0,0,0,{"$f":"IF(AND(AH23<=40),40-AH23,0)","v":40},0,null,{"$f":"IF(AND(G24>0,E24>0),1,0)","v":0},40,0,0,{"$f":"SUM(E22:E24)","v":0},0,{"$f":"IF(AND(BM24=1,J24>8),K24,(IF(AND(BM24=1,J24>0),J24,0)))","v":0},{"$f":"IF(AND(BM24=1,40-BL23>0,40-BL23<8),40-BL23,IF(AND(J24<K24),J24,K24))","v":0},0]
["2023-03-08",null,null,"Wednesday",null,null,null,null,null,null,null,null,null,null,0,"",null,"",null,null,0,0,null,{"$f":"IF(ISNA(INDEX('Conversion Factors'!$B$6:$B$371,MATCH('Mar 1 - Mar 15'!$Z$22:$Z$28,'Conversion Factors'!$A$6:$A$371,0))),\"\",INDEX('Conversion Factors'!$B$6:$B$371,MATCH('Mar 1 - Mar 15'!$Z$22:$Z$28,'Conversion Factors'!$A$6:$A$371,0)))","v":7.8789999999999996},null,"2023-03-08","","",null,null,null,null,null,0,{"$f":"IF(AH25>$AI$12,AH25-($AI$12+AI24+AI23+AI22+AI21),0)","v":0},false,false,null,0,null,0,0,0,0,0,40,0,0,0,null,{"$f":"IF(AND(J25>0,AI25>0,BB25<=AI25),AI25-BB25,IF(AND(J25>0,AI25>0,BB25>AI25),J25-BB25,0))","v":0},0,0,0,0,0,40,0,null,0,40,0,0,{"$f":"SUM(E22:E25)","v":0},0,{"$f":"IF(AND(BM25=1,J25>8),K25,(IF(AND(BM25=1,J25>0),J25,0)))","v":0},{"$f":"IF(AND(BM25=1,40-BL24>0,40-BL24<8),40-BL24,IF(AND(J25<K25),J25,K25))","v":0},0]
["2023-03-09",null,null,"Thursday",null,null,null,null,null,null,null,null,null,null,0,"",null,"",null,null,0,0,null,{"$f":"IF(ISNA(INDEX('Conversion Factors'!$B$6:$B$371,MATCH('Mar 1 - Mar 15'!$Z$22:$Z$28,'Conversion Factors'!$A$6:$A$371,0))),\"\",INDEX('Conversion Factors'!$B$6:$B$371,MATCH('Mar 1 - Mar 15'!$Z$22:$Z$28,'Conversion Factors'!$A$6:$A$371,0)))","v":7.8789999999999996},null,"2023-03-09","","",null,null,null,null,null,0,{"$f":"IF(AH26>$AI$12,AH26-($AI$12+AI25+AI24+AI23+AI22+AI21),0)","v":0},false,false,null,0,null,0,0,0,0,0,{"$f":"IF(AND(AH25<=40),40-AH25,0)","v":40},0,0,0,null,{"$f":"IF(AND(J26>0,AI26>=J26,BB26=0),O26-AI26,IF(AND(J26>0,AI26>0,BB26<=AI26),AI26-BB26,IF(AND(J26>0,AI26>0,BB26>AI26),J26-BB26,0)))","v":0},0,0,0,0,0,40,0,null,0,40,0,0,{"$f":"SUM(E22:E26)","v":0},0,0,0,0]
["2023-03-10",null,null,"Friday",null,null,null,null,null,null,null,null,null,null,0,"",null,"",null,null,0,0,null,{"$f":"IF(ISNA(INDEX('Conversion Factors'!$B$6:$B$371,MATCH('Mar 1 - Mar 15'!$Z$22:$Z$28,'Conversion Factors'!$A$6:$A$371,0))),\"\",INDEX('Conversion Factors'!$B$6:$B$371,MATCH('Mar 1 - Mar 15'!$Z$22:$Z$28,'Conversion Factors'!$A$6:$A$371,0)))","v":7.8789999999999996},null,"2023-03-10","","",null,null,null,null,null,0,{"$f":"IF(AH27>$AI$12,AH27-($AI$12+AI26+AI25+AI24+AI23+AI22+AI21),0)","v":0},false,false,null,0,null,0,0,0,0,0,{"$f":"IF(AND(AH26<=40),40-AH26,0)","v":40},0,0,0,null,{"$f":"IF(AND(J27>0,AI27>=J27,BB27=0),O27-AI27,IF(AND(J27>0,AI27>0,BB27<=AI27),AI27-BB27,IF(AND(J27>0,AI27>0,BB27>AI27),J27-BB27,0)))","v":0},0,0,0,0,0,40,0,null,0,40,0,0,{"$f":"SUM(E22:E27)","v":0},0,0,0,{"$f":"IF(AND(BM27=1,BL27>40,J27<=K27),J27-BO27,IF(AND(BM27=1,BL27>0,J27>K27),K27-BO27,0))","v":0}]
["2023-03-11",null,null,"Saturday",null,null,null,null,null,null,null,null,null,null,{"$f":"SUM(E28:N28)-J28","v":0},"",null,"",null,null,0,0,null,{"$f":"IF(ISNA(INDEX('Conversion Factors'!$B$6:$B$371,MATCH('Mar 1 - Mar 15'!$Z$22:$Z$28,'Conversion Factors'!$A$6:$A$371,0))),\"\",INDEX('Conversion Factors'!$B$6:$B$371,MATCH('Mar 1 - Mar 15'!$Z$22:$Z$28,'Conversion Factors'!$A$6:$A$371,0)))","v":7.8789999999999996},null,"2023-03-11","","",null,null,null,null,null,0,{"$f":"IF(AH28>$AI$12,AH28-($AI$12+AI27+AI26+AI25+AI24+AI23+AI22+AI21),0)","v":0},false,false,null,0,null,0,0,0,0,0,40,0,0,0,null,{"$f":"IF(AND(J28>0,AI28>=J28,BB28=0),O28-AI28,IF(AND(J28>0,AI28>0,BB28<=AI28),AI28-BB28,IF(AND(J28>0,AI28>0,BB28>AI28),J28-BB28,0)))","v":0},0,0,0,0,0,40,0,null,0,40,0,0,{"$f":"SUM(E22:E28)","v":0},0,0,0,{"$f":"IF(AND(BM28=1,BL28>40,J28<=K28),J28-BO28,IF(AND(BM28=1,BL28>0,J28>K28),K28-BO28,0))","v":0}]
["Week 2 Totals",null,null,null,{"$f":"SUM(E22:E28)","v":0},0,0,0,0,null,0,0,0,0,{"$f":"SUM(O22:O28)","v":0},{"$f":"-SUM(P22:P28)","v":0},{"$f":"SUM(Q22:Q28)","v":0},{"$f":"SUM(R22:R28)","v":0},{"$f":"IF(E29>40,(E29-40)-V29,0)","v":0},{"$f":"MROUND(AL29,0.25)","v":0},{"$f":"SUM(U22:U28)","v":0},{"$f":"SUM(V22:V28)","v":0},{"$f":"IF(E29-(E11-(G29+K29+F29+H29+I29+L29+M29))-(S29+U29+V29)>0,E29-(E11-(G29+K29+F29+H29+I29+L29+M29))-(S29+U29+V29),0)","v":0},null,null,null,null,null,{"$f":"SUM(F29:N29)","v":0},{"$f":"IF(AND(AG29<40,O29>=AG29),O29-(AG29+S29),IF(AND(O29<AG29,E29=O29),O29-E29,IF(AND(E29>AG29,E29<40),E29-AG29,IF(AND(O29>AG29,E29<AG29),E29-(AG29-AC29),IF(AND(O29>AG29,E29>40),E29-(AG29-AC29+S29),IF(AND(O29>AG29,O29>40),O29-(S29+AG29),0))))))","v":0},{"$f":"AD29-U29-V29","v":0},{"$f":"$W$11","v":"Please Select"},{"$f":"$E$11","v":40},null,{"$f":"IF(AH29>$AI$12,-$AI$12,0)","v":0},null,null,{"$f":"IF(AF29=\"Yes\",S29*1.5,0)","v":0},0,null,null,null,null,null,null,null,null,null,null,null,null,0,null,null,null,null,null,null,null,null,null,null,null,null,null,null,null,{"$f":"SUM(BP22:BP28)","v":0},{"$f":"U29+E11","v":40}]
[{"$f":"IF(A28<$O$7,A28+1,IF(A28=$O$7,\"\"))","v":"2023-03-12"},null,null,"Sunday",null,null,null,null,null,null,null,null,null,null,{"$f":"SUM(E30:N30)-J30","v":0},{"$f":"IF(AND(ISNUMBER(AA30),ISNUMBER(X30)),AA30*X30,\"\")","v":""},null,{"$f":"IF(AND(ISNUMBER(AB30),ISNUMBER(X30)),AB30*X30,\"\")","v":""},null,null,{"$f":"IF(BJ30>0,BJ30,BN30)","v":0},{"$f":"IF(BK30>0,BK30,0)","v":0},null,{"$f":"IF(ISNA(INDEX('Conversion Factors'!$B$6:$B$370,MATCH('Mar 1 - Mar 15'!$Z$30:$Z$36,'Conversion Factors'!$A$6:$A$370,0))),\"\",INDEX('Conversion Factors'!$B$6:$B$370,MATCH('Mar 1 - Mar 15'!$Z$30:$Z$36,'Conversion Factors'!$A$6:$A$370,0)))","v":7.8789999999999996},null,{"$f":"A30","v":"2023-03-12"},{"$f":"IF(AND(ISNUMBER(N30),ISNUMBER($Z$12)),N30/$Z$12,\"\")","v":""},{"$f":"IF(AND(ISNUMBER(Q30),ISNUMBER($Z$12)),Q30/$Z$12,\"\")","v":""},null,null,null,null,null,{"$f":"E30+AH29","v":0},{"$f":"IF(AH30>$AI$12,AH30-($AI$12+AI29),0)","v":0},{"$f":"IF(AND(AZ30>0,AZ30),IF(BA30>0,BA30,IF(BB30>0,BB30,IF(BC30>0,BC30,IF(BF30>0,BF30,\"\")))))","v":false},{"$f":"IF(AND(AO30>0,AO30),IF(AP30>0,AP30,IF(AQ30>0,AQ30,IF(AR30>0,AR30,IF(AU30>0,AU30,\"\")))))","v":false},null,0,null,{"$f":"IF(G30=0,0,\"\")","v":0},{"$f":"IF(AND(AH30<=40,E30=G30),G30,0)","v":0},{"$f":"IF(AND(AH30<=40,E30>=G30,G30>0),O30-E30,0)","v":0},{"$f":"IF(AND(AH30<=40,E30<G30),O30-G30,0)","v":0},{"$f":"IF(AND(G30=0),G30,IF(AND(G30>0,AI30>0,G30=AT30),AT30,IF(AND(G30>0,AI30>0,G30-AT30),AT30,0)))","v":0},null,{"$f":"AS30","v":0},{"$f":"IF(AND(AH29+AU30=40,AI30>0,AI30>AU30),AI30-AU30,IF(AND(AH29+AU30=40,AI30>0,AI30<AU30,AU30+AI30=G30),AI30,IF(AND(AH29>40,AH30>40,G30=AI30),AI30,0)))","v":0},{"$f":"AV30","v":0},null,{"$f":"IF(AND(J30>0,AI30>=J30,BB30=0),O30-AI30,IF(AND(J30>0,AI30>0,BB30<=AI30),AI30-BB30,IF(AND(J30>0,AI30>0,BB30>AI30),J30-BB30,0)))","v":0},0,{"$f":"IF(AND(AH30<=40,E30=J30),J30,0)","v":0},{"$f":"IF(AND(AZ30=0),AZ30,IF(AND(AH30>40,E30>=J30),BE30,IF(AND(AH30<=40,E30>J30),J30,0)))","v":0},{"$f":"IF(AND(AH30<=40,E30<J30),O30-J30,0)","v":0},{"$f":"IF(AND(J30=0),J30,IF(AND(J30>0,AI30>0,J30=BC30),BC30,IF(AND(J30>0,AI30>0,J30-BC30),BC30,0)))","v":0},null,{"$f":"BD30","v":0},null,{"$f":"IF(AND(G30>0,E30>0),1,0)","v":0},{"$f":"40-AH30","v":40},0,{"$f":"IF(AND(BH30=1,BL30>40,E30<G30),E30-BJ30,(IF(AND(BH30=1,BL30>0,E30>=G30),G30-BJ30,0)))","v":0},{"$f":"E30","v":0},{"$f":"IF(AND(K30>0,E30>0),1,0)","v":0},{"$f":"IF(AND(BM30=1,J30>8),K30,(IF(AND(BM30=1,J30>0),J30,0)))","v":0},{"$f":"IF(AND(BM30=1,40-BL29>0,40-BL29<8),40-BL29,IF(AND(J30<K30),J30,K30))","v":0},{"$f":"IF(AND(BM30=1,BL30>40,J30<=K30),J30-BO30,IF(AND(BM30=1,BL30>0,J30>K30),K30-BO30,0))","v":0}]
[{"$f":"IF(A30<$O$7,A30+1,IF(A30=$O$7,\"\"))","v":"2023-03-13"},null,null,"Monday",null,null,null,null,null,null,null,null,null,null,{"$f":"SUM(E31:N31)-J31","v":0},{"$f":"IF(AND(ISNUMBER(AA31),ISNUMBER(X31)),AA31*X31,\"\")","v":""},null,{"$f":"IF(AND(ISNUMBER(AB31),ISNUMBER(X31)),AB31*X31,\"\")","v":""},null,null,0,{"$f":"IF(BK31>0,BK31,0)","v":0},null,{"$f":"IF(ISNA(INDEX('Conversion Factors'!$B$6:$B$370,MATCH('Mar 1 - Mar 15'!$Z$30:$Z$36,'Conversion Factors'!$A$6:$A$370,0))),\"\",INDEX('Conversion Factors'!$B$6:$B$370,MATCH('Mar 1 - Mar 15'!$Z$30:$Z$36,'Conversion Factors'!$A$6:$A$370,0)))","v":7.8789999999999996},null,"2023-03-13","","",null,null,null,null,null,0,{"$f":"IF(AH31>$AI$12,AH31-($AI$12+AI30+AI29),0)","v":0},false,{"$f":"IF(AND(AO31>0,AO31),IF(AP31>0,AP31,IF(AQ31>0,AQ31,IF(AR31>0,AR31,IF(AU31>0,AU31,0)))))","v":false},null,0,null,0,0,0,0,0,{"$f":"IF(AND(AH30<=40),40-AH30,0)","v":40},{"$f":"AS31","v":0},0,{"$f":"AV31","v":0},null,0,0,0,0,0,0,{"$f":"IF(AND(AH30<=40),40-AH30,0)","v":40},{"$f":"BD31","v":0},null,{"$f":"IF(AND(G31>0,E31>0),1,0)","v":0},40,0,0,{"$f":"SUM(E30:E31)","v":0},{"$f":"IF(AND(K31>0,E31>0),1,0)","v":0},{"$f":"IF(AND(BM31=1,J31>8),K31,(IF(AND(BM31=1,J31>0),J31,0)))","v":0},0,0]
["2023-03-14",null,null,"Tuesday",null,null,null,null,null,null,null,null,null,null,0,"",null,"",null,null,0,0,null,{"$f":"IF(ISNA(INDEX('Conversion Factors'!$B$6:$B$370,MATCH('Mar 1 - Mar 15'!$Z$30:$Z$36,'Conversion Factors'!$A$6:$A$370,0))),\"\",INDEX('Conversion Factors'!$B$6:$B$370,MATCH('Mar 1 - Mar 15'!$Z$30:$Z$36,'Conversion Factors'!$A$6:$A$370,0)))","v":7.8789999999999996},null,"2023-03-14","","",null,null,null,null,null,0,{"$f":"IF(AH32>$AI$12,AH32-($AI$12+AI31+AI30+AI29),0)","v":0},false,false,null,0,null,0,0,0,0,0,40,0,0,0,null,0,0,0,0,0,0,{"$f":"IF(AND(AH31<=40),40-AH31,0)","v":40},0,null,{"$f":"IF(AND(G32>0,E32>0),1,0)","v":0},40,0,0,{"$f":"SUM(E30:E32)","v":0},0,{"$f":"IF(AND(BM32=1,J32>8),K32,(IF(AND(BM32=1,J32>0),J32,0)))","v":0},{"$f":"IF(AND(BM32=1,40-BL31>0,40-BL31<8),40-BL31,IF(AND(J32<K32),J32,K32))","v":0},0]
["2023-03-15",null,null,"Wednesday",null,null,null,null,null,null,null,null,null,null,0,"",null,"",null,null,0,0,null,{"$f":"IF(ISNA(INDEX('Conversion Factors'!$B$6:$B$370,MATCH('Mar 1 - Mar 15'!$Z$30:$Z$36,'Conversion Factors'!$A$6:$A$370,0))),\"\",INDEX('Conversion Factors'!$B$6:$B$370,MATCH('Mar 1 - Mar 15'!$Z$30:$Z$36,'Conversion Factors'!$A$6:$A$370,0)))","v":7.8789999999999996},null,"2023-03-15","","",null,null,null,null,null,0,{"$f":"IF(AH33>$AI$12,AH33-($AI$12+AI32+AI31+AI30+AI29),0)","v":0},false,false,null,0,null,0,0,0,0,0,40,0,0,0,null,0,0,0,0,0,0,40,0,null,{"$f":"IF(AND(G33>0,E33>0),1,0)","v":0},40,0,0,{"$f":"SUM(E30:E33)","v":0},0,{"$f":"IF(AND(BM33=1,J33>8),K33,(IF(AND(BM33=1,J33>0),J33,0)))","v":0},{"$f":"IF(AND(BM33=1,40-BL32>0,40-BL32<8),40-BL32,IF(AND(J33<K33),J33,K33))","v":0},0]
["",null,null,"Thursday",null,null,null,null,null,null,null,null,null,null,0,"",null,"",null,null,0,0,null,{"$f":"IF(ISNA(INDEX('Conversion Factors'!$B$6:$B$370,MATCH('Mar 1 - Mar 15'!$Z$30:$Z$36,'Conversion Factors'!$A$6:$A$370,0))),\"\",INDEX('Conversion Factors'!$B$6:$B$370,MATCH('Mar 1 - Mar 15'!$Z$30:$Z$36,'Conversion Factors'!$A$6:$A$370,0)))","v":""},null,"","","",null,null,null,null,null,0,{"$f":"IF(AH34>$AI$12,AH34-($AI$12+AI33+AI32+AI31+AI30+AI29),0)","v":0},false,false,null,0,null,0,0,0,0,0,{"$f":"IF(AND(AH33<=40),40-AH33,0)","v":40},0,0,0,null,0,0,0,0,0,0,40,0,null,0,40,0,0,{"$f":"SUM(E30:E34)","v":0},0,0,0,0]
[false,null,null,"Friday",null,null,null,null,null,null,null,null,null,null,0,"",null,"",null,null,0,0,null,{"$f":"IF(ISNA(INDEX('Conversion Factors'!$B$6:$B$370,MATCH('Mar 1 - Mar 15'!$Z$30:$Z$36,'Conversion Factors'!$A$6:$A$370,0))),\"\",INDEX('Conversion Factors'!$B$6:$B$370,MATCH('Mar 1 - Mar 15'!$Z$30:$Z$36,'Conversion Factors'!$A$6:$A$370,0)))","v":""},null,false,"","",null,null,null,null,null,0,{"$f":"IF(AH35>$AI$12,AH35-($AI$12+AI34+AI33+AI32+AI31+AI30+AI29),0)","v":0},false,false,null,0,null,0,0,0,0,0,{"$f":"IF(AND(AH34<=40),40-AH34,0)","v":40},0,0,0,null,0,0,0,0,0,0,40,0,null,0,40,0,0,{"$f":"SUM(E30:E35)","v":0},0,0,0,{"$f":"IF(AND(BM35=1,BL35>40,J35<=K35),J35-BO35,IF(AND(BM35=1,BL35>0,J35>K35),K35-BO35,0))","v":0}]
[false,null,null,"Saturday",null,null,null,null,null,null,null,null,null,null,0,"",null,"",null,null,0,0,null,{"$f":"IF(ISNA(INDEX('Conversion Factors'!$B$6:$B$370,MATCH('Mar 1 - Mar 15'!$Z$30:$Z$36,'Conversion Factors'!$A$6:$A$370,0))),\"\",INDEX('Conversion Factors'!$B$6:$B$370,MATCH('Mar 1 - Mar 15'!$Z$30:$Z$36,'Conversion Factors'!$A$6:$A$370,0)))","v":""},null,false,"","",null,null,null,null,null,0,{"$f":"IF(AH36>$AI$12,AH36-($AI$12+AI35+AI34+AI33+AI32+AI31+AI30+AI29),0)","v":0},false,false,null,0,null,0,0,0,0,0,40,0,0,0,null,0,0,0,0,0,0,40,0,null,0,40,0,0,{"$f":"SUM(E30:E36)","v":0},0,0,0,{"$f":"IF(AND(BM36=1,BL36>40,J36<=K36),J36-BO36,IF(AND(BM36=1,BL36>0,J36>K36),K36-BO36,0))","v":0}]
["Week 3 Totals",null,null,null,{"$f":"SUM(E30:E36)","v":0},0,0,0,0,null,0,0,0,0,{"$f":"SUM(O30:O36)","v":0},{"$f":"-SUM(P30:P36)","v":0},{"$f":"SUM(Q30:Q36)","v":0},{"$f":"SUM(R30:R36)","v":0},{"$f":"IF(E37>40,(E37-40)-V37,0)","v":0},{"$f":"MROUND(AL37,0.25)","v":0},{"$f":"SUM(U30:U36)","v":0},{"$f":"SUM(V30:V36)","v":0},{"$f":"IF(E37-(E11-(G37+K37+F37+H37+I37+L37+M3))-(S37+U37+V37)>0,E37-(E11-(G37+K37+F37+H37+I37+L37+M37))-(S37+U37+V37),0)","v":0},null,null,null,null,null,{"$f":"SUM(F37:N37)","v":0},{"$f":"IF(AND(AG37<40,O37>=AG37),O37-(AG37+S37),IF(AND(O37<AG37,E37=O37),O37-E37,IF(AND(E37>AG37,E37<40),E37-AG37,IF(AND(O37>AG37,E37<AG37),E37-(AG37-AC37),IF(AND(O37>AG37,E37>40),E37-(AG37-AC37+S37),IF(AND(O37>AG37,O37>40),O37-(S37+AG37),0))))))","v":0},{"$f":"AD37-U37-V37","v":0},{"$f":"$W$11","v":"Please Select"},{"$f":"$E$11","v":40},null,{"$f":"IF(AH37>$AI$12,-$AI$12,0)","v":0},null,null,{"$f":"IF(AF37=\"Yes\",S37*1.5,0)","v":0},null,null,null,null,null,null,null,null,null,null,null,null,null,null,null,null,null,null,null,null,null,0,null,null,null,null,null,null,null,{"$f":"SUM(BP30:BP36)","v":0},{"$f":"U37+E11","v":40}]
[{"$f":"IF(A36<$O$7,A36+1,IF(A36=$O$7,\"\"))","v":false},null,null,"Sunday",null,null,null,null,null,null,null,null,null,null,{"$f":"SUM(E38:N38)-J38","v":0},{"$f":"IF(AND(ISNUMBER(AA38),ISNUMBER(X38)),AA38*X38,\"\")","v":""},null,{"$f":"IF(AND(ISNUMBER(AB38),ISNUMBER(X38)),AB38*X38,\"\")","v":""},null,null,0,{"$f":"IF(BK38>0,BK38,0)","v":0},null,{"$f":"IF(ISNA(INDEX('Conversion Factors'!$B$6:$B$370,MATCH('Mar 1 - Mar 15'!$Z$38:$Z$44,'Conversion Factors'!$A$6:$A$370,0))),\"\",INDEX('Conversion Factors'!$B$6:$B$370,MATCH('Mar 1 - Mar 15'!$Z$38:$Z$44,'Conversion Factors'!$A$6:$A$370,0)))","v":""},null,{"$f":"A38","v":false},{"$f":"IF(AND(ISNUMBER(N38),ISNUMBER($Z$12)),N38/$Z$12,\"\")","v":""},{"$f":"IF(AND(ISNUMBER(Q38),ISNUMBER($Z$12)),Q38/$Z$12,\"\")","v":""},null,null,null,null,null,{"$f":"E38+AH37","v":0},{"$f":"IF(AH38>$AI$12,AH38-($AI$12+AI37),0)","v":0},{"$f":"IF(AND(AZ38>0,AZ38),IF(BA38>0,BA38,IF(BB38>0,BB38,IF(BC38>0,BC38,IF(BF38>0,BF38,\"\")))))","v":false},{"$f":"IF(AND(AO38>0,AO38),IF(AP38>0,AP38,IF(AQ38>0,AQ38,IF(AR38>0,AR38,IF(AU38>0,AU38,\"\")))))","v":false},null,{"$f":"J38","v":0},null,{"$f":"IF(G38=0,0,\"\")","v":0},{"$f":"IF(AND(AH38<=40,E38=G38),G38,0)","v":0},{"$f":"IF(AND(AH38<=40,E38>=G38,G38>0),O38-E38,0)","v":0},{"$f":"IF(AND(AH38<=40,E38<G38),O38-G38,0)","v":0},{"$f":"IF(AND(G38=0),G38,IF(AND(G38>0,AI38>0,G38=AT38),AT38,IF(AND(G38>0,AI38>0,G38-AT38),AT38,0)))","v":0},null,{"$f":"AS38","v":0},{"$f":"IF(AND(AH37+AU38=40,AI38>0,AI38>AU38),AI38-AU38,IF(AND(AH37+AU38=40,AI38>0,AI38<AU38,AU38+AI38=G38),AI38,IF(AND(AH37>40,AH38>40,G38=AI38),AI38,0)))","v":0},{"$f":"AV38","v":0},null,{"$f":"IF(AND(J38>0,AI38>=J38,BB38=0),O38-AI38,IF(AND(J38>0,AI38>0,BB38<=AI38),AI38-BB38,IF(AND(J38>0,AI38>0,BB38>AI38),J38-BB38,0)))","v":0},{"$f":"IF(J38=0,0,\"\")","v":0},{"$f":"IF(AND(AH38<=40,E38=J38),J38,0)","v":0},{"$f":"IF(AND(AZ38=0),AZ38,IF(AND(AH38>40,E38>=J38),BE38,IF(AND(AH38<=40,E38>J38),J38,0)))","v":0},{"$f":"IF(AND(AH38<=40,E38<J38),O38-J38,0)","v":0},{"$f":"IF(AND(J38=0),J38,IF(AND(J38>0,AI38>0,J38=BC38),BC38,IF(AND(J38>0,AI38>0,J38-BC38),BC38,0)))","v":0},null,{"$f":"BD38","v":0},null,{"$f":"IF(AND(G38>0,E38>0),1,0)","v":0},{"$f":"40-AH38","v":40},0,{"$f":"IF(AND(BH38=1,BL38>40,E38<G38),E38-BJ38,(IF(AND(BH38=1,BL38>0,E38>=G38),G38-BJ38,0)))","v":0},{"$f":"E38","v":0},{"$f":"IF(AND(K38>0,E38>0),1,0)","v":0},{"$f":"IF(AND(BM38=1,J38>8),K38,(IF(AND(BM38=1,J38>0),J38,0)))","v":0},{"$f":"IF(AND(BM38=1,40-BL37>0,40-BL37<8),40-BL37,IF(AND(J38<K38),J38,K38))","v":0},{"$f":"IF(AND(BM38=1,BL38>40,J38<=K38),J38-BO38,IF(AND(BM38=1,BL38>0,J38>K38),K38-BO38,0))","v":0}]
[{"$f":"IF(A38<$O$7,A38+1,IF(A38=$O$7,\"\"))","v":false},null,null,"Monday",null,null,null,0,null,null,null,null,null,null,{"$f":"SUM(E39:N39)-J39","v":0},{"$f":"IF(AND(ISNUMBER(AA39),ISNUMBER(X39)),AA39*X39,\"\")","v":""},null,{"$f":"IF(AND(ISNUMBER(AB39),ISNUMBER(X39)),AB39*X39,\"\")","v":""},null,null,0,{"$f":"IF(BK39>0,BK39,0)","v":0},null,{"$f":"IF(ISNA(INDEX('Conversion Factors'!$B$6:$B$370,MATCH('Mar 1 - Mar 15'!$Z$38:$Z$44,'Conversion Factors'!$A$6:$A$370,0))),\"\",INDEX('Conversion Factors'!$B$6:$B$370,MATCH('Mar 1 - Mar 15'!$Z$38:$Z$44,'Conversion Factors'!$A$6:$A$370,0)))","v":""},null,false,"","",null,null,null,null,null,0,{"$f":"IF(AH39>$AI$12,AH39-($AI$12+AI38+AI37),0)","v":0},false,{"$f":"IF(AND(AO39>0,AO39),IF(AP39>0,AP39,IF(AQ39>0,AQ39,IF(AR39>0,AR39,IF(AU39>0,AU39,0)))))","v":false},null,0,null,0,0,0,0,0,{"$f":"IF(AND(AH38<=40),40-AH38,0)","v":40},{"$f":"AS39","v":0},0,{"$f":"AV39","v":0},null,0,0,0,0,0,0,{"$f":"IF(AND(AH38<=40),40-AH38,0)","v":40},{"$f":"BD39","v":0},null,{"$f":"IF(AND(G39>0,E39>0),1,0)","v":0},40,0,0,{"$f":"SUM(E38:E39)","v":0},{"$f":"IF(AND(K39>0,E39>0),1,0)","v":0},{"$f":"IF(AND(BM39=1,J39>8),K39,(IF(AND(BM39=1,J39>0),J39,0)))","v":0},0,0]
[false,null,null,"Tuesday",null,null,null,null,null,0,0,null,null,null,{"$f":"SUM(E40:N40)-J40","v":0},"",null,"",null,null,0,0,null,{"$f":"IF(ISNA(INDEX('Conversion Factors'!$B$6:$B$370,MATCH('Mar 1 - Mar 15'!$Z$38:$Z$44,'Conversion Factors'!$A$6:$A$370,0))),\"\",INDEX('Conversion Factors'!$B$6:$B$370,MATCH('Mar 1 - Mar 15'!$Z$38:$Z$44,'Conversion Factors'!$A$6:$A$370,0)))","v":""},null,false,"","",null,null,null,null,null,0,{"$f":"IF(AH40>$AI$12,AH40-($AI$12+AI39+AI38+AI37),0)","v":0},false,false,null,0,null,0,0,0,0,0,40,0,0,0,null,0,0,0,0,0,0,{"$f":"IF(AND(AH39<=40),40-AH39,0)","v":40},0,null,{"$f":"IF(AND(G40>0,E40>0),1,0)","v":0},40,0,0,{"$f":"SUM(E38:E40)","v":0},0,{"$f":"IF(AND(BM40=1,J40>8),K40,(IF(AND(BM40=1,J40>0),J40,0)))","v":0},{"$f":"IF(AND(BM40=1,40-BL39>0,40-BL39<8),40-BL39,IF(AND(J40<K40),J40,K40))","v":0},0]
[false,null,null,"Wednesday",null,null,null,null,null,null,null,null,null,null,0,"",null,"",null,null,0,0,null,{"$f":"IF(ISNA(INDEX('Conversion Factors'!$B$6:$B$370,MATCH('Mar 1 - Mar 15'!$Z$38:$Z$44,'Conversion Factors'!$A$6:$A$370,0))),\"\",INDEX('Conversion Factors'!$B$6:$B$370,MATCH('Mar 1 - Mar 15'!$Z$38:$Z$44,'Conversion Factors'!$A$6:$A$370,0)))","v":""},null,false,"","",null,null,null,null,null,0,{"$f":"IF(AH41>$AI$12,AH41-($AI$12+AI40+AI39+AI38+AI37),0)","v":0},false,false,null,0,null,0,0,0,0,0,40,0,0,0,null,0,0,0,0,0,0,40,0,null,{"$f":"IF(AND(G41>0,E41>0),1,0)","v":0},40,0,0,{"$f":"SUM(E38:E41)","v":0},0,{"$f":"IF(AND(BM41=1,J41>8),K41,(IF(AND(BM41=1,J41>0),J41,0)))","v":0},{"$f":"IF(AND(BM41=1,40-BL40>0,40-BL40<8),40-BL40,IF(AND(J41<K41),J41,K41))","v":0},0]
[false,null,null,"Thursday",null,null,null,null,null,null,null,null,null,null,0,"",null,"",null,null,0,0,null,{"$f":"IF(ISNA(INDEX('Conversion Factors'!$B$6:$B$370,MATCH('Mar 1 - Mar 15'!$Z$38:$Z$44,'Conversion Factors'!$A$6:$A$370,0))),\"\",INDEX('Conversion Factors'!$B$6:$B$370,MATCH('Mar 1 - Mar 15'!$Z$38:$Z$44,'Conversion Factors'!$A$6:$A$370,0)))","v":""},null,false,"","",null,null,null,null,null,0,{"$f":"IF(AH42>$AI$12,AH42-($AI$12+AI41+AI40+AI39+AI38+AI37),0)","v":0},false,false,null,0,null,0,0,0,0,0,{"$f":"IF(AND(AH41<=40),40-AH41,0)","v":40},0,0,0,null,0,0,0,0,0,0,40,0,null,0,40,0,0,{"$f":"SUM(E38:E42)","v":0},0,0,0,0]
[false,null,null,"Friday",null,null,null,null,null,null,null,null,null,null,0,"",null,"",null,null,0,0,null,{"$f":"IF(ISNA(INDEX('Conversion Factors'!$B$6:$B$370,MATCH('Mar 1 - Mar 15'!$Z$38:$Z$44,'Conversion Factors'!$A$6:$A$370,0))),\"\",INDEX('Conversion Factors'!$B$6:$B$370,MATCH('Mar 1 - Mar 15'!$Z$38:$Z$44,'Conversion Factors'!$A$6:$A$370,0)))","v":""},null,false,"","",null,null,null,null,null,0,{"$f":"IF(AH43>$AI$12,AH43-($AI$12+AI42+AI41+AI40+AI39+AI38+AI37),0)","v":0},false,false,null,0,null,0,0,0,0,0,{"$f":"IF(AND(AH42<=40),40-AH42,0)","v":40},0,0,0,null,0,0,0,0,0,0,40,0,null,0,40,0,0,{"$f":"SUM(E38:E43)","v":0},0,0,0,{"$f":"IF(AND(BM43=1,BL43>40,J43<=K43),J43-BO43,IF(AND(BM43=1,BL43>0,J43>K43),K43-BO43,0))","v":0}]
[false,null,null,"Saturday",null,null,null,null,null,null,null,null,null,null,{"$f":"SUM(E44:N44)-J44","v":0},"",null,"",null,null,0,0,null,{"$f":"IF(ISNA(INDEX('Conversion Factors'!$B$6:$B$370,MATCH('Mar 1 - Mar 15'!$Z$38:$Z$44,'Conversion Factors'!$A$6:$A$370,0))),\"\",INDEX('Conversion Factors'!$B$6:$B$370,MATCH('Mar 1 - Mar 15'!$Z$38:$Z$44,'Conversion Factors'!$A$6:$A$370,0)))","v":""},null,false,"","",null,null,null,null,null,0,{"$f":"IF(AH44>$AI$12,AH44-($AI$12+AI43+AI42+AI41+AI40+AI39+AI38+AI37),0)","v":0},false,false,null,0,null,0,0,0,0,0,40,0,0,0,null,0,0,0,0,0,0,40,0,null,0,40,0,0,{"$f":"SUM(E38:E44)","v":0},0,0,0,{"$f":"IF(AND(BM44=1,BL44>40,J44<=K44),J44-BO44,IF(AND(BM44=1,BL44>0,J44>K44),K44-BO44,0))","v":0}]
["Week 4 Totals",null,null,null,{"$f":"SUM(E38:E44)","v":0},{"$f":"SUM(F38:F44)","v":0},0,0,0,null,0,0,0,0,{"$f":"SUM(O38:O44)","v":0},{"$f":"-SUM(P38:P44)","v":0},{"$f":"SUM(Q38:Q44)","v":0},{"$f":"SUM(R38:R44)","v":0},{"$f":"IF(E45>40,(E45-40)-V45,0)","v":0},{"$f":"MROUND(AL45,0.25)","v":0},{"$f":"SUM(U38:U44)","v":0},{"$f":"SUM(V38:V44)","v":0},{"$f":"IF(E45-(E11-(G45+K45+F45+H45+I45+L45+M45))-(S45+U45+V45)>0,E45-(E11-(G45+K45+F45+H45+I45+L45+M45))-(S45+U45+V45),0)","v":0},null,null,null,null,null,{"$f":"SUM(F45:N45)","v":0},{"$f":"IF(AND(AG45<40,O45>=AG45),O45-(AG45+S45),IF(AND(O45<AG45,E45=O45),O45-E45,IF(AND(E45>AG45,E45<40),E45-AG45,IF(AND(O45>AG45,E45<AG45),E45-(AG45-AC45),IF(AND(O45>AG45,E45>40),E45-(AG45-AC45+S45),IF(AND(O45>AG45,O45>40),O45-(S45+AG45),0))))))","v":0},{"$f":"AD45-U45-V45","v":0},{"$f":"$W$11","v":"Please Select"},{"$f":"$E$11","v":40},null,{"$f":"IF(AH45>$AI$12,-$AI$12,0)","v":0},null,null,{"$f":"IF(AF45=\"Yes\",S45*1.5,0)","v":0},null,null,null,null,null,null,null,null,null,null,null,null,null,null,null,null,null,null,null,null,null,null,null,null,null,null,null,null,null,{"$f":"SUM(BP38:BP44)","v":0},{"$f":"E44+E11","v":40}]
[null,null,null,null,null,null,null,null,"Total-Net Previous Week",null,null,null,null,null,{"$f":"(O21+O29+O37+O45)-O13","v":0},{"$f":"(P21+P29+P37+P45)-P13","v":0},0,0,0,0,0,0,0,0]
[]
[null,null,null,null,null,null,null,null,null,null,null,null,null,null,"Leave/Leave Without Pay Policy"]
["Employee signature",null,null,null,null,null,"Date",null,null,null,null,null,null,null,"Overtime/Compensatory Time"]
["I certify this record is accurate and accounts for my time during the indicated period.",null,null,null,null,null,null,null,null,null,null,null,null,null,"Time Sheet Definitions/Policies"]
[]
[null,null,null,null,null,null,null,null,null,null,"“Actual Work Hours During Administrative Close Period” – Only key the hours actually worked during the admministrative closing period into this field. "]
[]
["Manager signature",null,null,null,null,null,"Date"]
["I certify the hours recorded and coded on this form are correct and in compliance with University policy.",null,null,null,null,null,null,null,null,null,"“Administrative Closing/Leave Period field.”  Entter the number of hours of the declared period of administrative closing. (The total hours worked during the entire day will be entered into the “Actual Hours Worked” field.)"]

{"sheet":"Mar 16 - Mar 31","index":24,"n_rows":55,"n_cols":69,"rows_kept":55,"cut":false,"hidden":false,"merged":[[47,14,47,22],[48,14,48,19],[49,14,49,22],[51,10,53,22],[54,10,56,22],[45,8,45,13],[34,0,34,2],[35,0,35,2],[36,0,36,2],[37,0,37,2],[38,0,38,2],[39,0,39,2],[40,0,40,2],[41,0,41,2],[42,0,42,2],[43,0,43,2],[44,0,44,2],[33,0,33,2],[22,0,22,2],[23,0,23,2],[24,0,24,2],[25,0,25,2],[26,0,26,2],[27,0,27,2],[28,0,28,2],[29,0,29,2],[30,0,30,2],[31,0,31,2],[32,0,32,2],[21,0,21,2],[11,0,11,2],[11,29,11,30],[12,0,12,3],[13,0,13,2],[14,0,14,2],[15,0,15,2],[16,0,16,2],[17,0,17,2],[18,0,18,2],[19,0,19,2],[20,0,20,2],[10,40,10,46],[6,2,6,7],[6,8,6,13],[6,14,6,19],[7,2,7,7],[7,8,7,13],[7,14,7,19],[10,0,10,3],[10,4,10,5],[10,6,10,17],[10,18,10,21],[10,22,10,23],[0,0,0,22],[1,0,1,22],[3,0,3,23],[5,2,5,7],[5,8,5,13],[5,14,5,19]]}
["Mississippi State University"]
["Non-Exempt Employee Semi-Monthly Time Report"]
[]
["Instructions:  The Fair Labor Standards Act requires that a record of hours worked on a weekly basis be maintained for all employees except executive, administrative, managerial, faculty, and professional (non-faculty).  Department/unit heads are responsible for compiling and maintaining this record in department files on each covered employee for a period of at least (3) years."]
[]
["MSU ID #:",null,{"$f":"'July 1 - July 15'!C6","v":0},null,null,null,null,null,"Pay period start date:",null,null,null,null,null,{"$f":"'Dates & Notes'!$A$19","v":"2023-03-16"},null,null,null,null,null,null,null,null,null,null,{"$f":"TEXT(O6,\"dddd\")","v":"Thursday"},null,null,null,"Please Select"]
["Name:",null,{"$f":"'July 1 - July 15'!C7","v":0},null,null,null,null,null,"Pay period end date:",null,null,null,null,null,{"$f":"'Dates & Notes'!$B$19","v":"2023-03-31"},null,null,null,null,null,null,null,null,null,null,null,null,null,null,"No"]
["Department:",null,{"$f":"'July 1 - July 15'!C8","v":0},null,null,null,null,null,"Pay Period Number:",null,null,null,null,null,{"$f":"'Dates & Notes'!$C$19","v":6},null,null,null,null,null,null,null,null,null,null,null,null,null,null,"Yes"]
[]
[]
["Employee Scheduled Hours Per Week",null,null,null,40,null,"FIELDS MUST BE ENTERED FOR CALULATIONS TO WORK PROPERLY",null,null,null,null,null,null,null,null,null,null,null,"Receive Compensatory Time",null,null,null,"Please Select",null,null,null,null,null,null,null,null,null,null,null,"Over 40",null,null,null,null,null,"HOW ANALYSIS"]
["Work Week Dates",null,null,"Day of The Week","Actual Hours Worked","Compensatory Time Used","Holiday","Medical Leave","Personal Leave","Actual Wrk Hrs During  Admin Close Period","Administrative Closing/Leave Period","Jury Duty","Military Leave","Leave Without Pay","Totals","DOC-Payroll Conversion","RTO","RTO-Payroll Conversion","Overtime Hours","Hours Transferred to Comp. Record","HOW-Holiday Pay or Admin/Leave Closing","HOT-Holiday Pay","SST-Payroll","Conversion Factor",null,8,"DOC","RTO",null,"SST",null,null,null,"Cumm Actual HRS",40,"Administrative Leave","HOW-Holiday Pay","Comp. Time","Administrative/Schedule",null,"Holiday=0\n1",2,3,4,null,"<=40\n5",null,"HOT Workup","HOT-Holiday Pay (HOLIDAY PAY)",null,"HOT-Administrative HRS","Administrative=0\n1",2,3,4,null,"<=40\n5",null,null,"Holiday Flag","Up to 40","How","Hot","Actual Hours Worked","Admin Flag","Admin","Admin HOW","Admin OVT"]
["Hours-Previous WK (Due to Split WK)",null,null,null,{"$f":"SUM(E14:E17)","v":0},0,0,0,0,0,0,0,0,0,{"$f":"SUM(E13:N13)-J13","v":0},null,null,null,null,null,null,null,null,null,null,null,null,null,null,null,null,null,null,null,null,{"$f":"IF(AND(AM13=0,J13=0),AM13,IF(AND(E13>AM13,J13=0),J13,IF(AND(J13<AM13,AI13=0),J13,IF(AND(AM13=J13,AI13<AM13),AM13-AI13,IF(AND(J13=AM13,AI13=AM13),AI13,IF(AND(J13<AM13,AI13>0),AM13-J13,IF(AND(AM13>J13,AI13<E13),E13-AI13,IF(AND(E13>AM13,AI13=E13),O13-AI13,0))))))))","v":0},{"$f":"IF(AND(G13=0,E13>G13),G13,IF(AND(E13>G13,AI13=0),G13,IF(AND(E13<G13,AI13=0),E13,IF(AND(E13=G13,AI13<G13),G13-AI13,IF(AND(E13=G13,AI13=G13),AI13,IF(AND(E13<G13,AI13>0),G13-E13,IF(AND(E13>G13,AI13<E13),E13-AI13,IF(AND(E13>G13,AI13=E13),O13-AI13,0))))))))","v":0},null,{"$f":"K13","v":0}]
[{"$f":"IF(EXACT(D14,$Z$6)=TRUE,$O$6,IF(A12=0,\"\",IF(A12<$O$7,A12+1,IF(A12=$O$7,\"\"))))","v":false},null,null,"Sunday",{"$f":"'Mar 1 - Mar 15'!E30","v":0},{"$f":"'Mar 1 - Mar 15'!F30","v":0},{"$f":"'Mar 1 - Mar 15'!G30","v":0},{"$f":"'Mar 1 - Mar 15'!H30","v":0},{"$f":"'Mar 1 - Mar 15'!I30","v":0},{"$f":"'Mar 1 - Mar 15'!J30","v":0},{"$f":"'Mar 1 - Mar 15'!K30","v":0},{"$f":"'Mar 1 - Mar 15'!L30","v":0},{"$f":"'Mar 1 - Mar 15'!M30","v":0},{"$f":"'Mar 1 - Mar 15'!N30","v":0},{"$f":"SUM(E14:N14)-J14","v":0},{"$f":"IF(AND(ISNUMBER(AA14),ISNUMBER(X14)),AA14*X14,\"\")","v":""},null,{"$f":"IF(AND(ISNUMBER(AB14),ISNUMBER(X14)),AB14*X14,\"\")","v":""},null,null,{"$f":"IF(BJ14>0,BJ14,BN14)","v":0},{"$f":"IF(BK14>0,BK14,0)","v":0},null,{"$f":"IF(ISNA(INDEX('Conversion Factors'!$B$6:$B$371,MATCH('Mar 16 - Mar 31'!$Z$14:$Z$20,'Conversion Factors'!$A$6:$A$371,0))),\"\",INDEX('Conversion Factors'!$B$6:$B$371,MATCH('Mar 16 - Mar 31'!$Z$14:$Z$20,'Conversion Factors'!$A$6:$A$371,0)))","v":""},null,{"$f":"A14","v":false},{"$f":"IF(AND(ISNUMBER(N14),ISNUMBER($Z$12)),N14/$Z$12,\"\")","v":0},{"$f":"IF(AND(ISNUMBER(Q14),ISNUMBER($Z$12)),Q14/$Z$12,\"\")","v":""},null,null,null,null,null,{"$f":"E14","v":0},{"$f":"IF(AH14>$AI$12,AH14-$AI$12,0)","v":0},{"$f":"IF(AND(AZ14>0,AZ14),IF(BA14>0,BA14,IF(BB14>0,BB14,IF(BC14>0,BC14,IF(BF14>0,BF14,\"\")))))","v":false},{"$f":"IF(AND(AO14>0,AO14),IF(AP14>0,AP14,IF(AQ14>0,AQ14,IF(AR14>0,AR14,IF(AU14>0,AU14,\"\")))))","v":false},null,{"$f":"J14","v":0},null,{"$f":"IF(G14=0,0,\"\")","v":0},{"$f":"IF(AND(AH14<=40,E14=G14),G14,0)","v":0},{"$f":"IF(AND(AH14<=40,E14>=G14,G14>0),O14-E14,0)","v":0},{"$f":"IF(AND(AH14<=40,E14<G14),O14-G14,0)","v":0},{"$f":"IF(AND(G14=0),G14,IF(AND(G14>0,AI14>0,G14=AT14),AT14,IF(AND(G14>0,AI14>0,G14-AT14),AT14,0)))","v":0},null,{"$f":"AS14","v":0},{"$f":"IF(AND(AH13+AU14=40,AI14>0,AI14>AU14),AI14-AU14,IF(AND(AH13+AU14=40,AI14>0,AI14<AU14,AU14+AI14=G14),AI14,IF(AND(AH13>40,AH14>40,G14=AI14),AI14,0)))","v":0},{"$f":"AV14","v":0},null,{"$f":"IF(AND(J14>0,AI14>=J14,BB14=0),O14-AI14,IF(AND(J14>0,AI14>0,BB14<=AI14),AI14-BB14,IF(AND(J14>0,AI14>0,BB14>AI14),J14-BB14,0)))","v":0},{"$f":"IF(J14=0,0,\"\")","v":0},{"$f":"IF(AND(AH14<=40,E14=J14),J14,0)","v":0},{"$f":"IF(AND(AZ14=0),AZ14,IF(AND(AH14>40,E14>=J14),BE14,IF(AND(AH14<=40,E14>J14),J14,0)))","v":0},{"$f":"IF(AND(AH14<=40,E14<J14),O14-J14,0)","v":0},{"$f":"IF(AND(J14=0),J14,IF(AND(J14>0,AI14>0,J14=BC14),BC14,IF(AND(J14>0,AI14>0,J14-BC14),BC14,0)))","v":0},null,{"$f":"BD14","v":0},null,{"$f":"IF(AND(G14>0,E14>0),1,0)","v":0},{"$f":"40-AH14","v":40},{"$f":"IF(AND(BH14=1,E14<8),E14,(IF(AND(BH14=1,E14>0),G14,0)))","v":0},{"$f":"IF(AND(BH14=1,BL14>40,E14<G14),E14-BJ14,(IF(AND(BH14=1,BL14>0,E14>=G14),G14-BJ14,0)))","v":0},{"$f":"E14","v":0},{"$f":"IF(AND(K14>0,E14>0),1,0)","v":0},{"$f":"IF(AND(BM14=1,J14>8),K14,(IF(AND(BM14=1,J14>0),J14,0)))","v":0},{"$f":"IF(AND(BM14=1,40-BL13>0,40-BL13<8),40-BL13,IF(AND(J14<K14),J14,K14))","v":0},{"$f":"IF(AND(BM14=1,BL14>40,J14<=K14),J14-BO14,IF(AND(BM14=1,BL14>0,J14>K14),K14-BO14,0))","v":0}]
[{"$f":"IF(EXACT(D15,$Z$6)=TRUE,$O$6,IF(A14=0,\"\",IF(A14<$O$7,A14+1,IF(A14=$O$7,\"\"))))","v":false},null,null,"Monday",{"$f":"'Mar 1 - Mar 15'!E31","v":0},{"$f":"'Mar 1 - Mar 15'!F31","v":0},{"$f":"'Mar 1 - Mar 15'!G31","v":0},{"$f":"'Mar 1 - Mar 15'!H31","v":0},{"$f":"'Mar 1 - Mar 15'!I31","v":0},{"$f":"'Mar 1 - Mar 15'!J31","v":0},{"$f":"'Mar 1 - Mar 15'!K31","v":0},{"$f":"'Mar 1 - Mar 15'!L31","v":0},{"$f":"'Mar 1 - Mar 15'!M31","v":0},{"$f":"'Mar 1 - Mar 15'!N31","v":0},{"$f":"SUM(E15:N15)-J15","v":0},{"$f":"IF(AND(ISNUMBER(AA15),ISNUMBER(X15)),AA15*X15,\"\")","v":""},null,{"$f":"IF(AND(ISNUMBER(AB15),ISNUMBER(X15)),AB15*X15,\"\")","v":""},null,null,{"$f":"IF(BJ15>0,BJ15,BN15)","v":0},{"$f":"IF(BK15>0,BK15,0)","v":0},null,{"$f":"IF(ISNA(INDEX('Conversion Factors'!$B$6:$B$371,MATCH('Mar 16 - Mar 31'!$Z$14:$Z$20,'Conversion Factors'!$A$6:$A$371,0))),\"\",INDEX('Conversion Factors'!$B$6:$B$371,MATCH('Mar 16 - Mar 31'!$Z$14:$Z$20,'Conversion Factors'!$A$6:$A$371,0)))","v":""},null,false,0,"",null,null,null,null,null,{"$f":"E15+AH14","v":0},{"$f":"IF(AH15>$AI$12,AH15-($AI$12+AI14),0)","v":0},{"$f":"IF(AND(AZ15>0,AZ15),IF(BA15>0,BA15,IF(BB15>0,BB15,IF(BC15>0,BC15,IF(BF15>0,BF15,\"\")))))","v":false},{"$f":"IF(AND(AO15>0,AO15),IF(AP15>0,AP15,IF(AQ15>0,AQ15,IF(AR15>0,AR15,IF(AU15>0,AU15,0)))))","v":false},null,0,null,0,0,0,0,0,{"$f":"IF(AND(AH14<=40),40-AH14,0)","v":40},{"$f":"AS15","v":0},0,{"$f":"AV15","v":0},null,0,0,0,0,0,0,{"$f":"IF(AND(AH14<=40),40-AH14,0)","v":40},{"$f":"BD15","v":0},null,{"$f":"IF(AND(G15>0,E15>0),1,0)","v":0},40,0,0,{"$f":"SUM(E14:E15)","v":0},{"$f":"IF(AND(K15>0,E15>0),1,0)","v":0},{"$f":"IF(AND(BM15=1,J15>8),K15,(IF(AND(BM15=1,J15>0),J15,0)))","v":0},0,0]
[false,null,null,"Tuesday",{"$f":"'Mar 1 - Mar 15'!E32","v":0},{"$f":"'Mar 1 - Mar 15'!F32","v":0},{"$f":"'Mar 1 - Mar 15'!G32","v":0},{"$f":"'Mar 1 - Mar 15'!H32","v":0},{"$f":"'Mar 1 - Mar 15'!I32","v":0},{"$f":"'Mar 1 - Mar 15'!J32","v":0},{"$f":"'Mar 1 - Mar 15'!K32","v":0},{"$f":"'Mar 1 - Mar 15'!L32","v":0},{"$f":"'Mar 1 - Mar 15'!M32","v":0},{"$f":"'Mar 1 - Mar 15'!N32","v":0},{"$f":"SUM(E16:N16)-J16","v":0},"",null,"",null,null,{"$f":"IF(BJ16>0,BJ16,BN16)","v":0},0,null,{"$f":"IF(ISNA(INDEX('Conversion Factors'!$B$6:$B$371,MATCH('Mar 16 - Mar 31'!$Z$14:$Z$20,'Conversion Factors'!$A$6:$A$371,0))),\"\",INDEX('Conversion Factors'!$B$6:$B$371,MATCH('Mar 16 - Mar 31'!$Z$14:$Z$20,'Conversion Factors'!$A$6:$A$371,0)))","v":""},null,false,0,"",null,null,null,null,null,0,{"$f":"IF(AH16>$AI$12,AH16-($AI$12+AI15+AI14),0)","v":0},false,false,null,0,null,0,0,0,0,0,40,0,0,0,null,0,0,0,0,0,0,{"$f":"IF(AND(AH15<=40),40-AH15,0)","v":40},0,null,{"$f":"IF(AND(G16>0,E16>0),1,0)","v":0},40,0,0,{"$f":"SUM(E14:E16)","v":0},0,{"$f":"IF(AND(BM16=1,J16>8),K16,(IF(AND(BM16=1,J16>0),J16,0)))","v":0},{"$f":"IF(AND(BM16=1,40-BL15>0,40-BL15<8),40-BL15,IF(AND(J16<K16),J16,K16))","v":0},0]
[false,null,null,"Wednesday",{"$f":"'Mar 1 - Mar 15'!E33","v":0},{"$f":"'Mar 1 - Mar 15'!F33","v":0},{"$f":"'Mar 1 - Mar 15'!G33","v":0},{"$f":"'Mar 1 - Mar 15'!H33","v":0},{"$f":"'Mar 1 - Mar 15'!I33","v":0},{"$f":"'Mar 1 - Mar 15'!J33","v":0},{"$f":"'Mar 1 - Mar 15'!K33","v":0},{"$f":"'Mar 1 - Mar 15'!L33","v":0},{"$f":"'Mar 1 - Mar 15'!M33","v":0},{"$f":"'Mar 1 - Mar 15'!N33","v":0},{"$f":"SUM(E17:N17)-J17","v":0},"",null,"",null,null,0,0,null,{"$f":"IF(ISNA(INDEX('Conversion Factors'!$B$6:$B$371,MATCH('Mar 16 - Mar 31'!$Z$14:$Z$20,'Conversion Factors'!$A$6:$A$371,0))),\"\",INDEX('Conversion Factors'!$B$6:$B$371,MATCH('Mar 16 - Mar 31'!$Z$14:$Z$20,'Conversion Factors'!$A$6:$A$371,0)))","v":""},null,false,0,"",null,null,null,null,null,0,{"$f":"IF(AH17>$AI$12,AH17-($AI$12+AI16+AI15+AI14),0)","v":0},false,false,null,0,null,0,0,0,0,0,40,0,0,0,null,0,0,0,0,0,0,40,0,null,0,40,0,0,{"$f":"SUM(E14:E17)","v":0},0,{"$f":"IF(AND(BM17=1,J17>8),K17,(IF(AND(BM17=1,J17>0),J17,0)))","v":0},{"$f":"IF(AND(BM17=1,40-BL16>0,40-BL16<8),40-BL16,IF(AND(J17<K17),J17,K17))","v":0},0]
["2023-03-16",null,null,"Thursday",null,null,null,null,null,null,null,null,null,null,0,"",null,"",null,null,0,0,null,{"$f":"IF(ISNA(INDEX('Conversion Factors'!$B$6:$B$371,MATCH('Mar 16 - Mar 31'!$Z$14:$Z$20,'Conversion Factors'!$A$6:$A$371,0))),\"\",INDEX('Conversion Factors'!$B$6:$B$371,MATCH('Mar 16 - Mar 31'!$Z$14:$Z$20,'Conversion Factors'!$A$6:$A$371,0)))","v":7.2229999999999999},null,"2023-03-16","","",null,null,null,null,null,0,{"$f":"IF(AH18>$AI$12,AH18-($AI$12+AI17+AI16+AI15+AI14),0)","v":0},false,false,null,0,null,0,0,0,0,0,{"$f":"IF(AND(AH17<=40),40-AH17,0)","v":40},0,0,0,null,0,0,0,0,0,0,40,0,null,0,40,0,0,{"$f":"SUM(E14:E18)","v":0},0,0,0,0]
["2023-03-17",null,null,"Friday",null,null,null,null,null,null,null,null,null,null,0,"",null,"",null,null,0,0,null,{"$f":"IF(ISNA(INDEX('Conversion Factors'!$B$6:$B$371,MATCH('Mar 16 - Mar 31'!$Z$14:$Z$20,'Conversion Factors'!$A$6:$A$371,0))),\"\",INDEX('Conversion Factors'!$B$6:$B$371,MATCH('Mar 16 - Mar 31'!$Z$14:$Z$20,'Conversion Factors'!$A$6:$A$371,0)))","v":7.2229999999999999},null,"2023-03-17","","",null,null,null,null,null,0,{"$f":"IF(AH19>$AI$12,AH19-($AI$12+AI18+AI17+AI16+AI15+AI14),0)","v":0},false,false,null,0,null,0,0,0,0,0,{"$f":"IF(AND(AH18<=40),40-AH18,0)","v":40},0,0,0,null,0,0,0,0,0,0,40,0,null,0,40,0,0,{"$f":"SUM(E14:E19)","v":0},0,0,0,{"$f":"IF(AND(BM19=1,BL19>40,J19<=K19),J19-BO19,IF(AND(BM19=1,BL19>0,J19>K19),K19-BO19,0))","v":0}]
["2023-03-18",null,null,"Saturday",null,null,null,null,null,null,null,null,null,null,{"$f":"SUM(E20:N20)-J20","v":0},"",null,"",null,null,0,0,null,{"$f":"IF(ISNA(INDEX('Conversion Factors'!$B$6:$B$371,MATCH('Mar 16 - Mar 31'!$Z$14:$Z$20,'Conversion Factors'!$A$6:$A$371,0))),\"\",INDEX('Conversion Factors'!$B$6:$B$371,MATCH('Mar 16 - Mar 31'!$Z$14:$Z$20,'Conversion Factors'!$A$6:$A$371,0)))","v":7.2229999999999999},null,"2023-03-18","","",null,null,null,null,null,0,{"$f":"IF(AH20>$AI$12,AH20-($AI$12+AI19+AI18+AI17+AI16+AI15+AI14),0)","v":0},false,false,null,0,null,0,0,0,0,0,40,0,0,0,null,0,0,0,0,0,0,40,0,null,0,40,0,0,{"$f":"SUM(E14:E20)","v":0},0,0,0,{"$f":"IF(AND(BM20=1,BL20>40,J20<=K20),J20-BO20,IF(AND(BM20=1,BL20>0,J20>K20),K20-BO20,0))","v":0}]
["Week 1 Totals",null,null,null,{"$f":"SUM(E14:E20)","v":0},{"$f":"SUM(F14:F20)","v":0},0,0,0,null,0,0,0,0,{"$f":"SUM(O14:O20)","v":0},{"$f":"-SUM(P14:P20)","v":0},{"$f":"SUM(Q14:Q20)","v":0},{"$f":"SUM(R14:R20)","v":0},{"$f":"IF(E21>40,(E21-40)-V21-BP21,0)","v":0},{"$f":"MROUND(AL21,0.25)","v":0},{"$f":"SUM(U14:U20)","v":0},{"$f":"SUM(V14:V20)","v":0},{"$f":"IF(E21-(E11-(G21+K21+F21+H21+I21+L21+M21))-(S21+U21+V21)>0,E21-(E11-(G21+K21+F21+H21+I21+L21+M21))-(S21+U21+V21),0)","v":0},null,null,null,null,null,{"$f":"SUM(F21:N21)","v":0},{"$f":"IF(AND(AG21<40,O21>=AG21),O21-(AG21+S21),IF(AND(O21<AG21,E21=O21),O21-E21,IF(AND(E21>AG21,E21<40),E21-AG21,IF(AND(O21>AG21,E21<AG21),E21-(AG21-AC21),IF(AND(O21>AG21,E21>40),E21-(AG21-AC21+S21),IF(AND(O21>AG21,O21>40),O21-(S21+AG21),0))))))","v":0},{"$f":"AD21-U21-V21","v":0},{"$f":"$W$11","v":"Please Select"},{"$f":"$E$11","v":40},null,{"$f":"IF(AH21>$AI$12,-$AI$12,0)","v":0},null,null,{"$f":"IF(AF21=\"Yes\",S21*1.5,0)","v":0},null,null,null,null,null,null,null,null,null,null,null,null,null,null,null,null,null,null,null,null,null,null,null,null,null,null,null,null,null,{"$f":"SUM(BP14:BP20)","v":0},{"$f":"E11+U21","v":40}]
[{"$f":"IF(A20=0,\"\",IF(A20<$O$7,A20+1,IF(A20=$O$7,\"\")))","v":"2023-03-19"},null,null,"Sunday",null,null,null,null,null,null,null,null,null,null,{"$f":"SUM(E22:N22)-J22","v":0},{"$f":"IF(AND(ISNUMBER(AA22),ISNUMBER(X22)),AA22*X22,\"\")","v":""},null,{"$f":"IF(AND(ISNUMBER(AB22),ISNUMBER(X22)),AB22*X22,\"\")","v":""},null,null,{"$f":"IF(BJ22>0,BJ22,BN22)","v":0},{"$f":"IF(BK22>0,BK22,0)","v":0},null,{"$f":"IF(ISNA(INDEX('Conversion Factors'!$B$6:$B$371,MATCH('Mar 16 - Mar 31'!$Z$22:$Z$28,'Conversion Factors'!$A$6:$A$371,0))),\"\",INDEX('Conversion Factors'!$B$6:$B$371,MATCH('Mar 16 - Mar 31'!$Z$22:$Z$28,'Conversion Factors'!$A$6:$A$371,0)))","v":7.2229999999999999},null,{"$f":"A22","v":"2023-03-19"},{"$f":"IF(AND(ISNUMBER(N22),ISNUMBER($Z$12)),N22/$Z$12,\"\")","v":""},{"$f":"IF(AND(ISNUMBER(Q22),ISNUMBER($Z$12)),Q22/$Z$12,\"\")","v":""},null,null,null,null,null,{"$f":"E22+AH21","v":0},{"$f":"IF(AH22>$AI$12,AH22-($AI$12+AI21),0)","v":0},{"$f":"IF(AND(AZ22>0,AZ22),IF(BA22>0,BA22,IF(BB22>0,BB22,IF(BC22>0,BC22,IF(BF22>0,BF22,\"\")))))","v":false},{"$f":"IF(AND(AO22>0,AO22),IF(AP22>0,AP22,IF(AQ22>0,AQ22,IF(AR22>0,AR22,IF(AU22>0,AU22,\"\")))))","v":false},null,{"$f":"J22","v":0},null,{"$f":"IF(G22=0,0,\"\")","v":0},{"$f":"IF(AND(AH22<=40,E22=G22),G22,0)","v":0},{"$f":"IF(AND(AH22<=40,E22>=G22,G22>0),O22-E22,0)","v":0},{"$f":"IF(AND(AH22<=40,E22<G22),O22-G22,0)","v":0},{"$f":"IF(AND(G22=0),G22,IF(AND(G22>0,AI22>0,G22=AT22),AT22,IF(AND(G22>0,AI22>0,G22-AT22),AT22,0)))","v":0},null,{"$f":"AS22","v":0},{"$f":"IF(AND(AH21+AU22=40,AI22>0,AI22>AU22),AI22-AU22,IF(AND(AH21+AU22=40,AI22>0,AI22<AU22,AU22+AI22=G22),AI22,IF(AND(AH21>40,AH22>40,G22=AI22),AI22,0)))","v":0},{"$f":"AV22","v":0},null,{"$f":"IF(AND(J22>0,AI22>0,BB22<=AI22),AI22-BB22,IF(AND(J22>0,AI22>0,BB22>AI22),J22-BB22,0))","v":0},{"$f":"IF(J22=0,0,\"\")","v":0},{"$f":"IF(AND(AH22<=40,E22=J22),J22,0)","v":0},{"$f":"IF(AND(AZ22=0),AZ22,IF(AND(AH22>40,E22>=J22),BE22,IF(AND(AH22<=40,E22>J22),J22,0)))","v":0},{"$f":"IF(AND(AH22<=40,E22<J22),O22-J22,0)","v":0},{"$f":"IF(AND(J22=0),J22,IF(AND(J22>0,AI22>0,J22=BC22),BC22,IF(AND(J22>0,AI22>0,J22-BC22),BC22,0)))","v":0},null,{"$f":"BD22","v":0},null,{"$f":"IF(AND(G22>0,E22>0),1,0)","v":0},{"$f":"40-AH22","v":40},0,{"$f":"IF(AND(BH22=1,BL22>40,E22<G22),E22-BJ22,(IF(AND(BH22=1,BL22>0,E22>=G22),G22-BJ22,0)))","v":0},{"$f":"E22","v":0},{"$f":"IF(AND(K22>0,E22>0),1,0)","v":0},{"$f":"IF(AND(BM22=1,J22>8),K22,(IF(AND(BM22=1,J22>0),J22,0)))","v":0},{"$f":"IF(AND(BM22=1,40-BL21>0,40-BL21<8),40-BL21,IF(AND(J22<K22),J22,K22))","v":0},{"$f":"IF(AND(BM22=1,BL22>40,J22<=K22),J22-BO22,IF(AND(BM22=1,BL22>0,J22>K22),K22-BO22,0))","v":0}]
[{"$f":"IF(A22<$O$7,A22+1,IF(A22=$O$7,\"\"))","v":"2023-03-20"},null,null,"Monday",null,null,null,null,null,null,null,null,null,null,{"$f":"SUM(E23:N23)-J23","v":0},{"$f":"IF(AND(ISNUMBER(AA23),ISNUMBER(X23)),AA23*X23,\"\")","v":""},null,{"$f":"IF(AND(ISNUMBER(AB23),ISNUMBER(X23)),AB23*X23,\"\")","v":""},null,null,{"$f":"IF(BJ23>0,BJ23,BN23)","v":0},{"$f":"IF(BK23>0,BK23,0)","v":0},null,{"$f":"IF(ISNA(INDEX('Conversion Factors'!$B$6:$B$371,MATCH('Mar 16 - Mar 31'!$Z$22:$Z$28,'Conversion Factors'!$A$6:$A$371,0))),\"\",INDEX('Conversion Factors'!$B$6:$B$371,MATCH('Mar 16 - Mar 31'!$Z$22:$Z$28,'Conversion Factors'!$A$6:$A$371,0)))","v":7.2229999999999999},null,"2023-03-20","","",null,null,null,null,null,0,{"$f":"IF(AH23>$AI$12,AH23-($AI$12+AI22+AI21),0)","v":0},false,{"$f":"IF(AND(AO23>0,AO23),IF(AP23>0,AP23,IF(AQ23>0,AQ23,IF(AR23>0,AR23,IF(AU23>0,AU23,0)))))","v":false},null,0,null,0,0,0,0,0,{"$f":"IF(AND(AH22<=40),40-AH22,0)","v":40},{"$f":"AS23","v":0},0,{"$f":"AV23","v":0},null,{"$f":"IF(AND(J23>0,AI23>0,BB23<=AI23),AI23-BB23,IF(AND(J23>0,AI23>0,BB23>AI23),J23-BB23,0))","v":0},0,0,0,0,0,{"$f":"IF(AND(AH22<=40),40-AH22,0)","v":40},{"$f":"BD23","v":0},null,{"$f":"IF(AND(G23>0,E23>0),1,0)","v":0},40,0,0,{"$f":"SUM(E22:E23)","v":0},{"$f":"IF(AND(K23>0,E23>0),1,0)","v":0},{"$f":"IF(AND(BM23=1,J23>8),K23,(IF(AND(BM23=1,J23>0),J23,0)))","v":0},0,0]
["2023-03-21",null,null,"Tuesday",null,null,null,null,null,null,null,null,null,null,{"$f":"SUM(E24:N24)-J24","v":0},"",null,"",null,null,{"$f":"IF(BJ24>0,BJ24,BN24)","v":0},0,null,{"$f":"IF(ISNA(INDEX('Conversion Factors'!$B$6:$B$371,MATCH('Mar 16 - Mar 31'!$Z$22:$Z$28,'Conversion Factors'!$A$6:$A$371,0))),\"\",INDEX('Conversion Factors'!$B$6:$B$371,MATCH('Mar 16 - Mar 31'!$Z$22:$Z$28,'Conversion Factors'!$A$6:$A$371,0)))","v":7.2229999999999999},null,"2023-03-21","","",null,null,null,null,null,0,{"$f":"IF(AH24>$AI$12,AH24-($AI$12+AI23+AI22+AI21),0)","v":0},false,false,null,0,null,0,0,0,0,0,40,0,0,0,null,{"$f":"IF(AND(J24>0,AI24>0,BB24<=AI24),AI24-BB24,IF(AND(J24>0,AI24>0,BB24>AI24),J24-BB24,0))","v":0},0,0,0,0,0,{"$f":"IF(AND(AH23<=40),40-AH23,0)","v":40},0,null,{"$f":"IF(AND(G24>0,E24>0),1,0)","v":0},40,0,0,{"$f":"SUM(E22:E24)","v":0},0,{"$f":"IF(AND(BM24=1,J24>8),K24,(IF(AND(BM24=1,J24>0),J24,0)))","v":0},{"$f":"IF(AND(BM24=1,40-BL23>0,40-BL23<8),40-BL23,IF(AND(J24<K24),J24,K24))","v":0},0]
["2023-03-22",null,null,"Wednesday",null,null,null,null,null,null,null,null,null,null,0,"",null,"",null,null,0,0,null,{"$f":"IF(ISNA(INDEX('Conversion Factors'!$B$6:$B$371,MATCH('Mar 16 - Mar 31'!$Z$22:$Z$28,'Conversion Factors'!$A$6:$A$371,0))),\"\",INDEX('Conversion Factors'!$B$6:$B$371,MATCH('Mar 16 - Mar 31'!$Z$22:$Z$28,'Conversion Factors'!$A$6:$A$371,0)))","v":7.2229999999999999},null,"2023-03-22","","",null,null,null,null,null,0,{"$f":"IF(AH25>$AI$12,AH25-($AI$12+AI24+AI23+AI22+AI21),0)","v":0},false,false,null,0,null,0,0,0,0,0,40,0,0,0,null,{"$f":"IF(AND(J25>0,AI25>0,BB25<=AI25),AI25-BB25,IF(AND(J25>0,AI25>0,BB25>AI25),J25-BB25,0))","v":0},0,0,0,0,0,40,0,null,0,40,0,0,{"$f":"SUM(E22:E25)","v":0},0,{"$f":"IF(AND(BM25=1,J25>8),K25,(IF(AND(BM25=1,J25>0),J25,0)))","v":0},{"$f":"IF(AND(BM25=1,40-BL24>0,40-BL24<8),40-BL24,IF(AND(J25<K25),J25,K25))","v":0},0]
["2023-03-23",null,null,"Thursday",null,null,null,null,null,null,null,null,null,null,0,"",null,"",null,null,0,0,null,{"$f":"IF(ISNA(INDEX('Conversion Factors'!$B$6:$B$371,MATCH('Mar 16 - Mar 31'!$Z$22:$Z$28,'Conversion Factors'!$A$6:$A$371,0))),\"\",INDEX('Conversion Factors'!$B$6:$B$371,MATCH('Mar 16 - Mar 31'!$Z$22:$Z$28,'Conversion Factors'!$A$6:$A$371,0)))","v":7.2229999999999999},null,"2023-03-23","","",null,null,null,null,null,0,{"$f":"IF(AH26>$AI$12,AH26-($AI$12+AI25+AI24+AI23+AI22+AI21),0)","v":0},false,false,null,0,null,0,0,0,0,0,{"$f":"IF(AND(AH25<=40),40-AH25,0)","v":40},0,0,0,null,{"$f":"IF(AND(J26>0,AI26>=J26,BB26=0),O26-AI26,IF(AND(J26>0,AI26>0,BB26<=AI26),AI26-BB26,IF(AND(J26>0,AI26>0,BB26>AI26),J26-BB26,0)))","v":0},0,0,0,0,0,40,0,null,0,40,0,0,{"$f":"SUM(E22:E26)","v":0},0,0,0,0]
["2023-03-24",null,null,"Friday",null,null,null,null,null,null,null,null,null,null,0,"",null,"",null,null,0,0,null,{"$f":"IF(ISNA(INDEX('Conversion Factors'!$B$6:$B$371,MATCH('Mar 16 - Mar 31'!$Z$22:$Z$28,'Conversion Factors'!$A$6:$A$371,0))),\"\",INDEX('Conversion Factors'!$B$6:$B$371,MATCH('Mar 16 - Mar 31'!$Z$22:$Z$28,'Conversion Factors'!$A$6:$A$371,0)))","v":7.2229999999999999},null,"2023-03-24","","",null,null,null,null,null,0,{"$f":"IF(AH27>$AI$12,AH27-($AI$12+AI26+AI25+AI24+AI23+AI22+AI21),0)","v":0},false,false,null,0,null,0,0,0,0,0,{"$f":"IF(AND(AH26<=40),40-AH26,0)","v":40},0,0,0,null,{"$f":"IF(AND(J27>0,AI27>=J27,BB27=0),O27-AI27,IF(AND(J27>0,AI27>0,BB27<=AI27),AI27-BB27,IF(AND(J27>0,AI27>0,BB27>AI27),J27-BB27,0)))","v":0},0,0,0,0,0,40,0,null,0,40,0,0,{"$f":"SUM(E22:E27)","v":0},0,0,0,{"$f":"IF(AND(BM27=1,BL27>40,J27<=K27),J27-BO27,IF(AND(BM27=1,BL27>0,J27>K27),K27-BO27,0))","v":0}]
["2023-03-25",null,null,"Saturday",null,null,null,null,null,null,null,null,null,null,{"$f":"SUM(E28:N28)-J28","v":0},"",null,"",null,null,0,0,null,{"$f":"IF(ISNA(INDEX('Conversion Factors'!$B$6:$B$371,MATCH('Mar 16 - Mar 31'!$Z$22:$Z$28,'Conversion Factors'!$A$6:$A$371,0))),\"\",INDEX('Conversion Factors'!$B$6:$B$371,MATCH('Mar 16 - Mar 31'!$Z$22:$Z$28,'Conversion Factors'!$A$6:$A$371,0)))","v":7.2229999999999999},null,"2023-03-25","","",null,null,null,null,null,0,{"$f":"IF(AH28>$AI$12,AH28-($AI$12+AI27+AI26+AI25+AI24+AI23+AI22+AI21),0)","v":0},false,false,null,0,null,0,0,0,0,0,40,0,0,0,null,{"$f":"IF(AND(J28>0,AI28>=J28,BB28=0),O28-AI28,IF(AND(J28>0,AI28>0,BB28<=AI28),AI28-BB28,IF(AND(J28>0,AI28>0,BB28>AI28),J28-BB28,0)))","v":0},0,0,0,0,0,40,0,null,0,40,0,0,{"$f":"SUM(E22:E28)","v":0},0,0,0,{"$f":"IF(AND(BM28=1,BL28>40,J28<=K28),J28-BO28,IF(AND(BM28=1,BL28>0,J28>K28),K28-BO28,0))","v":0}]
["Week 2 Totals",null,null,null,{"$f":"SUM(E22:E28)","v":0},0,0,0,0,null,0,0,0,0,{"$f":"SUM(O22:O28)","v":0},{"$f":"-SUM(P22:P28)","v":0},{"$f":"SUM(Q22:Q28)","v":0},{"$f":"SUM(R22:R28)","v":0},{"$f":"IF(E29>40,(E29-40)-V29,0)","v":0},{"$f":"MROUND(AL29,0.25)","v":0},{"$f":"SUM(U22:U28)","v":0},{"$f":"SUM(V22:V28)","v":0},{"$f":"IF(E29-(E11-(G29+K29+F29+H29+I29+L29+M29))-(S29+U29+V29)>0,E29-(E11-(G29+K29+F29+H29+I29+L29+M29))-(S29+U29+V29),0)","v":0},null,null,null,null,null,{"$f":"SUM(F29:N29)","v":0},{"$f":"IF(AND(AG29<40,O29>=AG29),O29-(AG29+S29),IF(AND(O29<AG29,E29=O29),O29-E29,IF(AND(E29>AG29,E29<40),E29-AG29,IF(AND(O29>AG29,E29<AG29),E29-(AG29-AC29),IF(AND(O29>AG29,E29>40),E29-(AG29-AC29+S29),IF(AND(O29>AG29,O29>40),O29-(S29+AG29),0))))))","v":0},{"$f":"AD29-U29-V29","v":0},{"$f":"$W$11","v":"Please Select"},{"$f":"$E$11","v":40},null,{"$f":"IF(AH29>$AI$12,-$AI$12,0)","v":0},null,null,{"$f":"IF(AF29=\"Yes\",S29*1.5,0)","v":0},0,null,null,null,null,null,null,null,null,null,null,null,null,0,null,null,null,null,null,null,null,null,null,null,null,null,null,null,null,{"$f":"SUM(BP22:BP28)","v":0},{"$f":"U29+E11","v":40}]
[{"$f":"IF(A28<$O$7,A28+1,IF(A28=$O$7,\"\"))","v":"2023-03-26"},null,null,"Sunday",null,null,null,null,null,null,null,null,null,null,{"$f":"SUM(E30:N30)-J30","v":0},{"$f":"IF(AND(ISNUMBER(AA30),ISNUMBER(X30)),AA30*X30,\"\")","v":""},null,{"$f":"IF(AND(ISNUMBER(AB30),ISNUMBER(X30)),AB30*X30,\"\")","v":""},null,null,{"$f":"IF(BJ30>0,BJ30,BN30)","v":0},{"$f":"IF(BK30>0,BK30,0)","v":0},null,{"$f":"IF(ISNA(INDEX('Conversion Factors'!$B$6:$B$370,MATCH('Mar 16 - Mar 31'!$Z$30:$Z$36,'Conversion Factors'!$A$6:$A$370,0))),\"\",INDEX('Conversion Factors'!$B$6:$B$370,MATCH('Mar 16 - Mar 31'!$Z$30:$Z$36,'Conversion Factors'!$A$6:$A$370,0)))","v":7.2229999999999999},null,{"$f":"A30","v":"2023-03-26"},{"$f":"IF(AND(ISNUMBER(N30),ISNUMBER($Z$12)),N30/$Z$12,\"\")","v":""},{"$f":"IF(AND(ISNUMBER(Q30),ISNUMBER($Z$12)),Q30/$Z$12,\"\")","v":""},null,null,null,null,null,{"$f":"E30+AH29","v":0},{"$f":"IF(AH30>$AI$12,AH30-($AI$12+AI29),0)","v":0},{"$f":"IF(AND(AZ30>0,AZ30),IF(BA30>0,BA30,IF(BB30>0,BB30,IF(BC30>0,BC30,IF(BF30>0,BF30,\"\")))))","v":false},{"$f":"IF(AND(AO30>0,AO30),IF(AP30>0,AP30,IF(AQ30>0,AQ30,IF(AR30>0,AR30,IF(AU30>0,AU30,\"\")))))","v":false},null,0,null,{"$f":"IF(G30=0,0,\"\")","v":0},{"$f":"IF(AND(AH30<=40,E30=G30),G30,0)","v":0},{"$f":"IF(AND(AH30<=40,E30>=G30,G30>0),O30-E30,0)","v":0},{"$f":"IF(AND(AH30<=40,E30<G30),O30-G30,0)","v":0},{"$f":"IF(AND(G30=0),G30,IF(AND(G30>0,AI30>0,G30=AT30),AT30,IF(AND(G30>0,AI30>0,G30-AT30),AT30,0)))","v":0},null,{"$f":"AS30","v":0},{"$f":"IF(AND(AH29+AU30=40,AI30>0,AI30>AU30),AI30-AU30,IF(AND(AH29+AU30=40,AI30>0,AI30<AU30,AU30+AI30=G30),AI30,IF(AND(AH29>40,AH30>40,G30=AI30),AI30,0)))","v":0},{"$f":"AV30","v":0},null,{"$f":"IF(AND(J30>0,AI30>=J30,BB30=0),O30-AI30,IF(AND(J30>0,AI30>0,BB30<=AI30),AI30-BB30,IF(AND(J30>0,AI30>0,BB30>AI30),J30-BB30,0)))","v":0},0,{"$f":"IF(AND(AH30<=40,E30=J30),J30,0)","v":0},{"$f":"IF(AND(AZ30=0),AZ30,IF(AND(AH30>40,E30>=J30),BE30,IF(AND(AH30<=40,E30>J30),J30,0)))","v":0},{"$f":"IF(AND(AH30<=40,E30<J30),O30-J30,0)","v":0},{"$f":"IF(AND(J30=0),J30,IF(AND(J30>0,AI30>0,J30=BC30),BC30,IF(AND(J30>0,AI30>0,J30-BC30),BC30,0)))","v":0},null,{"$f":"BD30","v":0},null,{"$f":"IF(AND(G30>0,E30>0),1,0)","v":0},{"$f":"40-AH30","v":40},0,{"$f":"IF(AND(BH30=1,BL30>40,E30<G30),E30-BJ30,(IF(AND(BH30=1,BL30>0,E30>=G30),G30-BJ30,0)))","v":0},{"$f":"E30","v":0},{"$f":"IF(AND(K30>0,E30>0),1,0)","v":0},{"$f":"IF(AND(BM30=1,J30>8),K30,(IF(AND(BM30=1,J30>0),J30,0)))","v":0},{"$f":"IF(AND(BM30=1,40-BL29>0,40-BL29<8),40-BL29,IF(AND(J30<K30),J30,K30))","v":0},{"$f":"IF(AND(BM30=1,BL30>40,J30<=K30),J30-BO30,IF(AND(BM30=1,BL30>0,J30>K30),K30-BO30,0))","v":0}]
[{"$f":"IF(A30<$O$7,A30+1,IF(A30=$O$7,\"\"))","v":"2023-03-27"},null,null,"Monday",null,null,null,null,null,null,null,null,null,null,{"$f":"SUM(E31:N31)-J31","v":0},{"$f":"IF(AND(ISNUMBER(AA31),ISNUMBER(X31)),AA31*X31,\"\")","v":""},null,{"$f":"IF(AND(ISNUMBER(AB31),ISNUMBER(X31)),AB31*X31,\"\")","v":""},null,null,0,{"$f":"IF(BK31>0,BK31,0)","v":0},null,{"$f":"IF(ISNA(INDEX('Conversion Factors'!$B$6:$B$370,MATCH('Mar 16 - Mar 31'!$Z$30:$Z$36,'Conversion Factors'!$A$6:$A$370,0))),\"\",INDEX('Conversion Factors'!$B$6:$B$370,MATCH('Mar 16 - Mar 31'!$Z$30:$Z$36,'Conversion Factors'!$A$6:$A$370,0)))","v":7.2229999999999999},null,"2023-03-27","","",null,null,null,null,null,0,{"$f":"IF(AH31>$AI$12,AH31-($AI$12+AI30+AI29),0)","v":0},false,{"$f":"IF(AND(AO31>0,AO31),IF(AP31>0,AP31,IF(AQ31>0,AQ31,IF(AR31>0,AR31,IF(AU31>0,AU31,0)))))","v":false},null,0,null,0,0,0,0,0,{"$f":"IF(AND(AH30<=40),40-AH30,0)","v":40},{"$f":"AS31","v":0},0,{"$f":"AV31","v":0},null,0,0,0,0,0,0,{"$f":"IF(AND(AH30<=40),40-AH30,0)","v":40},{"$f":"BD31","v":0},null,{"$f":"IF(AND(G31>0,E31>0),1,0)","v":0},40,0,0,{"$f":"SUM(E30:E31)","v":0},{"$f":"IF(AND(K31>0,E31>0),1,0)","v":0},{"$f":"IF(AND(BM31=1,J31>8),K31,(IF(AND(BM31=1,J31>0),J31,0)))","v":0},0,0]
["2023-03-28",null,null,"Tuesday",null,null,null,null,null,null,null,null,null,null,0,"",null,"",null,null,0,0,null,{"$f":"IF(ISNA(INDEX('Conversion Factors'!$B$6:$B$370,MATCH('Mar 16 - Mar 31'!$Z$30:$Z$36,'Conversion Factors'!$A$6:$A$370,0))),\"\",INDEX('Conversion Factors'!$B$6:$B$370,MATCH('Mar 16 - Mar 31'!$Z$30:$Z$36,'Conversion Factors'!$A$6:$A$370,0)))","v":7.2229999999999999},null,"2023-03-28","","",null,null,null,null,null,0,{"$f":"IF(AH32>$AI$12,AH32-($AI$12+AI31+AI30+AI29),0)","v":0},false,false,null,0,null,0,0,0,0,0,40,0,0,0,null,0,0,0,0,0,0,{"$f":"IF(AND(AH31<=40),40-AH31,0)","v":40},0,null,{"$f":"IF(AND(G32>0,E32>0),1,0)","v":0},40,0,0,{"$f":"SUM(E30:E32)","v":0},0,{"$f":"IF(AND(BM32=1,J32>8),K32,(IF(AND(BM32=1,J32>0),J32,0)))","v":0},{"$f":"IF(AND(BM32=1,40-BL31>0,40-BL31<8),40-BL31,IF(AND(J32<K32),J32,K32))","v":0},0]
["2023-03-29",null,null,"Wednesday",null,null,null,null,null,null,null,null,null,null,0,"",null,"",null,null,0,0,null,{"$f":"IF(ISNA(INDEX('Conversion Factors'!$B$6:$B$370,MATCH('Mar 16 - Mar 31'!$Z$30:$Z$36,'Conversion Factors'!$A$6:$A$370,0))),\"\",INDEX('Conversion Factors'!$B$6:$B$370,MATCH('Mar 16 - Mar 31'!$Z$30:$Z$36,'Conversion Factors'!$A$6:$A$370,0)))","v":7.2229999999999999},null,"2023-03-29","","",null,null,null,null,null,0,{"$f":"IF(AH33>$AI$12,AH33-($AI$12+AI32+AI31+AI30+AI29),0)","v":0},false,false,null,0,null,0,0,0,0,0,40,0,0,0,null,0,0,0,0,0,0,40,0,null,{"$f":"IF(AND(G33>0,E33>0),1,0)","v":0},40,0,0,{"$f":"SUM(E30:E33)","v":0},0,{"$f":"IF(AND(BM33=1,J33>8),K33,(IF(AND(BM33=1,J33>0),J33,0)))","v":0},{"$f":"IF(AND(BM33=1,40-BL32>0,40-BL32<8),40-BL32,IF(AND(J33<K33),J33,K33))","v":0},0]
["2023-03-30",null,null,"Thursday",null,null,null,null,null,null,null,null,null,null,0,"",null,"",null,null,0,0,null,{"$f":"IF(ISNA(INDEX('Conversion Factors'!$B$6:$B$370,MATCH('Mar 16 - Mar 31'!$Z$30:$Z$36,'Conversion Factors'!$A$6:$A$370,0))),\"\",INDEX('Conversion Factors'!$B$6:$B$370,MATCH('Mar 16 - Mar 31'!$Z$30:$Z$36,'Conversion Factors'!$A$6:$A$370,0)))","v":7.2229999999999999},null,"2023-03-30","","",null,null,null,null,null,0,{"$f":"IF(AH34>$AI$12,AH34-($AI$12+AI33+AI32+AI31+AI30+AI29),0)","v":0},false,false,null,0,null,0,0,0,0,0,{"$f":"IF(AND(AH33<=40),40-AH33,0)","v":40},0,0,0,null,0,0,0,0,0,0,40,0,null,0,40,0,0,{"$f":"SUM(E30:E34)","v":0},0,0,0,0]
["2023-03-31",null,null,"Friday",null,null,null,null,null,null,null,null,null,null,0,"",null,"",null,null,0,0,null,{"$f":"IF(ISNA(INDEX('Conversion Factors'!$B$6:$B$370,MATCH('Mar 16 - Mar 31'!$Z$30:$Z$36,'Conversion Factors'!$A$6:$A$370,0))),\"\",INDEX('Conversion Factors'!$B$6:$B$370,MATCH('Mar 16 - Mar 31'!$Z$30:$Z$36,'Conversion Factors'!$A$6:$A$370,0)))","v":7.2229999999999999},null,"2023-03-31","","",null,null,null,null,null,0,{"$f":"IF(AH35>$AI$12,AH35-($AI$12+AI34+AI33+AI32+AI31+AI30+AI29),0)","v":0},false,false,null,0,null,0,0,0,0,0,{"$f":"IF(AND(AH34<=40),40-AH34,0)","v":40},0,0,0,null,0,0,0,0,0,0,40,0,null,0,40,0,0,{"$f":"SUM(E30:E35)","v":0},0,0,0,{"$f":"IF(AND(BM35=1,BL35>40,J35<=K35),J35-BO35,IF(AND(BM35=1,BL35>0,J35>K35),K35-BO35,0))","v":0}]
["",null,null,"Saturday",null,null,null,null,null,null,null,null,null,null,0,"",null,"",null,null,0,0,null,{"$f":"IF(ISNA(INDEX('Conversion Factors'!$B$6:$B$370,MATCH('Mar 16 - Mar 31'!$Z$30:$Z$36,'Conversion Factors'!$A$6:$A$370,0))),\"\",INDEX('Conversion Factors'!$B$6:$B$370,MATCH('Mar 16 - Mar 31'!$Z$30:$Z$36,'Conversion Factors'!$A$6:$A$370,0)))","v":""},null,"","","",null,null,null,null,null,0,{"$f":"IF(AH36>$AI$12,AH36-($AI$12+AI35+AI34+AI33+AI32+AI31+AI30+AI29),0)","v":0},false,false,null,0,null,0,0,0,0,0,40,0,0,0,null,0,0,0,0,0,0,40,0,null,0,40,0,0,{"$f":"SUM(E30:E36)","v":0},0,0,0,{"$f":"IF(AND(BM36=1,BL36>40,J36<=K36),J36-BO36,IF(AND(BM36=1,BL36>0,J36>K36),K36-BO36,0))","v":0}]
["Week 3 Totals",null,null,null,{"$f":"SUM(E30:E36)","v":0},0,0,0,0,null,0,0,0,0,{"$f":"SUM(O30:O36)","v":0},{"$f":"-SUM(P30:P36)","v":0},{"$f":"SUM(Q30:Q36)","v":0},{"$f":"SUM(R30:R36)","v":0},{"$f":"IF(E37>40,(E37-40)-V37,0)","v":0},{"$f":"MROUND(AL37,0.25)","v":0},{"$f":"SUM(U30:U36)","v":0},{"$f":"SUM(V30:V36)","v":0},{"$f":"IF(E37-(E11-(G37+K37+F37+H37+I37+L37+M3))-(S37+U37+V37)>0,E37-(E11-(G37+K37+F37+H37+I37+L37+M37))-(S37+U37+V37),0)","v":0},null,null,null,null,null,{"$f":"SUM(F37:N37)","v":0},{"$f":"IF(AND(AG37<40,O37>=AG37),O37-(AG37+S37),IF(AND(O37<AG37,E37=O37),O37-E37,IF(AND(E37>AG37,E37<40),E37-AG37,IF(AND(O37>AG37,E37<AG37),E37-(AG37-AC37),IF(AND(O37>AG37,E37>40),E37-(AG37-AC37+S37),IF(AND(O37>AG37,O37>40),O37-(S37+AG37),0))))))","v":0},{"$f":"AD37-U37-V37","v":0},{"$f":"$W$11","v":"Please Select"},{"$f":"$E$11","v":40},null,{"$f":"IF(AH37>$AI$12,-$AI$12,0)","v":0},null,null,{"$f":"IF(AF37=\"Yes\",S37*1.5,0)","v":0},null,null,null,null,null,null,null,null,null,null,null,null,null,null,null,null,null,null,null,null,null,0,null,null,null,null,null,null,null,{"$f":"SUM(BP30:BP36)","v":0},{"$f":"U37+E11","v":40}]
[{"$f":"IF(A36<$O$7,A36+1,IF(A36=$O$7,\"\"))","v":false},null,null,"Sunday",null,null,null,null,null,null,null,null,null,null,{"$f":"SUM(E38:N38)-J38","v":0},{"$f":"IF(AND(ISNUMBER(AA38),ISNUMBER(X38)),AA38*X38,\"\")","v":""},null,{"$f":"IF(AND(ISNUMBER(AB38),ISNUMBER(X38)),AB38*X38,\"\")","v":""},null,null,0,{"$f":"IF(BK38>0,BK38,0)","v":0},null,{"$f":"IF(ISNA(INDEX('Conversion Factors'!$B$6:$B$370,MATCH('Mar 16 - Mar 31'!$Z$38:$Z$44,'Conversion Factors'!$A$6:$A$370,0))),\"\",INDEX('Conversion Factors'!$B$6:$B$370,MATCH('Mar 16 - Mar 31'!$Z$38:$Z$44,'Conversion Factors'!$A$6:$A$370,0)))","v":""},null,{"$f":"A38","v":false},{"$f":"IF(AND(ISNUMBER(N38),ISNUMBER($Z$12)),N38/$Z$12,\"\")","v":""},{"$f":"IF(AND(ISNUMBER(Q38),ISNUMBER($Z$12)),Q38/$Z$12,\"\")","v":""},null,null,null,null,null,{"$f":"E38+AH37","v":0},{"$f":"IF(AH38>$AI$12,AH38-($AI$12+AI37),0)","v":0},{"$f":"IF(AND(AZ38>0,AZ38),IF(BA38>0,BA38,IF(BB38>0,BB38,IF(BC38>0,BC38,IF(BF38>0,BF38,\"\")))))","v":false},{"$f":"IF(AND(AO38>0,AO38),IF(AP38>0,AP38,IF(AQ38>0,AQ38,IF(AR38>0,AR38,IF(AU38>0,AU38,\"\")))))","v":false},null,{"$f":"J38","v":0},null,{"$f":"IF(G38=0,0,\"\")","v":0},{"$f":"IF(AND(AH38<=40,E38=G38),G38,0)","v":0},{"$f":"IF(AND(AH38<=40,E38>=G38,G38>0),O38-E38,0)","v":0},{"$f":"IF(AND(AH38<=40,E38<G38),O38-G38,0)","v":0},{"$f":"IF(AND(G38=0),G38,IF(AND(G38>0,AI38>0,G38=AT38),AT38,IF(AND(G38>0,AI38>0,G38-AT38),AT38,0)))","v":0},null,{"$f":"AS38","v":0},{"$f":"IF(AND(AH37+AU38=40,AI38>0,AI38>AU38),AI38-AU38,IF(AND(AH37+AU38=40,AI38>0,AI38<AU38,AU38+AI38=G38),AI38,IF(AND(AH37>40,AH38>40,G38=AI38),AI38,0)))","v":0},{"$f":"AV38","v":0},null,{"$f":"IF(AND(J38>0,AI38>=J38,BB38=0),O38-AI38,IF(AND(J38>0,AI38>0,BB38<=AI38),AI38-BB38,IF(AND(J38>0,AI38>0,BB38>AI38),J38-BB38,0)))","v":0},{"$f":"IF(J38=0,0,\"\")","v":0},{"$f":"IF(AND(AH38<=40,E38=J38),J38,0)","v":0},{"$f":"IF(AND(AZ38=0),AZ38,IF(AND(AH38>40,E38>=J38),BE38,IF(AND(AH38<=40,E38>J38),J38,0)))","v":0},{"$f":"IF(AND(AH38<=40,E38<J38),O38-J38,0)","v":0},{"$f":"IF(AND(J38=0),J38,IF(AND(J38>0,AI38>0,J38=BC38),BC38,IF(AND(J38>0,AI38>0,J38-BC38),BC38,0)))","v":0},null,{"$f":"BD38","v":0},null,{"$f":"IF(AND(G38>0,E38>0),1,0)","v":0},{"$f":"40-AH38","v":40},0,{"$f":"IF(AND(BH38=1,BL38>40,E38<G38),E38-BJ38,(IF(AND(BH38=1,BL38>0,E38>=G38),G38-BJ38,0)))","v":0},{"$f":"E38","v":0},{"$f":"IF(AND(K38>0,E38>0),1,0)","v":0},{"$f":"IF(AND(BM38=1,J38>8),K38,(IF(AND(BM38=1,J38>0),J38,0)))","v":0},{"$f":"IF(AND(BM38=1,40-BL37>0,40-BL37<8),40-BL37,IF(AND(J38<K38),J38,K38))","v":0},{"$f":"IF(AND(BM38=1,BL38>40,J38<=K38),J38-BO38,IF(AND(BM38=1,BL38>0,J38>K38),K38-BO38,0))","v":0}]
[{"$f":"IF(A38<$O$7,A38+1,IF(A38=$O$7,\"\"))","v":false},null,null,"Monday",null,null,null,0,null,null,null,null,null,null,{"$f":"SUM(E39:N39)-J39","v":0},{"$f":"IF(AND(ISNUMBER(AA39),ISNUMBER(X39)),AA39*X39,\"\")","v":""},null,{"$f":"IF(AND(ISNUMBER(AB39),ISNUMBER(X39)),AB39*X39,\"\")","v":""},null,null,0,{"$f":"IF(BK39>0,BK39,0)","v":0},null,{"$f":"IF(ISNA(INDEX('Conversion Factors'!$B$6:$B$370,MATCH('Mar 16 - Mar 31'!$Z$38:$Z$44,'Conversion Factors'!$A$6:$A$370,0))),\"\",INDEX('Conversion Factors'!$B$6:$B$370,MATCH('Mar 16 - Mar 31'!$Z$38:$Z$44,'Conversion Factors'!$A$6:$A$370,0)))","v":""},null,false,"","",null,null,null,null,null,0,{"$f":"IF(AH39>$AI$12,AH39-($AI$12+AI38+AI37),0)","v":0},false,{"$f":"IF(AND(AO39>0,AO39),IF(AP39>0,AP39,IF(AQ39>0,AQ39,IF(AR39>0,AR39,IF(AU39>0,AU39,0)))))","v":false},null,0,null,0,0,0,0,0,{"$f":"IF(AND(AH38<=40),40-AH38,0)","v":40},{"$f":"AS39","v":0},0,{"$f":"AV39","v":0},null,0,0,0,0,0,0,{"$f":"IF(AND(AH38<=40),40-AH38,0)","v":40},{"$f":"BD39","v":0},null,{"$f":"IF(AND(G39>0,E39>0),1,0)","v":0},40,0,0,{"$f":"SUM(E38:E39)","v":0},{"$f":"IF(AND(K39>0,E39>0),1,0)","v":0},{"$f":"IF(AND(BM39=1,J39>8),K39,(IF(AND(BM39=1,J39>0),J39,0)))","v":0},0,0]
[false,null,null,"Tuesday",null,null,null,null,null,0,0,null,null,null,{"$f":"SUM(E40:N40)-J40","v":0},"",null,"",null,null,0,0,null,{"$f":"IF(ISNA(INDEX('Conversion Factors'!$B$6:$B$370,MATCH('Mar 16 - Mar 31'!$Z$38:$Z$44,'Conversion Factors'!$A$6:$A$370,0))),\"\",INDEX('Conversion Factors'!$B$6:$B$370,MATCH('Mar 16 - Mar 31'!$Z$38:$Z$44,'Conversion Factors'!$A$6:$A$370,0)))","v":""},null,false,"","",null,null,null,null,null,0,{"$f":"IF(AH40>$AI$12,AH40-($AI$12+AI39+AI38+AI37),0)","v":0},false,false,null,0,null,0,0,0,0,0,40,0,0,0,null,0,0,0,0,0,0,{"$f":"IF(AND(AH39<=40),40-AH39,0)","v":40},0,null,{"$f":"IF(AND(G40>0,E40>0),1,0)","v":0},40,0,0,{"$f":"SUM(E38:E40)","v":0},0,{"$f":"IF(AND(BM40=1,J40>8),K40,(IF(AND(BM40=1,J40>0),J40,0)))","v":0},{"$f":"IF(AND(BM40=1,40-BL39>0,40-BL39<8),40-BL39,IF(AND(J40<K40),J40,K40))","v":0},0]
[false,null,null,"Wednesday",null,null,null,null,null,null,null,null,null,null,0,"",null,"",null,null,0,0,null,{"$f":"IF(ISNA(INDEX('Conversion Factors'!$B$6:$B$370,MATCH('Mar 16 - Mar 31'!$Z$38:$Z$44,'Conversion Factors'!$A$6:$A$370,0))),\"\",INDEX('Conversion Factors'!$B$6:$B$370,MATCH('Mar 16 - Mar 31'!$Z$38:$Z$44,'Conversion Factors'!$A$6:$A$370,0)))","v":""},null,false,"","",null,null,null,null,null,0,{"$f":"IF(AH41>$AI$12,AH41-($AI$12+AI40+AI39+AI38+AI37),0)","v":0},false,false,null,0,null,0,0,0,0,0,40,0,0,0,null,0,0,0,0,0,0,40,0,null,{"$f":"IF(AND(G41>0,E41>0),1,0)","v":0},40,0,0,{"$f":"SUM(E38:E41)","v":0},0,{"$f":"IF(AND(BM41=1,J41>8),K41,(IF(AND(BM41=1,J41>0),J41,0)))","v":0},{"$f":"IF(AND(BM41=1,40-BL40>0,40-BL40<8),40-BL40,IF(AND(J41<K41),J41,K41))","v":0},0]
[false,null,null,"Thursday",null,null,null,null,null,null,null,null,null,null,0,"",null,"",null,null,0,0,null,{"$f":"IF(ISNA(INDEX('Conversion Factors'!$B$6:$B$370,MATCH('Mar 16 - Mar 31'!$Z$38:$Z$44,'Conversion Factors'!$A$6:$A$370,0))),\"\",INDEX('Conversion Factors'!$B$6:$B$370,MATCH('Mar 16 - Mar 31'!$Z$38:$Z$44,'Conversion Factors'!$A$6:$A$370,0)))","v":""},null,false,"","",null,null,null,null,null,0,{"$f":"IF(AH42>$AI$12,AH42-($AI$12+AI41+AI40+AI39+AI38+AI37),0)","v":0},false,false,null,0,null,0,0,0,0,0,{"$f":"IF(AND(AH41<=40),40-AH41,0)","v":40},0,0,0,null,0,0,0,0,0,0,40,0,null,0,40,0,0,{"$f":"SUM(E38:E42)","v":0},0,0,0,0]
[false,null,null,"Friday",null,null,null,null,null,null,null,null,null,null,0,"",null,"",null,null,0,0,null,{"$f":"IF(ISNA(INDEX('Conversion Factors'!$B$6:$B$370,MATCH('Mar 16 - Mar 31'!$Z$38:$Z$44,'Conversion Factors'!$A$6:$A$370,0))),\"\",INDEX('Conversion Factors'!$B$6:$B$370,MATCH('Mar 16 - Mar 31'!$Z$38:$Z$44,'Conversion Factors'!$A$6:$A$370,0)))","v":""},null,false,"","",null,null,null,null,null,0,{"$f":"IF(AH43>$AI$12,AH43-($AI$12+AI42+AI41+AI40+AI39+AI38+AI37),0)","v":0},false,false,null,0,null,0,0,0,0,0,{"$f":"IF(AND(AH42<=40),40-AH42,0)","v":40},0,0,0,null,0,0,0,0,0,0,40,0,null,0,40,0,0,{"$f":"SUM(E38:E43)","v":0},0,0,0,{"$f":"IF(AND(BM43=1,BL43>40,J43<=K43),J43-BO43,IF(AND(BM43=1,BL43>0,J43>K43),K43-BO43,0))","v":0}]
[false,null,null,"Saturday",null,null,null,null,null,null,null,null,null,null,{"$f":"SUM(E44:N44)-J44","v":0},"",null,"",null,null,0,0,null,{"$f":"IF(ISNA(INDEX('Conversion Factors'!$B$6:$B$370,MATCH('Mar 16 - Mar 31'!$Z$38:$Z$44,'Conversion Factors'!$A$6:$A$370,0))),\"\",INDEX('Conversion Factors'!$B$6:$B$370,MATCH('Mar 16 - Mar 31'!$Z$38:$Z$44,'Conversion Factors'!$A$6:$A$370,0)))","v":""},null,false,"","",null,null,null,null,null,0,{"$f":"IF(AH44>$AI$12,AH44-($AI$12+AI43+AI42+AI41+AI40+AI39+AI38+AI37),0)","v":0},false,false,null,0,null,0,0,0,0,0,40,0,0,0,null,0,0,0,0,0,0,40,0,null,0,40,0,0,{"$f":"SUM(E38:E44)","v":0},0,0,0,{"$f":"IF(AND(BM44=1,BL44>40,J44<=K44),J44-BO44,IF(AND(BM44=1,BL44>0,J44>K44),K44-BO44,0))","v":0}]
["Week 4 Totals",null,null,null,{"$f":"SUM(E38:E44)","v":0},{"$f":"SUM(F38:F44)","v":0},0,0,0,null,0,0,0,0,{"$f":"SUM(O38:O44)","v":0},{"$f":"-SUM(P38:P44)","v":0},{"$f":"SUM(Q38:Q44)","v":0},{"$f":"SUM(R38:R44)","v":0},{"$f":"IF(E45>40,(E45-40)-V45,0)","v":0},{"$f":"MROUND(AL45,0.25)","v":0},{"$f":"SUM(U38:U44)","v":0},{"$f":"SUM(V38:V44)","v":0},{"$f":"IF(E45-(E11-(G45+K45+F45+H45+I45+L45+M45))-(S45+U45+V45)>0,E45-(E11-(G45+K45+F45+H45+I45+L45+M45))-(S45+U45+V45),0)","v":0},null,null,null,null,null,{"$f":"SUM(F45:N45)","v":0},{"$f":"IF(AND(AG45<40,O45>=AG45),O45-(AG45+S45),IF(AND(O45<AG45,E45=O45),O45-E45,IF(AND(E45>AG45,E45<40),E45-AG45,IF(AND(O45>AG45,E45<AG45),E45-(AG45-AC45),IF(AND(O45>AG45,E45>40),E45-(AG45-AC45+S45),IF(AND(O45>AG45,O45>40),O45-(S45+AG45),0))))))","v":0},{"$f":"AD45-U45-V45","v":0},{"$f":"$W$11","v":"Please Select"},{"$f":"$E$11","v":40},null,{"$f":"IF(AH45>$AI$12,-$AI$12,0)","v":0},null,null,{"$f":"IF(AF45=\"Yes\",S45*1.5,0)","v":0},null,null,null,null,null,null,null,null,null,null,null,null,null,null,null,null,null,null,null,null,null,null,null,null,null,null,null,null,null,{"$f":"SUM(BP38:BP44)","v":0},{"$f":"E44+E11","v":40}]
[null,null,null,null,null,null,null,null,"Total-Net Previous Week",null,null,null,null,null,{"$f":"(O21+O29+O37+O45)-O13","v":0},{"$f":"(P21+P29+P37+P45)-P13","v":0},0,0,0,0,0,0,0,0]
[]
[null,null,null,null,null,null,null,null,null,null,null,null,null,null,"Leave/Leave Without Pay Policy"]
["Employee signature",null,null,null,null,null,"Date",null,null,null,null,null,null,null,"Overtime/Compensatory Time"]
["I certify this record is accurate and accounts for my time during the indicated period.",null,null,null,null,null,null,null,null,null,null,null,null,null,"Time Sheet Definitions/Policies"]
[]
[null,null,null,null,null,null,null,null,null,null,"“Actual Work Hours During Administrative Close Period” – Only key the hours actually worked during the admministrative closing period into this field. "]
[]
["Manager signature",null,null,null,null,null,"Date"]
["I certify the hours recorded and coded on this form are correct and in compliance with University policy.",null,null,null,null,null,null,null,null,null,"“Administrative Closing/Leave Period field.”  Entter the number of hours of the declared period of administrative closing. (The total hours worked during the entire day will be entered into the “Actual Hours Worked” field.)"]

{"sheet":"April 1 - April 15","index":25,"n_rows":55,"n_cols":69,"rows_kept":55,"cut":false,"hidden":false,"merged":[[47,14,47,22],[48,14,48,19],[49,14,49,22],[51,10,53,22],[54,10,56,22],[45,8,45,13],[34,0,34,2],[35,0,35,2],[36,0,36,2],[37,0,37,2],[38,0,38,2],[39,0,39,2],[40,0,40,2],[41,0,41,2],[42,0,42,2],[43,0,43,2],[44,0,44,2],[33,0,33,2],[22,0,22,2],[23,0,23,2],[24,0,24,2],[25,0,25,2],[26,0,26,2],[27,0,27,2],[28,0,28,2],[29,0,29,2],[30,0,30,2],[31,0,31,2],[32,0,32,2],[21,0,21,2],[11,0,11,2],[11,29,11,30],[12,0,12,3],[13,0,13,2],[14,0,14,2],[15,0,15,2],[16,0,16,2],[17,0,17,2],[18,0,18,2],[19,0,19,2],[20,0,20,2],[10,40,10,46],[6,2,6,7],[6,8,6,13],[6,14,6,19],[7,2,7,7],[7,8,7,13],[7,14,7,19],[10,0,10,3],[10,4,10,5],[10,6,10,17],[10,18,10,21],[10,22,10,23],[0,0,0,22],[1,0,1,22],[3,0,3,23],[5,2,5,7],[5,8,5,13],[5,14,5,19]]}
["Mississippi State University"]
["Non-Exempt Employee Semi-Monthly Time Report"]
[]
["Instructions:  The Fair Labor Standards Act requires that a record of hours worked on a weekly basis be maintained for all employees except executive, administrative, managerial, faculty, and professional (non-faculty).  Department/unit heads are responsible for compiling and maintaining this record in department files on each covered employee for a period of at least (3) years."]
[]
["MSU ID #:",null,{"$f":"'July 1 - July 15'!C6","v":0},null,null,null,null,null,"Pay period start date:",null,null,null,null,null,{"$f":"'Dates & Notes'!$A$20","v":"2023-04-01"},null,null,null,null,null,null,null,null,null,null,{"$f":"TEXT(O6,\"dddd\")","v":"Saturday"},null,null,null,"Please Select"]
["Name:",null,{"$f":"'July 1 - July 15'!C7","v":0},null,null,null,null,null,"Pay period end date:",null,null,null,null,null,{"$f":"'Dates & Notes'!$B$20","v":"2023-04-15"},null,null,null,null,null,null,null,null,null,null,null,null,null,null,"No"]
["Department:",null,{"$f":"'July 1 - July 15'!C8","v":0},null,null,null,null,null,"Pay Period Number:",null,null,null,null,null,{"$f":"'Dates & Notes'!$C$20","v":7},null,null,null,null,null,null,null,null,null,null,null,null,null,null,"Yes"]
[]
[]
["Employee Scheduled Hours Per Week",null,null,null,40,null,"FIELDS MUST BE ENTERED FOR CALULATIONS TO WORK PROPERLY",null,null,null,null,null,null,null,null,null,null,null,"Receive Compensatory Time",null,null,null,"Please Select",null,null,null,null,null,null,null,null,null,null,null,"Over 40",null,null,null,null,null,"HOW ANALYSIS"]
["Work Week Dates",null,null,"Day of The Week","Actual Hours Worked","Compensatory Time Used","Holiday","Medical Leave","Personal Leave","Actual Wrk Hrs During  Admin Close Period","Administrative Closing/Leave Period","Jury Duty","Military Leave","Leave Without Pay","Totals","DOC-Payroll Conversion","RTO","RTO-Payroll Conversion","Overtime Hours","Hours Transferred to Comp. Record","HOW-Holiday Pay or Admin/Leave Closing","HOT-Holiday Pay","SST-Payroll","Conversion Factor",null,8,"DOC","RTO",null,"SST",null,null,null,"Cumm Actual HRS",40,"Administrative Leave","HOW-Holiday Pay","Comp. Time","Administrative/Schedule",null,"Holiday=0\n1",2,3,4,null,"<=40\n5",null,"HOT Workup","HOT-Holiday Pay (HOLIDAY PAY)",null,"HOT-Administrative HRS","Administrative=0\n1",2,3,4,null,"<=40\n5",null,null,"Holiday Flag","Up to 40","How","Hot","Actual Hours Worked","Admin Flag","Admin","Admin HOW","Admin OVT"]
["Hours-Previous WK (Due to Split WK)",null,null,null,{"$f":"SUM(E14:E19)","v":0},0,0,0,0,0,0,0,0,0,{"$f":"SUM(E13:N13)-J13","v":0},null,null,null,null,null,null,null,null,null,null,null,null,null,null,null,null,null,null,null,null,{"$f":"IF(AND(AM13=0,J13=0),AM13,IF(AND(E13>AM13,J13=0),J13,IF(AND(J13<AM13,AI13=0),J13,IF(AND(AM13=J13,AI13<AM13),AM13-AI13,IF(AND(J13=AM13,AI13=AM13),AI13,IF(AND(J13<AM13,AI13>0),AM13-J13,IF(AND(AM13>J13,AI13<E13),E13-AI13,IF(AND(E13>AM13,AI13=E13),O13-AI13,0))))))))","v":0},{"$f":"IF(AND(G13=0,E13>G13),G13,IF(AND(E13>G13,AI13=0),G13,IF(AND(E13<G13,AI13=0),E13,IF(AND(E13=G13,AI13<G13),G13-AI13,IF(AND(E13=G13,AI13=G13),AI13,IF(AND(E13<G13,AI13>0),G13-E13,IF(AND(E13>G13,AI13<E13),E13-AI13,IF(AND(E13>G13,AI13=E13),O13-AI13,0))))))))","v":0},null,{"$f":"K13","v":0}]
[{"$f":"IF(EXACT(D14,$Z$6)=TRUE,$O$6,IF(A12=0,\"\",IF(A12<$O$7,A12+1,IF(A12=$O$7,\"\"))))","v":false},null,null,"Sunday",{"$f":"'Mar 16 - Mar 31'!E30","v":0},{"$f":"'Mar 16 - Mar 31'!F30","v":0},{"$f":"'Mar 16 - Mar 31'!G30","v":0},{"$f":"'Mar 16 - Mar 31'!H30","v":0},{"$f":"'Mar 16 - Mar 31'!I30","v":0},{"$f":"'Mar 16 - Mar 31'!J30","v":0},{"$f":"'Mar 16 - Mar 31'!K30","v":0},{"$f":"'Mar 16 - Mar 31'!L30","v":0},{"$f":"'Mar 16 - Mar 31'!M30","v":0},{"$f":"'Mar 16 - Mar 31'!N30","v":0},{"$f":"SUM(E14:N14)-J14","v":0},{"$f":"IF(AND(ISNUMBER(AA14),ISNUMBER(X14)),AA14*X14,\"\")","v":""},null,{"$f":"IF(AND(ISNUMBER(AB14),ISNUMBER(X14)),AB14*X14,\"\")","v":""},null,null,{"$f":"IF(BJ14>0,BJ14,BN14)","v":0},{"$f":"IF(BK14>0,BK14,0)","v":0},null,{"$f":"IF(ISNA(INDEX('Conversion Factors'!$B$6:$B$371,MATCH('April 1 - April 15'!$Z$14:$Z$20,'Conversion Factors'!$A$6:$A$371,0))),\"\",INDEX('Conversion Factors'!$B$6:$B$371,MATCH('April 1 - April 15'!$Z$14:$Z$20,'Conversion Factors'!$A$6:$A$371,0)))","v":""},null,{"$f":"A14","v":false},{"$f":"IF(AND(ISNUMBER(N14),ISNUMBER($Z$12)),N14/$Z$12,\"\")","v":0},{"$f":"IF(AND(ISNUMBER(Q14),ISNUMBER($Z$12)),Q14/$Z$12,\"\")","v":""},null,null,null,null,null,{"$f":"E14","v":0},{"$f":"IF(AH14>$AI$12,AH14-$AI$12,0)","v":0},{"$f":"IF(AND(AZ14>0,AZ14),IF(BA14>0,BA14,IF(BB14>0,BB14,IF(BC14>0,BC14,IF(BF14>0,BF14,\"\")))))","v":false},{"$f":"IF(AND(AO14>0,AO14),IF(AP14>0,AP14,IF(AQ14>0,AQ14,IF(AR14>0,AR14,IF(AU14>0,AU14,\"\")))))","v":false},null,{"$f":"J14","v":0},null,{"$f":"IF(G14=0,0,\"\")","v":0},{"$f":"IF(AND(AH14<=40,E14=G14),G14,0)","v":0},{"$f":"IF(AND(AH14<=40,E14>=G14,G14>0),O14-E14,0)","v":0},{"$f":"IF(AND(AH14<=40,E14<G14),O14-G14,0)","v":0},{"$f":"IF(AND(G14=0),G14,IF(AND(G14>0,AI14>0,G14=AT14),AT14,IF(AND(G14>0,AI14>0,G14-AT14),AT14,0)))","v":0},null,{"$f":"AS14","v":0},{"$f":"IF(AND(AH13+AU14=40,AI14>0,AI14>AU14),AI14-AU14,IF(AND(AH13+AU14=40,AI14>0,AI14<AU14,AU14+AI14=G14),AI14,IF(AND(AH13>40,AH14>40,G14=AI14),AI14,0)))","v":0},{"$f":"AV14","v":0},null,{"$f":"IF(AND(J14>0,AI14>=J14,BB14=0),O14-AI14,IF(AND(J14>0,AI14>0,BB14<=AI14),AI14-BB14,IF(AND(J14>0,AI14>0,BB14>AI14),J14-BB14,0)))","v":0},{"$f":"IF(J14=0,0,\"\")","v":0},{"$f":"IF(AND(AH14<=40,E14=J14),J14,0)","v":0},{"$f":"IF(AND(AZ14=0),AZ14,IF(AND(AH14>40,E14>=J14),BE14,IF(AND(AH14<=40,E14>J14),J14,0)))","v":0},{"$f":"IF(AND(AH14<=40,E14<J14),O14-J14,0)","v":0},{"$f":"IF(AND(J14=0),J14,IF(AND(J14>0,AI14>0,J14=BC14),BC14,IF(AND(J14>0,AI14>0,J14-BC14),BC14,0)))","v":0},null,{"$f":"BD14","v":0},null,{"$f":"IF(AND(G14>0,E14>0),1,0)","v":0},{"$f":"40-AH14","v":40},{"$f":"IF(AND(BH14=1,E14<8),E14,(IF(AND(BH14=1,E14>0),G14,0)))","v":0},{"$f":"IF(AND(BH14=1,BL14>40,E14<G14),E14-BJ14,(IF(AND(BH14=1,BL14>0,E14>=G14),G14-BJ14,0)))","v":0},{"$f":"E14","v":0},{"$f":"IF(AND(K14>0,E14>0),1,0)","v":0},{"$f":"IF(AND(BM14=1,J14>8),K14,(IF(AND(BM14=1,J14>0),J14,0)))","v":0},{"$f":"IF(AND(BM14=1,40-BL13>0,40-BL13<8),40-BL13,IF(AND(J14<K14),J14,K14))","v":0},{"$f":"IF(AND(BM14=1,BL14>40,J14<=K14),J14-BO14,IF(AND(BM14=1,BL14>0,J14>K14),K14-BO14,0))","v":0}]
[{"$f":"IF(EXACT(D15,$Z$6)=TRUE,$O$6,IF(A14=0,\"\",IF(A14<$O$7,A14+1,IF(A14=$O$7,\"\"))))","v":false},null,null,"Monday",{"$f":"'Mar 16 - Mar 31'!E31","v":0},{"$f":"'Mar 16 - Mar 31'!F31","v":0},{"$f":"'Mar 16 - Mar 31'!G31","v":0},{"$f":"'Mar 16 - Mar 31'!H31","v":0},{"$f":"'Mar 16 - Mar 31'!I31","v":0},{"$f":"'Mar 16 - Mar 31'!J31","v":0},{"$f":"'Mar 16 - Mar 31'!K31","v":0},{"$f":"'Mar 16 - Mar 31'!L31","v":0},{"$f":"'Mar 16 - Mar 31'!M31","v":0},{"$f":"'Mar 16 - Mar 31'!N31","v":0},{"$f":"SUM(E15:N15)-J15","v":0},{"$f":"IF(AND(ISNUMBER(AA15),ISNUMBER(X15)),AA15*X15,\"\")","v":""},null,{"$f":"IF(AND(ISNUMBER(AB15),ISNUMBER(X15)),AB15*X15,\"\")","v":""},null,null,{"$f":"IF(BJ15>0,BJ15,BN15)","v":0},{"$f":"IF(BK15>0,BK15,0)","v":0},null,{"$f":"IF(ISNA(INDEX('Conversion Factors'!$B$6:$B$371,MATCH('April 1 - April 15'!$Z$14:$Z$20,'Conversion Factors'!$A$6:$A$371,0))),\"\",INDEX('Conversion Factors'!$B$6:$B$371,MATCH('April 1 - April 15'!$Z$14:$Z$20,'Conversion Factors'!$A$6:$A$371,0)))","v":""},null,false,0,"",null,null,null,null,null,{"$f":"E15+AH14","v":0},{"$f":"IF(AH15>$AI$12,AH15-($AI$12+AI14),0)","v":0},{"$f":"IF(AND(AZ15>0,AZ15),IF(BA15>0,BA15,IF(BB15>0,BB15,IF(BC15>0,BC15,IF(BF15>0,BF15,\"\")))))","v":false},{"$f":"IF(AND(AO15>0,AO15),IF(AP15>0,AP15,IF(AQ15>0,AQ15,IF(AR15>0,AR15,IF(AU15>0,AU15,0)))))","v":false},null,0,null,0,0,0,0,0,{"$f":"IF(AND(AH14<=40),40-AH14,0)","v":40},{"$f":"AS15","v":0},0,{"$f":"AV15","v":0},null,0,0,0,0,0,0,{"$f":"IF(AND(AH14<=40),40-AH14,0)","v":40},{"$f":"BD15","v":0},null,{"$f":"IF(AND(G15>0,E15>0),1,0)","v":0},40,0,0,{"$f":"SUM(E14:E15)","v":0},{"$f":"IF(AND(K15>0,E15>0),1,0)","v":0},{"$f":"IF(AND(BM15=1,J15>8),K15,(IF(AND(BM15=1,J15>0),J15,0)))","v":0},0,0]
[false,null,null,"Tuesday",{"$f":"'Mar 16 - Mar 31'!E32","v":0},{"$f":"'Mar 16 - Mar 31'!F32","v":0},{"$f":"'Mar 16 - Mar 31'!G32","v":0},{"$f":"'Mar 16 - Mar 31'!H32","v":0},{"$f":"'Mar 16 - Mar 31'!I32","v":0},{"$f":"'Mar 16 - Mar 31'!J32","v":0},{"$f":"'Mar 16 - Mar 31'!K32","v":0},{"$f":"'Mar 16 - Mar 31'!L32","v":0},{"$f":"'Mar 16 - Mar 31'!M32","v":0},{"$f":"'Mar 16 - Mar 31'!N32","v":0},{"$f":"SUM(E16:N16)-J16","v":0},"",null,"",null,null,{"$f":"IF(BJ16>0,BJ16,BN16)","v":0},0,null,{"$f":"IF(ISNA(INDEX('Conversion Factors'!$B$6:$B$371,MATCH('April 1 - April 15'!$Z$14:$Z$20,'Conversion Factors'!$A$6:$A$371,0))),\"\",INDEX('Conversion Factors'!$B$6:$B$371,MATCH('April 1 - April 15'!$Z$14:$Z$20,'Conversion Factors'!$A$6:$A$371,0)))","v":""},null,false,0,"",null,null,null,null,null,0,{"$f":"IF(AH16>$AI$12,AH16-($AI$12+AI15+AI14),0)","v":0},false,false,null,0,null,0,0,0,0,0,40,0,0,0,null,0,0,0,0,0,0,{"$f":"IF(AND(AH15<=40),40-AH15,0)","v":40},0,null,{"$f":"IF(AND(G16>0,E16>0),1,0)","v":0},40,0,0,{"$f":"SUM(E14:E16)","v":0},0,{"$f":"IF(AND(BM16=1,J16>8),K16,(IF(AND(BM16=1,J16>0),J16,0)))","v":0},{"$f":"IF(AND(BM16=1,40-BL15>0,40-BL15<8),40-BL15,IF(AND(J16<K16),J16,K16))","v":0},0]
[false,null,null,"Wednesday",{"$f":"'Mar 16 - Mar 31'!E33","v":0},{"$f":"'Mar 16 - Mar 31'!F33","v":0},{"$f":"'Mar 16 - Mar 31'!G33","v":0},{"$f":"'Mar 16 - Mar 31'!H33","v":0},{"$f":"'Mar 16 - Mar 31'!I33","v":0},{"$f":"'Mar 16 - Mar 31'!J33","v":0},{"$f":"'Mar 16 - Mar 31'!K33","v":0},{"$f":"'Mar 16 - Mar 31'!L33","v":0},{"$f":"'Mar 16 - Mar 31'!M33","v":0},{"$f":"'Mar 16 - Mar 31'!N33","v":0},{"$f":"SUM(E17:N17)-J17","v":0},"",null,"",null,null,0,0,null,{"$f":"IF(ISNA(INDEX('Conversion Factors'!$B$6:$B$371,MATCH('April 1 - April 15'!$Z$14:$Z$20,'Conversion Factors'!$A$6:$A$371,0))),\"\",INDEX('Conversion Factors'!$B$6:$B$371,MATCH('April 1 - April 15'!$Z$14:$Z$20,'Conversion Factors'!$A$6:$A$371,0)))","v":""},null,false,0,"",null,null,null,null,null,0,{"$f":"IF(AH17>$AI$12,AH17-($AI$12+AI16+AI15+AI14),0)","v":0},false,false,null,0,null,0,0,0,0,0,40,0,0,0,null,0,0,0,0,0,0,40,0,null,0,40,0,0,{"$f":"SUM(E14:E17)","v":0},0,{"$f":"IF(AND(BM17=1,J17>8),K17,(IF(AND(BM17=1,J17>0),J17,0)))","v":0},{"$f":"IF(AND(BM17=1,40-BL16>0,40-BL16<8),40-BL16,IF(AND(J17<K17),J17,K17))","v":0},0]
[false,null,null,"Thursday",{"$f":"'Mar 16 - Mar 31'!E34","v":0},{"$f":"'Mar 16 - Mar 31'!F34","v":0},{"$f":"'Mar 16 - Mar 31'!G34","v":0},{"$f":"'Mar 16 - Mar 31'!H34","v":0},{"$f":"'Mar 16 - Mar 31'!I34","v":0},{"$f":"'Mar 16 - Mar 31'!J34","v":0},{"$f":"'Mar 16 - Mar 31'!K34","v":0},{"$f":"'Mar 16 - Mar 31'!L34","v":0},{"$f":"'Mar 16 - Mar 31'!M34","v":0},{"$f":"'Mar 16 - Mar 31'!N34","v":0},0,"",null,"",null,null,0,0,null,{"$f":"IF(ISNA(INDEX('Conversion Factors'!$B$6:$B$371,MATCH('April 1 - April 15'!$Z$14:$Z$20,'Conversion Factors'!$A$6:$A$371,0))),\"\",INDEX('Conversion Factors'!$B$6:$B$371,MATCH('April 1 - April 15'!$Z$14:$Z$20,'Conversion Factors'!$A$6:$A$371,0)))","v":""},null,false,0,"",null,null,null,null,null,0,{"$f":"IF(AH18>$AI$12,AH18-($AI$12+AI17+AI16+AI15+AI14),0)","v":0},false,false,null,0,null,0,0,0,0,0,{"$f":"IF(AND(AH17<=40),40-AH17,0)","v":40},0,0,0,null,0,0,0,0,0,0,40,0,null,0,40,0,0,{"$f":"SUM(E14:E18)","v":0},0,0,0,0]
[false,null,null,"Friday",{"$f":"'Mar 16 - Mar 31'!E35","v":0},{"$f":"'Mar 16 - Mar 31'!F35","v":0},{"$f":"'Mar 16 - Mar 31'!G35","v":0},{"$f":"'Mar 16 - Mar 31'!H35","v":0},{"$f":"'Mar 16 - Mar 31'!I35","v":0},{"$f":"'Mar 16 - Mar 31'!J35","v":0},{"$f":"'Mar 16 - Mar 31'!K35","v":0},{"$f":"'Mar 16 - Mar 31'!L35","v":0},{"$f":"'Mar 16 - Mar 31'!M35","v":0},{"$f":"'Mar 16 - Mar 31'!N35","v":0},0,"",null,"",null,null,0,0,null,{"$f":"IF(ISNA(INDEX('Conversion Factors'!$B$6:$B$371,MATCH('April 1 - April 15'!$Z$14:$Z$20,'Conversion Factors'!$A$6:$A$371,0))),\"\",INDEX('Conversion Factors'!$B$6:$B$371,MATCH('April 1 - April 15'!$Z$14:$Z$20,'Conversion Factors'!$A$6:$A$371,0)))","v":""},null,false,0,"",null,null,null,null,null,0,{"$f":"IF(AH19>$AI$12,AH19-($AI$12+AI18+AI17+AI16+AI15+AI14),0)","v":0},false,false,null,0,null,0,0,0,0,0,{"$f":"IF(AND(AH18<=40),40-AH18,0)","v":40},0,0,0,null,0,0,0,0,0,0,40,0,null,0,40,0,0,{"$f":"SUM(E14:E19)","v":0},0,0,0,{"$f":"IF(AND(BM19=1,BL19>40,J19<=K19),J19-BO19,IF(AND(BM19=1,BL19>0,J19>K19),K19-BO19,0))","v":0}]
["2023-04-01",null,null,"Saturday",null,null,null,null,null,null,null,null,null,null,{"$f":"SUM(E20:N20)-J20","v":0},"",null,"",null,null,0,0,null,{"$f":"IF(ISNA(INDEX('Conversion Factors'!$B$6:$B$371,MATCH('April 1 - April 15'!$Z$14:$Z$20,'Conversion Factors'!$A$6:$A$371,0))),\"\",INDEX('Conversion Factors'!$B$6:$B$371,MATCH('April 1 - April 15'!$Z$14:$Z$20,'Conversion Factors'!$A$6:$A$371,0)))","v":8.6669999999999998},null,"2023-04-01","","",null,null,null,null,null,0,{"$f":"IF(AH20>$AI$12,AH20-($AI$12+AI19+AI18+AI17+AI16+AI15+AI14),0)","v":0},false,false,null,0,null,0,0,0,0,0,40,0,0,0,null,0,0,0,0,0,0,40,0,null,0,40,0,0,{"$f":"SUM(E14:E20)","v":0},0,0,0,{"$f":"IF(AND(BM20=1,BL20>40,J20<=K20),J20-BO20,IF(AND(BM20=1,BL20>0,J20>K20),K20-BO20,0))","v":0}]
["Week 1 Totals",null,null,null,{"$f":"SUM(E14:E20)","v":0},{"$f":"SUM(F14:F20)","v":0},0,0,0,null,0,0,0,0,{"$f":"SUM(O14:O20)","v":0},{"$f":"-SUM(P14:P20)","v":0},{"$f":"SUM(Q14:Q20)","v":0},{"$f":"SUM(R14:R20)","v":0},{"$f":"IF(E21>40,(E21-40)-V21-BP21,0)","v":0},{"$f":"MROUND(AL21,0.25)","v":0},{"$f":"SUM(U14:U20)","v":0},{"$f":"SUM(V14:V20)","v":0},{"$f":"IF(E21-(E11-(G21+K21+F21+H21+I21+L21+M21))-(S21+U21+V21)>0,E21-(E11-(G21+K21+F21+H21+I21+L21+M21))-(S21+U21+V21),0)","v":0},null,null,null,null,null,{"$f":"SUM(F21:N21)","v":0},{"$f":"IF(AND(AG21<40,O21>=AG21),O21-(AG21+S21),IF(AND(O21<AG21,E21=O21),O21-E21,IF(AND(E21>AG21,E21<40),E21-AG21,IF(AND(O21>AG21,E21<AG21),E21-(AG21-AC21),IF(AND(O21>AG21,E21>40),E21-(AG21-AC21+S21),IF(AND(O21>AG21,O21>40),O21-(S21+AG21),0))))))","v":0},{"$f":"AD21-U21-V21","v":0},{"$f":"$W$11","v":"Please Select"},{"$f":"$E$11","v":40},null,{"$f":"IF(AH21>$AI$12,-$AI$12,0)","v":0},null,null,{"$f":"IF(AF21=\"Yes\",S21*1.5,0)","v":0},null,null,null,null,null,null,null,null,null,null,null,null,null,null,null,null,null,null,null,null,null,null,null,null,null,null,null,null,null,{"$f":"SUM(BP14:BP20)","v":0},{"$f":"E11+U21","v":40}]
[{"$f":"IF(A20=0,\"\",IF(A20<$O$7,A20+1,IF(A20=$O$7,\"\")))","v":"2023-04-02"},null,null,"Sunday",null,null,null,null,null,null,null,null,null,null,{"$f":"SUM(E22:N22)-J22","v":0},{"$f":"IF(AND(ISNUMBER(AA22),ISNUMBER(X22)),AA22*X22,\"\")","v":""},null,{"$f":"IF(AND(ISNUMBER(AB22),ISNUMBER(X22)),AB22*X22,\"\")","v":""},null,null,{"$f":"IF(BJ22>0,BJ22,BN22)","v":0},{"$f":"IF(BK22>0,BK22,0)","v":0},null,{"$f":"IF(ISNA(INDEX('Conversion Factors'!$B$6:$B$371,MATCH('April 1 - April 15'!$Z$22:$Z$28,'Conversion Factors'!$A$6:$A$371,0))),\"\",INDEX('Conversion Factors'!$B$6:$B$371,MATCH('April 1 - April 15'!$Z$22:$Z$28,'Conversion Factors'!$A$6:$A$371,0)))","v":8.6669999999999998},null,{"$f":"A22","v":"2023-04-02"},{"$f":"IF(AND(ISNUMBER(N22),ISNUMBER($Z$12)),N22/$Z$12,\"\")","v":""},{"$f":"IF(AND(ISNUMBER(Q22),ISNUMBER($Z$12)),Q22/$Z$12,\"\")","v":""},null,null,null,null,null,{"$f":"E22+AH21","v":0},{"$f":"IF(AH22>$AI$12,AH22-($AI$12+AI21),0)","v":0},{"$f":"IF(AND(AZ22>0,AZ22),IF(BA22>0,BA22,IF(BB22>0,BB22,IF(BC22>0,BC22,IF(BF22>0,BF22,\"\")))))","v":false},{"$f":"IF(AND(AO22>0,AO22),IF(AP22>0,AP22,IF(AQ22>0,AQ22,IF(AR22>0,AR22,IF(AU22>0,AU22,\"\")))))","v":false},null,{"$f":"J22","v":0},null,{"$f":"IF(G22=0,0,\"\")","v":0},{"$f":"IF(AND(AH22<=40,E22=G22),G22,0)","v":0},{"$f":"IF(AND(AH22<=40,E22>=G22,G22>0),O22-E22,0)","v":0},{"$f":"IF(AND(AH22<=40,E22<G22),O22-G22,0)","v":0},{"$f":"IF(AND(G22=0),G22,IF(AND(G22>0,AI22>0,G22=AT22),AT22,IF(AND(G22>0,AI22>0,G22-AT22),AT22,0)))","v":0},null,{"$f":"AS22","v":0},{"$f":"IF(AND(AH21+AU22=40,AI22>0,AI22>AU22),AI22-AU22,IF(AND(AH21+AU22=40,AI22>0,AI22<AU22,AU22+AI22=G22),AI22,IF(AND(AH21>40,AH22>40,G22=AI22),AI22,0)))","v":0},{"$f":"AV22","v":0},null,{"$f":"IF(AND(J22>0,AI22>0,BB22<=AI22),AI22-BB22,IF(AND(J22>0,AI22>0,BB22>AI22),J22-BB22,0))","v":0},{"$f":"IF(J22=0,0,\"\")","v":0},{"$f":"IF(AND(AH22<=40,E22=J22),J22,0)","v":0},{"$f":"IF(AND(AZ22=0),AZ22,IF(AND(AH22>40,E22>=J22),BE22,IF(AND(AH22<=40,E22>J22),J22,0)))","v":0},{"$f":"IF(AND(AH22<=40,E22<J22),O22-J22,0)","v":0},{"$f":"IF(AND(J22=0),J22,IF(AND(J22>0,AI22>0,J22=BC22),BC22,IF(AND(J22>0,AI22>0,J22-BC22),BC22,0)))","v":0},null,{"$f":"BD22","v":0},null,{"$f":"IF(AND(G22>0,E22>0),1,0)","v":0},{"$f":"40-AH22","v":40},0,{"$f":"IF(AND(BH22=1,BL22>40,E22<G22),E22-BJ22,(IF(AND(BH22=1,BL22>0,E22>=G22),G22-BJ22,0)))","v":0},{"$f":"E22","v":0},{"$f":"IF(AND(K22>0,E22>0),1,0)","v":0},{"$f":"IF(AND(BM22=1,J22>8),K22,(IF(AND(BM22=1,J22>0),J22,0)))","v":0},{"$f":"IF(AND(BM22=1,40-BL21>0,40-BL21<8),40-BL21,IF(AND(J22<K22),J22,K22))","v":0},{"$f":"IF(AND(BM22=1,BL22>40,J22<=K22),J22-BO22,IF(AND(BM22=1,BL22>0,J22>K22),K22-BO22,0))","v":0}]
[{"$f":"IF(A22<$O$7,A22+1,IF(A22=$O$7,\"\"))","v":"2023-04-03"},null,null,"Monday",null,null,null,null,null,null,null,null,null,null,{"$f":"SUM(E23:N23)-J23","v":0},{"$f":"IF(AND(ISNUMBER(AA23),ISNUMBER(X23)),AA23*X23,\"\")","v":""},null,{"$f":"IF(AND(ISNUMBER(AB23),ISNUMBER(X23)),AB23*X23,\"\")","v":""},null,null,{"$f":"IF(BJ23>0,BJ23,BN23)","v":0},{"$f":"IF(BK23>0,BK23,0)","v":0},null,{"$f":"IF(ISNA(INDEX('Conversion Factors'!$B$6:$B$371,MATCH('April 1 - April 15'!$Z$22:$Z$28,'Conversion Factors'!$A$6:$A$371,0))),\"\",INDEX('Conversion Factors'!$B$6:$B$371,MATCH('April 1 - April 15'!$Z$22:$Z$28,'Conversion Factors'!$A$6:$A$371,0)))","v":8.6669999999999998},null,"2023-04-03","","",null,null,null,null,null,0,{"$f":"IF(AH23>$AI$12,AH23-($AI$12+AI22+AI21),0)","v":0},false,{"$f":"IF(AND(AO23>0,AO23),IF(AP23>0,AP23,IF(AQ23>0,AQ23,IF(AR23>0,AR23,IF(AU23>0,AU23,0)))))","v":false},null,0,null,0,0,0,0,0,{"$f":"IF(AND(AH22<=40),40-AH22,0)","v":40},{"$f":"AS23","v":0},0,{"$f":"AV23","v":0},null,{"$f":"IF(AND(J23>0,AI23>0,BB23<=AI23),AI23-BB23,IF(AND(J23>0,AI23>0,BB23>AI23),J23-BB23,0))","v":0},0,0,0,0,0,{"$f":"IF(AND(AH22<=40),40-AH22,0)","v":40},{"$f":"BD23","v":0},null,{"$f":"IF(AND(G23>0,E23>0),1,0)","v":0},40,0,0,{"$f":"SUM(E22:E23)","v":0},{"$f":"IF(AND(K23>0,E23>0),1,0)","v":0},{"$f":"IF(AND(BM23=1,J23>8),K23,(IF(AND(BM23=1,J23>0),J23,0)))","v":0},0,0]
["2023-04-04",null,null,"Tuesday",null,null,null,null,null,null,null,null,null,null,{"$f":"SUM(E24:N24)-J24","v":0},"",null,"",null,null,{"$f":"IF(BJ24>0,BJ24,BN24)","v":0},0,null,{"$f":"IF(ISNA(INDEX('Conversion Factors'!$B$6:$B$371,MATCH('April 1 - April 15'!$Z$22:$Z$28,'Conversion Factors'!$A$6:$A$371,0))),\"\",INDEX('Conversion Factors'!$B$6:$B$371,MATCH('April 1 - April 15'!$Z$22:$Z$28,'Conversion Factors'!$A$6:$A$371,0)))","v":8.6669999999999998},null,"2023-04-04","","",null,null,null,null,null,0,{"$f":"IF(AH24>$AI$12,AH24-($AI$12+AI23+AI22+AI21),0)","v":0},false,false,null,0,null,0,0,0,0,0,40,0,0,0,null,{"$f":"IF(AND(J24>0,AI24>0,BB24<=AI24),AI24-BB24,IF(AND(J24>0,AI24>0,BB24>AI24),J24-BB24,0))","v":0},0,0,0,0,0,{"$f":"IF(AND(AH23<=40),40-AH23,0)","v":40},0,null,{"$f":"IF(AND(G24>0,E24>0),1,0)","v":0},40,0,0,{"$f":"SUM(E22:E24)","v":0},0,{"$f":"IF(AND(BM24=1,J24>8),K24,(IF(AND(BM24=1,J24>0),J24,0)))","v":0},{"$f":"IF(AND(BM24=1,40-BL23>0,40-BL23<8),40-BL23,IF(AND(J24<K24),J24,K24))","v":0},0]
["2023-04-05",null,null,"Wednesday",null,null,null,null,null,null,null,null,null,null,0,"",null,"",null,null,0,0,null,{"$f":"IF(ISNA(INDEX('Conversion Factors'!$B$6:$B$371,MATCH('April 1 - April 15'!$Z$22:$Z$28,'Conversion Factors'!$A$6:$A$371,0))),\"\",INDEX('Conversion Factors'!$B$6:$B$371,MATCH('April 1 - April 15'!$Z$22:$Z$28,'Conversion Factors'!$A$6:$A$371,0)))","v":8.6669999999999998},null,"2023-04-05","","",null,null,null,null,null,0,{"$f":"IF(AH25>$AI$12,AH25-($AI$12+AI24+AI23+AI22+AI21),0)","v":0},false,false,null,0,null,0,0,0,0,0,40,0,0,0,null,{"$f":"IF(AND(J25>0,AI25>0,BB25<=AI25),AI25-BB25,IF(AND(J25>0,AI25>0,BB25>AI25),J25-BB25,0))","v":0},0,0,0,0,0,40,0,null,0,40,0,0,{"$f":"SUM(E22:E25)","v":0},0,{"$f":"IF(AND(BM25=1,J25>8),K25,(IF(AND(BM25=1,J25>0),J25,0)))","v":0},{"$f":"IF(AND(BM25=1,40-BL24>0,40-BL24<8),40-BL24,IF(AND(J25<K25),J25,K25))","v":0},0]
["2023-04-06",null,null,"Thursday",null,null,null,null,null,null,null,null,null,null,0,"",null,"",null,null,0,0,null,{"$f":"IF(ISNA(INDEX('Conversion Factors'!$B$6:$B$371,MATCH('April 1 - April 15'!$Z$22:$Z$28,'Conversion Factors'!$A$6:$A$371,0))),\"\",INDEX('Conversion Factors'!$B$6:$B$371,MATCH('April 1 - April 15'!$Z$22:$Z$28,'Conversion Factors'!$A$6:$A$371,0)))","v":8.6669999999999998},null,"2023-04-06","","",null,null,null,null,null,0,{"$f":"IF(AH26>$AI$12,AH26-($AI$12+AI25+AI24+AI23+AI22+AI21),0)","v":0},false,false,null,0,null,0,0,0,0,0,{"$f":"IF(AND(AH25<=40),40-AH25,0)","v":40},0,0,0,null,{"$f":"IF(AND(J26>0,AI26>=J26,BB26=0),O26-AI26,IF(AND(J26>0,AI26>0,BB26<=AI26),AI26-BB26,IF(AND(J26>0,AI26>0,BB26>AI26),J26-BB26,0)))","v":0},0,0,0,0,0,40,0,null,0,40,0,0,{"$f":"SUM(E22:E26)","v":0},0,0,0,0]
["2023-04-07",null,null,"Friday",null,null,null,null,null,null,null,null,null,null,0,"",null,"",null,null,0,0,null,{"$f":"IF(ISNA(INDEX('Conversion Factors'!$B$6:$B$371,MATCH('April 1 - April 15'!$Z$22:$Z$28,'Conversion Factors'!$A$6:$A$371,0))),\"\",INDEX('Conversion Factors'!$B$6:$B$371,MATCH('April 1 - April 15'!$Z$22:$Z$28,'Conversion Factors'!$A$6:$A$371,0)))","v":8.6669999999999998},null,"2023-04-07","","",null,null,null,null,null,0,{"$f":"IF(AH27>$AI$12,AH27-($AI$12+AI26+AI25+AI24+AI23+AI22+AI21),0)","v":0},false,false,null,0,null,0,0,0,0,0,{"$f":"IF(AND(AH26<=40),40-AH26,0)","v":40},0,0,0,null,{"$f":"IF(AND(J27>0,AI27>=J27,BB27=0),O27-AI27,IF(AND(J27>0,AI27>0,BB27<=AI27),AI27-BB27,IF(AND(J27>0,AI27>0,BB27>AI27),J27-BB27,0)))","v":0},0,0,0,0,0,40,0,null,0,40,0,0,{"$f":"SUM(E22:E27)","v":0},0,0,0,{"$f":"IF(AND(BM27=1,BL27>40,J27<=K27),J27-BO27,IF(AND(BM27=1,BL27>0,J27>K27),K27-BO27,0))","v":0}]
["2023-04-08",null,null,"Saturday",null,null,null,null,null,null,null,null,null,null,{"$f":"SUM(E28:N28)-J28","v":0},"",null,"",null,null,0,0,null,{"$f":"IF(ISNA(INDEX('Conversion Factors'!$B$6:$B$371,MATCH('April 1 - April 15'!$Z$22:$Z$28,'Conversion Factors'!$A$6:$A$371,0))),\"\",INDEX('Conversion Factors'!$B$6:$B$371,MATCH('April 1 - April 15'!$Z$22:$Z$28,'Conversion Factors'!$A$6:$A$371,0)))","v":8.6669999999999998},null,"2023-04-08","","",null,null,null,null,null,0,{"$f":"IF(AH28>$AI$12,AH28-($AI$12+AI27+AI26+AI25+AI24+AI23+AI22+AI21),0)","v":0},false,false,null,0,null,0,0,0,0,0,40,0,0,0,null,{"$f":"IF(AND(J28>0,AI28>=J28,BB28=0),O28-AI28,IF(AND(J28>0,AI28>0,BB28<=AI28),AI28-BB28,IF(AND(J28>0,AI28>0,BB28>AI28),J28-BB28,0)))","v":0},0,0,0,0,0,40,0,null,0,40,0,0,{"$f":"SUM(E22:E28)","v":0},0,0,0,{"$f":"IF(AND(BM28=1,BL28>40,J28<=K28),J28-BO28,IF(AND(BM28=1,BL28>0,J28>K28),K28-BO28,0))","v":0}]
["Week 2 Totals",null,null,null,{"$f":"SUM(E22:E28)","v":0},0,0,0,0,null,0,0,0,0,{"$f":"SUM(O22:O28)","v":0},{"$f":"-SUM(P22:P28)","v":0},{"$f":"SUM(Q22:Q28)","v":0},{"$f":"SUM(R22:R28)","v":0},{"$f":"IF(E29>40,(E29-40)-V29,0)","v":0},{"$f":"MROUND(AL29,0.25)","v":0},{"$f":"SUM(U22:U28)","v":0},{"$f":"SUM(V22:V28)","v":0},{"$f":"IF(E29-(E11-(G29+K29+F29+H29+I29+L29+M29))-(S29+U29+V29)>0,E29-(E11-(G29+K29+F29+H29+I29+L29+M29))-(S29+U29+V29),0)","v":0},null,null,null,null,null,{"$f":"SUM(F29:N29)","v":0},{"$f":"IF(AND(AG29<40,O29>=AG29),O29-(AG29+S29),IF(AND(O29<AG29,E29=O29),O29-E29,IF(AND(E29>AG29,E29<40),E29-AG29,IF(AND(O29>AG29,E29<AG29),E29-(AG29-AC29),IF(AND(O29>AG29,E29>40),E29-(AG29-AC29+S29),IF(AND(O29>AG29,O29>40),O29-(S29+AG29),0))))))","v":0},{"$f":"AD29-U29-V29","v":0},{"$f":"$W$11","v":"Please Select"},{"$f":"$E$11","v":40},null,{"$f":"IF(AH29>$AI$12,-$AI$12,0)","v":0},null,null,{"$f":"IF(AF29=\"Yes\",S29*1.5,0)","v":0},0,null,null,null,null,null,null,null,null,null,null,null,null,0,null,null,null,null,null,null,null,null,null,null,null,null,null,null,null,{"$f":"SUM(BP22:BP28)","v":0},{"$f":"U29+E11","v":40}]
[{"$f":"IF(A28<$O$7,A28+1,IF(A28=$O$7,\"\"))","v":"2023-04-09"},null,null,"Sunday",null,null,null,null,null,null,null,null,null,null,null,{"$f":"IF(AND(ISNUMBER(AA30),ISNUMBER(X30)),AA30*X30,\"\")","v":""},null,{"$f":"IF(AND(ISNUMBER(AB30),ISNUMBER(X30)),AB30*X30,\"\")","v":""},null,null,{"$f":"IF(BJ30>0,BJ30,BN30)","v":0},{"$f":"IF(BK30>0,BK30,0)","v":0},null,{"$f":"IF(ISNA(INDEX('Conversion Factors'!$B$6:$B$370,MATCH('April 1 - April 15'!$Z$30:$Z$36,'Conversion Factors'!$A$6:$A$370,0))),\"\",INDEX('Conversion Factors'!$B$6:$B$370,MATCH('April 1 - April 15'!$Z$30:$Z$36,'Conversion Factors'!$A$6:$A$370,0)))","v":8.6669999999999998},null,{"$f":"A30","v":"2023-04-09"},{"$f":"IF(AND(ISNUMBER(N30),ISNUMBER($Z$12)),N30/$Z$12,\"\")","v":""},{"$f":"IF(AND(ISNUMBER(Q30),ISNUMBER($Z$12)),Q30/$Z$12,\"\")","v":""},null,null,null,null,null,{"$f":"E30+AH29","v":0},{"$f":"IF(AH30>$AI$12,AH30-($AI$12+AI29),0)","v":0},{"$f":"IF(AND(AZ30>0,AZ30),IF(BA30>0,BA30,IF(BB30>0,BB30,IF(BC30>0,BC30,IF(BF30>0,BF30,\"\")))))","v":false},{"$f":"IF(AND(AO30>0,AO30),IF(AP30>0,AP30,IF(AQ30>0,AQ30,IF(AR30>0,AR30,IF(AU30>0,AU30,\"\")))))","v":false},null,0,null,{"$f":"IF(G30=0,0,\"\")","v":0},{"$f":"IF(AND(AH30<=40,E30=G30),G30,0)","v":0},{"$f":"IF(AND(AH30<=40,E30>=G30,G30>0),O30-E30,0)","v":0},{"$f":"IF(AND(AH30<=40,E30<G30),O30-G30,0)","v":0},{"$f":"IF(AND(G30=0),G30,IF(AND(G30>0,AI30>0,G30=AT30),AT30,IF(AND(G30>0,AI30>0,G30-AT30),AT30,0)))","v":0},null,{"$f":"AS30","v":0},{"$f":"IF(AND(AH29+AU30=40,AI30>0,AI30>AU30),AI30-AU30,IF(AND(AH29+AU30=40,AI30>0,AI30<AU30,AU30+AI30=G30),AI30,IF(AND(AH29>40,AH30>40,G30=AI30),AI30,0)))","v":0},{"$f":"AV30","v":0},null,{"$f":"IF(AND(J30>0,AI30>=J30,BB30=0),O30-AI30,IF(AND(J30>0,AI30>0,BB30<=AI30),AI30-BB30,IF(AND(J30>0,AI30>0,BB30>AI30),J30-BB30,0)))","v":0},0,{"$f":"IF(AND(AH30<=40,E30=J30),J30,0)","v":0},{"$f":"IF(AND(AZ30=0),AZ30,IF(AND(AH30>40,E30>=J30),BE30,IF(AND(AH30<=40,E30>J30),J30,0)))","v":0},{"$f":"IF(AND(AH30<=40,E30<J30),O30-J30,0)","v":0},{"$f":"IF(AND(J30=0),J30,IF(AND(J30>0,AI30>0,J30=BC30),BC30,IF(AND(J30>0,AI30>0,J30-BC30),BC30,0)))","v":0},null,{"$f":"BD30","v":0},null,{"$f":"IF(AND(G30>0,E30>0),1,0)","v":0},{"$f":"40-AH30","v":40},0,{"$f":"IF(AND(BH30=1,BL30>40,E30<G30),E30-BJ30,(IF(AND(BH30=1,BL30>0,E30>=G30),G30-BJ30,0)))","v":0},{"$f":"E30","v":0},{"$f":"IF(AND(K30>0,E30>0),1,0)","v":0},{"$f":"IF(AND(BM30=1,J30>8),K30,(IF(AND(BM30=1,J30>0),J30,0)))","v":0},{"$f":"IF(AND(BM30=1,40-BL29>0,40-BL29<8),40-BL29,IF(AND(J30<K30),J30,K30))","v":0},{"$f":"IF(AND(BM30=1,BL30>40,J30<=K30),J30-BO30,IF(AND(BM30=1,BL30>0,J30>K30),K30-BO30,0))","v":0}]
[{"$f":"IF(A30<$O$7,A30+1,IF(A30=$O$7,\"\"))","v":"2023-04-10"},null,null,"Monday",null,null,null,null,null,null,null,null,null,null,{"$f":"SUM(E31:N31)-J31","v":0},{"$f":"IF(AND(ISNUMBER(AA31),ISNUMBER(X31)),AA31*X31,\"\")","v":""},null,{"$f":"IF(AND(ISNUMBER(AB31),ISNUMBER(X31)),AB31*X31,\"\")","v":""},null,null,0,{"$f":"IF(BK31>0,BK31,0)","v":0},null,{"$f":"IF(ISNA(INDEX('Conversion Factors'!$B$6:$B$370,MATCH('April 1 - April 15'!$Z$30:$Z$36,'Conversion Factors'!$A$6:$A$370,0))),\"\",INDEX('Conversion Factors'!$B$6:$B$370,MATCH('April 1 - April 15'!$Z$30:$Z$36,'Conversion Factors'!$A$6:$A$370,0)))","v":8.6669999999999998},null,"2023-04-10","","",null,null,null,null,null,0,{"$f":"IF(AH31>$AI$12,AH31-($AI$12+AI30+AI29),0)","v":0},false,{"$f":"IF(AND(AO31>0,AO31),IF(AP31>0,AP31,IF(AQ31>0,AQ31,IF(AR31>0,AR31,IF(AU31>0,AU31,0)))))","v":false},null,0,null,0,0,0,0,0,{"$f":"IF(AND(AH30<=40),40-AH30,0)","v":40},{"$f":"AS31","v":0},0,{"$f":"AV31","v":0},null,0,0,0,0,0,0,{"$f":"IF(AND(AH30<=40),40-AH30,0)","v":40},{"$f":"BD31","v":0},null,{"$f":"IF(AND(G31>0,E31>0),1,0)","v":0},40,0,0,{"$f":"SUM(E30:E31)","v":0},{"$f":"IF(AND(K31>0,E31>0),1,0)","v":0},{"$f":"IF(AND(BM31=1,J31>8),K31,(IF(AND(BM31=1,J31>0),J31,0)))","v":0},0,0]
["2023-04-11",null,null,"Tuesday",null,null,null,null,null,null,null,null,null,null,{"$f":"SUM(E32:N32)-J32","v":0},"",null,"",null,null,0,0,null,{"$f":"IF(ISNA(INDEX('Conversion Factors'!$B$6:$B$370,MATCH('April 1 - April 15'!$Z$30:$Z$36,'Conversion Factors'!$A$6:$A$370,0))),\"\",INDEX('Conversion Factors'!$B$6:$B$370,MATCH('April 1 - April 15'!$Z$30:$Z$36,'Conversion Factors'!$A$6:$A$370,0)))","v":8.6669999999999998},null,"2023-04-11","","",null,null,null,null,null,0,{"$f":"IF(AH32>$AI$12,AH32-($AI$12+AI31+AI30+AI29),0)","v":0},false,false,null,0,null,0,0,0,0,0,40,0,0,0,null,0,0,0,0,0,0,{"$f":"IF(AND(AH31<=40),40-AH31,0)","v":40},0,null,{"$f":"IF(AND(G32>0,E32>0),1,0)","v":0},40,0,0,{"$f":"SUM(E30:E32)","v":0},0,{"$f":"IF(AND(BM32=1,J32>8),K32,(IF(AND(BM32=1,J32>0),J32,0)))","v":0},{"$f":"IF(AND(BM32=1,40-BL31>0,40-BL31<8),40-BL31,IF(AND(J32<K32),J32,K32))","v":0},0]
["2023-04-12",null,null,"Wednesday",null,null,null,null,null,null,null,null,null,null,0,"",null,"",null,null,0,0,null,{"$f":"IF(ISNA(INDEX('Conversion Factors'!$B$6:$B$370,MATCH('April 1 - April 15'!$Z$30:$Z$36,'Conversion Factors'!$A$6:$A$370,0))),\"\",INDEX('Conversion Factors'!$B$6:$B$370,MATCH('April 1 - April 15'!$Z$30:$Z$36,'Conversion Factors'!$A$6:$A$370,0)))","v":8.6669999999999998},null,"2023-04-12","","",null,null,null,null,null,0,{"$f":"IF(AH33>$AI$12,AH33-($AI$12+AI32+AI31+AI30+AI29),0)","v":0},false,false,null,0,null,0,0,0,0,0,40,0,0,0,null,0,0,0,0,0,0,40,0,null,{"$f":"IF(AND(G33>0,E33>0),1,0)","v":0},40,0,0,{"$f":"SUM(E30:E33)","v":0},0,{"$f":"IF(AND(BM33=1,J33>8),K33,(IF(AND(BM33=1,J33>0),J33,0)))","v":0},{"$f":"IF(AND(BM33=1,40-BL32>0,40-BL32<8),40-BL32,IF(AND(J33<K33),J33,K33))","v":0},0]
["2023-04-13",null,null,"Thursday",null,null,null,null,null,null,null,null,null,null,0,"",null,"",null,null,0,0,null,{"$f":"IF(ISNA(INDEX('Conversion Factors'!$B$6:$B$370,MATCH('April 1 - April 15'!$Z$30:$Z$36,'Conversion Factors'!$A$6:$A$370,0))),\"\",INDEX('Conversion Factors'!$B$6:$B$370,MATCH('April 1 - April 15'!$Z$30:$Z$36,'Conversion Factors'!$A$6:$A$370,0)))","v":8.6669999999999998},null,"2023-04-13","","",null,null,null,null,null,0,{"$f":"IF(AH34>$AI$12,AH34-($AI$12+AI33+AI32+AI31+AI30+AI29),0)","v":0},false,false,null,0,null,0,0,0,0,0,{"$f":"IF(AND(AH33<=40),40-AH33,0)","v":40},0,0,0,null,0,0,0,0,0,0,40,0,null,0,40,0,0,{"$f":"SUM(E30:E34)","v":0},0,0,0,0]
["2023-04-14",null,null,"Friday",null,null,null,null,null,null,null,null,null,null,0,"",null,"",null,null,0,0,null,{"$f":"IF(ISNA(INDEX('Conversion Factors'!$B$6:$B$370,MATCH('April 1 - April 15'!$Z$30:$Z$36,'Conversion Factors'!$A$6:$A$370,0))),\"\",INDEX('Conversion Factors'!$B$6:$B$370,MATCH('April 1 - April 15'!$Z$30:$Z$36,'Conversion Factors'!$A$6:$A$370,0)))","v":8.6669999999999998},null,"2023-04-14","","",null,null,null,null,null,0,{"$f":"IF(AH35>$AI$12,AH35-($AI$12+AI34+AI33+AI32+AI31+AI30+AI29),0)","v":0},false,false,null,0,null,0,0,0,0,0,{"$f":"IF(AND(AH34<=40),40-AH34,0)","v":40},0,0,0,null,0,0,0,0,0,0,40,0,null,0,40,0,0,{"$f":"SUM(E30:E35)","v":0},0,0,0,{"$f":"IF(AND(BM35=1,BL35>40,J35<=K35),J35-BO35,IF(AND(BM35=1,BL35>0,J35>K35),K35-BO35,0))","v":0}]
["2023-04-15",null,null,"Saturday",null,null,null,null,null,null,null,null,null,null,null,"",null,"",null,null,0,0,null,{"$f":"IF(ISNA(INDEX('Conversion Factors'!$B$6:$B$370,MATCH('April 1 - April 15'!$Z$30:$Z$36,'Conversion Factors'!$A$6:$A$370,0))),\"\",INDEX('Conversion Factors'!$B$6:$B$370,MATCH('April 1 - April 15'!$Z$30:$Z$36,'Conversion Factors'!$A$6:$A$370,0)))","v":8.6669999999999998},null,"2023-04-15","","",null,null,null,null,null,0,{"$f":"IF(AH36>$AI$12,AH36-($AI$12+AI35+AI34+AI33+AI32+AI31+AI30+AI29),0)","v":0},false,false,null,0,null,0,0,0,0,0,40,0,0,0,null,0,0,0,0,0,0,40,0,null,0,40,0,0,{"$f":"SUM(E30:E36)","v":0},0,0,0,{"$f":"IF(AND(BM36=1,BL36>40,J36<=K36),J36-BO36,IF(AND(BM36=1,BL36>0,J36>K36),K36-BO36,0))","v":0}]
["Week 3 Totals",null,null,null,{"$f":"SUM(E30:E36)","v":0},0,0,0,0,null,0,0,0,0,{"$f":"SUM(O30:O36)","v":0},{"$f":"-SUM(P30:P36)","v":0},{"$f":"SUM(Q30:Q36)","v":0},{"$f":"SUM(R30:R36)","v":0},{"$f":"IF(E37>40,(E37-40)-V37,0)","v":0},{"$f":"MROUND(AL37,0.25)","v":0},{"$f":"SUM(U30:U36)","v":0},{"$f":"SUM(V30:V36)","v":0},{"$f":"IF(E37-(E11-(G37+K37+F37+H37+I37+L37+M3))-(S37+U37+V37)>0,E37-(E11-(G37+K37+F37+H37+I37+L37+M37))-(S37+U37+V37),0)","v":0},null,null,null,null,null,{"$f":"SUM(F37:N37)","v":0},{"$f":"IF(AND(AG37<40,O37>=AG37),O37-(AG37+S37),IF(AND(O37<AG37,E37=O37),O37-E37,IF(AND(E37>AG37,E37<40),E37-AG37,IF(AND(O37>AG37,E37<AG37),E37-(AG37-AC37),IF(AND(O37>AG37,E37>40),E37-(AG37-AC37+S37),IF(AND(O37>AG37,O37>40),O37-(S37+AG37),0))))))","v":0},{"$f":"AD37-U37-V37","v":0},{"$f":"$W$11","v":"Please Select"},{"$f":"$E$11","v":40},null,{"$f":"IF(AH37>$AI$12,-$AI$12,0)","v":0},null,null,{"$f":"IF(AF37=\"Yes\",S37*1.5,0)","v":0},null,null,null,null,null,null,null,null,null,null,null,null,null,null,null,null,null,null,null,null,null,0,null,null,null,null,null,null,null,{"$f":"SUM(BP30:BP36)","v":0},{"$f":"U37+E11","v":40}]
[{"$f":"IF(A36<$O$7,A36+1,IF(A36=$O$7,\"\"))","v":""},null,null,"Sunday",null,null,null,null,null,null,null,null,null,null,{"$f":"SUM(E38:N38)-J38","v":0},{"$f":"IF(AND(ISNUMBER(AA38),ISNUMBER(X38)),AA38*X38,\"\")","v":""},null,{"$f":"IF(AND(ISNUMBER(AB38),ISNUMBER(X38)),AB38*X38,\"\")","v":""},null,null,0,{"$f":"IF(BK38>0,BK38,0)","v":0},null,{"$f":"IF(ISNA(INDEX('Conversion Factors'!$B$6:$B$370,MATCH('April 1 - April 15'!$Z$38:$Z$44,'Conversion Factors'!$A$6:$A$370,0))),\"\",INDEX('Conversion Factors'!$B$6:$B$370,MATCH('April 1 - April 15'!$Z$38:$Z$44,'Conversion Factors'!$A$6:$A$370,0)))","v":""},null,{"$f":"A38","v":""},{"$f":"IF(AND(ISNUMBER(N38),ISNUMBER($Z$12)),N38/$Z$12,\"\")","v":""},{"$f":"IF(AND(ISNUMBER(Q38),ISNUMBER($Z$12)),Q38/$Z$12,\"\")","v":""},null,null,null,null,null,{"$f":"E38+AH37","v":0},{"$f":"IF(AH38>$AI$12,AH38-($AI$12+AI37),0)","v":0},{"$f":"IF(AND(AZ38>0,AZ38),IF(BA38>0,BA38,IF(BB38>0,BB38,IF(BC38>0,BC38,IF(BF38>0,BF38,\"\")))))","v":false},{"$f":"IF(AND(AO38>0,AO38),IF(AP38>0,AP38,IF(AQ38>0,AQ38,IF(AR38>0,AR38,IF(AU38>0,AU38,\"\")))))","v":false},null,{"$f":"J38","v":0},null,{"$f":"IF(G38=0,0,\"\")","v":0},{"$f":"IF(AND(AH38<=40,E38=G38),G38,0)","v":0},{"$f":"IF(AND(AH38<=40,E38>=G38,G38>0),O38-E38,0)","v":0},{"$f":"IF(AND(AH38<=40,E38<G38),O38-G38,0)","v":0},{"$f":"IF(AND(G38=0),G38,IF(AND(G38>0,AI38>0,G38=AT38),AT38,IF(AND(G38>0,AI38>0,G38-AT38),AT38,0)))","v":0},null,{"$f":"AS38","v":0},{"$f":"IF(AND(AH37+AU38=40,AI38>0,AI38>AU38),AI38-AU38,IF(AND(AH37+AU38=40,AI38>0,AI38<AU38,AU38+AI38=G38),AI38,IF(AND(AH37>40,AH38>40,G38=AI38),AI38,0)))","v":0},{"$f":"AV38","v":0},null,{"$f":"IF(AND(J38>0,AI38>=J38,BB38=0),O38-AI38,IF(AND(J38>0,AI38>0,BB38<=AI38),AI38-BB38,IF(AND(J38>0,AI38>0,BB38>AI38),J38-BB38,0)))","v":0},{"$f":"IF(J38=0,0,\"\")","v":0},{"$f":"IF(AND(AH38<=40,E38=J38),J38,0)","v":0},{"$f":"IF(AND(AZ38=0),AZ38,IF(AND(AH38>40,E38>=J38),BE38,IF(AND(AH38<=40,E38>J38),J38,0)))","v":0},{"$f":"IF(AND(AH38<=40,E38<J38),O38-J38,0)","v":0},{"$f":"IF(AND(J38=0),J38,IF(AND(J38>0,AI38>0,J38=BC38),BC38,IF(AND(J38>0,AI38>0,J38-BC38),BC38,0)))","v":0},null,{"$f":"BD38","v":0},null,{"$f":"IF(AND(G38>0,E38>0),1,0)","v":0},{"$f":"40-AH38","v":40},0,{"$f":"IF(AND(BH38=1,BL38>40,E38<G38),E38-BJ38,(IF(AND(BH38=1,BL38>0,E38>=G38),G38-BJ38,0)))","v":0},{"$f":"E38","v":0},{"$f":"IF(AND(K38>0,E38>0),1,0)","v":0},{"$f":"IF(AND(BM38=1,J38>8),K38,(IF(AND(BM38=1,J38>0),J38,0)))","v":0},{"$f":"IF(AND(BM38=1,40-BL37>0,40-BL37<8),40-BL37,IF(AND(J38<K38),J38,K38))","v":0},{"$f":"IF(AND(BM38=1,BL38>40,J38<=K38),J38-BO38,IF(AND(BM38=1,BL38>0,J38>K38),K38-BO38,0))","v":0}]
[{"$f":"IF(A38<$O$7,A38+1,IF(A38=$O$7,\"\"))","v":false},null,null,"Monday",null,null,null,0,null,null,null,null,null,null,{"$f":"SUM(E39:N39)-J39","v":0},{"$f":"IF(AND(ISNUMBER(AA39),ISNUMBER(X39)),AA39*X39,\"\")","v":""},null,{"$f":"IF(AND(ISNUMBER(AB39),ISNUMBER(X39)),AB39*X39,\"\")","v":""},null,null,0,{"$f":"IF(BK39>0,BK39,0)","v":0},null,{"$f":"IF(ISNA(INDEX('Conversion Factors'!$B$6:$B$370,MATCH('April 1 - April 15'!$Z$38:$Z$44,'Conversion Factors'!$A$6:$A$370,0))),\"\",INDEX('Conversion Factors'!$B$6:$B$370,MATCH('April 1 - April 15'!$Z$38:$Z$44,'Conversion Factors'!$A$6:$A$370,0)))","v":""},null,false,"","",null,null,null,null,null,0,{"$f":"IF(AH39>$AI$12,AH39-($AI$12+AI38+AI37),0)","v":0},false,{"$f":"IF(AND(AO39>0,AO39),IF(AP39>0,AP39,IF(AQ39>0,AQ39,IF(AR39>0,AR39,IF(AU39>0,AU39,0)))))","v":false},null,0,null,0,0,0,0,0,{"$f":"IF(AND(AH38<=40),40-AH38,0)","v":40},{"$f":"AS39","v":0},0,{"$f":"AV39","v":0},null,0,0,0,0,0,0,{"$f":"IF(AND(AH38<=40),40-AH38,0)","v":40},{"$f":"BD39","v":0},null,{"$f":"IF(AND(G39>0,E39>0),1,0)","v":0},40,0,0,{"$f":"SUM(E38:E39)","v":0},{"$f":"IF(AND(K39>0,E39>0),1,0)","v":0},{"$f":"IF(AND(BM39=1,J39>8),K39,(IF(AND(BM39=1,J39>0),J39,0)))","v":0},0,0]
[false,null,null,"Tuesday",null,null,null,null,null,0,0,null,null,null,{"$f":"SUM(E40:N40)-J40","v":0},"",null,"",null,null,0,0,null,{"$f":"IF(ISNA(INDEX('Conversion Factors'!$B$6:$B$370,MATCH('April 1 - April 15'!$Z$38:$Z$44,'Conversion Factors'!$A$6:$A$370,0))),\"\",INDEX('Conversion Factors'!$B$6:$B$370,MATCH('April 1 - April 15'!$Z$38:$Z$44,'Conversion Factors'!$A$6:$A$370,0)))","v":""},null,false,"","",null,null,null,null,null,0,{"$f":"IF(AH40>$AI$12,AH40-($AI$12+AI39+AI38+AI37),0)","v":0},false,false,null,0,null,0,0,0,0,0,40,0,0,0,null,0,0,0,0,0,0,{"$f":"IF(AND(AH39<=40),40-AH39,0)","v":40},0,null,{"$f":"IF(AND(G40>0,E40>0),1,0)","v":0},40,0,0,{"$f":"SUM(E38:E40)","v":0},0,{"$f":"IF(AND(BM40=1,J40>8),K40,(IF(AND(BM40=1,J40>0),J40,0)))","v":0},{"$f":"IF(AND(BM40=1,40-BL39>0,40-BL39<8),40-BL39,IF(AND(J40<K40),J40,K40))","v":0},0]
[false,null,null,"Wednesday",null,null,null,null,null,null,null,null,null,null,0,"",null,"",null,null,0,0,null,{"$f":"IF(ISNA(INDEX('Conversion Factors'!$B$6:$B$370,MATCH('April 1 - April 15'!$Z$38:$Z$44,'Conversion Factors'!$A$6:$A$370,0))),\"\",INDEX('Conversion Factors'!$B$6:$B$370,MATCH('April 1 - April 15'!$Z$38:$Z$44,'Conversion Factors'!$A$6:$A$370,0)))","v":""},null,false,"","",null,null,null,null,null,0,{"$f":"IF(AH41>$AI$12,AH41-($AI$12+AI40+AI39+AI38+AI37),0)","v":0},false,false,null,0,null,0,0,0,0,0,40,0,0,0,null,0,0,0,0,0,0,40,0,null,{"$f":"IF(AND(G41>0,E41>0),1,0)","v":0},40,0,0,{"$f":"SUM(E38:E41)","v":0},0,{"$f":"IF(AND(BM41=1,J41>8),K41,(IF(AND(BM41=1,J41>0),J41,0)))","v":0},{"$f":"IF(AND(BM41=1,40-BL40>0,40-BL40<8),40-BL40,IF(AND(J41<K41),J41,K41))","v":0},0]
[false,null,null,"Thursday",null,null,null,null,null,null,null,null,null,null,0,"",null,"",null,null,0,0,null,{"$f":"IF(ISNA(INDEX('Conversion Factors'!$B$6:$B$370,MATCH('April 1 - April 15'!$Z$38:$Z$44,'Conversion Factors'!$A$6:$A$370,0))),\"\",INDEX('Conversion Factors'!$B$6:$B$370,MATCH('April 1 - April 15'!$Z$38:$Z$44,'Conversion Factors'!$A$6:$A$370,0)))","v":""},null,false,"","",null,null,null,null,null,0,{"$f":"IF(AH42>$AI$12,AH42-($AI$12+AI41+AI40+AI39+AI38+AI37),0)","v":0},false,false,null,0,null,0,0,0,0,0,{"$f":"IF(AND(AH41<=40),40-AH41,0)","v":40},0,0,0,null,0,0,0,0,0,0,40,0,null,0,40,0,0,{"$f":"SUM(E38:E42)","v":0},0,0,0,0]
[false,null,null,"Friday",null,null,null,null,null,null,null,null,null,null,0,"",null,"",null,null,0,0,null,{"$f":"IF(ISNA(INDEX('Conversion Factors'!$B$6:$B$370,MATCH('April 1 - April 15'!$Z$38:$Z$44,'Conversion Factors'!$A$6:$A$370,0))),\"\",INDEX('Conversion Factors'!$B$6:$B$370,MATCH('April 1 - April 15'!$Z$38:$Z$44,'Conversion Factors'!$A$6:$A$370,0)))","v":""},null,false,"","",null,null,null,null,null,0,{"$f":"IF(AH43>$AI$12,AH43-($AI$12+AI42+AI41+AI40+AI39+AI38+AI37),0)","v":0},false,false,null,0,null,0,0,0,0,0,{"$f":"IF(AND(AH42<=40),40-AH42,0)","v":40},0,0,0,null,0,0,0,0,0,0,40,0,null,0,40,0,0,{"$f":"SUM(E38:E43)","v":0},0,0,0,{"$f":"IF(AND(BM43=1,BL43>40,J43<=K43),J43-BO43,IF(AND(BM43=1,BL43>0,J43>K43),K43-BO43,0))","v":0}]
[false,null,null,"Saturday",null,null,null,null,null,null,null,null,null,null,{"$f":"SUM(E44:N44)-J44","v":0},"",null,"",null,null,0,0,null,{"$f":"IF(ISNA(INDEX('Conversion Factors'!$B$6:$B$370,MATCH('April 1 - April 15'!$Z$38:$Z$44,'Conversion Factors'!$A$6:$A$370,0))),\"\",INDEX('Conversion Factors'!$B$6:$B$370,MATCH('April 1 - April 15'!$Z$38:$Z$44,'Conversion Factors'!$A$6:$A$370,0)))","v":""},null,false,"","",null,null,null,null,null,0,{"$f":"IF(AH44>$AI$12,AH44-($AI$12+AI43+AI42+AI41+AI40+AI39+AI38+AI37),0)","v":0},false,false,null,0,null,0,0,0,0,0,40,0,0,0,null,0,0,0,0,0,0,40,0,null,0,40,0,0,{"$f":"SUM(E38:E44)","v":0},0,0,0,{"$f":"IF(AND(BM44=1,BL44>40,J44<=K44),J44-BO44,IF(AND(BM44=1,BL44>0,J44>K44),K44-BO44,0))","v":0}]
["Week 4 Totals",null,null,null,{"$f":"SUM(E38:E44)","v":0},{"$f":"SUM(F38:F44)","v":0},0,0,0,null,0,0,0,0,{"$f":"SUM(O38:O44)","v":0},{"$f":"-SUM(P38:P44)","v":0},{"$f":"SUM(Q38:Q44)","v":0},{"$f":"SUM(R38:R44)","v":0},{"$f":"IF(E45>40,(E45-40)-V45,0)","v":0},{"$f":"MROUND(AL45,0.25)","v":0},{"$f":"SUM(U38:U44)","v":0},{"$f":"SUM(V38:V44)","v":0},{"$f":"IF(E45-(E11-(G45+K45+F45+H45+I45+L45+M45))-(S45+U45+V45)>0,E45-(E11-(G45+K45+F45+H45+I45+L45+M45))-(S45+U45+V45),0)","v":0},null,null,null,null,null,{"$f":"SUM(F45:N45)","v":0},{"$f":"IF(AND(AG45<40,O45>=AG45),O45-(AG45+S45),IF(AND(O45<AG45,E45=O45),O45-E45,IF(AND(E45>AG45,E45<40),E45-AG45,IF(AND(O45>AG45,E45<AG45),E45-(AG45-AC45),IF(AND(O45>AG45,E45>40),E45-(AG45-AC45+S45),IF(AND(O45>AG45,O45>40),O45-(S45+AG45),0))))))","v":0},{"$f":"AD45-U45-V45","v":0},{"$f":"$W$11","v":"Please Select"},{"$f":"$E$11","v":40},null,{"$f":"IF(AH45>$AI$12,-$AI$12,0)","v":0},null,null,{"$f":"IF(AF45=\"Yes\",S45*1.5,0)","v":0},null,null,null,null,null,null,null,null,null,null,null,null,null,null,null,null,null,null,null,null,null,null,null,null,null,null,null,null,null,{"$f":"SUM(BP38:BP44)","v":0},{"$f":"E44+E11","v":40}]
[null,null,null,null,null,null,null,null,"Total-Net Previous Week",null,null,null,null,null,{"$f":"(O21+O29+O37+O45)-O13","v":0},{"$f":"(P21+P29+P37+P45)-P13","v":0},0,0,0,0,0,0,0,0]
[]
[null,null,null,null,null,null,null,null,null,null,null,null,null,null,"Leave/Leave Without Pay Policy"]
["Employee signature",null,null,null,null,null,"Date",null,null,null,null,null,null,null,"Overtime/Compensatory Time"]
["I certify this record is accurate and accounts for my time during the indicated period.",null,null,null,null,null,null,null,null,null,null,null,null,null,"Time Sheet Definitions/Policies"]
[]
[null,null,null,null,null,null,null,null,null,null,"“Actual Work Hours During Administrative Close Period” – Only key the hours actually worked during the admministrative closing period into this field. "]
[]
["Manager signature",null,null,null,null,null,"Date"]
["I certify the hours recorded and coded on this form are correct and in compliance with University policy.",null,null,null,null,null,null,null,null,null,"“Administrative Closing/Leave Period field.”  Entter the number of hours of the declared period of administrative closing. (The total hours worked during the entire day will be entered into the “Actual Hours Worked” field.)"]

{"sheet":"April 16 - April 30","index":26,"n_rows":55,"n_cols":69,"rows_kept":55,"cut":false,"hidden":false,"merged":[[47,14,47,22],[48,14,48,19],[49,14,49,22],[51,10,53,22],[54,10,56,22],[45,8,45,13],[34,0,34,2],[35,0,35,2],[36,0,36,2],[37,0,37,2],[38,0,38,2],[39,0,39,2],[40,0,40,2],[41,0,41,2],[42,0,42,2],[43,0,43,2],[44,0,44,2],[33,0,33,2],[22,0,22,2],[23,0,23,2],[24,0,24,2],[25,0,25,2],[26,0,26,2],[27,0,27,2],[28,0,28,2],[29,0,29,2],[30,0,30,2],[31,0,31,2],[32,0,32,2],[21,0,21,2],[11,0,11,2],[11,29,11,30],[12,0,12,3],[13,0,13,2],[14,0,14,2],[15,0,15,2],[16,0,16,2],[17,0,17,2],[18,0,18,2],[19,0,19,2],[20,0,20,2],[10,40,10,46],[6,2,6,7],[6,8,6,13],[6,14,6,19],[7,2,7,7],[7,8,7,13],[7,14,7,19],[10,0,10,3],[10,4,10,5],[10,6,10,17],[10,18,10,21],[10,22,10,23],[0,0,0,22],[1,0,1,22],[3,0,3,23],[5,2,5,7],[5,8,5,13],[5,14,5,19]]}
["Mississippi State University"]
["Non-Exempt Employee Semi-Monthly Time Report"]
[]
["Instructions:  The Fair Labor Standards Act requires that a record of hours worked on a weekly basis be maintained for all employees except executive, administrative, managerial, faculty, and professional (non-faculty).  Department/unit heads are responsible for compiling and maintaining this record in department files on each covered employee for a period of at least (3) years."]
[]
["MSU ID #:",null,{"$f":"'July 1 - July 15'!C6","v":0},null,null,null,null,null,"Pay period start date:",null,null,null,null,null,{"$f":"'Dates & Notes'!$A$21","v":"2023-04-16"},null,null,null,null,null,null,null,null,null,null,{"$f":"TEXT(O6,\"dddd\")","v":"Sunday"},null,null,null,"Please Select"]
["Name:",null,{"$f":"'July 1 - July 15'!C7","v":0},null,null,null,null,null,"Pay period end date:",null,null,null,null,null,{"$f":"'Dates & Notes'!$B$21","v":"2023-04-30"},null,null,null,null,null,null,null,null,null,null,null,null,null,null,"No"]
["Department:",null,{"$f":"'July 1 - July 15'!C8","v":0},null,null,null,null,null,"Pay Period Number:",null,null,null,null,null,{"$f":"'Dates & Notes'!$C$21","v":8},null,null,null,null,null,null,null,null,null,null,null,null,null,null,"Yes"]
[]
[]
["Employee Scheduled Hours Per Week",null,null,null,40,null,"FIELDS MUST BE ENTERED FOR CALULATIONS TO WORK PROPERLY",null,null,null,null,null,null,null,null,null,null,null,"Receive Compensatory Time",null,null,null,"Please Select",null,null,null,null,null,null,null,null,null,null,null,"Over 40",null,null,null,null,null,"HOW ANALYSIS"]
["Work Week Dates",null,null,"Day of The Week","Actual Hours Worked","Compensatory Time Used","Holiday","Medical Leave","Personal Leave","Actual Wrk Hrs During  Admin Close Period","Administrative Closing/Leave Period","Jury Duty","Military Leave","Leave Without Pay","Totals","DOC-Payroll Conversion","RTO","RTO-Payroll Conversion","Overtime Hours","Hours Transferred to Comp. Record","HOW-Holiday Pay or Admin/Leave Closing","HOT-Holiday Pay","SST-Payroll","Conversion Factor",null,8,"DOC","RTO",null,"SST",null,null,null,"Cumm Actual HRS",40,"Administrative Leave","HOW-Holiday Pay","Comp. Time","Administrative/Schedule",null,"Holiday=0\n1",2,3,4,null,"<=40\n5",null,"HOT Workup","HOT-Holiday Pay (HOLIDAY PAY)",null,"HOT-Administrative HRS","Administrative=0\n1",2,3,4,null,"<=40\n5",null,null,"Holiday Flag","Up to 40","How","Hot","Actual Hours Worked","Admin Flag","Admin","Admin HOW","Admin OVT"]
["Hours-Previous WK (Due to Split WK)",null,null,null,null,null,null,null,null,null,null,null,null,null,{"$f":"SUM(E13:N13)-J13","v":0},null,null,null,null,null,null,null,null,null,null,null,null,null,null,null,null,null,null,null,null,{"$f":"IF(AND(AM13=0,J13=0),AM13,IF(AND(E13>AM13,J13=0),J13,IF(AND(J13<AM13,AI13=0),J13,IF(AND(AM13=J13,AI13<AM13),AM13-AI13,IF(AND(J13=AM13,AI13=AM13),AI13,IF(AND(J13<AM13,AI13>0),AM13-J13,IF(AND(AM13>J13,AI13<E13),E13-AI13,IF(AND(E13>AM13,AI13=E13),O13-AI13,0))))))))","v":0},{"$f":"IF(AND(G13=0,E13>G13),G13,IF(AND(E13>G13,AI13=0),G13,IF(AND(E13<G13,AI13=0),E13,IF(AND(E13=G13,AI13<G13),G13-AI13,IF(AND(E13=G13,AI13=G13),AI13,IF(AND(E13<G13,AI13>0),G13-E13,IF(AND(E13>G13,AI13<E13),E13-AI13,IF(AND(E13>G13,AI13=E13),O13-AI13,0))))))))","v":0},null,{"$f":"K13","v":0}]
[{"$f":"IF(EXACT(D14,$Z$6)=TRUE,$O$6,IF(A12=0,\"\",IF(A12<$O$7,A12+1,IF(A12=$O$7,\"\"))))","v":"2023-04-16"},null,null,"Sunday",null,null,null,null,null,null,null,null,null,null,{"$f":"SUM(E14:N14)-J14","v":0},{"$f":"IF(AND(ISNUMBER(AA14),ISNUMBER(X14)),AA14*X14,\"\")","v":""},null,{"$f":"IF(AND(ISNUMBER(AB14),ISNUMBER(X14)),AB14*X14,\"\")","v":""},null,null,{"$f":"IF(BJ14>0,BJ14,BN14)","v":0},{"$f":"IF(BK14>0,BK14,0)","v":0},null,{"$f":"IF(ISNA(INDEX('Conversion Factors'!$B$6:$B$371,MATCH('April 16 - April 30'!$Z$14:$Z$20,'Conversion Factors'!$A$6:$A$371,0))),\"\",INDEX('Conversion Factors'!$B$6:$B$371,MATCH('April 16 - April 30'!$Z$14:$Z$20,'Conversion Factors'!$A$6:$A$371,0)))","v":8.6669999999999998},null,{"$f":"A14","v":"2023-04-16"},{"$f":"IF(AND(ISNUMBER(N14),ISNUMBER($Z$12)),N14/$Z$12,\"\")","v":""},{"$f":"IF(AND(ISNUMBER(Q14),ISNUMBER($Z$12)),Q14/$Z$12,\"\")","v":""},null,null,null,null,null,{"$f":"E14","v":0},{"$f":"IF(AH14>$AI$12,AH14-$AI$12,0)","v":0},{"$f":"IF(AND(AZ14>0,AZ14),IF(BA14>0,BA14,IF(BB14>0,BB14,IF(BC14>0,BC14,IF(BF14>0,BF14,\"\")))))","v":false},{"$f":"IF(AND(AO14>0,AO14),IF(AP14>0,AP14,IF(AQ14>0,AQ14,IF(AR14>0,AR14,IF(AU14>0,AU14,\"\")))))","v":false},null,{"$f":"J14","v":0},null,{"$f":"IF(G14=0,0,\"\")","v":0},{"$f":"IF(AND(AH14<=40,E14=G14),G14,0)","v":0},{"$f":"IF(AND(AH14<=40,E14>=G14,G14>0),O14-E14,0)","v":0},{"$f":"IF(AND(AH14<=40,E14<G14),O14-G14,0)","v":0},{"$f":"IF(AND(G14=0),G14,IF(AND(G14>0,AI14>0,G14=AT14),AT14,IF(AND(G14>0,AI14>0,G14-AT14),AT14,0)))","v":0},null,{"$f":"AS14","v":0},{"$f":"IF(AND(AH13+AU14=40,AI14>0,AI14>AU14),AI14-AU14,IF(AND(AH13+AU14=40,AI14>0,AI14<AU14,AU14+AI14=G14),AI14,IF(AND(AH13>40,AH14>40,G14=AI14),AI14,0)))","v":0},{"$f":"AV14","v":0},null,{"$f":"IF(AND(J14>0,AI14>=J14,BB14=0),O14-AI14,IF(AND(J14>0,AI14>0,BB14<=AI14),AI14-BB14,IF(AND(J14>0,AI14>0,BB14>AI14),J14-BB14,0)))","v":0},{"$f":"IF(J14=0,0,\"\")","v":0},{"$f":"IF(AND(AH14<=40,E14=J14),J14,0)","v":0},{"$f":"IF(AND(AZ14=0),AZ14,IF(AND(AH14>40,E14>=J14),BE14,IF(AND(AH14<=40,E14>J14),J14,0)))","v":0},{"$f":"IF(AND(AH14<=40,E14<J14),O14-J14,0)","v":0},{"$f":"IF(AND(J14=0),J14,IF(AND(J14>0,AI14>0,J14=BC14),BC14,IF(AND(J14>0,AI14>0,J14-BC14),BC14,0)))","v":0},null,{"$f":"BD14","v":0},null,{"$f":"IF(AND(G14>0,E14>0),1,0)","v":0},{"$f":"40-AH14","v":40},{"$f":"IF(AND(BH14=1,E14<8),E14,(IF(AND(BH14=1,E14>0),G14,0)))","v":0},{"$f":"IF(AND(BH14=1,BL14>40,E14<G14),E14-BJ14,(IF(AND(BH14=1,BL14>0,E14>=G14),G14-BJ14,0)))","v":0},{"$f":"E14","v":0},{"$f":"IF(AND(K14>0,E14>0),1,0)","v":0},{"$f":"IF(AND(BM14=1,J14>8),K14,(IF(AND(BM14=1,J14>0),J14,0)))","v":0},{"$f":"IF(AND(BM14=1,40-BL13>0,40-BL13<8),40-BL13,IF(AND(J14<K14),J14,K14))","v":0},{"$f":"IF(AND(BM14=1,BL14>40,J14<=K14),J14-BO14,IF(AND(BM14=1,BL14>0,J14>K14),K14-BO14,0))","v":0}]
[{"$f":"IF(EXACT(D15,$Z$6)=TRUE,$O$6,IF(A14=0,\"\",IF(A14<$O$7,A14+1,IF(A14=$O$7,\"\"))))","v":"2023-04-17"},null,null,"Monday",null,null,null,null,null,null,null,null,null,null,{"$f":"SUM(E15:N15)-J15","v":0},{"$f":"IF(AND(ISNUMBER(AA15),ISNUMBER(X15)),AA15*X15,\"\")","v":""},null,{"$f":"IF(AND(ISNUMBER(AB15),ISNUMBER(X15)),AB15*X15,\"\")","v":""},null,null,{"$f":"IF(BJ15>0,BJ15,BN15)","v":0},{"$f":"IF(BK15>0,BK15,0)","v":0},null,{"$f":"IF(ISNA(INDEX('Conversion Factors'!$B$6:$B$371,MATCH('April 16 - April 30'!$Z$14:$Z$20,'Conversion Factors'!$A$6:$A$371,0))),\"\",INDEX('Conversion Factors'!$B$6:$B$371,MATCH('April 16 - April 30'!$Z$14:$Z$20,'Conversion Factors'!$A$6:$A$371,0)))","v":8.6669999999999998},null,"2023-04-17","","",null,null,null,null,null,{"$f":"E15+AH14","v":0},{"$f":"IF(AH15>$AI$12,AH15-($AI$12+AI14),0)","v":0},{"$f":"IF(AND(AZ15>0,AZ15),IF(BA15>0,BA15,IF(BB15>0,BB15,IF(BC15>0,BC15,IF(BF15>0,BF15,\"\")))))","v":false},{"$f":"IF(AND(AO15>0,AO15),IF(AP15>0,AP15,IF(AQ15>0,AQ15,IF(AR15>0,AR15,IF(AU15>0,AU15,0)))))","v":false},null,0,null,0,0,0,0,0,{"$f":"IF(AND(AH14<=40),40-AH14,0)","v":40},{"$f":"AS15","v":0},0,{"$f":"AV15","v":0},null,0,0,0,0,0,0,{"$f":"IF(AND(AH14<=40),40-AH14,0)","v":40},{"$f":"BD15","v":0},null,{"$f":"IF(AND(G15>0,E15>0),1,0)","v":0},40,0,0,{"$f":"SUM(E14:E15)","v":0},{"$f":"IF(AND(K15>0,E15>0),1,0)","v":0},{"$f":"IF(AND(BM15=1,J15>8),K15,(IF(AND(BM15=1,J15>0),J15,0)))","v":0},0,0]
["2023-04-18",null,null,"Tuesday",null,null,null,null,null,null,null,null,null,null,{"$f":"SUM(E16:N16)-J16","v":0},"",null,"",null,null,{"$f":"IF(BJ16>0,BJ16,BN16)","v":0},0,null,{"$f":"IF(ISNA(INDEX('Conversion Factors'!$B$6:$B$371,MATCH('April 16 - April 30'!$Z$14:$Z$20,'Conversion Factors'!$A$6:$A$371,0))),\"\",INDEX('Conversion Factors'!$B$6:$B$371,MATCH('April 16 - April 30'!$Z$14:$Z$20,'Conversion Factors'!$A$6:$A$371,0)))","v":8.6669999999999998},null,"2023-04-18","","",null,null,null,null,null,0,{"$f":"IF(AH16>$AI$12,AH16-($AI$12+AI15+AI14),0)","v":0},false,false,null,0,null,0,0,0,0,0,40,0,0,0,null,0,0,0,0,0,0,{"$f":"IF(AND(AH15<=40),40-AH15,0)","v":40},0,null,{"$f":"IF(AND(G16>0,E16>0),1,0)","v":0},40,0,0,{"$f":"SUM(E14:E16)","v":0},0,{"$f":"IF(AND(BM16=1,J16>8),K16,(IF(AND(BM16=1,J16>0),J16,0)))","v":0},{"$f":"IF(AND(BM16=1,40-BL15>0,40-BL15<8),40-BL15,IF(AND(J16<K16),J16,K16))","v":0},0]
["2023-04-19",null,null,"Wednesday",null,null,null,null,null,null,null,null,null,null,{"$f":"SUM(E17:N17)-J17","v":0},"",null,"",null,null,0,0,null,{"$f":"IF(ISNA(INDEX('Conversion Factors'!$B$6:$B$371,MATCH('April 16 - April 30'!$Z$14:$Z$20,'Conversion Factors'!$A$6:$A$371,0))),\"\",INDEX('Conversion Factors'!$B$6:$B$371,MATCH('April 16 - April 30'!$Z$14:$Z$20,'Conversion Factors'!$A$6:$A$371,0)))","v":8.6669999999999998},null,"2023-04-19","","",null,null,null,null,null,0,{"$f":"IF(AH17>$AI$12,AH17-($AI$12+AI16+AI15+AI14),0)","v":0},false,false,null,0,null,0,0,0,0,0,40,0,0,0,null,0,0,0,0,0,0,40,0,null,0,40,0,0,{"$f":"SUM(E14:E17)","v":0},0,{"$f":"IF(AND(BM17=1,J17>8),K17,(IF(AND(BM17=1,J17>0),J17,0)))","v":0},{"$f":"IF(AND(BM17=1,40-BL16>0,40-BL16<8),40-BL16,IF(AND(J17<K17),J17,K17))","v":0},0]
["2023-04-20",null,null,"Thursday",null,null,null,null,null,null,null,null,null,null,0,"",null,"",null,null,0,0,null,{"$f":"IF(ISNA(INDEX('Conversion Factors'!$B$6:$B$371,MATCH('April 16 - April 30'!$Z$14:$Z$20,'Conversion Factors'!$A$6:$A$371,0))),\"\",INDEX('Conversion Factors'!$B$6:$B$371,MATCH('April 16 - April 30'!$Z$14:$Z$20,'Conversion Factors'!$A$6:$A$371,0)))","v":8.6669999999999998},null,"2023-04-20","","",null,null,null,null,null,0,{"$f":"IF(AH18>$AI$12,AH18-($AI$12+AI17+AI16+AI15+AI14),0)","v":0},false,false,null,0,null,0,0,0,0,0,{"$f":"IF(AND(AH17<=40),40-AH17,0)","v":40},0,0,0,null,0,0,0,0,0,0,40,0,null,0,40,0,0,{"$f":"SUM(E14:E18)","v":0},0,0,0,0]
["2023-04-21",null,null,"Friday",null,null,null,null,null,null,null,null,null,null,0,"",null,"",null,null,0,0,null,{"$f":"IF(ISNA(INDEX('Conversion Factors'!$B$6:$B$371,MATCH('April 16 - April 30'!$Z$14:$Z$20,'Conversion Factors'!$A$6:$A$371,0))),\"\",INDEX('Conversion Factors'!$B$6:$B$371,MATCH('April 16 - April 30'!$Z$14:$Z$20,'Conversion Factors'!$A$6:$A$371,0)))","v":8.6669999999999998},null,"2023-04-21","","",null,null,null,null,null,0,{"$f":"IF(AH19>$AI$12,AH19-($AI$12+AI18+AI17+AI16+AI15+AI14),0)","v":0},false,false,null,0,null,0,0,0,0,0,{"$f":"IF(AND(AH18<=40),40-AH18,0)","v":40},0,0,0,null,0,0,0,0,0,0,40,0,null,0,40,0,0,{"$f":"SUM(E14:E19)","v":0},0,0,0,{"$f":"IF(AND(BM19=1,BL19>40,J19<=K19),J19-BO19,IF(AND(BM19=1,BL19>0,J19>K19),K19-BO19,0))","v":0}]
["2023-04-22",null,null,"Saturday",null,null,null,null,null,null,null,null,null,null,{"$f":"SUM(E20:N20)-J20","v":0},"",null,"",null,null,0,0,null,{"$f":"IF(ISNA(INDEX('Conversion Factors'!$B$6:$B$371,MATCH('April 16 - April 30'!$Z$14:$Z$20,'Conversion Factors'!$A$6:$A$371,0))),\"\",INDEX('Conversion Factors'!$B$6:$B$371,MATCH('April 16 - April 30'!$Z$14:$Z$20,'Conversion Factors'!$A$6:$A$371,0)))","v":8.6669999999999998},null,"2023-04-22","","",null,null,null,null,null,0,{"$f":"IF(AH20>$AI$12,AH20-($AI$12+AI19+AI18+AI17+AI16+AI15+AI14),0)","v":0},false,false,null,0,null,0,0,0,0,0,40,0,0,0,null,0,0,0,0,0,0,40,0,null,0,40,0,0,{"$f":"SUM(E14:E20)","v":0},0,0,0,{"$f":"IF(AND(BM20=1,BL20>40,J20<=K20),J20-BO20,IF(AND(BM20=1,BL20>0,J20>K20),K20-BO20,0))","v":0}]
["Week 1 Totals",null,null,null,{"$f":"SUM(E14:E20)","v":0},{"$f":"SUM(F14:F20)","v":0},0,0,0,null,0,0,0,0,{"$f":"SUM(O14:O20)","v":0},{"$f":"-SUM(P14:P20)","v":0},{"$f":"SUM(Q14:Q20)","v":0},{"$f":"SUM(R14:R20)","v":0},{"$f":"IF(E21>40,(E21-40)-V21-BP21,0)","v":0},{"$f":"MROUND(AL21,0.25)","v":0},{"$f":"SUM(U14:U20)","v":0},{"$f":"SUM(V14:V20)","v":0},{"$f":"IF(E21-(E11-(G21+K21+F21+H21+I21+L21+M21))-(S21+U21+V21)>0,E21-(E11-(G21+K21+F21+H21+I21+L21+M21))-(S21+U21+V21),0)","v":0},null,null,null,null,null,{"$f":"SUM(F21:N21)","v":0},{"$f":"IF(AND(AG21<40,O21>=AG21),O21-(AG21+S21),IF(AND(O21<AG21,E21=O21),O21-E21,IF(AND(E21>AG21,E21<40),E21-AG21,IF(AND(O21>AG21,E21<AG21),E21-(AG21-AC21),IF(AND(O21>AG21,E21>40),E21-(AG21-AC21+S21),IF(AND(O21>AG21,O21>40),O21-(S21+AG21),0))))))","v":0},{"$f":"AD21-U21-V21","v":0},{"$f":"$W$11","v":"Please Select"},{"$f":"$E$11","v":40},null,{"$f":"IF(AH21>$AI$12,-$AI$12,0)","v":0},null,null,{"$f":"IF(AF21=\"Yes\",S21*1.5,0)","v":0},null,null,null,null,null,null,null,null,null,null,null,null,null,null,null,null,null,null,null,null,null,null,null,null,null,null,null,null,null,{"$f":"SUM(BP14:BP20)","v":0},{"$f":"E11+U21","v":40}]
[{"$f":"IF(A20=0,\"\",IF(A20<$O$7,A20+1,IF(A20=$O$7,\"\")))","v":"2023-04-23"},null,null,"Sunday",null,null,null,null,null,null,null,null,null,null,{"$f":"SUM(E22:N22)-J22","v":0},{"$f":"IF(AND(ISNUMBER(AA22),ISNUMBER(X22)),AA22*X22,\"\")","v":""},null,{"$f":"IF(AND(ISNUMBER(AB22),ISNUMBER(X22)),AB22*X22,\"\")","v":""},null,null,{"$f":"IF(BJ22>0,BJ22,BN22)","v":0},{"$f":"IF(BK22>0,BK22,0)","v":0},null,{"$f":"IF(ISNA(INDEX('Conversion Factors'!$B$6:$B$371,MATCH('April 16 - April 30'!$Z$22:$Z$28,'Conversion Factors'!$A$6:$A$371,0))),\"\",INDEX('Conversion Factors'!$B$6:$B$371,MATCH('April 16 - April 30'!$Z$22:$Z$28,'Conversion Factors'!$A$6:$A$371,0)))","v":8.6669999999999998},null,{"$f":"A22","v":"2023-04-23"},{"$f":"IF(AND(ISNUMBER(N22),ISNUMBER($Z$12)),N22/$Z$12,\"\")","v":""},{"$f":"IF(AND(ISNUMBER(Q22),ISNUMBER($Z$12)),Q22/$Z$12,\"\")","v":""},null,null,null,null,null,{"$f":"E22+AH21","v":0},{"$f":"IF(AH22>$AI$12,AH22-($AI$12+AI21),0)","v":0},{"$f":"IF(AND(AZ22>0,AZ22),IF(BA22>0,BA22,IF(BB22>0,BB22,IF(BC22>0,BC22,IF(BF22>0,BF22,\"\")))))","v":false},{"$f":"IF(AND(AO22>0,AO22),IF(AP22>0,AP22,IF(AQ22>0,AQ22,IF(AR22>0,AR22,IF(AU22>0,AU22,\"\")))))","v":false},null,{"$f":"J22","v":0},null,{"$f":"IF(G22=0,0,\"\")","v":0},{"$f":"IF(AND(AH22<=40,E22=G22),G22,0)","v":0},{"$f":"IF(AND(AH22<=40,E22>=G22,G22>0),O22-E22,0)","v":0},{"$f":"IF(AND(AH22<=40,E22<G22),O22-G22,0)","v":0},{"$f":"IF(AND(G22=0),G22,IF(AND(G22>0,AI22>0,G22=AT22),AT22,IF(AND(G22>0,AI22>0,G22-AT22),AT22,0)))","v":0},null,{"$f":"AS22","v":0},{"$f":"IF(AND(AH21+AU22=40,AI22>0,AI22>AU22),AI22-AU22,IF(AND(AH21+AU22=40,AI22>0,AI22<AU22,AU22+AI22=G22),AI22,IF(AND(AH21>40,AH22>40,G22=AI22),AI22,0)))","v":0},{"$f":"AV22","v":0},null,{"$f":"IF(AND(J22>0,AI22>0,BB22<=AI22),AI22-BB22,IF(AND(J22>0,AI22>0,BB22>AI22),J22-BB22,0))","v":0},{"$f":"IF(J22=0,0,\"\")","v":0},{"$f":"IF(AND(AH22<=40,E22=J22),J22,0)","v":0},{"$f":"IF(AND(AZ22=0),AZ22,IF(AND(AH22>40,E22>=J22),BE22,IF(AND(AH22<=40,E22>J22),J22,0)))","v":0},{"$f":"IF(AND(AH22<=40,E22<J22),O22-J22,0)","v":0},{"$f":"IF(AND(J22=0),J22,IF(AND(J22>0,AI22>0,J22=BC22),BC22,IF(AND(J22>0,AI22>0,J22-BC22),BC22,0)))","v":0},null,{"$f":"BD22","v":0},null,{"$f":"IF(AND(G22>0,E22>0),1,0)","v":0},{"$f":"40-AH22","v":40},0,{"$f":"IF(AND(BH22=1,BL22>40,E22<G22),E22-BJ22,(IF(AND(BH22=1,BL22>0,E22>=G22),G22-BJ22,0)))","v":0},{"$f":"E22","v":0},{"$f":"IF(AND(K22>0,E22>0),1,0)","v":0},{"$f":"IF(AND(BM22=1,J22>8),K22,(IF(AND(BM22=1,J22>0),J22,0)))","v":0},{"$f":"IF(AND(BM22=1,40-BL21>0,40-BL21<8),40-BL21,IF(AND(J22<K22),J22,K22))","v":0},{"$f":"IF(AND(BM22=1,BL22>40,J22<=K22),J22-BO22,IF(AND(BM22=1,BL22>0,J22>K22),K22-BO22,0))","v":0}]
[{"$f":"IF(A22<$O$7,A22+1,IF(A22=$O$7,\"\"))","v":"2023-04-24"},null,null,"Monday",null,null,null,null,null,null,null,null,null,null,{"$f":"SUM(E23:N23)-J23","v":0},{"$f":"IF(AND(ISNUMBER(AA23),ISNUMBER(X23)),AA23*X23,\"\")","v":""},null,{"$f":"IF(AND(ISNUMBER(AB23),ISNUMBER(X23)),AB23*X23,\"\")","v":""},null,null,{"$f":"IF(BJ23>0,BJ23,BN23)","v":0},{"$f":"IF(BK23>0,BK23,0)","v":0},null,{"$f":"IF(ISNA(INDEX('Conversion Factors'!$B$6:$B$371,MATCH('April 16 - April 30'!$Z$22:$Z$28,'Conversion Factors'!$A$6:$A$371,0))),\"\",INDEX('Conversion Factors'!$B$6:$B$371,MATCH('April 16 - April 30'!$Z$22:$Z$28,'Conversion Factors'!$A$6:$A$371,0)))","v":8.6669999999999998},null,"2023-04-24","","",null,null,null,null,null,0,{"$f":"IF(AH23>$AI$12,AH23-($AI$12+AI22+AI21),0)","v":0},false,{"$f":"IF(AND(AO23>0,AO23),IF(AP23>0,AP23,IF(AQ23>0,AQ23,IF(AR23>0,AR23,IF(AU23>0,AU23,0)))))","v":false},null,0,null,0,0,0,0,0,{"$f":"IF(AND(AH22<=40),40-AH22,0)","v":40},{"$f":"AS23","v":0},0,{"$f":"AV23","v":0},null,{"$f":"IF(AND(J23>0,AI23>0,BB23<=AI23),AI23-BB23,IF(AND(J23>0,AI23>0,BB23>AI23),J23-BB23,0))","v":0},0,0,0,0,0,{"$f":"IF(AND(AH22<=40),40-AH22,0)","v":40},{"$f":"BD23","v":0},null,{"$f":"IF(AND(G23>0,E23>0),1,0)","v":0},40,0,0,{"$f":"SUM(E22:E23)","v":0},{"$f":"IF(AND(K23>0,E23>0),1,0)","v":0},{"$f":"IF(AND(BM23=1,J23>8),K23,(IF(AND(BM23=1,J23>0),J23,0)))","v":0},0,0]
["2023-04-25",null,null,"Tuesday",null,null,null,null,null,null,null,null,null,null,{"$f":"SUM(E24:N24)-J24","v":0},"",null,"",null,null,{"$f":"IF(BJ24>0,BJ24,BN24)","v":0},0,null,{"$f":"IF(ISNA(INDEX('Conversion Factors'!$B$6:$B$371,MATCH('April 16 - April 30'!$Z$22:$Z$28,'Conversion Factors'!$A$6:$A$371,0))),\"\",INDEX('Conversion Factors'!$B$6:$B$371,MATCH('April 16 - April 30'!$Z$22:$Z$28,'Conversion Factors'!$A$6:$A$371,0)))","v":8.6669999999999998},null,"2023-04-25","","",null,null,null,null,null,0,{"$f":"IF(AH24>$AI$12,AH24-($AI$12+AI23+AI22+AI21),0)","v":0},false,false,null,0,null,0,0,0,0,0,40,0,0,0,null,{"$f":"IF(AND(J24>0,AI24>0,BB24<=AI24),AI24-BB24,IF(AND(J24>0,AI24>0,BB24>AI24),J24-BB24,0))","v":0},0,0,0,0,0,{"$f":"IF(AND(AH23<=40),40-AH23,0)","v":40},0,null,{"$f":"IF(AND(G24>0,E24>0),1,0)","v":0},40,0,0,{"$f":"SUM(E22:E24)","v":0},0,{"$f":"IF(AND(BM24=1,J24>8),K24,(IF(AND(BM24=1,J24>0),J24,0)))","v":0},{"$f":"IF(AND(BM24=1,40-BL23>0,40-BL23<8),40-BL23,IF(AND(J24<K24),J24,K24))","v":0},0]
["2023-04-26",null,null,"Wednesday",null,null,null,null,null,null,null,null,null,null,0,"",null,"",null,null,0,0,null,{"$f":"IF(ISNA(INDEX('Conversion Factors'!$B$6:$B$371,MATCH('April 16 - April 30'!$Z$22:$Z$28,'Conversion Factors'!$A$6:$A$371,0))),\"\",INDEX('Conversion Factors'!$B$6:$B$371,MATCH('April 16 - April 30'!$Z$22:$Z$28,'Conversion Factors'!$A$6:$A$371,0)))","v":8.6669999999999998},null,"2023-04-26","","",null,null,null,null,null,0,{"$f":"IF(AH25>$AI$12,AH25-($AI$12+AI24+AI23+AI22+AI21),0)","v":0},false,false,null,0,null,0,0,0,0,0,40,0,0,0,null,{"$f":"IF(AND(J25>0,AI25>0,BB25<=AI25),AI25-BB25,IF(AND(J25>0,AI25>0,BB25>AI25),J25-BB25,0))","v":0},0,0,0,0,0,40,0,null,0,40,0,0,{"$f":"SUM(E22:E25)","v":0},0,{"$f":"IF(AND(BM25=1,J25>8),K25,(IF(AND(BM25=1,J25>0),J25,0)))","v":0},{"$f":"IF(AND(BM25=1,40-BL24>0,40-BL24<8),40-BL24,IF(AND(J25<K25),J25,K25))","v":0},0]
["2023-04-27",null,null,"Thursday",null,null,null,null,null,null,null,null,null,null,0,"",null,"",null,null,0,0,null,{"$f":"IF(ISNA(INDEX('Conversion Factors'!$B$6:$B$371,MATCH('April 16 - April 30'!$Z$22:$Z$28,'Conversion Factors'!$A$6:$A$371,0))),\"\",INDEX('Conversion Factors'!$B$6:$B$371,MATCH('April 16 - April 30'!$Z$22:$Z$28,'Conversion Factors'!$A$6:$A$371,0)))","v":8.6669999999999998},null,"2023-04-27","","",null,null,null,null,null,0,{"$f":"IF(AH26>$AI$12,AH26-($AI$12+AI25+AI24+AI23+AI22+AI21),0)","v":0},false,false,null,0,null,0,0,0,0,0,{"$f":"IF(AND(AH25<=40),40-AH25,0)","v":40},0,0,0,null,{"$f":"IF(AND(J26>0,AI26>=J26,BB26=0),O26-AI26,IF(AND(J26>0,AI26>0,BB26<=AI26),AI26-BB26,IF(AND(J26>0,AI26>0,BB26>AI26),J26-BB26,0)))","v":0},0,0,0,0,0,40,0,null,0,40,0,0,{"$f":"SUM(E22:E26)","v":0},0,0,0,0]
["2023-04-28",null,null,"Friday",null,null,null,null,null,null,null,null,null,null,0,"",null,"",null,null,0,0,null,{"$f":"IF(ISNA(INDEX('Conversion Factors'!$B$6:$B$371,MATCH('April 16 - April 30'!$Z$22:$Z$28,'Conversion Factors'!$A$6:$A$371,0))),\"\",INDEX('Conversion Factors'!$B$6:$B$371,MATCH('April 16 - April 30'!$Z$22:$Z$28,'Conversion Factors'!$A$6:$A$371,0)))","v":8.6669999999999998},null,"2023-04-28","","",null,null,null,null,null,0,{"$f":"IF(AH27>$AI$12,AH27-($AI$12+AI26+AI25+AI24+AI23+AI22+AI21),0)","v":0},false,false,null,0,null,0,0,0,0,0,{"$f":"IF(AND(AH26<=40),40-AH26,0)","v":40},0,0,0,null,{"$f":"IF(AND(J27>0,AI27>=J27,BB27=0),O27-AI27,IF(AND(J27>0,AI27>0,BB27<=AI27),AI27-BB27,IF(AND(J27>0,AI27>0,BB27>AI27),J27-BB27,0)))","v":0},0,0,0,0,0,40,0,null,0,40,0,0,{"$f":"SUM(E22:E27)","v":0},0,0,0,{"$f":"IF(AND(BM27=1,BL27>40,J27<=K27),J27-BO27,IF(AND(BM27=1,BL27>0,J27>K27),K27-BO27,0))","v":0}]
["2023-04-29",null,null,"Saturday",null,null,null,null,null,null,null,null,null,null,{"$f":"SUM(E28:N28)-J28","v":0},"",null,"",null,null,0,0,null,{"$f":"IF(ISNA(INDEX('Conversion Factors'!$B$6:$B$371,MATCH('April 16 - April 30'!$Z$22:$Z$28,'Conversion Factors'!$A$6:$A$371,0))),\"\",INDEX('Conversion Factors'!$B$6:$B$371,MATCH('April 16 - April 30'!$Z$22:$Z$28,'Conversion Factors'!$A$6:$A$371,0)))","v":8.6669999999999998},null,"2023-04-29","","",null,null,null,null,null,0,{"$f":"IF(AH28>$AI$12,AH28-($AI$12+AI27+AI26+AI25+AI24+AI23+AI22+AI21),0)","v":0},false,false,null,0,null,0,0,0,0,0,40,0,0,0,null,{"$f":"IF(AND(J28>0,AI28>=J28,BB28=0),O28-AI28,IF(AND(J28>0,AI28>0,BB28<=AI28),AI28-BB28,IF(AND(J28>0,AI28>0,BB28>AI28),J28-BB28,0)))","v":0},0,0,0,0,0,40,0,null,0,40,0,0,{"$f":"SUM(E22:E28)","v":0},0,0,0,{"$f":"IF(AND(BM28=1,BL28>40,J28<=K28),J28-BO28,IF(AND(BM28=1,BL28>0,J28>K28),K28-BO28,0))","v":0}]
["Week 2 Totals",null,null,null,{"$f":"SUM(E22:E28)","v":0},0,0,0,0,null,0,0,0,0,{"$f":"SUM(O22:O28)","v":0},{"$f":"-SUM(P22:P28)","v":0},{"$f":"SUM(Q22:Q28)","v":0},{"$f":"SUM(R22:R28)","v":0},{"$f":"IF(E29>40,(E29-40)-V29,0)","v":0},{"$f":"MROUND(AL29,0.25)","v":0},{"$f":"SUM(U22:U28)","v":0},{"$f":"SUM(V22:V28)","v":0},{"$f":"IF(E29-(E11-(G29+K29+F29+H29+I29+L29+M29))-(S29+U29+V29)>0,E29-(E11-(G29+K29+F29+H29+I29+L29+M29))-(S29+U29+V29),0)","v":0},null,null,null,null,null,{"$f":"SUM(F29:N29)","v":0},{"$f":"IF(AND(AG29<40,O29>=AG29),O29-(AG29+S29),IF(AND(O29<AG29,E29=O29),O29-E29,IF(AND(E29>AG29,E29<40),E29-AG29,IF(AND(O29>AG29,E29<AG29),E29-(AG29-AC29),IF(AND(O29>AG29,E29>40),E29-(AG29-AC29+S29),IF(AND(O29>AG29,O29>40),O29-(S29+AG29),0))))))","v":0},{"$f":"AD29-U29-V29","v":0},{"$f":"$W$11","v":"Please Select"},{"$f":"$E$11","v":40},null,{"$f":"IF(AH29>$AI$12,-$AI$12,0)","v":0},null,null,{"$f":"IF(AF29=\"Yes\",S29*1.5,0)","v":0},0,null,null,null,null,null,null,null,null,null,null,null,null,0,null,null,null,null,null,null,null,null,null,null,null,null,null,null,null,{"$f":"SUM(BP22:BP28)","v":0},{"$f":"U29+E11","v":40}]
[{"$f":"IF(A28<$O$7,A28+1,IF(A28=$O$7,\"\"))","v":"2023-04-30"},null,null,"Sunday",null,null,null,null,null,null,null,null,null,null,{"$f":"SUM(E30:N30)-J30","v":0},{"$f":"IF(AND(ISNUMBER(AA30),ISNUMBER(X30)),AA30*X30,\"\")","v":""},null,{"$f":"IF(AND(ISNUMBER(AB30),ISNUMBER(X30)),AB30*X30,\"\")","v":""},null,null,{"$f":"IF(BJ30>0,BJ30,BN30)","v":0},{"$f":"IF(BK30>0,BK30,0)","v":0},null,{"$f":"IF(ISNA(INDEX('Conversion Factors'!$B$6:$B$370,MATCH('April 16 - April 30'!$Z$30:$Z$36,'Conversion Factors'!$A$6:$A$370,0))),\"\",INDEX('Conversion Factors'!$B$6:$B$370,MATCH('April 16 - April 30'!$Z$30:$Z$36,'Conversion Factors'!$A$6:$A$370,0)))","v":8.6669999999999998},null,{"$f":"A30","v":"2023-04-30"},{"$f":"IF(AND(ISNUMBER(N30),ISNUMBER($Z$12)),N30/$Z$12,\"\")","v":""},{"$f":"IF(AND(ISNUMBER(Q30),ISNUMBER($Z$12)),Q30/$Z$12,\"\")","v":""},null,null,null,null,null,{"$f":"E30+AH29","v":0},{"$f":"IF(AH30>$AI$12,AH30-($AI$12+AI29),0)","v":0},{"$f":"IF(AND(AZ30>0,AZ30),IF(BA30>0,BA30,IF(BB30>0,BB30,IF(BC30>0,BC30,IF(BF30>0,BF30,\"\")))))","v":false},{"$f":"IF(AND(AO30>0,AO30),IF(AP30>0,AP30,IF(AQ30>0,AQ30,IF(AR30>0,AR30,IF(AU30>0,AU30,\"\")))))","v":false},null,0,null,{"$f":"IF(G30=0,0,\"\")","v":0},{"$f":"IF(AND(AH30<=40,E30=G30),G30,0)","v":0},{"$f":"IF(AND(AH30<=40,E30>=G30,G30>0),O30-E30,0)","v":0},{"$f":"IF(AND(AH30<=40,E30<G30),O30-G30,0)","v":0},{"$f":"IF(AND(G30=0),G30,IF(AND(G30>0,AI30>0,G30=AT30),AT30,IF(AND(G30>0,AI30>0,G30-AT30),AT30,0)))","v":0},null,{"$f":"AS30","v":0},{"$f":"IF(AND(AH29+AU30=40,AI30>0,AI30>AU30),AI30-AU30,IF(AND(AH29+AU30=40,AI30>0,AI30<AU30,AU30+AI30=G30),AI30,IF(AND(AH29>40,AH30>40,G30=AI30),AI30,0)))","v":0},{"$f":"AV30","v":0},null,{"$f":"IF(AND(J30>0,AI30>=J30,BB30=0),O30-AI30,IF(AND(J30>0,AI30>0,BB30<=AI30),AI30-BB30,IF(AND(J30>0,AI30>0,BB30>AI30),J30-BB30,0)))","v":0},0,{"$f":"IF(AND(AH30<=40,E30=J30),J30,0)","v":0},{"$f":"IF(AND(AZ30=0),AZ30,IF(AND(AH30>40,E30>=J30),BE30,IF(AND(AH30<=40,E30>J30),J30,0)))","v":0},{"$f":"IF(AND(AH30<=40,E30<J30),O30-J30,0)","v":0},{"$f":"IF(AND(J30=0),J30,IF(AND(J30>0,AI30>0,J30=BC30),BC30,IF(AND(J30>0,AI30>0,J30-BC30),BC30,0)))","v":0},null,{"$f":"BD30","v":0},null,{"$f":"IF(AND(G30>0,E30>0),1,0)","v":0},{"$f":"40-AH30","v":40},0,{"$f":"IF(AND(BH30=1,BL30>40,E30<G30),E30-BJ30,(IF(AND(BH30=1,BL30>0,E30>=G30),G30-BJ30,0)))","v":0},{"$f":"E30","v":0},{"$f":"IF(AND(K30>0,E30>0),1,0)","v":0},{"$f":"IF(AND(BM30=1,J30>8),K30,(IF(AND(BM30=1,J30>0),J30,0)))","v":0},{"$f":"IF(AND(BM30=1,40-BL29>0,40-BL29<8),40-BL29,IF(AND(J30<K30),J30,K30))","v":0},{"$f":"IF(AND(BM30=1,BL30>40,J30<=K30),J30-BO30,IF(AND(BM30=1,BL30>0,J30>K30),K30-BO30,0))","v":0}]
[{"$f":"IF(A30<$O$7,A30+1,IF(A30=$O$7,\"\"))","v":""},null,null,"Monday",null,null,null,null,null,null,null,null,null,null,{"$f":"SUM(E31:N31)-J31","v":0},{"$f":"IF(AND(ISNUMBER(AA31),ISNUMBER(X31)),AA31*X31,\"\")","v":""},null,{"$f":"IF(AND(ISNUMBER(AB31),ISNUMBER(X31)),AB31*X31,\"\")","v":""},null,null,0,{"$f":"IF(BK31>0,BK31,0)","v":0},null,{"$f":"IF(ISNA(INDEX('Conversion Factors'!$B$6:$B$370,MATCH('April 16 - April 30'!$Z$30:$Z$36,'Conversion Factors'!$A$6:$A$370,0))),\"\",INDEX('Conversion Factors'!$B$6:$B$370,MATCH('April 16 - April 30'!$Z$30:$Z$36,'Conversion Factors'!$A$6:$A$370,0)))","v":""},null,"","","",null,null,null,null,null,0,{"$f":"IF(AH31>$AI$12,AH31-($AI$12+AI30+AI29),0)","v":0},false,{"$f":"IF(AND(AO31>0,AO31),IF(AP31>0,AP31,IF(AQ31>0,AQ31,IF(AR31>0,AR31,IF(AU31>0,AU31,0)))))","v":false},null,0,null,0,0,0,0,0,{"$f":"IF(AND(AH30<=40),40-AH30,0)","v":40},{"$f":"AS31","v":0},0,{"$f":"AV31","v":0},null,0,0,0,0,0,0,{"$f":"IF(AND(AH30<=40),40-AH30,0)","v":40},{"$f":"BD31","v":0},null,{"$f":"IF(AND(G31>0,E31>0),1,0)","v":0},40,0,0,{"$f":"SUM(E30:E31)","v":0},{"$f":"IF(AND(K31>0,E31>0),1,0)","v":0},{"$f":"IF(AND(BM31=1,J31>8),K31,(IF(AND(BM31=1,J31>0),J31,0)))","v":0},0,0]
[false,null,null,"Tuesday",null,null,null,null,null,null,null,null,null,null,0,"",null,"",null,null,0,0,null,{"$f":"IF(ISNA(INDEX('Conversion Factors'!$B$6:$B$370,MATCH('April 16 - April 30'!$Z$30:$Z$36,'Conversion Factors'!$A$6:$A$370,0))),\"\",INDEX('Conversion Factors'!$B$6:$B$370,MATCH('April 16 - April 30'!$Z$30:$Z$36,'Conversion Factors'!$A$6:$A$370,0)))","v":""},null,false,"","",null,null,null,null,null,0,{"$f":"IF(AH32>$AI$12,AH32-($AI$12+AI31+AI30+AI29),0)","v":0},false,false,null,0,null,0,0,0,0,0,40,0,0,0,null,0,0,0,0,0,0,{"$f":"IF(AND(AH31<=40),40-AH31,0)","v":40},0,null,{"$f":"IF(AND(G32>0,E32>0),1,0)","v":0},40,0,0,{"$f":"SUM(E30:E32)","v":0},0,{"$f":"IF(AND(BM32=1,J32>8),K32,(IF(AND(BM32=1,J32>0),J32,0)))","v":0},{"$f":"IF(AND(BM32=1,40-BL31>0,40-BL31<8),40-BL31,IF(AND(J32<K32),J32,K32))","v":0},0]
[false,null,null,"Wednesday",null,null,null,null,null,null,null,null,null,null,0,"",null,"",null,null,0,0,null,{"$f":"IF(ISNA(INDEX('Conversion Factors'!$B$6:$B$370,MATCH('April 16 - April 30'!$Z$30:$Z$36,'Conversion Factors'!$A$6:$A$370,0))),\"\",INDEX('Conversion Factors'!$B$6:$B$370,MATCH('April 16 - April 30'!$Z$30:$Z$36,'Conversion Factors'!$A$6:$A$370,0)))","v":""},null,false,"","",null,null,null,null,null,0,{"$f":"IF(AH33>$AI$12,AH33-($AI$12+AI32+AI31+AI30+AI29),0)","v":0},false,false,null,0,null,0,0,0,0,0,40,0,0,0,null,0,0,0,0,0,0,40,0,null,{"$f":"IF(AND(G33>0,E33>0),1,0)","v":0},40,0,0,{"$f":"SUM(E30:E33)","v":0},0,{"$f":"IF(AND(BM33=1,J33>8),K33,(IF(AND(BM33=1,J33>0),J33,0)))","v":0},{"$f":"IF(AND(BM33=1,40-BL32>0,40-BL32<8),40-BL32,IF(AND(J33<K33),J33,K33))","v":0},0]
[false,null,null,"Thursday",null,null,null,null,null,null,null,null,null,null,0,"",null,"",null,null,0,0,null,{"$f":"IF(ISNA(INDEX('Conversion Factors'!$B$6:$B$370,MATCH('April 16 - April 30'!$Z$30:$Z$36,'Conversion Factors'!$A$6:$A$370,0))),\"\",INDEX('Conversion Factors'!$B$6:$B$370,MATCH('April 16 - April 30'!$Z$30:$Z$36,'Conversion Factors'!$A$6:$A$370,0)))","v":""},null,false,"","",null,null,null,null,null,0,{"$f":"IF(AH34>$AI$12,AH34-($AI$12+AI33+AI32+AI31+AI30+AI29),0)","v":0},false,false,null,0,null,0,0,0,0,0,{"$f":"IF(AND(AH33<=40),40-AH33,0)","v":40},0,0,0,null,0,0,0,0,0,0,40,0,null,0,40,0,0,{"$f":"SUM(E30:E34)","v":0},0,0,0,0]
[false,null,null,"Friday",null,null,null,null,null,null,null,null,null,null,0,"",null,"",null,null,0,0,null,{"$f":"IF(ISNA(INDEX('Conversion Factors'!$B$6:$B$370,MATCH('April 16 - April 30'!$Z$30:$Z$36,'Conversion Factors'!$A$6:$A$370,0))),\"\",INDEX('Conversion Factors'!$B$6:$B$370,MATCH('April 16 - April 30'!$Z$30:$Z$36,'Conversion Factors'!$A$6:$A$370,0)))","v":""},null,false,"","",null,null,null,null,null,0,{"$f":"IF(AH35>$AI$12,AH35-($AI$12+AI34+AI33+AI32+AI31+AI30+AI29),0)","v":0},false,false,null,0,null,0,0,0,0,0,{"$f":"IF(AND(AH34<=40),40-AH34,0)","v":40},0,0,0,null,0,0,0,0,0,0,40,0,null,0,40,0,0,{"$f":"SUM(E30:E35)","v":0},0,0,0,{"$f":"IF(AND(BM35=1,BL35>40,J35<=K35),J35-BO35,IF(AND(BM35=1,BL35>0,J35>K35),K35-BO35,0))","v":0}]
[false,null,null,"Saturday",null,null,null,null,null,null,null,null,null,null,0,"",null,"",null,null,0,0,null,{"$f":"IF(ISNA(INDEX('Conversion Factors'!$B$6:$B$370,MATCH('April 16 - April 30'!$Z$30:$Z$36,'Conversion Factors'!$A$6:$A$370,0))),\"\",INDEX('Conversion Factors'!$B$6:$B$370,MATCH('April 16 - April 30'!$Z$30:$Z$36,'Conversion Factors'!$A$6:$A$370,0)))","v":""},null,false,"","",null,null,null,null,null,0,{"$f":"IF(AH36>$AI$12,AH36-($AI$12+AI35+AI34+AI33+AI32+AI31+AI30+AI29),0)","v":0},false,false,null,0,null,0,0,0,0,0,40,0,0,0,null,0,0,0,0,0,0,40,0,null,0,40,0,0,{"$f":"SUM(E30:E36)","v":0},0,0,0,{"$f":"IF(AND(BM36=1,BL36>40,J36<=K36),J36-BO36,IF(AND(BM36=1,BL36>0,J36>K36),K36-BO36,0))","v":0}]
["Week 3 Totals",null,null,null,{"$f":"SUM(E30:E36)","v":0},0,0,0,0,null,0,0,0,0,{"$f":"SUM(O30:O36)","v":0},{"$f":"-SUM(P30:P36)","v":0},{"$f":"SUM(Q30:Q36)","v":0},{"$f":"SUM(R30:R36)","v":0},{"$f":"IF(E37>40,(E37-40)-V37,0)","v":0},{"$f":"MROUND(AL37,0.25)","v":0},{"$f":"SUM(U30:U36)","v":0},{"$f":"SUM(V30:V36)","v":0},{"$f":"IF(E37-(E11-(G37+K37+F37+H37+I37+L37+M3))-(S37+U37+V37)>0,E37-(E11-(G37+K37+F37+H37+I37+L37+M37))-(S37+U37+V37),0)","v":0},null,null,null,null,null,{"$f":"SUM(F37:N37)","v":0},{"$f":"IF(AND(AG37<40,O37>=AG37),O37-(AG37+S37),IF(AND(O37<AG37,E37=O37),O37-E37,IF(AND(E37>AG37,E37<40),E37-AG37,IF(AND(O37>AG37,E37<AG37),E37-(AG37-AC37),IF(AND(O37>AG37,E37>40),E37-(AG37-AC37+S37),IF(AND(O37>AG37,O37>40),O37-(S37+AG37),0))))))","v":0},{"$f":"AD37-U37-V37","v":0},{"$f":"$W$11","v":"Please Select"},{"$f":"$E$11","v":40},null,{"$f":"IF(AH37>$AI$12,-$AI$12,0)","v":0},null,null,{"$f":"IF(AF37=\"Yes\",S37*1.5,0)","v":0},null,null,null,null,null,null,null,null,null,null,null,null,null,null,null,null,null,null,null,null,null,0,null,null,null,null,null,null,null,{"$f":"SUM(BP30:BP36)","v":0},{"$f":"U37+E11","v":40}]
[{"$f":"IF(A36<$O$7,A36+1,IF(A36=$O$7,\"\"))","v":false},null,null,"Sunday",null,null,null,null,null,null,null,null,null,null,{"$f":"SUM(E38:N38)-J38","v":0},{"$f":"IF(AND(ISNUMBER(AA38),ISNUMBER(X38)),AA38*X38,\"\")","v":""},null,{"$f":"IF(AND(ISNUMBER(AB38),ISNUMBER(X38)),AB38*X38,\"\")","v":""},null,null,0,{"$f":"IF(BK38>0,BK38,0)","v":0},null,{"$f":"IF(ISNA(INDEX('Conversion Factors'!$B$6:$B$370,MATCH('April 16 - April 30'!$Z$38:$Z$44,'Conversion Factors'!$A$6:$A$370,0))),\"\",INDEX('Conversion Factors'!$B$6:$B$370,MATCH('April 16 - April 30'!$Z$38:$Z$44,'Conversion Factors'!$A$6:$A$370,0)))","v":""},null,{"$f":"A38","v":false},{"$f":"IF(AND(ISNUMBER(N38),ISNUMBER($Z$12)),N38/$Z$12,\"\")","v":""},{"$f":"IF(AND(ISNUMBER(Q38),ISNUMBER($Z$12)),Q38/$Z$12,\"\")","v":""},null,null,null,null,null,{"$f":"E38+AH37","v":0},{"$f":"IF(AH38>$AI$12,AH38-($AI$12+AI37),0)","v":0},{"$f":"IF(AND(AZ38>0,AZ38),IF(BA38>0,BA38,IF(BB38>0,BB38,IF(BC38>0,BC38,IF(BF38>0,BF38,\"\")))))","v":false},{"$f":"IF(AND(AO38>0,AO38),IF(AP38>0,AP38,IF(AQ38>0,AQ38,IF(AR38>0,AR38,IF(AU38>0,AU38,\"\")))))","v":false},null,{"$f":"J38","v":0},null,{"$f":"IF(G38=0,0,\"\")","v":0},{"$f":"IF(AND(AH38<=40,E38=G38),G38,0)","v":0},{"$f":"IF(AND(AH38<=40,E38>=G38,G38>0),O38-E38,0)","v":0},{"$f":"IF(AND(AH38<=40,E38<G38),O38-G38,0)","v":0},{"$f":"IF(AND(G38=0),G38,IF(AND(G38>0,AI38>0,G38=AT38),AT38,IF(AND(G38>0,AI38>0,G38-AT38),AT38,0)))","v":0},null,{"$f":"AS38","v":0},{"$f":"IF(AND(AH37+AU38=40,AI38>0,AI38>AU38),AI38-AU38,IF(AND(AH37+AU38=40,AI38>0,AI38<AU38,AU38+AI38=G38),AI38,IF(AND(AH37>40,AH38>40,G38=AI38),AI38,0)))","v":0},{"$f":"AV38","v":0},null,{"$f":"IF(AND(J38>0,AI38>=J38,BB38=0),O38-AI38,IF(AND(J38>0,AI38>0,BB38<=AI38),AI38-BB38,IF(AND(J38>0,AI38>0,BB38>AI38),J38-BB38,0)))","v":0},{"$f":"IF(J38=0,0,\"\")","v":0},{"$f":"IF(AND(AH38<=40,E38=J38),J38,0)","v":0},{"$f":"IF(AND(AZ38=0),AZ38,IF(AND(AH38>40,E38>=J38),BE38,IF(AND(AH38<=40,E38>J38),J38,0)))","v":0},{"$f":"IF(AND(AH38<=40,E38<J38),O38-J38,0)","v":0},{"$f":"IF(AND(J38=0),J38,IF(AND(J38>0,AI38>0,J38=BC38),BC38,IF(AND(J38>0,AI38>0,J38-BC38),BC38,0)))","v":0},null,{"$f":"BD38","v":0},null,{"$f":"IF(AND(G38>0,E38>0),1,0)","v":0},{"$f":"40-AH38","v":40},0,{"$f":"IF(AND(BH38=1,BL38>40,E38<G38),E38-BJ38,(IF(AND(BH38=1,BL38>0,E38>=G38),G38-BJ38,0)))","v":0},{"$f":"E38","v":0},{"$f":"IF(AND(K38>0,E38>0),1,0)","v":0},{"$f":"IF(AND(BM38=1,J38>8),K38,(IF(AND(BM38=1,J38>0),J38,0)))","v":0},{"$f":"IF(AND(BM38=1,40-BL37>0,40-BL37<8),40-BL37,IF(AND(J38<K38),J38,K38))","v":0},{"$f":"IF(AND(BM38=1,BL38>40,J38<=K38),J38-BO38,IF(AND(BM38=1,BL38>0,J38>K38),K38-BO38,0))","v":0}]
[{"$f":"IF(A38<$O$7,A38+1,IF(A38=$O$7,\"\"))","v":false},null,null,"Monday",null,null,null,0,null,null,null,null,null,null,{"$f":"SUM(E39:N39)-J39","v":0},{"$f":"IF(AND(ISNUMBER(AA39),ISNUMBER(X39)),AA39*X39,\"\")","v":""},null,{"$f":"IF(AND(ISNUMBER(AB39),ISNUMBER(X39)),AB39*X39,\"\")","v":""},null,null,0,{"$f":"IF(BK39>0,BK39,0)","v":0},null,{"$f":"IF(ISNA(INDEX('Conversion Factors'!$B$6:$B$370,MATCH('April 16 - April 30'!$Z$38:$Z$44,'Conversion Factors'!$A$6:$A$370,0))),\"\",INDEX('Conversion Factors'!$B$6:$B$370,MATCH('April 16 - April 30'!$Z$38:$Z$44,'Conversion Factors'!$A$6:$A$370,0)))","v":""},null,false,"","",null,null,null,null,null,0,{"$f":"IF(AH39>$AI$12,AH39-($AI$12+AI38+AI37),0)","v":0},false,{"$f":"IF(AND(AO39>0,AO39),IF(AP39>0,AP39,IF(AQ39>0,AQ39,IF(AR39>0,AR39,IF(AU39>0,AU39,0)))))","v":false},null,0,null,0,0,0,0,0,{"$f":"IF(AND(AH38<=40),40-AH38,0)","v":40},{"$f":"AS39","v":0},0,{"$f":"AV39","v":0},null,0,0,0,0,0,0,{"$f":"IF(AND(AH38<=40),40-AH38,0)","v":40},{"$f":"BD39","v":0},null,{"$f":"IF(AND(G39>0,E39>0),1,0)","v":0},40,0,0,{"$f":"SUM(E38:E39)","v":0},{"$f":"IF(AND(K39>0,E39>0),1,0)","v":0},{"$f":"IF(AND(BM39=1,J39>8),K39,(IF(AND(BM39=1,J39>0),J39,0)))","v":0},0,0]
[false,null,null,"Tuesday",null,null,null,null,null,0,0,null,null,null,{"$f":"SUM(E40:N40)-J40","v":0},"",null,"",null,null,0,0,null,{"$f":"IF(ISNA(INDEX('Conversion Factors'!$B$6:$B$370,MATCH('April 16 - April 30'!$Z$38:$Z$44,'Conversion Factors'!$A$6:$A$370,0))),\"\",INDEX('Conversion Factors'!$B$6:$B$370,MATCH('April 16 - April 30'!$Z$38:$Z$44,'Conversion Factors'!$A$6:$A$370,0)))","v":""},null,false,"","",null,null,null,null,null,0,{"$f":"IF(AH40>$AI$12,AH40-($AI$12+AI39+AI38+AI37),0)","v":0},false,false,null,0,null,0,0,0,0,0,40,0,0,0,null,0,0,0,0,0,0,{"$f":"IF(AND(AH39<=40),40-AH39,0)","v":40},0,null,{"$f":"IF(AND(G40>0,E40>0),1,0)","v":0},40,0,0,{"$f":"SUM(E38:E40)","v":0},0,{"$f":"IF(AND(BM40=1,J40>8),K40,(IF(AND(BM40=1,J40>0),J40,0)))","v":0},{"$f":"IF(AND(BM40=1,40-BL39>0,40-BL39<8),40-BL39,IF(AND(J40<K40),J40,K40))","v":0},0]
[false,null,null,"Wednesday",null,null,null,null,null,null,null,null,null,null,0,"",null,"",null,null,0,0,null,{"$f":"IF(ISNA(INDEX('Conversion Factors'!$B$6:$B$370,MATCH('April 16 - April 30'!$Z$38:$Z$44,'Conversion Factors'!$A$6:$A$370,0))),\"\",INDEX('Conversion Factors'!$B$6:$B$370,MATCH('April 16 - April 30'!$Z$38:$Z$44,'Conversion Factors'!$A$6:$A$370,0)))","v":""},null,false,"","",null,null,null,null,null,0,{"$f":"IF(AH41>$AI$12,AH41-($AI$12+AI40+AI39+AI38+AI37),0)","v":0},false,false,null,0,null,0,0,0,0,0,40,0,0,0,null,0,0,0,0,0,0,40,0,null,{"$f":"IF(AND(G41>0,E41>0),1,0)","v":0},40,0,0,{"$f":"SUM(E38:E41)","v":0},0,{"$f":"IF(AND(BM41=1,J41>8),K41,(IF(AND(BM41=1,J41>0),J41,0)))","v":0},{"$f":"IF(AND(BM41=1,40-BL40>0,40-BL40<8),40-BL40,IF(AND(J41<K41),J41,K41))","v":0},0]
[false,null,null,"Thursday",null,null,null,null,null,null,null,null,null,null,0,"",null,"",null,null,0,0,null,{"$f":"IF(ISNA(INDEX('Conversion Factors'!$B$6:$B$370,MATCH('April 16 - April 30'!$Z$38:$Z$44,'Conversion Factors'!$A$6:$A$370,0))),\"\",INDEX('Conversion Factors'!$B$6:$B$370,MATCH('April 16 - April 30'!$Z$38:$Z$44,'Conversion Factors'!$A$6:$A$370,0)))","v":""},null,false,"","",null,null,null,null,null,0,{"$f":"IF(AH42>$AI$12,AH42-($AI$12+AI41+AI40+AI39+AI38+AI37),0)","v":0},false,false,null,0,null,0,0,0,0,0,{"$f":"IF(AND(AH41<=40),40-AH41,0)","v":40},0,0,0,null,0,0,0,0,0,0,40,0,null,0,40,0,0,{"$f":"SUM(E38:E42)","v":0},0,0,0,0]
[false,null,null,"Friday",null,null,null,null,null,null,null,null,null,null,0,"",null,"",null,null,0,0,null,{"$f":"IF(ISNA(INDEX('Conversion Factors'!$B$6:$B$370,MATCH('April 16 - April 30'!$Z$38:$Z$44,'Conversion Factors'!$A$6:$A$370,0))),\"\",INDEX('Conversion Factors'!$B$6:$B$370,MATCH('April 16 - April 30'!$Z$38:$Z$44,'Conversion Factors'!$A$6:$A$370,0)))","v":""},null,false,"","",null,null,null,null,null,0,{"$f":"IF(AH43>$AI$12,AH43-($AI$12+AI42+AI41+AI40+AI39+AI38+AI37),0)","v":0},false,false,null,0,null,0,0,0,0,0,{"$f":"IF(AND(AH42<=40),40-AH42,0)","v":40},0,0,0,null,0,0,0,0,0,0,40,0,null,0,40,0,0,{"$f":"SUM(E38:E43)","v":0},0,0,0,{"$f":"IF(AND(BM43=1,BL43>40,J43<=K43),J43-BO43,IF(AND(BM43=1,BL43>0,J43>K43),K43-BO43,0))","v":0}]
[false,null,null,"Saturday",null,null,null,null,null,null,null,null,null,null,{"$f":"SUM(E44:N44)-J44","v":0},"",null,"",null,null,0,0,null,{"$f":"IF(ISNA(INDEX('Conversion Factors'!$B$6:$B$370,MATCH('April 16 - April 30'!$Z$38:$Z$44,'Conversion Factors'!$A$6:$A$370,0))),\"\",INDEX('Conversion Factors'!$B$6:$B$370,MATCH('April 16 - April 30'!$Z$38:$Z$44,'Conversion Factors'!$A$6:$A$370,0)))","v":""},null,false,"","",null,null,null,null,null,0,{"$f":"IF(AH44>$AI$12,AH44-($AI$12+AI43+AI42+AI41+AI40+AI39+AI38+AI37),0)","v":0},false,false,null,0,null,0,0,0,0,0,40,0,0,0,null,0,0,0,0,0,0,40,0,null,0,40,0,0,{"$f":"SUM(E38:E44)","v":0},0,0,0,{"$f":"IF(AND(BM44=1,BL44>40,J44<=K44),J44-BO44,IF(AND(BM44=1,BL44>0,J44>K44),K44-BO44,0))","v":0}]
["Week 4 Totals",null,null,null,{"$f":"SUM(E38:E44)","v":0},{"$f":"SUM(F38:F44)","v":0},0,0,0,null,0,0,0,0,{"$f":"SUM(O38:O44)","v":0},{"$f":"-SUM(P38:P44)","v":0},{"$f":"SUM(Q38:Q44)","v":0},{"$f":"SUM(R38:R44)","v":0},{"$f":"IF(E45>40,(E45-40)-V45,0)","v":0},{"$f":"MROUND(AL45,0.25)","v":0},{"$f":"SUM(U38:U44)","v":0},{"$f":"SUM(V38:V44)","v":0},{"$f":"IF(E45-(E11-(G45+K45+F45+H45+I45+L45+M45))-(S45+U45+V45)>0,E45-(E11-(G45+K45+F45+H45+I45+L45+M45))-(S45+U45+V45),0)","v":0},null,null,null,null,null,{"$f":"SUM(F45:N45)","v":0},{"$f":"IF(AND(AG45<40,O45>=AG45),O45-(AG45+S45),IF(AND(O45<AG45,E45=O45),O45-E45,IF(AND(E45>AG45,E45<40),E45-AG45,IF(AND(O45>AG45,E45<AG45),E45-(AG45-AC45),IF(AND(O45>AG45,E45>40),E45-(AG45-AC45+S45),IF(AND(O45>AG45,O45>40),O45-(S45+AG45),0))))))","v":0},{"$f":"AD45-U45-V45","v":0},{"$f":"$W$11","v":"Please Select"},{"$f":"$E$11","v":40},null,{"$f":"IF(AH45>$AI$12,-$AI$12,0)","v":0},null,null,{"$f":"IF(AF45=\"Yes\",S45*1.5,0)","v":0},null,null,null,null,null,null,null,null,null,null,null,null,null,null,null,null,null,null,null,null,null,null,null,null,null,null,null,null,null,{"$f":"SUM(BP38:BP44)","v":0},{"$f":"E44+E11","v":40}]
[null,null,null,null,null,null,null,null,"Total-Net Previous Week",null,null,null,null,null,{"$f":"(O21+O29+O37+O45)-O13","v":0},{"$f":"(P21+P29+P37+P45)-P13","v":0},0,0,0,0,0,0,0,0]
[]
[null,null,null,null,null,null,null,null,null,null,null,null,null,null,"Leave/Leave Without Pay Policy"]
["Employee signature",null,null,null,null,null,"Date",null,null,null,null,null,null,null,"Overtime/Compensatory Time"]
["I certify this record is accurate and accounts for my time during the indicated period.",null,null,null,null,null,null,null,null,null,null,null,null,null,"Time Sheet Definitions/Policies"]
[]
[null,null,null,null,null,null,null,null,null,null,"“Actual Work Hours During Administrative Close Period” – Only key the hours actually worked during the admministrative closing period into this field. "]
[]
["Manager signature",null,null,null,null,null,"Date"]
["I certify the hours recorded and coded on this form are correct and in compliance with University policy.",null,null,null,null,null,null,null,null,null,"“Administrative Closing/Leave Period field.”  Entter the number of hours of the declared period of administrative closing. (The total hours worked during the entire day will be entered into the “Actual Hours Worked” field.)"]

{"sheet":"May 1 - May 15","index":27,"n_rows":55,"n_cols":69,"rows_kept":55,"cut":false,"hidden":false,"merged":[[47,14,47,22],[48,14,48,19],[49,14,49,22],[51,10,53,22],[54,10,56,22],[45,8,45,13],[34,0,34,2],[35,0,35,2],[36,0,36,2],[37,0,37,2],[38,0,38,2],[39,0,39,2],[40,0,40,2],[41,0,41,2],[42,0,42,2],[43,0,43,2],[44,0,44,2],[33,0,33,2],[22,0,22,2],[23,0,23,2],[24,0,24,2],[25,0,25,2],[26,0,26,2],[27,0,27,2],[28,0,28,2],[29,0,29,2],[30,0,30,2],[31,0,31,2],[32,0,32,2],[21,0,21,2],[11,0,11,2],[11,29,11,30],[12,0,12,3],[13,0,13,2],[14,0,14,2],[15,0,15,2],[16,0,16,2],[17,0,17,2],[18,0,18,2],[19,0,19,2],[20,0,20,2],[10,40,10,46],[6,2,6,7],[6,8,6,13],[6,14,6,19],[7,2,7,7],[7,8,7,13],[7,14,7,19],[10,0,10,3],[10,4,10,5],[10,6,10,17],[10,18,10,21],[10,22,10,23],[0,0,0,22],[1,0,1,22],[3,0,3,23],[5,2,5,7],[5,8,5,13],[5,14,5,19]]}
["Mississippi State University"]
["Non-Exempt Employee Semi-Monthly Time Report"]
[]
["Instructions:  The Fair Labor Standards Act requires that a record of hours worked on a weekly basis be maintained for all employees except executive, administrative, managerial, faculty, and professional (non-faculty).  Department/unit heads are responsible for compiling and maintaining this record in department files on each covered employee for a period of at least (3) years."]
[]
["MSU ID #:",null,{"$f":"'July 1 - July 15'!C6","v":0},null,null,null,null,null,"Pay period start date:",null,null,null,null,null,{"$f":"'Dates & Notes'!$A$22","v":"2023-05-01"},null,null,null,null,null,null,null,null,null,null,{"$f":"TEXT(O6,\"dddd\")","v":"Monday"},null,null,null,"Please Select"]
["Name:",null,{"$f":"'July 1 - July 15'!C7","v":0},null,null,null,null,null,"Pay period end date:",null,null,null,null,null,{"$f":"'Dates & Notes'!$B$22","v":"2023-05-15"},null,null,null,null,null,null,null,null,null,null,null,null,null,null,"No"]
["Department:",null,{"$f":"'July 1 - July 15'!C8","v":0},null,null,null,null,null,"Pay Period Number:",null,null,null,null,null,{"$f":"'Dates & Notes'!$C$22","v":9},null,null,null,null,null,null,null,null,null,null,null,null,null,null,"Yes"]
[]
[]
["Employee Scheduled Hours Per Week",null,null,null,40,null,"FIELDS MUST BE ENTERED FOR CALULATIONS TO WORK PROPERLY",null,null,null,null,null,null,null,null,null,null,null,"Receive Compensatory Time",null,null,null,"Please Select",null,null,null,null,null,null,null,null,null,null,null,"Over 40",null,null,null,null,null,"HOW ANALYSIS"]
["Work Week Dates",null,null,"Day of The Week","Actual Hours Worked","Compensatory Time Used","Holiday","Medical Leave","Personal Leave","Actual Wrk Hrs During  Admin Close Period","Administrative Closing/Leave Period","Jury Duty","Military Leave","Leave Without Pay","Totals","DOC-Payroll Conversion","RTO","RTO-Payroll Conversion","Overtime Hours","Hours Transferred to Comp. Record","HOW-Holiday Pay or Admin/Leave Closing","HOT-Holiday Pay","SST-Payroll","Conversion Factor",null,8,"DOC","RTO",null,"SST",null,null,null,"Cumm Actual HRS",40,"Administrative Leave","HOW-Holiday Pay","Comp. Time","Administrative/Schedule",null,"Holiday=0\n1",2,3,4,null,"<=40\n5",null,"HOT Workup","HOT-Holiday Pay (HOLIDAY PAY)",null,"HOT-Administrative HRS","Administrative=0\n1",2,3,4,null,"<=40\n5",null,null,"Holiday Flag","Up to 40","How","Hot","Actual Hours Worked","Admin Flag","Admin","Admin HOW","Admin OVT"]
["Hours-Previous WK (Due to Split WK)",null,null,null,{"$f":"E14","v":0},0,0,0,0,0,0,0,0,0,{"$f":"SUM(E13:N13)-J13","v":0},null,null,null,null,null,null,null,null,null,null,null,null,null,null,null,null,null,null,null,null,{"$f":"IF(AND(AM13=0,J13=0),AM13,IF(AND(E13>AM13,J13=0),J13,IF(AND(J13<AM13,AI13=0),J13,IF(AND(AM13=J13,AI13<AM13),AM13-AI13,IF(AND(J13=AM13,AI13=AM13),AI13,IF(AND(J13<AM13,AI13>0),AM13-J13,IF(AND(AM13>J13,AI13<E13),E13-AI13,IF(AND(E13>AM13,AI13=E13),O13-AI13,0))))))))","v":0},{"$f":"IF(AND(G13=0,E13>G13),G13,IF(AND(E13>G13,AI13=0),G13,IF(AND(E13<G13,AI13=0),E13,IF(AND(E13=G13,AI13<G13),G13-AI13,IF(AND(E13=G13,AI13=G13),AI13,IF(AND(E13<G13,AI13>0),G13-E13,IF(AND(E13>G13,AI13<E13),E13-AI13,IF(AND(E13>G13,AI13=E13),O13-AI13,0))))))))","v":0},null,{"$f":"K13","v":0}]
[{"$f":"IF(EXACT(D14,$Z$6)=TRUE,$O$6,IF(A12=0,\"\",IF(A12<$O$7,A12+1,IF(A12=$O$7,\"\"))))","v":false},null,null,"Sunday",{"$f":"'April 16 - April 30'!E30","v":0},{"$f":"'April 16 - April 30'!F30","v":0},{"$f":"'April 16 - April 30'!G30","v":0},{"$f":"'April 16 - April 30'!H30","v":0},{"$f":"'April 16 - April 30'!I30","v":0},{"$f":"'April 16 - April 30'!J30","v":0},{"$f":"'April 16 - April 30'!K30","v":0},{"$f":"'April 16 - April 30'!L30","v":0},{"$f":"'April 16 - April 30'!M30","v":0},{"$f":"'April 16 - April 30'!N30","v":0},{"$f":"SUM(E14:N14)-J14","v":0},{"$f":"IF(AND(ISNUMBER(AA14),ISNUMBER(X14)),AA14*X14,\"\")","v":""},null,{"$f":"IF(AND(ISNUMBER(AB14),ISNUMBER(X14)),AB14*X14,\"\")","v":""},null,null,{"$f":"IF(BJ14>0,BJ14,BN14)","v":0},{"$f":"IF(BK14>0,BK14,0)","v":0},null,{"$f":"IF(ISNA(INDEX('Conversion Factors'!$B$6:$B$371,MATCH('May 1 - May 15'!$Z$14:$Z$20,'Conversion Factors'!$A$6:$A$371,0))),\"\",INDEX('Conversion Factors'!$B$6:$B$371,MATCH('May 1 - May 15'!$Z$14:$Z$20,'Conversion Factors'!$A$6:$A$371,0)))","v":""},null,{"$f":"A14","v":false},{"$f":"IF(AND(ISNUMBER(N14),ISNUMBER($Z$12)),N14/$Z$12,\"\")","v":0},{"$f":"IF(AND(ISNUMBER(Q14),ISNUMBER($Z$12)),Q14/$Z$12,\"\")","v":""},null,null,null,null,null,{"$f":"E14","v":0},{"$f":"IF(AH14>$AI$12,AH14-$AI$12,0)","v":0},{"$f":"IF(AND(AZ14>0,AZ14),IF(BA14>0,BA14,IF(BB14>0,BB14,IF(BC14>0,BC14,IF(BF14>0,BF14,\"\")))))","v":false},{"$f":"IF(AND(AO14>0,AO14),IF(AP14>0,AP14,IF(AQ14>0,AQ14,IF(AR14>0,AR14,IF(AU14>0,AU14,\"\")))))","v":false},null,{"$f":"J14","v":0},null,{"$f":"IF(G14=0,0,\"\")","v":0},{"$f":"IF(AND(AH14<=40,E14=G14),G14,0)","v":0},{"$f":"IF(AND(AH14<=40,E14>=G14,G14>0),O14-E14,0)","v":0},{"$f":"IF(AND(AH14<=40,E14<G14),O14-G14,0)","v":0},{"$f":"IF(AND(G14=0),G14,IF(AND(G14>0,AI14>0,G14=AT14),AT14,IF(AND(G14>0,AI14>0,G14-AT14),AT14,0)))","v":0},null,{"$f":"AS14","v":0},{"$f":"IF(AND(AH13+AU14=40,AI14>0,AI14>AU14),AI14-AU14,IF(AND(AH13+AU14=40,AI14>0,AI14<AU14,AU14+AI14=G14),AI14,IF(AND(AH13>40,AH14>40,G14=AI14),AI14,0)))","v":0},{"$f":"AV14","v":0},null,{"$f":"IF(AND(J14>0,AI14>=J14,BB14=0),O14-AI14,IF(AND(J14>0,AI14>0,BB14<=AI14),AI14-BB14,IF(AND(J14>0,AI14>0,BB14>AI14),J14-BB14,0)))","v":0},{"$f":"IF(J14=0,0,\"\")","v":0},{"$f":"IF(AND(AH14<=40,E14=J14),J14,0)","v":0},{"$f":"IF(AND(AZ14=0),AZ14,IF(AND(AH14>40,E14>=J14),BE14,IF(AND(AH14<=40,E14>J14),J14,0)))","v":0},{"$f":"IF(AND(AH14<=40,E14<J14),O14-J14,0)","v":0},{"$f":"IF(AND(J14=0),J14,IF(AND(J14>0,AI14>0,J14=BC14),BC14,IF(AND(J14>0,AI14>0,J14-BC14),BC14,0)))","v":0},null,{"$f":"BD14","v":0},null,{"$f":"IF(AND(G14>0,E14>0),1,0)","v":0},{"$f":"40-AH14","v":40},{"$f":"IF(AND(BH14=1,E14<8),E14,(IF(AND(BH14=1,E14>0),G14,0)))","v":0},{"$f":"IF(AND(BH14=1,BL14>40,E14<G14),E14-BJ14,(IF(AND(BH14=1,BL14>0,E14>=G14),G14-BJ14,0)))","v":0},{"$f":"E14","v":0},{"$f":"IF(AND(K14>0,E14>0),1,0)","v":0},{"$f":"IF(AND(BM14=1,J14>8),K14,(IF(AND(BM14=1,J14>0),J14,0)))","v":0},{"$f":"IF(AND(BM14=1,40-BL13>0,40-BL13<8),40-BL13,IF(AND(J14<K14),J14,K14))","v":0},{"$f":"IF(AND(BM14=1,BL14>40,J14<=K14),J14-BO14,IF(AND(BM14=1,BL14>0,J14>K14),K14-BO14,0))","v":0}]
[{"$f":"IF(EXACT(D15,$Z$6)=TRUE,$O$6,IF(A14=0,\"\",IF(A14<$O$7,A14+1,IF(A14=$O$7,\"\"))))","v":"2023-05-01"},null,null,"Monday",null,null,null,null,null,null,null,null,null,null,{"$f":"SUM(E15:N15)-J15","v":0},{"$f":"IF(AND(ISNUMBER(AA15),ISNUMBER(X15)),AA15*X15,\"\")","v":""},null,{"$f":"IF(AND(ISNUMBER(AB15),ISNUMBER(X15)),AB15*X15,\"\")","v":""},null,null,{"$f":"IF(BJ15>0,BJ15,BN15)","v":0},{"$f":"IF(BK15>0,BK15,0)","v":0},null,{"$f":"IF(ISNA(INDEX('Conversion Factors'!$B$6:$B$371,MATCH('May 1 - May 15'!$Z$14:$Z$20,'Conversion Factors'!$A$6:$A$371,0))),\"\",INDEX('Conversion Factors'!$B$6:$B$371,MATCH('May 1 - May 15'!$Z$14:$Z$20,'Conversion Factors'!$A$6:$A$371,0)))","v":7.8789999999999996},null,"2023-05-01","","",null,null,null,null,null,{"$f":"E15+AH14","v":0},{"$f":"IF(AH15>$AI$12,AH15-($AI$12+AI14),0)","v":0},{"$f":"IF(AND(AZ15>0,AZ15),IF(BA15>0,BA15,IF(BB15>0,BB15,IF(BC15>0,BC15,IF(BF15>0,BF15,\"\")))))","v":false},{"$f":"IF(AND(AO15>0,AO15),IF(AP15>0,AP15,IF(AQ15>0,AQ15,IF(AR15>0,AR15,IF(AU15>0,AU15,0)))))","v":false},null,0,null,0,0,0,0,0,{"$f":"IF(AND(AH14<=40),40-AH14,0)","v":40},{"$f":"AS15","v":0},0,{"$f":"AV15","v":0},null,0,0,0,0,0,0,{"$f":"IF(AND(AH14<=40),40-AH14,0)","v":40},{"$f":"BD15","v":0},null,{"$f":"IF(AND(G15>0,E15>0),1,0)","v":0},40,0,0,{"$f":"SUM(E14:E15)","v":0},{"$f":"IF(AND(K15>0,E15>0),1,0)","v":0},{"$f":"IF(AND(BM15=1,J15>8),K15,(IF(AND(BM15=1,J15>0),J15,0)))","v":0},0,0]
["2023-05-02",null,null,"Tuesday",null,null,null,null,null,null,null,null,null,null,{"$f":"SUM(E16:N16)-J16","v":0},"",null,"",null,null,{"$f":"IF(BJ16>0,BJ16,BN16)","v":0},0,null,{"$f":"IF(ISNA(INDEX('Conversion Factors'!$B$6:$B$371,MATCH('May 1 - May 15'!$Z$14:$Z$20,'Conversion Factors'!$A$6:$A$371,0))),\"\",INDEX('Conversion Factors'!$B$6:$B$371,MATCH('May 1 - May 15'!$Z$14:$Z$20,'Conversion Factors'!$A$6:$A$371,0)))","v":7.8789999999999996},null,"2023-05-02","","",null,null,null,null,null,0,{"$f":"IF(AH16>$AI$12,AH16-($AI$12+AI15+AI14),0)","v":0},false,false,null,0,null,0,0,0,0,0,40,0,0,0,null,0,0,0,0,0,0,{"$f":"IF(AND(AH15<=40),40-AH15,0)","v":40},0,null,{"$f":"IF(AND(G16>0,E16>0),1,0)","v":0},40,0,0,{"$f":"SUM(E14:E16)","v":0},0,{"$f":"IF(AND(BM16=1,J16>8),K16,(IF(AND(BM16=1,J16>0),J16,0)))","v":0},{"$f":"IF(AND(BM16=1,40-BL15>0,40-BL15<8),40-BL15,IF(AND(J16<K16),J16,K16))","v":0},0]
["2023-05-03",null,null,"Wednesday",null,null,null,null,null,null,null,null,null,null,{"$f":"SUM(E17:N17)-J17","v":0},"",null,"",null,null,0,0,null,{"$f":"IF(ISNA(INDEX('Conversion Factors'!$B$6:$B$371,MATCH('May 1 - May 15'!$Z$14:$Z$20,'Conversion Factors'!$A$6:$A$371,0))),\"\",INDEX('Conversion Factors'!$B$6:$B$371,MATCH('May 1 - May 15'!$Z$14:$Z$20,'Conversion Factors'!$A$6:$A$371,0)))","v":7.8789999999999996},null,"2023-05-03","","",null,null,null,null,null,0,{"$f":"IF(AH17>$AI$12,AH17-($AI$12+AI16+AI15+AI14),0)","v":0},false,false,null,0,null,0,0,0,0,0,40,0,0,0,null,0,0,0,0,0,0,40,0,null,0,40,0,0,{"$f":"SUM(E14:E17)","v":0},0,{"$f":"IF(AND(BM17=1,J17>8),K17,(IF(AND(BM17=1,J17>0),J17,0)))","v":0},{"$f":"IF(AND(BM17=1,40-BL16>0,40-BL16<8),40-BL16,IF(AND(J17<K17),J17,K17))","v":0},0]
["2023-05-04",null,null,"Thursday",null,null,null,null,null,null,null,null,null,null,0,"",null,"",null,null,0,0,null,{"$f":"IF(ISNA(INDEX('Conversion Factors'!$B$6:$B$371,MATCH('May 1 - May 15'!$Z$14:$Z$20,'Conversion Factors'!$A$6:$A$371,0))),\"\",INDEX('Conversion Factors'!$B$6:$B$371,MATCH('May 1 - May 15'!$Z$14:$Z$20,'Conversion Factors'!$A$6:$A$371,0)))","v":7.8789999999999996},null,"2023-05-04","","",null,null,null,null,null,0,{"$f":"IF(AH18>$AI$12,AH18-($AI$12+AI17+AI16+AI15+AI14),0)","v":0},false,false,null,0,null,0,0,0,0,0,{"$f":"IF(AND(AH17<=40),40-AH17,0)","v":40},0,0,0,null,0,0,0,0,0,0,40,0,null,0,40,0,0,{"$f":"SUM(E14:E18)","v":0},0,0,0,0]
["2023-05-05",null,null,"Friday",null,null,null,null,null,null,null,null,null,null,0,"",null,"",null,null,0,0,null,{"$f":"IF(ISNA(INDEX('Conversion Factors'!$B$6:$B$371,MATCH('May 1 - May 15'!$Z$14:$Z$20,'Conversion Factors'!$A$6:$A$371,0))),\"\",INDEX('Conversion Factors'!$B$6:$B$371,MATCH('May 1 - May 15'!$Z$14:$Z$20,'Conversion Factors'!$A$6:$A$371,0)))","v":7.8789999999999996},null,"2023-05-05","","",null,null,null,null,null,0,{"$f":"IF(AH19>$AI$12,AH19-($AI$12+AI18+AI17+AI16+AI15+AI14),0)","v":0},false,false,null,0,null,0,0,0,0,0,{"$f":"IF(AND(AH18<=40),40-AH18,0)","v":40},0,0,0,null,0,0,0,0,0,0,40,0,null,0,40,0,0,{"$f":"SUM(E14:E19)","v":0},0,0,0,{"$f":"IF(AND(BM19=1,BL19>40,J19<=K19),J19-BO19,IF(AND(BM19=1,BL19>0,J19>K19),K19-BO19,0))","v":0}]
["2023-05-06",null,null,"Saturday",null,null,null,null,null,null,null,null,null,null,{"$f":"SUM(E20:N20)-J20","v":0},"",null,"",null,null,0,0,null,{"$f":"IF(ISNA(INDEX('Conversion Factors'!$B$6:$B$371,MATCH('May 1 - May 15'!$Z$14:$Z$20,'Conversion Factors'!$A$6:$A$371,0))),\"\",INDEX('Conversion Factors'!$B$6:$B$371,MATCH('May 1 - May 15'!$Z$14:$Z$20,'Conversion Factors'!$A$6:$A$371,0)))","v":7.8789999999999996},null,"2023-05-06","","",null,null,null,null,null,0,{"$f":"IF(AH20>$AI$12,AH20-($AI$12+AI19+AI18+AI17+AI16+AI15+AI14),0)","v":0},false,false,null,0,null,0,0,0,0,0,40,0,0,0,null,0,0,0,0,0,0,40,0,null,0,40,0,0,{"$f":"SUM(E14:E20)","v":0},0,0,0,{"$f":"IF(AND(BM20=1,BL20>40,J20<=K20),J20-BO20,IF(AND(BM20=1,BL20>0,J20>K20),K20-BO20,0))","v":0}]
["Week 1 Totals",null,null,null,{"$f":"SUM(E14:E20)","v":0},{"$f":"SUM(F14:F20)","v":0},0,0,0,null,0,0,0,0,{"$f":"SUM(O14:O20)","v":0},{"$f":"-SUM(P14:P20)","v":0},{"$f":"SUM(Q14:Q20)","v":0},{"$f":"SUM(R14:R20)","v":0},{"$f":"IF(E21>40,(E21-40)-V21-BP21,0)","v":0},{"$f":"MROUND(AL21,0.25)","v":0},{"$f":"SUM(U14:U20)","v":0},{"$f":"SUM(V14:V20)","v":0},{"$f":"IF(E21-(E11-(G21+K21+F21+H21+I21+L21+M21))-(S21+U21+V21)>0,E21-(E11-(G21+K21+F21+H21+I21+L21+M21))-(S21+U21+V21),0)","v":0},null,null,null,null,null,{"$f":"SUM(F21:N21)","v":0},{"$f":"IF(AND(AG21<40,O21>=AG21),O21-(AG21+S21),IF(AND(O21<AG21,E21=O21),O21-E21,IF(AND(E21>AG21,E21<40),E21-AG21,IF(AND(O21>AG21,E21<AG21),E21-(AG21-AC21),IF(AND(O21>AG21,E21>40),E21-(AG21-AC21+S21),IF(AND(O21>AG21,O21>40),O21-(S21+AG21),0))))))","v":0},{"$f":"AD21-U21-V21","v":0},{"$f":"$W$11","v":"Please Select"},{"$f":"$E$11","v":40},null,{"$f":"IF(AH21>$AI$12,-$AI$12,0)","v":0},null,null,{"$f":"IF(AF21=\"Yes\",S21*1.5,0)","v":0},null,null,null,null,null,null,null,null,null,null,null,null,null,null,null,null,null,null,null,null,null,null,null,null,null,null,null,null,null,{"$f":"SUM(BP14:BP20)","v":0},{"$f":"E11+U21","v":40}]
[{"$f":"IF(A20=0,\"\",IF(A20<$O$7,A20+1,IF(A20=$O$7,\"\")))","v":"2023-05-07"},null,null,"Sunday",null,null,null,null,null,null,null,null,null,null,{"$f":"SUM(E22:N22)-J22","v":0},{"$f":"IF(AND(ISNUMBER(AA22),ISNUMBER(X22)),AA22*X22,\"\")","v":""},null,{"$f":"IF(AND(ISNUMBER(AB22),ISNUMBER(X22)),AB22*X22,\"\")","v":""},null,null,{"$f":"IF(BJ22>0,BJ22,BN22)","v":0},{"$f":"IF(BK22>0,BK22,0)","v":0},null,{"$f":"IF(ISNA(INDEX('Conversion Factors'!$B$6:$B$371,MATCH('May 1 - May 15'!$Z$22:$Z$28,'Conversion Factors'!$A$6:$A$371,0))),\"\",INDEX('Conversion Factors'!$B$6:$B$371,MATCH('May 1 - May 15'!$Z$22:$Z$28,'Conversion Factors'!$A$6:$A$371,0)))","v":7.8789999999999996},null,{"$f":"A22","v":"2023-05-07"},{"$f":"IF(AND(ISNUMBER(N22),ISNUMBER($Z$12)),N22/$Z$12,\"\")","v":""},{"$f":"IF(AND(ISNUMBER(Q22),ISNUMBER($Z$12)),Q22/$Z$12,\"\")","v":""},null,null,null,null,null,{"$f":"E22+AH21","v":0},{"$f":"IF(AH22>$AI$12,AH22-($AI$12+AI21),0)","v":0},{"$f":"IF(AND(AZ22>0,AZ22),IF(BA22>0,BA22,IF(BB22>0,BB22,IF(BC22>0,BC22,IF(BF22>0,BF22,\"\")))))","v":false},{"$f":"IF(AND(AO22>0,AO22),IF(AP22>0,AP22,IF(AQ22>0,AQ22,IF(AR22>0,AR22,IF(AU22>0,AU22,\"\")))))","v":false},null,{"$f":"J22","v":0},null,{"$f":"IF(G22=0,0,\"\")","v":0},{"$f":"IF(AND(AH22<=40,E22=G22),G22,0)","v":0},{"$f":"IF(AND(AH22<=40,E22>=G22,G22>0),O22-E22,0)","v":0},{"$f":"IF(AND(AH22<=40,E22<G22),O22-G22,0)","v":0},{"$f":"IF(AND(G22=0),G22,IF(AND(G22>0,AI22>0,G22=AT22),AT22,IF(AND(G22>0,AI22>0,G22-AT22),AT22,0)))","v":0},null,{"$f":"AS22","v":0},{"$f":"IF(AND(AH21+AU22=40,AI22>0,AI22>AU22),AI22-AU22,IF(AND(AH21+AU22=40,AI22>0,AI22<AU22,AU22+AI22=G22),AI22,IF(AND(AH21>40,AH22>40,G22=AI22),AI22,0)))","v":0},{"$f":"AV22","v":0},null,{"$f":"IF(AND(J22>0,AI22>0,BB22<=AI22),AI22-BB22,IF(AND(J22>0,AI22>0,BB22>AI22),J22-BB22,0))","v":0},{"$f":"IF(J22=0,0,\"\")","v":0},{"$f":"IF(AND(AH22<=40,E22=J22),J22,0)","v":0},{"$f":"IF(AND(AZ22=0),AZ22,IF(AND(AH22>40,E22>=J22),BE22,IF(AND(AH22<=40,E22>J22),J22,0)))","v":0},{"$f":"IF(AND(AH22<=40,E22<J22),O22-J22,0)","v":0},{"$f":"IF(AND(J22=0),J22,IF(AND(J22>0,AI22>0,J22=BC22),BC22,IF(AND(J22>0,AI22>0,J22-BC22),BC22,0)))","v":0},null,{"$f":"BD22","v":0},null,{"$f":"IF(AND(G22>0,E22>0),1,0)","v":0},{"$f":"40-AH22","v":40},0,{"$f":"IF(AND(BH22=1,BL22>40,E22<G22),E22-BJ22,(IF(AND(BH22=1,BL22>0,E22>=G22),G22-BJ22,0)))","v":0},{"$f":"E22","v":0},{"$f":"IF(AND(K22>0,E22>0),1,0)","v":0},{"$f":"IF(AND(BM22=1,J22>8),K22,(IF(AND(BM22=1,J22>0),J22,0)))","v":0},{"$f":"IF(AND(BM22=1,40-BL21>0,40-BL21<8),40-BL21,IF(AND(J22<K22),J22,K22))","v":0},{"$f":"IF(AND(BM22=1,BL22>40,J22<=K22),J22-BO22,IF(AND(BM22=1,BL22>0,J22>K22),K22-BO22,0))","v":0}]
[{"$f":"IF(A22<$O$7,A22+1,IF(A22=$O$7,\"\"))","v":"2023-05-08"},null,null,"Monday",null,null,null,null,null,null,null,null,null,null,{"$f":"SUM(E23:N23)-J23","v":0},{"$f":"IF(AND(ISNUMBER(AA23),ISNUMBER(X23)),AA23*X23,\"\")","v":""},null,{"$f":"IF(AND(ISNUMBER(AB23),ISNUMBER(X23)),AB23*X23,\"\")","v":""},null,null,{"$f":"IF(BJ23>0,BJ23,BN23)","v":0},{"$f":"IF(BK23>0,BK23,0)","v":0},null,{"$f":"IF(ISNA(INDEX('Conversion Factors'!$B$6:$B$371,MATCH('May 1 - May 15'!$Z$22:$Z$28,'Conversion Factors'!$A$6:$A$371,0))),\"\",INDEX('Conversion Factors'!$B$6:$B$371,MATCH('May 1 - May 15'!$Z$22:$Z$28,'Conversion Factors'!$A$6:$A$371,0)))","v":7.8789999999999996},null,"2023-05-08","","",null,null,null,null,null,0,{"$f":"IF(AH23>$AI$12,AH23-($AI$12+AI22+AI21),0)","v":0},false,{"$f":"IF(AND(AO23>0,AO23),IF(AP23>0,AP23,IF(AQ23>0,AQ23,IF(AR23>0,AR23,IF(AU23>0,AU23,0)))))","v":false},null,0,null,0,0,0,0,0,{"$f":"IF(AND(AH22<=40),40-AH22,0)","v":40},{"$f":"AS23","v":0},0,{"$f":"AV23","v":0},null,{"$f":"IF(AND(J23>0,AI23>0,BB23<=AI23),AI23-BB23,IF(AND(J23>0,AI23>0,BB23>AI23),J23-BB23,0))","v":0},0,0,0,0,0,{"$f":"IF(AND(AH22<=40),40-AH22,0)","v":40},{"$f":"BD23","v":0},null,{"$f":"IF(AND(G23>0,E23>0),1,0)","v":0},40,0,0,{"$f":"SUM(E22:E23)","v":0},{"$f":"IF(AND(K23>0,E23>0),1,0)","v":0},{"$f":"IF(AND(BM23=1,J23>8),K23,(IF(AND(BM23=1,J23>0),J23,0)))","v":0},0,0]
["2023-05-09",null,null,"Tuesday",null,null,null,null,null,null,null,null,null,null,{"$f":"SUM(E24:N24)-J24","v":0},"",null,"",null,null,{"$f":"IF(BJ24>0,BJ24,BN24)","v":0},0,null,{"$f":"IF(ISNA(INDEX('Conversion Factors'!$B$6:$B$371,MATCH('May 1 - May 15'!$Z$22:$Z$28,'Conversion Factors'!$A$6:$A$371,0))),\"\",INDEX('Conversion Factors'!$B$6:$B$371,MATCH('May 1 - May 15'!$Z$22:$Z$28,'Conversion Factors'!$A$6:$A$371,0)))","v":7.8789999999999996},null,"2023-05-09","","",null,null,null,null,null,0,{"$f":"IF(AH24>$AI$12,AH24-($AI$12+AI23+AI22+AI21),0)","v":0},false,false,null,0,null,0,0,0,0,0,40,0,0,0,null,{"$f":"IF(AND(J24>0,AI24>0,BB24<=AI24),AI24-BB24,IF(AND(J24>0,AI24>0,BB24>AI24),J24-BB24,0))","v":0},0,0,0,0,0,{"$f":"IF(AND(AH23<=40),40-AH23,0)","v":40},0,null,{"$f":"IF(AND(G24>0,E24>0),1,0)","v":0},40,0,0,{"$f":"SUM(E22:E24)","v":0},0,{"$f":"IF(AND(BM24=1,J24>8),K24,(IF(AND(BM24=1,J24>0),J24,0)))","v":0},{"$f":"IF(AND(BM24=1,40-BL23>0,40-BL23<8),40-BL23,IF(AND(J24<K24),J24,K24))","v":0},0]
["2023-05-10",null,null,"Wednesday",null,null,null,null,null,null,null,null,null,null,0,"",null,"",null,null,0,0,null,{"$f":"IF(ISNA(INDEX('Conversion Factors'!$B$6:$B$371,MATCH('May 1 - May 15'!$Z$22:$Z$28,'Conversion Factors'!$A$6:$A$371,0))),\"\",INDEX('Conversion Factors'!$B$6:$B$371,MATCH('May 1 - May 15'!$Z$22:$Z$28,'Conversion Factors'!$A$6:$A$371,0)))","v":7.8789999999999996},null,"2023-05-10","","",null,null,null,null,null,0,{"$f":"IF(AH25>$AI$12,AH25-($AI$12+AI24+AI23+AI22+AI21),0)","v":0},false,false,null,0,null,0,0,0,0,0,40,0,0,0,null,{"$f":"IF(AND(J25>0,AI25>0,BB25<=AI25),AI25-BB25,IF(AND(J25>0,AI25>0,BB25>AI25),J25-BB25,0))","v":0},0,0,0,0,0,40,0,null,0,40,0,0,{"$f":"SUM(E22:E25)","v":0},0,{"$f":"IF(AND(BM25=1,J25>8),K25,(IF(AND(BM25=1,J25>0),J25,0)))","v":0},{"$f":"IF(AND(BM25=1,40-BL24>0,40-BL24<8),40-BL24,IF(AND(J25<K25),J25,K25))","v":0},0]
["2023-05-11",null,null,"Thursday",null,null,null,null,null,null,null,null,null,null,0,"",null,"",null,null,0,0,null,{"$f":"IF(ISNA(INDEX('Conversion Factors'!$B$6:$B$371,MATCH('May 1 - May 15'!$Z$22:$Z$28,'Conversion Factors'!$A$6:$A$371,0))),\"\",INDEX('Conversion Factors'!$B$6:$B$371,MATCH('May 1 - May 15'!$Z$22:$Z$28,'Conversion Factors'!$A$6:$A$371,0)))","v":7.8789999999999996},null,"2023-05-11","","",null,null,null,null,null,0,{"$f":"IF(AH26>$AI$12,AH26-($AI$12+AI25+AI24+AI23+AI22+AI21),0)","v":0},false,false,null,0,null,0,0,0,0,0,{"$f":"IF(AND(AH25<=40),40-AH25,0)","v":40},0,0,0,null,{"$f":"IF(AND(J26>0,AI26>=J26,BB26=0),O26-AI26,IF(AND(J26>0,AI26>0,BB26<=AI26),AI26-BB26,IF(AND(J26>0,AI26>0,BB26>AI26),J26-BB26,0)))","v":0},0,0,0,0,0,40,0,null,0,40,0,0,{"$f":"SUM(E22:E26)","v":0},0,0,0,0]
["2023-05-12",null,null,"Friday",null,null,null,null,null,null,null,null,null,null,0,"",null,"",null,null,0,0,null,{"$f":"IF(ISNA(INDEX('Conversion Factors'!$B$6:$B$371,MATCH('May 1 - May 15'!$Z$22:$Z$28,'Conversion Factors'!$A$6:$A$371,0))),\"\",INDEX('Conversion Factors'!$B$6:$B$371,MATCH('May 1 - May 15'!$Z$22:$Z$28,'Conversion Factors'!$A$6:$A$371,0)))","v":7.8789999999999996},null,"2023-05-12","","",null,null,null,null,null,0,{"$f":"IF(AH27>$AI$12,AH27-($AI$12+AI26+AI25+AI24+AI23+AI22+AI21),0)","v":0},false,false,null,0,null,0,0,0,0,0,{"$f":"IF(AND(AH26<=40),40-AH26,0)","v":40},0,0,0,null,{"$f":"IF(AND(J27>0,AI27>=J27,BB27=0),O27-AI27,IF(AND(J27>0,AI27>0,BB27<=AI27),AI27-BB27,IF(AND(J27>0,AI27>0,BB27>AI27),J27-BB27,0)))","v":0},0,0,0,0,0,40,0,null,0,40,0,0,{"$f":"SUM(E22:E27)","v":0},0,0,0,{"$f":"IF(AND(BM27=1,BL27>40,J27<=K27),J27-BO27,IF(AND(BM27=1,BL27>0,J27>K27),K27-BO27,0))","v":0}]
["2023-05-13",null,null,"Saturday",null,null,null,null,null,null,null,null,null,null,{"$f":"SUM(E28:N28)-J28","v":0},"",null,"",null,null,0,0,null,{"$f":"IF(ISNA(INDEX('Conversion Factors'!$B$6:$B$371,MATCH('May 1 - May 15'!$Z$22:$Z$28,'Conversion Factors'!$A$6:$A$371,0))),\"\",INDEX('Conversion Factors'!$B$6:$B$371,MATCH('May 1 - May 15'!$Z$22:$Z$28,'Conversion Factors'!$A$6:$A$371,0)))","v":7.8789999999999996},null,"2023-05-13","","",null,null,null,null,null,0,{"$f":"IF(AH28>$AI$12,AH28-($AI$12+AI27+AI26+AI25+AI24+AI23+AI22+AI21),0)","v":0},false,false,null,0,null,0,0,0,0,0,40,0,0,0,null,{"$f":"IF(AND(J28>0,AI28>=J28,BB28=0),O28-AI28,IF(AND(J28>0,AI28>0,BB28<=AI28),AI28-BB28,IF(AND(J28>0,AI28>0,BB28>AI28),J28-BB28,0)))","v":0},0,0,0,0,0,40,0,null,0,40,0,0,{"$f":"SUM(E22:E28)","v":0},0,0,0,{"$f":"IF(AND(BM28=1,BL28>40,J28<=K28),J28-BO28,IF(AND(BM28=1,BL28>0,J28>K28),K28-BO28,0))","v":0}]
["Week 2 Totals",null,null,null,{"$f":"SUM(E22:E28)","v":0},0,0,0,0,null,0,0,0,0,{"$f":"SUM(O22:O28)","v":0},{"$f":"-SUM(P22:P28)","v":0},{"$f":"SUM(Q22:Q28)","v":0},{"$f":"SUM(R22:R28)","v":0},{"$f":"IF(E29>40,(E29-40)-V29,0)","v":0},{"$f":"MROUND(AL29,0.25)","v":0},{"$f":"SUM(U22:U28)","v":0},{"$f":"SUM(V22:V28)","v":0},{"$f":"IF(E29-(E11-(G29+K29+F29+H29+I29+L29+M29))-(S29+U29+V29)>0,E29-(E11-(G29+K29+F29+H29+I29+L29+M29))-(S29+U29+V29),0)","v":0},null,null,null,null,null,{"$f":"SUM(F29:N29)","v":0},{"$f":"IF(AND(AG29<40,O29>=AG29),O29-(AG29+S29),IF(AND(O29<AG29,E29=O29),O29-E29,IF(AND(E29>AG29,E29<40),E29-AG29,IF(AND(O29>AG29,E29<AG29),E29-(AG29-AC29),IF(AND(O29>AG29,E29>40),E29-(AG29-AC29+S29),IF(AND(O29>AG29,O29>40),O29-(S29+AG29),0))))))","v":0},{"$f":"AD29-U29-V29","v":0},{"$f":"$W$11","v":"Please Select"},{"$f":"$E$11","v":40},null,{"$f":"IF(AH29>$AI$12,-$AI$12,0)","v":0},null,null,{"$f":"IF(AF29=\"Yes\",S29*1.5,0)","v":0},0,null,null,null,null,null,null,null,null,null,null,null,null,0,null,null,null,null,null,null,null,null,null,null,null,null,null,null,null,{"$f":"SUM(BP22:BP28)","v":0},{"$f":"U29+E11","v":40}]
[{"$f":"IF(A28<$O$7,A28+1,IF(A28=$O$7,\"\"))","v":"2023-05-14"},null,null,"Sunday",null,null,null,null,null,null,null,null,null,null,{"$f":"SUM(E30:N30)-J30","v":0},{"$f":"IF(AND(ISNUMBER(AA30),ISNUMBER(X30)),AA30*X30,\"\")","v":""},null,{"$f":"IF(AND(ISNUMBER(AB30),ISNUMBER(X30)),AB30*X30,\"\")","v":""},null,null,{"$f":"IF(BJ30>0,BJ30,BN30)","v":0},{"$f":"IF(BK30>0,BK30,0)","v":0},null,{"$f":"IF(ISNA(INDEX('Conversion Factors'!$B$6:$B$370,MATCH('May 1 - May 15'!$Z$30:$Z$36,'Conversion Factors'!$A$6:$A$370,0))),\"\",INDEX('Conversion Factors'!$B$6:$B$370,MATCH('May 1 - May 15'!$Z$30:$Z$36,'Conversion Factors'!$A$6:$A$370,0)))","v":7.8789999999999996},null,{"$f":"A30","v":"2023-05-14"},{"$f":"IF(AND(ISNUMBER(N30),ISNUMBER($Z$12)),N30/$Z$12,\"\")","v":""},{"$f":"IF(AND(ISNUMBER(Q30),ISNUMBER($Z$12)),Q30/$Z$12,\"\")","v":""},null,null,null,null,null,{"$f":"E30+AH29","v":0},{"$f":"IF(AH30>$AI$12,AH30-($AI$12+AI29),0)","v":0},{"$f":"IF(AND(AZ30>0,AZ30),IF(BA30>0,BA30,IF(BB30>0,BB30,IF(BC30>0,BC30,IF(BF30>0,BF30,\"\")))))","v":false},{"$f":"IF(AND(AO30>0,AO30),IF(AP30>0,AP30,IF(AQ30>0,AQ30,IF(AR30>0,AR30,IF(AU30>0,AU30,\"\")))))","v":false},null,0,null,{"$f":"IF(G30=0,0,\"\")","v":0},{"$f":"IF(AND(AH30<=40,E30=G30),G30,0)","v":0},{"$f":"IF(AND(AH30<=40,E30>=G30,G30>0),O30-E30,0)","v":0},{"$f":"IF(AND(AH30<=40,E30<G30),O30-G30,0)","v":0},{"$f":"IF(AND(G30=0),G30,IF(AND(G30>0,AI30>0,G30=AT30),AT30,IF(AND(G30>0,AI30>0,G30-AT30),AT30,0)))","v":0},null,{"$f":"AS30","v":0},{"$f":"IF(AND(AH29+AU30=40,AI30>0,AI30>AU30),AI30-AU30,IF(AND(AH29+AU30=40,AI30>0,AI30<AU30,AU30+AI30=G30),AI30,IF(AND(AH29>40,AH30>40,G30=AI30),AI30,0)))","v":0},{"$f":"AV30","v":0},null,{"$f":"IF(AND(J30>0,AI30>=J30,BB30=0),O30-AI30,IF(AND(J30>0,AI30>0,BB30<=AI30),AI30-BB30,IF(AND(J30>0,AI30>0,BB30>AI30),J30-BB30,0)))","v":0},0,{"$f":"IF(AND(AH30<=40,E30=J30),J30,0)","v":0},{"$f":"IF(AND(AZ30=0),AZ30,IF(AND(AH30>40,E30>=J30),BE30,IF(AND(AH30<=40,E30>J30),J30,0)))","v":0},{"$f":"IF(AND(AH30<=40,E30<J30),O30-J30,0)","v":0},{"$f":"IF(AND(J30=0),J30,IF(AND(J30>0,AI30>0,J30=BC30),BC30,IF(AND(J30>0,AI30>0,J30-BC30),BC30,0)))","v":0},null,{"$f":"BD30","v":0},null,{"$f":"IF(AND(G30>0,E30>0),1,0)","v":0},{"$f":"40-AH30","v":40},0,{"$f":"IF(AND(BH30=1,BL30>40,E30<G30),E30-BJ30,(IF(AND(BH30=1,BL30>0,E30>=G30),G30-BJ30,0)))","v":0},{"$f":"E30","v":0},{"$f":"IF(AND(K30>0,E30>0),1,0)","v":0},{"$f":"IF(AND(BM30=1,J30>8),K30,(IF(AND(BM30=1,J30>0),J30,0)))","v":0},{"$f":"IF(AND(BM30=1,40-BL29>0,40-BL29<8),40-BL29,IF(AND(J30<K30),J30,K30))","v":0},{"$f":"IF(AND(BM30=1,BL30>40,J30<=K30),J30-BO30,IF(AND(BM30=1,BL30>0,J30>K30),K30-BO30,0))","v":0}]
[{"$f":"IF(A30<$O$7,A30+1,IF(A30=$O$7,\"\"))","v":"2023-05-15"},null,null,"Monday",null,null,null,null,null,null,null,null,null,null,{"$f":"SUM(E31:N31)-J31","v":0},{"$f":"IF(AND(ISNUMBER(AA31),ISNUMBER(X31)),AA31*X31,\"\")","v":""},null,{"$f":"IF(AND(ISNUMBER(AB31),ISNUMBER(X31)),AB31*X31,\"\")","v":""},null,null,0,{"$f":"IF(BK31>0,BK31,0)","v":0},null,{"$f":"IF(ISNA(INDEX('Conversion Factors'!$B$6:$B$370,MATCH('May 1 - May 15'!$Z$30:$Z$36,'Conversion Factors'!$A$6:$A$370,0))),\"\",INDEX('Conversion Factors'!$B$6:$B$370,MATCH('May 1 - May 15'!$Z$30:$Z$36,'Conversion Factors'!$A$6:$A$370,0)))","v":7.8789999999999996},null,"2023-05-15","","",null,null,null,null,null,0,{"$f":"IF(AH31>$AI$12,AH31-($AI$12+AI30+AI29),0)","v":0},false,{"$f":"IF(AND(AO31>0,AO31),IF(AP31>0,AP31,IF(AQ31>0,AQ31,IF(AR31>0,AR31,IF(AU31>0,AU31,0)))))","v":false},null,0,null,0,0,0,0,0,{"$f":"IF(AND(AH30<=40),40-AH30,0)","v":40},{"$f":"AS31","v":0},0,{"$f":"AV31","v":0},null,0,0,0,0,0,0,{"$f":"IF(AND(AH30<=40),40-AH30,0)","v":40},{"$f":"BD31","v":0},null,{"$f":"IF(AND(G31>0,E31>0),1,0)","v":0},40,0,0,{"$f":"SUM(E30:E31)","v":0},{"$f":"IF(AND(K31>0,E31>0),1,0)","v":0},{"$f":"IF(AND(BM31=1,J31>8),K31,(IF(AND(BM31=1,J31>0),J31,0)))","v":0},0,0]
["",null,null,"Tuesday",null,null,null,null,null,null,null,null,null,null,0,"",null,"",null,null,0,0,null,{"$f":"IF(ISNA(INDEX('Conversion Factors'!$B$6:$B$370,MATCH('May 1 - May 15'!$Z$30:$Z$36,'Conversion Factors'!$A$6:$A$370,0))),\"\",INDEX('Conversion Factors'!$B$6:$B$370,MATCH('May 1 - May 15'!$Z$30:$Z$36,'Conversion Factors'!$A$6:$A$370,0)))","v":""},null,"","","",null,null,null,null,null,0,{"$f":"IF(AH32>$AI$12,AH32-($AI$12+AI31+AI30+AI29),0)","v":0},false,false,null,0,null,0,0,0,0,0,40,0,0,0,null,0,0,0,0,0,0,{"$f":"IF(AND(AH31<=40),40-AH31,0)","v":40},0,null,{"$f":"IF(AND(G32>0,E32>0),1,0)","v":0},40,0,0,{"$f":"SUM(E30:E32)","v":0},0,{"$f":"IF(AND(BM32=1,J32>8),K32,(IF(AND(BM32=1,J32>0),J32,0)))","v":0},{"$f":"IF(AND(BM32=1,40-BL31>0,40-BL31<8),40-BL31,IF(AND(J32<K32),J32,K32))","v":0},0]
[false,null,null,"Wednesday",null,null,null,null,null,null,null,null,null,null,0,"",null,"",null,null,0,0,null,{"$f":"IF(ISNA(INDEX('Conversion Factors'!$B$6:$B$370,MATCH('May 1 - May 15'!$Z$30:$Z$36,'Conversion Factors'!$A$6:$A$370,0))),\"\",INDEX('Conversion Factors'!$B$6:$B$370,MATCH('May 1 - May 15'!$Z$30:$Z$36,'Conversion Factors'!$A$6:$A$370,0)))","v":""},null,false,"","",null,null,null,null,null,0,{"$f":"IF(AH33>$AI$12,AH33-($AI$12+AI32+AI31+AI30+AI29),0)","v":0},false,false,null,0,null,0,0,0,0,0,40,0,0,0,null,0,0,0,0,0,0,40,0,null,{"$f":"IF(AND(G33>0,E33>0),1,0)","v":0},40,0,0,{"$f":"SUM(E30:E33)","v":0},0,{"$f":"IF(AND(BM33=1,J33>8),K33,(IF(AND(BM33=1,J33>0),J33,0)))","v":0},{"$f":"IF(AND(BM33=1,40-BL32>0,40-BL32<8),40-BL32,IF(AND(J33<K33),J33,K33))","v":0},0]
[false,null,null,"Thursday",null,null,null,null,null,null,null,null,null,null,0,"",null,"",null,null,0,0,null,{"$f":"IF(ISNA(INDEX('Conversion Factors'!$B$6:$B$370,MATCH('May 1 - May 15'!$Z$30:$Z$36,'Conversion Factors'!$A$6:$A$370,0))),\"\",INDEX('Conversion Factors'!$B$6:$B$370,MATCH('May 1 - May 15'!$Z$30:$Z$36,'Conversion Factors'!$A$6:$A$370,0)))","v":""},null,false,"","",null,null,null,null,null,0,{"$f":"IF(AH34>$AI$12,AH34-($AI$12+AI33+AI32+AI31+AI30+AI29),0)","v":0},false,false,null,0,null,0,0,0,0,0,{"$f":"IF(AND(AH33<=40),40-AH33,0)","v":40},0,0,0,null,0,0,0,0,0,0,40,0,null,0,40,0,0,{"$f":"SUM(E30:E34)","v":0},0,0,0,0]
[false,null,null,"Friday",null,null,null,null,null,null,null,null,null,null,0,"",null,"",null,null,0,0,null,{"$f":"IF(ISNA(INDEX('Conversion Factors'!$B$6:$B$370,MATCH('May 1 - May 15'!$Z$30:$Z$36,'Conversion Factors'!$A$6:$A$370,0))),\"\",INDEX('Conversion Factors'!$B$6:$B$370,MATCH('May 1 - May 15'!$Z$30:$Z$36,'Conversion Factors'!$A$6:$A$370,0)))","v":""},null,false,"","",null,null,null,null,null,0,{"$f":"IF(AH35>$AI$12,AH35-($AI$12+AI34+AI33+AI32+AI31+AI30+AI29),0)","v":0},false,false,null,0,null,0,0,0,0,0,{"$f":"IF(AND(AH34<=40),40-AH34,0)","v":40},0,0,0,null,0,0,0,0,0,0,40,0,null,0,40,0,0,{"$f":"SUM(E30:E35)","v":0},0,0,0,{"$f":"IF(AND(BM35=1,BL35>40,J35<=K35),J35-BO35,IF(AND(BM35=1,BL35>0,J35>K35),K35-BO35,0))","v":0}]
[false,null,null,"Saturday",null,null,null,null,null,null,null,null,null,null,0,"",null,"",null,null,0,0,null,{"$f":"IF(ISNA(INDEX('Conversion Factors'!$B$6:$B$370,MATCH('May 1 - May 15'!$Z$30:$Z$36,'Conversion Factors'!$A$6:$A$370,0))),\"\",INDEX('Conversion Factors'!$B$6:$B$370,MATCH('May 1 - May 15'!$Z$30:$Z$36,'Conversion Factors'!$A$6:$A$370,0)))","v":""},null,false,"","",null,null,null,null,null,0,{"$f":"IF(AH36>$AI$12,AH36-($AI$12+AI35+AI34+AI33+AI32+AI31+AI30+AI29),0)","v":0},false,false,null,0,null,0,0,0,0,0,40,0,0,0,null,0,0,0,0,0,0,40,0,null,0,40,0,0,{"$f":"SUM(E30:E36)","v":0},0,0,0,{"$f":"IF(AND(BM36=1,BL36>40,J36<=K36),J36-BO36,IF(AND(BM36=1,BL36>0,J36>K36),K36-BO36,0))","v":0}]
["Week 3 Totals",null,null,null,{"$f":"SUM(E30:E36)","v":0},0,0,0,0,null,0,0,0,0,{"$f":"SUM(O30:O36)","v":0},{"$f":"-SUM(P30:P36)","v":0},{"$f":"SUM(Q30:Q36)","v":0},{"$f":"SUM(R30:R36)","v":0},{"$f":"IF(E37>40,(E37-40)-V37,0)","v":0},{"$f":"MROUND(AL37,0.25)","v":0},{"$f":"SUM(U30:U36)","v":0},{"$f":"SUM(V30:V36)","v":0},{"$f":"IF(E37-(E11-(G37+K37+F37+H37+I37+L37+M3))-(S37+U37+V37)>0,E37-(E11-(G37+K37+F37+H37+I37+L37+M37))-(S37+U37+V37),0)","v":0},null,null,null,null,null,{"$f":"SUM(F37:N37)","v":0},{"$f":"IF(AND(AG37<40,O37>=AG37),O37-(AG37+S37),IF(AND(O37<AG37,E37=O37),O37-E37,IF(AND(E37>AG37,E37<40),E37-AG37,IF(AND(O37>AG37,E37<AG37),E37-(AG37-AC37),IF(AND(O37>AG37,E37>40),E37-(AG37-AC37+S37),IF(AND(O37>AG37,O37>40),O37-(S37+AG37),0))))))","v":0},{"$f":"AD37-U37-V37","v":0},{"$f":"$W$11","v":"Please Select"},{"$f":"$E$11","v":40},null,{"$f":"IF(AH37>$AI$12,-$AI$12,0)","v":0},null,null,{"$f":"IF(AF37=\"Yes\",S37*1.5,0)","v":0},null,null,null,null,null,null,null,null,null,null,null,null,null,null,null,null,null,null,null,null,null,0,null,null,null,null,null,null,null,{"$f":"SUM(BP30:BP36)","v":0},{"$f":"U37+E11","v":40}]
[{"$f":"IF(A36<$O$7,A36+1,IF(A36=$O$7,\"\"))","v":false},null,null,"Sunday",null,null,null,null,null,null,null,null,null,null,{"$f":"SUM(E38:N38)-J38","v":0},{"$f":"IF(AND(ISNUMBER(AA38),ISNUMBER(X38)),AA38*X38,\"\")","v":""},null,{"$f":"IF(AND(ISNUMBER(AB38),ISNUMBER(X38)),AB38*X38,\"\")","v":""},null,null,0,{"$f":"IF(BK38>0,BK38,0)","v":0},null,{"$f":"IF(ISNA(INDEX('Conversion Factors'!$B$6:$B$370,MATCH('May 1 - May 15'!$Z$38:$Z$44,'Conversion Factors'!$A$6:$A$370,0))),\"\",INDEX('Conversion Factors'!$B$6:$B$370,MATCH('May 1 - May 15'!$Z$38:$Z$44,'Conversion Factors'!$A$6:$A$370,0)))","v":""},null,{"$f":"A38","v":false},{"$f":"IF(AND(ISNUMBER(N38),ISNUMBER($Z$12)),N38/$Z$12,\"\")","v":""},{"$f":"IF(AND(ISNUMBER(Q38),ISNUMBER($Z$12)),Q38/$Z$12,\"\")","v":""},null,null,null,null,null,{"$f":"E38+AH37","v":0},{"$f":"IF(AH38>$AI$12,AH38-($AI$12+AI37),0)","v":0},{"$f":"IF(AND(AZ38>0,AZ38),IF(BA38>0,BA38,IF(BB38>0,BB38,IF(BC38>0,BC38,IF(BF38>0,BF38,\"\")))))","v":false},{"$f":"IF(AND(AO38>0,AO38),IF(AP38>0,AP38,IF(AQ38>0,AQ38,IF(AR38>0,AR38,IF(AU38>0,AU38,\"\")))))","v":false},null,{"$f":"J38","v":0},null,{"$f":"IF(G38=0,0,\"\")","v":0},{"$f":"IF(AND(AH38<=40,E38=G38),G38,0)","v":0},{"$f":"IF(AND(AH38<=40,E38>=G38,G38>0),O38-E38,0)","v":0},{"$f":"IF(AND(AH38<=40,E38<G38),O38-G38,0)","v":0},{"$f":"IF(AND(G38=0),G38,IF(AND(G38>0,AI38>0,G38=AT38),AT38,IF(AND(G38>0,AI38>0,G38-AT38),AT38,0)))","v":0},null,{"$f":"AS38","v":0},{"$f":"IF(AND(AH37+AU38=40,AI38>0,AI38>AU38),AI38-AU38,IF(AND(AH37+AU38=40,AI38>0,AI38<AU38,AU38+AI38=G38),AI38,IF(AND(AH37>40,AH38>40,G38=AI38),AI38,0)))","v":0},{"$f":"AV38","v":0},null,{"$f":"IF(AND(J38>0,AI38>=J38,BB38=0),O38-AI38,IF(AND(J38>0,AI38>0,BB38<=AI38),AI38-BB38,IF(AND(J38>0,AI38>0,BB38>AI38),J38-BB38,0)))","v":0},{"$f":"IF(J38=0,0,\"\")","v":0},{"$f":"IF(AND(AH38<=40,E38=J38),J38,0)","v":0},{"$f":"IF(AND(AZ38=0),AZ38,IF(AND(AH38>40,E38>=J38),BE38,IF(AND(AH38<=40,E38>J38),J38,0)))","v":0},{"$f":"IF(AND(AH38<=40,E38<J38),O38-J38,0)","v":0},{"$f":"IF(AND(J38=0),J38,IF(AND(J38>0,AI38>0,J38=BC38),BC38,IF(AND(J38>0,AI38>0,J38-BC38),BC38,0)))","v":0},null,{"$f":"BD38","v":0},null,{"$f":"IF(AND(G38>0,E38>0),1,0)","v":0},{"$f":"40-AH38","v":40},0,{"$f":"IF(AND(BH38=1,BL38>40,E38<G38),E38-BJ38,(IF(AND(BH38=1,BL38>0,E38>=G38),G38-BJ38,0)))","v":0},{"$f":"E38","v":0},{"$f":"IF(AND(K38>0,E38>0),1,0)","v":0},{"$f":"IF(AND(BM38=1,J38>8),K38,(IF(AND(BM38=1,J38>0),J38,0)))","v":0},{"$f":"IF(AND(BM38=1,40-BL37>0,40-BL37<8),40-BL37,IF(AND(J38<K38),J38,K38))","v":0},{"$f":"IF(AND(BM38=1,BL38>40,J38<=K38),J38-BO38,IF(AND(BM38=1,BL38>0,J38>K38),K38-BO38,0))","v":0}]
[{"$f":"IF(A38<$O$7,A38+1,IF(A38=$O$7,\"\"))","v":false},null,null,"Monday",null,null,null,0,null,null,null,null,null,null,{"$f":"SUM(E39:N39)-J39","v":0},{"$f":"IF(AND(ISNUMBER(AA39),ISNUMBER(X39)),AA39*X39,\"\")","v":""},null,{"$f":"IF(AND(ISNUMBER(AB39),ISNUMBER(X39)),AB39*X39,\"\")","v":""},null,null,0,{"$f":"IF(BK39>0,BK39,0)","v":0},null,{"$f":"IF(ISNA(INDEX('Conversion Factors'!$B$6:$B$370,MATCH('May 1 - May 15'!$Z$38:$Z$44,'Conversion Factors'!$A$6:$A$370,0))),\"\",INDEX('Conversion Factors'!$B$6:$B$370,MATCH('May 1 - May 15'!$Z$38:$Z$44,'Conversion Factors'!$A$6:$A$370,0)))","v":""},null,false,"","",null,null,null,null,null,0,{"$f":"IF(AH39>$AI$12,AH39-($AI$12+AI38+AI37),0)","v":0},false,{"$f":"IF(AND(AO39>0,AO39),IF(AP39>0,AP39,IF(AQ39>0,AQ39,IF(AR39>0,AR39,IF(AU39>0,AU39,0)))))","v":false},null,0,null,0,0,0,0,0,{"$f":"IF(AND(AH38<=40),40-AH38,0)","v":40},{"$f":"AS39","v":0},0,{"$f":"AV39","v":0},null,0,0,0,0,0,0,{"$f":"IF(AND(AH38<=40),40-AH38,0)","v":40},{"$f":"BD39","v":0},null,{"$f":"IF(AND(G39>0,E39>0),1,0)","v":0},40,0,0,{"$f":"SUM(E38:E39)","v":0},{"$f":"IF(AND(K39>0,E39>0),1,0)","v":0},{"$f":"IF(AND(BM39=1,J39>8),K39,(IF(AND(BM39=1,J39>0),J39,0)))","v":0},0,0]
[false,null,null,"Tuesday",null,null,null,null,null,0,0,null,null,null,{"$f":"SUM(E40:N40)-J40","v":0},"",null,"",null,null,0,0,null,{"$f":"IF(ISNA(INDEX('Conversion Factors'!$B$6:$B$370,MATCH('May 1 - May 15'!$Z$38:$Z$44,'Conversion Factors'!$A$6:$A$370,0))),\"\",INDEX('Conversion Factors'!$B$6:$B$370,MATCH('May 1 - May 15'!$Z$38:$Z$44,'Conversion Factors'!$A$6:$A$370,0)))","v":""},null,false,"","",null,null,null,null,null,0,{"$f":"IF(AH40>$AI$12,AH40-($AI$12+AI39+AI38+AI37),0)","v":0},false,false,null,0,null,0,0,0,0,0,40,0,0,0,null,0,0,0,0,0,0,{"$f":"IF(AND(AH39<=40),40-AH39,0)","v":40},0,null,{"$f":"IF(AND(G40>0,E40>0),1,0)","v":0},40,0,0,{"$f":"SUM(E38:E40)","v":0},0,{"$f":"IF(AND(BM40=1,J40>8),K40,(IF(AND(BM40=1,J40>0),J40,0)))","v":0},{"$f":"IF(AND(BM40=1,40-BL39>0,40-BL39<8),40-BL39,IF(AND(J40<K40),J40,K40))","v":0},0]
[false,null,null,"Wednesday",null,null,null,null,null,null,null,null,null,null,0,"",null,"",null,null,0,0,null,{"$f":"IF(ISNA(INDEX('Conversion Factors'!$B$6:$B$370,MATCH('May 1 - May 15'!$Z$38:$Z$44,'Conversion Factors'!$A$6:$A$370,0))),\"\",INDEX('Conversion Factors'!$B$6:$B$370,MATCH('May 1 - May 15'!$Z$38:$Z$44,'Conversion Factors'!$A$6:$A$370,0)))","v":""},null,false,"","",null,null,null,null,null,0,{"$f":"IF(AH41>$AI$12,AH41-($AI$12+AI40+AI39+AI38+AI37),0)","v":0},false,false,null,0,null,0,0,0,0,0,40,0,0,0,null,0,0,0,0,0,0,40,0,null,{"$f":"IF(AND(G41>0,E41>0),1,0)","v":0},40,0,0,{"$f":"SUM(E38:E41)","v":0},0,{"$f":"IF(AND(BM41=1,J41>8),K41,(IF(AND(BM41=1,J41>0),J41,0)))","v":0},{"$f":"IF(AND(BM41=1,40-BL40>0,40-BL40<8),40-BL40,IF(AND(J41<K41),J41,K41))","v":0},0]
[false,null,null,"Thursday",null,null,null,null,null,null,null,null,null,null,0,"",null,"",null,null,0,0,null,{"$f":"IF(ISNA(INDEX('Conversion Factors'!$B$6:$B$370,MATCH('May 1 - May 15'!$Z$38:$Z$44,'Conversion Factors'!$A$6:$A$370,0))),\"\",INDEX('Conversion Factors'!$B$6:$B$370,MATCH('May 1 - May 15'!$Z$38:$Z$44,'Conversion Factors'!$A$6:$A$370,0)))","v":""},null,false,"","",null,null,null,null,null,0,{"$f":"IF(AH42>$AI$12,AH42-($AI$12+AI41+AI40+AI39+AI38+AI37),0)","v":0},false,false,null,0,null,0,0,0,0,0,{"$f":"IF(AND(AH41<=40),40-AH41,0)","v":40},0,0,0,null,0,0,0,0,0,0,40,0,null,0,40,0,0,{"$f":"SUM(E38:E42)","v":0},0,0,0,0]
[false,null,null,"Friday",null,null,null,null,null,null,null,null,null,null,0,"",null,"",null,null,0,0,null,{"$f":"IF(ISNA(INDEX('Conversion Factors'!$B$6:$B$370,MATCH('May 1 - May 15'!$Z$38:$Z$44,'Conversion Factors'!$A$6:$A$370,0))),\"\",INDEX('Conversion Factors'!$B$6:$B$370,MATCH('May 1 - May 15'!$Z$38:$Z$44,'Conversion Factors'!$A$6:$A$370,0)))","v":""},null,false,"","",null,null,null,null,null,0,{"$f":"IF(AH43>$AI$12,AH43-($AI$12+AI42+AI41+AI40+AI39+AI38+AI37),0)","v":0},false,false,null,0,null,0,0,0,0,0,{"$f":"IF(AND(AH42<=40),40-AH42,0)","v":40},0,0,0,null,0,0,0,0,0,0,40,0,null,0,40,0,0,{"$f":"SUM(E38:E43)","v":0},0,0,0,{"$f":"IF(AND(BM43=1,BL43>40,J43<=K43),J43-BO43,IF(AND(BM43=1,BL43>0,J43>K43),K43-BO43,0))","v":0}]
[false,null,null,"Saturday",null,null,null,null,null,null,null,null,null,null,{"$f":"SUM(E44:N44)-J44","v":0},"",null,"",null,null,0,0,null,{"$f":"IF(ISNA(INDEX('Conversion Factors'!$B$6:$B$370,MATCH('May 1 - May 15'!$Z$38:$Z$44,'Conversion Factors'!$A$6:$A$370,0))),\"\",INDEX('Conversion Factors'!$B$6:$B$370,MATCH('May 1 - May 15'!$Z$38:$Z$44,'Conversion Factors'!$A$6:$A$370,0)))","v":""},null,false,"","",null,null,null,null,null,0,{"$f":"IF(AH44>$AI$12,AH44-($AI$12+AI43+AI42+AI41+AI40+AI39+AI38+AI37),0)","v":0},false,false,null,0,null,0,0,0,0,0,40,0,0,0,null,0,0,0,0,0,0,40,0,null,0,40,0,0,{"$f":"SUM(E38:E44)","v":0},0,0,0,{"$f":"IF(AND(BM44=1,BL44>40,J44<=K44),J44-BO44,IF(AND(BM44=1,BL44>0,J44>K44),K44-BO44,0))","v":0}]
["Week 4 Totals",null,null,null,{"$f":"SUM(E38:E44)","v":0},{"$f":"SUM(F38:F44)","v":0},0,0,0,null,0,0,0,0,{"$f":"SUM(O38:O44)","v":0},{"$f":"-SUM(P38:P44)","v":0},{"$f":"SUM(Q38:Q44)","v":0},{"$f":"SUM(R38:R44)","v":0},{"$f":"IF(E45>40,(E45-40)-V45,0)","v":0},{"$f":"MROUND(AL45,0.25)","v":0},{"$f":"SUM(U38:U44)","v":0},{"$f":"SUM(V38:V44)","v":0},{"$f":"IF(E45-(E11-(G45+K45+F45+H45+I45+L45+M45))-(S45+U45+V45)>0,E45-(E11-(G45+K45+F45+H45+I45+L45+M45))-(S45+U45+V45),0)","v":0},null,null,null,null,null,{"$f":"SUM(F45:N45)","v":0},{"$f":"IF(AND(AG45<40,O45>=AG45),O45-(AG45+S45),IF(AND(O45<AG45,E45=O45),O45-E45,IF(AND(E45>AG45,E45<40),E45-AG45,IF(AND(O45>AG45,E45<AG45),E45-(AG45-AC45),IF(AND(O45>AG45,E45>40),E45-(AG45-AC45+S45),IF(AND(O45>AG45,O45>40),O45-(S45+AG45),0))))))","v":0},{"$f":"AD45-U45-V45","v":0},{"$f":"$W$11","v":"Please Select"},{"$f":"$E$11","v":40},null,{"$f":"IF(AH45>$AI$12,-$AI$12,0)","v":0},null,null,{"$f":"IF(AF45=\"Yes\",S45*1.5,0)","v":0},null,null,null,null,null,null,null,null,null,null,null,null,null,null,null,null,null,null,null,null,null,null,null,null,null,null,null,null,null,{"$f":"SUM(BP38:BP44)","v":0},{"$f":"E44+E11","v":40}]
[null,null,null,null,null,null,null,null,"Total-Net Previous Week",null,null,null,null,null,{"$f":"(O21+O29+O37+O45)-O13","v":0},{"$f":"(P21+P29+P37+P45)-P13","v":0},0,0,0,0,0,0,0,0]
[]
[null,null,null,null,null,null,null,null,null,null,null,null,null,null,"Leave/Leave Without Pay Policy"]
["Employee signature",null,null,null,null,null,"Date",null,null,null,null,null,null,null,"Overtime/Compensatory Time"]
["I certify this record is accurate and accounts for my time during the indicated period.",null,null,null,null,null,null,null,null,null,null,null,null,null,"Time Sheet Definitions/Policies"]
[]
[null,null,null,null,null,null,null,null,null,null,"“Actual Work Hours During Administrative Close Period” – Only key the hours actually worked during the admministrative closing period into this field. "]
[]
["Manager signature",null,null,null,null,null,"Date"]
["I certify the hours recorded and coded on this form are correct and in compliance with University policy.",null,null,null,null,null,null,null,null,null,"“Administrative Closing/Leave Period field.”  Entter the number of hours of the declared period of administrative closing. (The total hours worked during the entire day will be entered into the “Actual Hours Worked” field.)"]

{"sheet":"May 16 - May 31","index":28,"n_rows":55,"n_cols":69,"rows_kept":55,"cut":false,"hidden":false,"merged":[[47,14,47,22],[48,14,48,19],[49,14,49,22],[51,10,53,22],[54,10,56,22],[45,8,45,13],[34,0,34,2],[35,0,35,2],[36,0,36,2],[37,0,37,2],[38,0,38,2],[39,0,39,2],[40,0,40,2],[41,0,41,2],[42,0,42,2],[43,0,43,2],[44,0,44,2],[33,0,33,2],[22,0,22,2],[23,0,23,2],[24,0,24,2],[25,0,25,2],[26,0,26,2],[27,0,27,2],[28,0,28,2],[29,0,29,2],[30,0,30,2],[31,0,31,2],[32,0,32,2],[21,0,21,2],[11,0,11,2],[11,29,11,30],[12,0,12,3],[13,0,13,2],[14,0,14,2],[15,0,15,2],[16,0,16,2],[17,0,17,2],[18,0,18,2],[19,0,19,2],[20,0,20,2],[10,40,10,46],[6,2,6,7],[6,8,6,13],[6,14,6,19],[7,2,7,7],[7,8,7,13],[7,14,7,19],[10,0,10,3],[10,4,10,5],[10,6,10,17],[10,18,10,21],[10,22,10,23],[0,0,0,22],[1,0,1,22],[3,0,3,23],[5,2,5,7],[5,8,5,13],[5,14,5,19]]}
["Mississippi State University"]
["Non-Exempt Employee Semi-Monthly Time Report"]
[]
["Instructions:  The Fair Labor Standards Act requires that a record of hours worked on a weekly basis be maintained for all employees except executive, administrative, managerial, faculty, and professional (non-faculty).  Department/unit heads are responsible for compiling and maintaining this record in department files on each covered employee for a period of at least (3) years."]
[]
["MSU ID #:",null,{"$f":"'July 1 - July 15'!C6","v":0},null,null,null,null,null,"Pay period start date:",null,null,null,null,null,{"$f":"'Dates & Notes'!$A$23","v":"2023-05-16"},null,null,null,null,null,null,null,null,null,null,{"$f":"TEXT(O6,\"dddd\")","v":"Tuesday"},null,null,null,"Please Select"]
["Name:",null,{"$f":"'July 1 - July 15'!C7","v":0},null,null,null,null,null,"Pay period end date:",null,null,null,null,null,{"$f":"'Dates & Notes'!$B$23","v":"2023-05-31"},null,null,null,null,null,null,null,null,null,null,null,null,null,null,"No"]
["Department:",null,{"$f":"'July 1 - July 15'!C8","v":0},null,null,null,null,null,"Pay Period Number:",null,null,null,null,null,{"$f":"'Dates & Notes'!$C$23","v":10},null,null,null,null,null,null,null,null,null,null,null,null,null,null,"Yes"]
[]
[]
["Employee Scheduled Hours Per Week",null,null,null,40,null,"FIELDS MUST BE ENTERED FOR CALULATIONS TO WORK PROPERLY",null,null,null,null,null,null,null,null,null,null,null,"Receive Compensatory Time",null,null,null,"Please Select",null,null,null,null,null,null,null,null,null,null,null,"Over 40",null,null,null,null,null,"HOW ANALYSIS"]
["Work Week Dates",null,null,"Day of The Week","Actual Hours Worked","Compensatory Time Used","Holiday","Medical Leave","Personal Leave","Actual Wrk Hrs During  Admin Close Period","Administrative Closing/Leave Period","Jury Duty","Military Leave","Leave Without Pay","Totals","DOC-Payroll Conversion","RTO","RTO-Payroll Conversion","Overtime Hours","Hours Transferred to Comp. Record","HOW-Holiday Pay or Admin/Leave Closing","HOT-Holiday Pay","SST-Payroll","Conversion Factor",null,8,"DOC","RTO",null,"SST",null,null,null,"Cumm Actual HRS",40,"Administrative Leave","HOW-Holiday Pay","Comp. Time","Administrative/Schedule",null,"Holiday=0\n1",2,3,4,null,"<=40\n5",null,"HOT Workup","HOT-Holiday Pay (HOLIDAY PAY)",null,"HOT-Administrative HRS","Administrative=0\n1",2,3,4,null,"<=40\n5",null,null,"Holiday Flag","Up to 40","How","Hot","Actual Hours Worked","Admin Flag","Admin","Admin HOW","Admin OVT"]
["Hours-Previous WK (Due to Split WK)",null,null,null,{"$f":"SUM(E14:E15)","v":0},0,0,0,0,0,0,0,0,0,{"$f":"SUM(E13:N13)-J13","v":0},null,null,null,null,null,null,null,null,null,null,null,null,null,null,null,null,null,null,null,null,{"$f":"IF(AND(AM13=0,J13=0),AM13,IF(AND(E13>AM13,J13=0),J13,IF(AND(J13<AM13,AI13=0),J13,IF(AND(AM13=J13,AI13<AM13),AM13-AI13,IF(AND(J13=AM13,AI13=AM13),AI13,IF(AND(J13<AM13,AI13>0),AM13-J13,IF(AND(AM13>J13,AI13<E13),E13-AI13,IF(AND(E13>AM13,AI13=E13),O13-AI13,0))))))))","v":0},{"$f":"IF(AND(G13=0,E13>G13),G13,IF(AND(E13>G13,AI13=0),G13,IF(AND(E13<G13,AI13=0),E13,IF(AND(E13=G13,AI13<G13),G13-AI13,IF(AND(E13=G13,AI13=G13),AI13,IF(AND(E13<G13,AI13>0),G13-E13,IF(AND(E13>G13,AI13<E13),E13-AI13,IF(AND(E13>G13,AI13=E13),O13-AI13,0))))))))","v":0},null,{"$f":"K13","v":0}]
[{"$f":"IF(EXACT(D14,$Z$6)=TRUE,$O$6,IF(A12=0,\"\",IF(A12<$O$7,A12+1,IF(A12=$O$7,\"\"))))","v":false},null,null,"Sunday",{"$f":"'May 1 - May 15'!E30","v":0},{"$f":"'May 1 - May 15'!F30","v":0},{"$f":"'May 1 - May 15'!G30","v":0},{"$f":"'May 1 - May 15'!H30","v":0},{"$f":"'May 1 - May 15'!I30","v":0},{"$f":"'May 1 - May 15'!J30","v":0},{"$f":"'May 1 - May 15'!K30","v":0},{"$f":"'May 1 - May 15'!L30","v":0},{"$f":"'May 1 - May 15'!M30","v":0},{"$f":"'May 1 - May 15'!N30","v":0},{"$f":"SUM(E14:N14)-J14","v":0},{"$f":"IF(AND(ISNUMBER(AA14),ISNUMBER(X14)),AA14*X14,\"\")","v":""},null,{"$f":"IF(AND(ISNUMBER(AB14),ISNUMBER(X14)),AB14*X14,\"\")","v":""},null,null,{"$f":"IF(BJ14>0,BJ14,BN14)","v":0},{"$f":"IF(BK14>0,BK14,0)","v":0},null,{"$f":"IF(ISNA(INDEX('Conversion Factors'!$B$6:$B$371,MATCH('May 16 - May 31'!$Z$14:$Z$20,'Conversion Factors'!$A$6:$A$371,0))),\"\",INDEX('Conversion Factors'!$B$6:$B$371,MATCH('May 16 - May 31'!$Z$14:$Z$20,'Conversion Factors'!$A$6:$A$371,0)))","v":""},null,{"$f":"A14","v":false},{"$f":"IF(AND(ISNUMBER(N14),ISNUMBER($Z$12)),N14/$Z$12,\"\")","v":0},{"$f":"IF(AND(ISNUMBER(Q14),ISNUMBER($Z$12)),Q14/$Z$12,\"\")","v":""},null,null,null,null,null,{"$f":"E14","v":0},{"$f":"IF(AH14>$AI$12,AH14-$AI$12,0)","v":0},{"$f":"IF(AND(AZ14>0,AZ14),IF(BA14>0,BA14,IF(BB14>0,BB14,IF(BC14>0,BC14,IF(BF14>0,BF14,\"\")))))","v":false},{"$f":"IF(AND(AO14>0,AO14),IF(AP14>0,AP14,IF(AQ14>0,AQ14,IF(AR14>0,AR14,IF(AU14>0,AU14,\"\")))))","v":false},null,{"$f":"J14","v":0},null,{"$f":"IF(G14=0,0,\"\")","v":0},{"$f":"IF(AND(AH14<=40,E14=G14),G14,0)","v":0},{"$f":"IF(AND(AH14<=40,E14>=G14,G14>0),O14-E14,0)","v":0},{"$f":"IF(AND(AH14<=40,E14<G14),O14-G14,0)","v":0},{"$f":"IF(AND(G14=0),G14,IF(AND(G14>0,AI14>0,G14=AT14),AT14,IF(AND(G14>0,AI14>0,G14-AT14),AT14,0)))","v":0},null,{"$f":"AS14","v":0},{"$f":"IF(AND(AH13+AU14=40,AI14>0,AI14>AU14),AI14-AU14,IF(AND(AH13+AU14=40,AI14>0,AI14<AU14,AU14+AI14=G14),AI14,IF(AND(AH13>40,AH14>40,G14=AI14),AI14,0)))","v":0},{"$f":"AV14","v":0},null,{"$f":"IF(AND(J14>0,AI14>=J14,BB14=0),O14-AI14,IF(AND(J14>0,AI14>0,BB14<=AI14),AI14-BB14,IF(AND(J14>0,AI14>0,BB14>AI14),J14-BB14,0)))","v":0},{"$f":"IF(J14=0,0,\"\")","v":0},{"$f":"IF(AND(AH14<=40,E14=J14),J14,0)","v":0},{"$f":"IF(AND(AZ14=0),AZ14,IF(AND(AH14>40,E14>=J14),BE14,IF(AND(AH14<=40,E14>J14),J14,0)))","v":0},{"$f":"IF(AND(AH14<=40,E14<J14),O14-J14,0)","v":0},{"$f":"IF(AND(J14=0),J14,IF(AND(J14>0,AI14>0,J14=BC14),BC14,IF(AND(J14>0,AI14>0,J14-BC14),BC14,0)))","v":0},null,{"$f":"BD14","v":0},null,{"$f":"IF(AND(G14>0,E14>0),1,0)","v":0},{"$f":"40-AH14","v":40},{"$f":"IF(AND(BH14=1,E14<8),E14,(IF(AND(BH14=1,E14>0),G14,0)))","v":0},{"$f":"IF(AND(BH14=1,BL14>40,E14<G14),E14-BJ14,(IF(AND(BH14=1,BL14>0,E14>=G14),G14-BJ14,0)))","v":0},{"$f":"E14","v":0},{"$f":"IF(AND(K14>0,E14>0),1,0)","v":0},{"$f":"IF(AND(BM14=1,J14>8),K14,(IF(AND(BM14=1,J14>0),J14,0)))","v":0},{"$f":"IF(AND(BM14=1,40-BL13>0,40-BL13<8),40-BL13,IF(AND(J14<K14),J14,K14))","v":0},{"$f":"IF(AND(BM14=1,BL14>40,J14<=K14),J14-BO14,IF(AND(BM14=1,BL14>0,J14>K14),K14-BO14,0))","v":0}]
[{"$f":"IF(EXACT(D15,$Z$6)=TRUE,$O$6,IF(A14=0,\"\",IF(A14<$O$7,A14+1,IF(A14=$O$7,\"\"))))","v":false},null,null,"Monday",{"$f":"'May 1 - May 15'!E31","v":0},{"$f":"'May 1 - May 15'!F31","v":0},{"$f":"'May 1 - May 15'!G31","v":0},{"$f":"'May 1 - May 15'!H31","v":0},{"$f":"'May 1 - May 15'!I31","v":0},{"$f":"'May 1 - May 15'!J31","v":0},{"$f":"'May 1 - May 15'!K31","v":0},{"$f":"'May 1 - May 15'!L31","v":0},{"$f":"'May 1 - May 15'!M31","v":0},{"$f":"'May 1 - May 15'!N31","v":0},{"$f":"SUM(E15:N15)-J15","v":0},{"$f":"IF(AND(ISNUMBER(AA15),ISNUMBER(X15)),AA15*X15,\"\")","v":""},null,{"$f":"IF(AND(ISNUMBER(AB15),ISNUMBER(X15)),AB15*X15,\"\")","v":""},null,null,{"$f":"IF(BJ15>0,BJ15,BN15)","v":0},{"$f":"IF(BK15>0,BK15,0)","v":0},null,{"$f":"IF(ISNA(INDEX('Conversion Factors'!$B$6:$B$371,MATCH('May 16 - May 31'!$Z$14:$Z$20,'Conversion Factors'!$A$6:$A$371,0))),\"\",INDEX('Conversion Factors'!$B$6:$B$371,MATCH('May 16 - May 31'!$Z$14:$Z$20,'Conversion Factors'!$A$6:$A$371,0)))","v":""},null,false,0,"",null,null,null,null,null,{"$f":"E15+AH14","v":0},{"$f":"IF(AH15>$AI$12,AH15-($AI$12+AI14),0)","v":0},{"$f":"IF(AND(AZ15>0,AZ15),IF(BA15>0,BA15,IF(BB15>0,BB15,IF(BC15>0,BC15,IF(BF15>0,BF15,\"\")))))","v":false},{"$f":"IF(AND(AO15>0,AO15),IF(AP15>0,AP15,IF(AQ15>0,AQ15,IF(AR15>0,AR15,IF(AU15>0,AU15,0)))))","v":false},null,0,null,0,0,0,0,0,{"$f":"IF(AND(AH14<=40),40-AH14,0)","v":40},{"$f":"AS15","v":0},0,{"$f":"AV15","v":0},null,0,0,0,0,0,0,{"$f":"IF(AND(AH14<=40),40-AH14,0)","v":40},{"$f":"BD15","v":0},null,{"$f":"IF(AND(G15>0,E15>0),1,0)","v":0},40,0,0,{"$f":"SUM(E14:E15)","v":0},{"$f":"IF(AND(K15>0,E15>0),1,0)","v":0},{"$f":"IF(AND(BM15=1,J15>8),K15,(IF(AND(BM15=1,J15>0),J15,0)))","v":0},0,0]
["2023-05-16",null,null,"Tuesday",null,null,null,null,null,null,null,null,null,null,{"$f":"SUM(E16:N16)-J16","v":0},"",null,"",null,null,{"$f":"IF(BJ16>0,BJ16,BN16)","v":0},0,null,{"$f":"IF(ISNA(INDEX('Conversion Factors'!$B$6:$B$371,MATCH('May 16 - May 31'!$Z$14:$Z$20,'Conversion Factors'!$A$6:$A$371,0))),\"\",INDEX('Conversion Factors'!$B$6:$B$371,MATCH('May 16 - May 31'!$Z$14:$Z$20,'Conversion Factors'!$A$6:$A$371,0)))","v":7.2229999999999999},null,"2023-05-16","","",null,null,null,null,null,0,{"$f":"IF(AH16>$AI$12,AH16-($AI$12+AI15+AI14),0)","v":0},false,false,null,0,null,0,0,0,0,0,40,0,0,0,null,0,0,0,0,0,0,{"$f":"IF(AND(AH15<=40),40-AH15,0)","v":40},0,null,{"$f":"IF(AND(G16>0,E16>0),1,0)","v":0},40,0,0,{"$f":"SUM(E14:E16)","v":0},0,{"$f":"IF(AND(BM16=1,J16>8),K16,(IF(AND(BM16=1,J16>0),J16,0)))","v":0},{"$f":"IF(AND(BM16=1,40-BL15>0,40-BL15<8),40-BL15,IF(AND(J16<K16),J16,K16))","v":0},0]
["2023-05-17",null,null,"Wednesday",null,null,null,null,null,null,null,null,null,null,{"$f":"SUM(E17:N17)-J17","v":0},"",null,"",null,null,0,0,null,{"$f":"IF(ISNA(INDEX('Conversion Factors'!$B$6:$B$371,MATCH('May 16 - May 31'!$Z$14:$Z$20,'Conversion Factors'!$A$6:$A$371,0))),\"\",INDEX('Conversion Factors'!$B$6:$B$371,MATCH('May 16 - May 31'!$Z$14:$Z$20,'Conversion Factors'!$A$6:$A$371,0)))","v":7.2229999999999999},null,"2023-05-17","","",null,null,null,null,null,0,{"$f":"IF(AH17>$AI$12,AH17-($AI$12+AI16+AI15+AI14),0)","v":0},false,false,null,0,null,0,0,0,0,0,40,0,0,0,null,0,0,0,0,0,0,40,0,null,0,40,0,0,{"$f":"SUM(E14:E17)","v":0},0,{"$f":"IF(AND(BM17=1,J17>8),K17,(IF(AND(BM17=1,J17>0),J17,0)))","v":0},{"$f":"IF(AND(BM17=1,40-BL16>0,40-BL16<8),40-BL16,IF(AND(J17<K17),J17,K17))","v":0},0]
["2023-05-18",null,null,"Thursday",null,null,null,null,null,null,null,null,null,null,0,"",null,"",null,null,0,0,null,{"$f":"IF(ISNA(INDEX('Conversion Factors'!$B$6:$B$371,MATCH('May 16 - May 31'!$Z$14:$Z$20,'Conversion Factors'!$A$6:$A$371,0))),\"\",INDEX('Conversion Factors'!$B$6:$B$371,MATCH('May 16 - May 31'!$Z$14:$Z$20,'Conversion Factors'!$A$6:$A$371,0)))","v":7.2229999999999999},null,"2023-05-18","","",null,null,null,null,null,0,{"$f":"IF(AH18>$AI$12,AH18-($AI$12+AI17+AI16+AI15+AI14),0)","v":0},false,false,null,0,null,0,0,0,0,0,{"$f":"IF(AND(AH17<=40),40-AH17,0)","v":40},0,0,0,null,0,0,0,0,0,0,40,0,null,0,40,0,0,{"$f":"SUM(E14:E18)","v":0},0,0,0,0]
["2023-05-19",null,null,"Friday",null,null,null,null,null,null,null,null,null,null,0,"",null,"",null,null,0,0,null,{"$f":"IF(ISNA(INDEX('Conversion Factors'!$B$6:$B$371,MATCH('May 16 - May 31'!$Z$14:$Z$20,'Conversion Factors'!$A$6:$A$371,0))),\"\",INDEX('Conversion Factors'!$B$6:$B$371,MATCH('May 16 - May 31'!$Z$14:$Z$20,'Conversion Factors'!$A$6:$A$371,0)))","v":7.2229999999999999},null,"2023-05-19","","",null,null,null,null,null,0,{"$f":"IF(AH19>$AI$12,AH19-($AI$12+AI18+AI17+AI16+AI15+AI14),0)","v":0},false,false,null,0,null,0,0,0,0,0,{"$f":"IF(AND(AH18<=40),40-AH18,0)","v":40},0,0,0,null,0,0,0,0,0,0,40,0,null,0,40,0,0,{"$f":"SUM(E14:E19)","v":0},0,0,0,{"$f":"IF(AND(BM19=1,BL19>40,J19<=K19),J19-BO19,IF(AND(BM19=1,BL19>0,J19>K19),K19-BO19,0))","v":0}]
["2023-05-20",null,null,"Saturday",null,null,null,null,null,null,null,null,null,null,{"$f":"SUM(E20:N20)-J20","v":0},"",null,"",null,null,0,0,null,{"$f":"IF(ISNA(INDEX('Conversion Factors'!$B$6:$B$371,MATCH('May 16 - May 31'!$Z$14:$Z$20,'Conversion Factors'!$A$6:$A$371,0))),\"\",INDEX('Conversion Factors'!$B$6:$B$371,MATCH('May 16 - May 31'!$Z$14:$Z$20,'Conversion Factors'!$A$6:$A$371,0)))","v":7.2229999999999999},null,"2023-05-20","","",null,null,null,null,null,0,{"$f":"IF(AH20>$AI$12,AH20-($AI$12+AI19+AI18+AI17+AI16+AI15+AI14),0)","v":0},false,false,null,0,null,0,0,0,0,0,40,0,0,0,null,0,0,0,0,0,0,40,0,null,0,40,0,0,{"$f":"SUM(E14:E20)","v":0},0,0,0,{"$f":"IF(AND(BM20=1,BL20>40,J20<=K20),J20-BO20,IF(AND(BM20=1,BL20>0,J20>K20),K20-BO20,0))","v":0}]
["Week 1 Totals",null,null,null,{"$f":"SUM(E14:E20)","v":0},{"$f":"SUM(F14:F20)","v":0},0,0,0,null,0,0,0,0,{"$f":"SUM(O14:O20)","v":0},{"$f":"-SUM(P14:P20)","v":0},{"$f":"SUM(Q14:Q20)","v":0},{"$f":"SUM(R14:R20)","v":0},{"$f":"IF(E21>40,(E21-40)-V21-BP21,0)","v":0},{"$f":"MROUND(AL21,0.25)","v":0},{"$f":"SUM(U14:U20)","v":0},{"$f":"SUM(V14:V20)","v":0},{"$f":"IF(E21-(E11-(G21+K21+F21+H21+I21+L21+M21))-(S21+U21+V21)>0,E21-(E11-(G21+K21+F21+H21+I21+L21+M21))-(S21+U21+V21),0)","v":0},null,null,null,null,null,{"$f":"SUM(F21:N21)","v":0},{"$f":"IF(AND(AG21<40,O21>=AG21),O21-(AG21+S21),IF(AND(O21<AG21,E21=O21),O21-E21,IF(AND(E21>AG21,E21<40),E21-AG21,IF(AND(O21>AG21,E21<AG21),E21-(AG21-AC21),IF(AND(O21>AG21,E21>40),E21-(AG21-AC21+S21),IF(AND(O21>AG21,O21>40),O21-(S21+AG21),0))))))","v":0},{"$f":"AD21-U21-V21","v":0},{"$f":"$W$11","v":"Please Select"},{"$f":"$E$11","v":40},null,{"$f":"IF(AH21>$AI$12,-$AI$12,0)","v":0},null,null,{"$f":"IF(AF21=\"Yes\",S21*1.5,0)","v":0},null,null,null,null,null,null,null,null,null,null,null,null,null,null,null,null,null,null,null,null,null,null,null,null,null,null,null,null,null,{"$f":"SUM(BP14:BP20)","v":0},{"$f":"E11+U21","v":40}]
[{"$f":"IF(A20=0,\"\",IF(A20<$O$7,A20+1,IF(A20=$O$7,\"\")))","v":"2023-05-21"},null,null,"Sunday",null,null,null,null,null,null,null,null,null,null,{"$f":"SUM(E22:N22)-J22","v":0},{"$f":"IF(AND(ISNUMBER(AA22),ISNUMBER(X22)),AA22*X22,\"\")","v":""},null,{"$f":"IF(AND(ISNUMBER(AB22),ISNUMBER(X22)),AB22*X22,\"\")","v":""},null,null,{"$f":"IF(BJ22>0,BJ22,BN22)","v":0},{"$f":"IF(BK22>0,BK22,0)","v":0},null,{"$f":"IF(ISNA(INDEX('Conversion Factors'!$B$6:$B$371,MATCH('May 16 - May 31'!$Z$22:$Z$28,'Conversion Factors'!$A$6:$A$371,0))),\"\",INDEX('Conversion Factors'!$B$6:$B$371,MATCH('May 16 - May 31'!$Z$22:$Z$28,'Conversion Factors'!$A$6:$A$371,0)))","v":7.2229999999999999},null,{"$f":"A22","v":"2023-05-21"},{"$f":"IF(AND(ISNUMBER(N22),ISNUMBER($Z$12)),N22/$Z$12,\"\")","v":""},{"$f":"IF(AND(ISNUMBER(Q22),ISNUMBER($Z$12)),Q22/$Z$12,\"\")","v":""},null,null,null,null,null,{"$f":"E22+AH21","v":0},{"$f":"IF(AH22>$AI$12,AH22-($AI$12+AI21),0)","v":0},{"$f":"IF(AND(AZ22>0,AZ22),IF(BA22>0,BA22,IF(BB22>0,BB22,IF(BC22>0,BC22,IF(BF22>0,BF22,\"\")))))","v":false},{"$f":"IF(AND(AO22>0,AO22),IF(AP22>0,AP22,IF(AQ22>0,AQ22,IF(AR22>0,AR22,IF(AU22>0,AU22,\"\")))))","v":false},null,{"$f":"J22","v":0},null,{"$f":"IF(G22=0,0,\"\")","v":0},{"$f":"IF(AND(AH22<=40,E22=G22),G22,0)","v":0},{"$f":"IF(AND(AH22<=40,E22>=G22,G22>0),O22-E22,0)","v":0},{"$f":"IF(AND(AH22<=40,E22<G22),O22-G22,0)","v":0},{"$f":"IF(AND(G22=0),G22,IF(AND(G22>0,AI22>0,G22=AT22),AT22,IF(AND(G22>0,AI22>0,G22-AT22),AT22,0)))","v":0},null,{"$f":"AS22","v":0},{"$f":"IF(AND(AH21+AU22=40,AI22>0,AI22>AU22),AI22-AU22,IF(AND(AH21+AU22=40,AI22>0,AI22<AU22,AU22+AI22=G22),AI22,IF(AND(AH21>40,AH22>40,G22=AI22),AI22,0)))","v":0},{"$f":"AV22","v":0},null,{"$f":"IF(AND(J22>0,AI22>0,BB22<=AI22),AI22-BB22,IF(AND(J22>0,AI22>0,BB22>AI22),J22-BB22,0))","v":0},{"$f":"IF(J22=0,0,\"\")","v":0},{"$f":"IF(AND(AH22<=40,E22=J22),J22,0)","v":0},{"$f":"IF(AND(AZ22=0),AZ22,IF(AND(AH22>40,E22>=J22),BE22,IF(AND(AH22<=40,E22>J22),J22,0)))","v":0},{"$f":"IF(AND(AH22<=40,E22<J22),O22-J22,0)","v":0},{"$f":"IF(AND(J22=0),J22,IF(AND(J22>0,AI22>0,J22=BC22),BC22,IF(AND(J22>0,AI22>0,J22-BC22),BC22,0)))","v":0},null,{"$f":"BD22","v":0},null,{"$f":"IF(AND(G22>0,E22>0),1,0)","v":0},{"$f":"40-AH22","v":40},0,{"$f":"IF(AND(BH22=1,BL22>40,E22<G22),E22-BJ22,(IF(AND(BH22=1,BL22>0,E22>=G22),G22-BJ22,0)))","v":0},{"$f":"E22","v":0},{"$f":"IF(AND(K22>0,E22>0),1,0)","v":0},{"$f":"IF(AND(BM22=1,J22>8),K22,(IF(AND(BM22=1,J22>0),J22,0)))","v":0},{"$f":"IF(AND(BM22=1,40-BL21>0,40-BL21<8),40-BL21,IF(AND(J22<K22),J22,K22))","v":0},{"$f":"IF(AND(BM22=1,BL22>40,J22<=K22),J22-BO22,IF(AND(BM22=1,BL22>0,J22>K22),K22-BO22,0))","v":0}]
[{"$f":"IF(A22<$O$7,A22+1,IF(A22=$O$7,\"\"))","v":"2023-05-22"},null,null,"Monday",null,null,null,null,null,null,null,null,null,null,{"$f":"SUM(E23:N23)-J23","v":0},{"$f":"IF(AND(ISNUMBER(AA23),ISNUMBER(X23)),AA23*X23,\"\")","v":""},null,{"$f":"IF(AND(ISNUMBER(AB23),ISNUMBER(X23)),AB23*X23,\"\")","v":""},null,null,{"$f":"IF(BJ23>0,BJ23,BN23)","v":0},{"$f":"IF(BK23>0,BK23,0)","v":0},null,{"$f":"IF(ISNA(INDEX('Conversion Factors'!$B$6:$B$371,MATCH('May 16 - May 31'!$Z$22:$Z$28,'Conversion Factors'!$A$6:$A$371,0))),\"\",INDEX('Conversion Factors'!$B$6:$B$371,MATCH('May 16 - May 31'!$Z$22:$Z$28,'Conversion Factors'!$A$6:$A$371,0)))","v":7.2229999999999999},null,"2023-05-22","","",null,null,null,null,null,0,{"$f":"IF(AH23>$AI$12,AH23-($AI$12+AI22+AI21),0)","v":0},false,{"$f":"IF(AND(AO23>0,AO23),IF(AP23>0,AP23,IF(AQ23>0,AQ23,IF(AR23>0,AR23,IF(AU23>0,AU23,0)))))","v":false},null,0,null,0,0,0,0,0,{"$f":"IF(AND(AH22<=40),40-AH22,0)","v":40},{"$f":"AS23","v":0},0,{"$f":"AV23","v":0},null,{"$f":"IF(AND(J23>0,AI23>0,BB23<=AI23),AI23-BB23,IF(AND(J23>0,AI23>0,BB23>AI23),J23-BB23,0))","v":0},0,0,0,0,0,{"$f":"IF(AND(AH22<=40),40-AH22,0)","v":40},{"$f":"BD23","v":0},null,{"$f":"IF(AND(G23>0,E23>0),1,0)","v":0},40,0,0,{"$f":"SUM(E22:E23)","v":0},{"$f":"IF(AND(K23>0,E23>0),1,0)","v":0},{"$f":"IF(AND(BM23=1,J23>8),K23,(IF(AND(BM23=1,J23>0),J23,0)))","v":0},0,0]
["2023-05-23",null,null,"Tuesday",null,null,null,null,null,null,null,null,null,null,{"$f":"SUM(E24:N24)-J24","v":0},"",null,"",null,null,{"$f":"IF(BJ24>0,BJ24,BN24)","v":0},0,null,{"$f":"IF(ISNA(INDEX('Conversion Factors'!$B$6:$B$371,MATCH('May 16 - May 31'!$Z$22:$Z$28,'Conversion Factors'!$A$6:$A$371,0))),\"\",INDEX('Conversion Factors'!$B$6:$B$371,MATCH('May 16 - May 31'!$Z$22:$Z$28,'Conversion Factors'!$A$6:$A$371,0)))","v":7.2229999999999999},null,"2023-05-23","","",null,null,null,null,null,0,{"$f":"IF(AH24>$AI$12,AH24-($AI$12+AI23+AI22+AI21),0)","v":0},false,false,null,0,null,0,0,0,0,0,40,0,0,0,null,{"$f":"IF(AND(J24>0,AI24>0,BB24<=AI24),AI24-BB24,IF(AND(J24>0,AI24>0,BB24>AI24),J24-BB24,0))","v":0},0,0,0,0,0,{"$f":"IF(AND(AH23<=40),40-AH23,0)","v":40},0,null,{"$f":"IF(AND(G24>0,E24>0),1,0)","v":0},40,0,0,{"$f":"SUM(E22:E24)","v":0},0,{"$f":"IF(AND(BM24=1,J24>8),K24,(IF(AND(BM24=1,J24>0),J24,0)))","v":0},{"$f":"IF(AND(BM24=1,40-BL23>0,40-BL23<8),40-BL23,IF(AND(J24<K24),J24,K24))","v":0},0]
["2023-05-24",null,null,"Wednesday",null,null,null,null,null,null,null,null,null,null,0,"",null,"",null,null,0,0,null,{"$f":"IF(ISNA(INDEX('Conversion Factors'!$B$6:$B$371,MATCH('May 16 - May 31'!$Z$22:$Z$28,'Conversion Factors'!$A$6:$A$371,0))),\"\",INDEX('Conversion Factors'!$B$6:$B$371,MATCH('May 16 - May 31'!$Z$22:$Z$28,'Conversion Factors'!$A$6:$A$371,0)))","v":7.2229999999999999},null,"2023-05-24","","",null,null,null,null,null,0,{"$f":"IF(AH25>$AI$12,AH25-($AI$12+AI24+AI23+AI22+AI21),0)","v":0},false,false,null,0,null,0,0,0,0,0,40,0,0,0,null,{"$f":"IF(AND(J25>0,AI25>0,BB25<=AI25),AI25-BB25,IF(AND(J25>0,AI25>0,BB25>AI25),J25-BB25,0))","v":0},0,0,0,0,0,40,0,null,0,40,0,0,{"$f":"SUM(E22:E25)","v":0},0,{"$f":"IF(AND(BM25=1,J25>8),K25,(IF(AND(BM25=1,J25>0),J25,0)))","v":0},{"$f":"IF(AND(BM25=1,40-BL24>0,40-BL24<8),40-BL24,IF(AND(J25<K25),J25,K25))","v":0},0]
["2023-05-25",null,null,"Thursday",null,null,null,null,null,null,null,null,null,null,0,"",null,"",null,null,0,0,null,{"$f":"IF(ISNA(INDEX('Conversion Factors'!$B$6:$B$371,MATCH('May 16 - May 31'!$Z$22:$Z$28,'Conversion Factors'!$A$6:$A$371,0))),\"\",INDEX('Conversion Factors'!$B$6:$B$371,MATCH('May 16 - May 31'!$Z$22:$Z$28,'Conversion Factors'!$A$6:$A$371,0)))","v":7.2229999999999999},null,"2023-05-25","","",null,null,null,null,null,0,{"$f":"IF(AH26>$AI$12,AH26-($AI$12+AI25+AI24+AI23+AI22+AI21),0)","v":0},false,false,null,0,null,0,0,0,0,0,{"$f":"IF(AND(AH25<=40),40-AH25,0)","v":40},0,0,0,null,{"$f":"IF(AND(J26>0,AI26>=J26,BB26=0),O26-AI26,IF(AND(J26>0,AI26>0,BB26<=AI26),AI26-BB26,IF(AND(J26>0,AI26>0,BB26>AI26),J26-BB26,0)))","v":0},0,0,0,0,0,40,0,null,0,40,0,0,{"$f":"SUM(E22:E26)","v":0},0,0,0,0]
["2023-05-26",null,null,"Friday",null,null,null,null,null,null,null,null,null,null,0,"",null,"",null,null,0,0,null,{"$f":"IF(ISNA(INDEX('Conversion Factors'!$B$6:$B$371,MATCH('May 16 - May 31'!$Z$22:$Z$28,'Conversion Factors'!$A$6:$A$371,0))),\"\",INDEX('Conversion Factors'!$B$6:$B$371,MATCH('May 16 - May 31'!$Z$22:$Z$28,'Conversion Factors'!$A$6:$A$371,0)))","v":7.2229999999999999},null,"2023-05-26","","",null,null,null,null,null,0,{"$f":"IF(AH27>$AI$12,AH27-($AI$12+AI26+AI25+AI24+AI23+AI22+AI21),0)","v":0},false,false,null,0,null,0,0,0,0,0,{"$f":"IF(AND(AH26<=40),40-AH26,0)","v":40},0,0,0,null,{"$f":"IF(AND(J27>0,AI27>=J27,BB27=0),O27-AI27,IF(AND(J27>0,AI27>0,BB27<=AI27),AI27-BB27,IF(AND(J27>0,AI27>0,BB27>AI27),J27-BB27,0)))","v":0},0,0,0,0,0,40,0,null,0,40,0,0,{"$f":"SUM(E22:E27)","v":0},0,0,0,{"$f":"IF(AND(BM27=1,BL27>40,J27<=K27),J27-BO27,IF(AND(BM27=1,BL27>0,J27>K27),K27-BO27,0))","v":0}]
["2023-05-27",null,null,"Saturday",null,null,null,null,null,null,null,null,null,null,{"$f":"SUM(E28:N28)-J28","v":0},"",null,"",null,null,0,0,null,{"$f":"IF(ISNA(INDEX('Conversion Factors'!$B$6:$B$371,MATCH('May 16 - May 31'!$Z$22:$Z$28,'Conversion Factors'!$A$6:$A$371,0))),\"\",INDEX('Conversion Factors'!$B$6:$B$371,MATCH('May 16 - May 31'!$Z$22:$Z$28,'Conversion Factors'!$A$6:$A$371,0)))","v":7.2229999999999999},null,"2023-05-27","","",null,null,null,null,null,0,{"$f":"IF(AH28>$AI$12,AH28-($AI$12+AI27+AI26+AI25+AI24+AI23+AI22+AI21),0)","v":0},false,false,null,0,null,0,0,0,0,0,40,0,0,0,null,{"$f":"IF(AND(J28>0,AI28>=J28,BB28=0),O28-AI28,IF(AND(J28>0,AI28>0,BB28<=AI28),AI28-BB28,IF(AND(J28>0,AI28>0,BB28>AI28),J28-BB28,0)))","v":0},0,0,0,0,0,40,0,null,0,40,0,0,{"$f":"SUM(E22:E28)","v":0},0,0,0,{"$f":"IF(AND(BM28=1,BL28>40,J28<=K28),J28-BO28,IF(AND(BM28=1,BL28>0,J28>K28),K28-BO28,0))","v":0}]
["Week 2 Totals",null,null,null,{"$f":"SUM(E22:E28)","v":0},0,0,0,0,null,0,0,0,0,{"$f":"SUM(O22:O28)","v":0},{"$f":"-SUM(P22:P28)","v":0},{"$f":"SUM(Q22:Q28)","v":0},{"$f":"SUM(R22:R28)","v":0},{"$f":"IF(E29>40,(E29-40)-V29,0)","v":0},{"$f":"MROUND(AL29,0.25)","v":0},{"$f":"SUM(U22:U28)","v":0},{"$f":"SUM(V22:V28)","v":0},{"$f":"IF(E29-(E11-(G29+K29+F29+H29+I29+L29+M29))-(S29+U29+V29)>0,E29-(E11-(G29+K29+F29+H29+I29+L29+M29))-(S29+U29+V29),0)","v":0},null,null,null,null,null,{"$f":"SUM(F29:N29)","v":0},{"$f":"IF(AND(AG29<40,O29>=AG29),O29-(AG29+S29),IF(AND(O29<AG29,E29=O29),O29-E29,IF(AND(E29>AG29,E29<40),E29-AG29,IF(AND(O29>AG29,E29<AG29),E29-(AG29-AC29),IF(AND(O29>AG29,E29>40),E29-(AG29-AC29+S29),IF(AND(O29>AG29,O29>40),O29-(S29+AG29),0))))))","v":0},{"$f":"AD29-U29-V29","v":0},{"$f":"$W$11","v":"Please Select"},{"$f":"$E$11","v":40},null,{"$f":"IF(AH29>$AI$12,-$AI$12,0)","v":0},null,null,{"$f":"IF(AF29=\"Yes\",S29*1.5,0)","v":0},0,null,null,null,null,null,null,null,null,null,null,null,null,0,null,null,null,null,null,null,null,null,null,null,null,null,null,null,null,{"$f":"SUM(BP22:BP28)","v":0},{"$f":"U29+E11","v":40}]
[{"$f":"IF(A28<$O$7,A28+1,IF(A28=$O$7,\"\"))","v":"2023-05-28"},null,null,"Sunday",null,null,null,null,null,null,null,null,null,null,{"$f":"SUM(E30:N30)-J30","v":0},{"$f":"IF(AND(ISNUMBER(AA30),ISNUMBER(X30)),AA30*X30,\"\")","v":""},null,{"$f":"IF(AND(ISNUMBER(AB30),ISNUMBER(X30)),AB30*X30,\"\")","v":""},null,null,{"$f":"IF(BJ30>0,BJ30,BN30)","v":0},{"$f":"IF(BK30>0,BK30,0)","v":0},null,{"$f":"IF(ISNA(INDEX('Conversion Factors'!$B$6:$B$370,MATCH('May 16 - May 31'!$Z$30:$Z$36,'Conversion Factors'!$A$6:$A$370,0))),\"\",INDEX('Conversion Factors'!$B$6:$B$370,MATCH('May 16 - May 31'!$Z$30:$Z$36,'Conversion Factors'!$A$6:$A$370,0)))","v":7.2229999999999999},null,{"$f":"A30","v":"2023-05-28"},{"$f":"IF(AND(ISNUMBER(N30),ISNUMBER($Z$12)),N30/$Z$12,\"\")","v":""},{"$f":"IF(AND(ISNUMBER(Q30),ISNUMBER($Z$12)),Q30/$Z$12,\"\")","v":""},null,null,null,null,null,{"$f":"E30+AH29","v":0},{"$f":"IF(AH30>$AI$12,AH30-($AI$12+AI29),0)","v":0},{"$f":"IF(AND(AZ30>0,AZ30),IF(BA30>0,BA30,IF(BB30>0,BB30,IF(BC30>0,BC30,IF(BF30>0,BF30,\"\")))))","v":false},{"$f":"IF(AND(AO30>0,AO30),IF(AP30>0,AP30,IF(AQ30>0,AQ30,IF(AR30>0,AR30,IF(AU30>0,AU30,\"\")))))","v":false},null,0,null,{"$f":"IF(G30=0,0,\"\")","v":0},{"$f":"IF(AND(AH30<=40,E30=G30),G30,0)","v":0},{"$f":"IF(AND(AH30<=40,E30>=G30,G30>0),O30-E30,0)","v":0},{"$f":"IF(AND(AH30<=40,E30<G30),O30-G30,0)","v":0},{"$f":"IF(AND(G30=0),G30,IF(AND(G30>0,AI30>0,G30=AT30),AT30,IF(AND(G30>0,AI30>0,G30-AT30),AT30,0)))","v":0},null,{"$f":"AS30","v":0},{"$f":"IF(AND(AH29+AU30=40,AI30>0,AI30>AU30),AI30-AU30,IF(AND(AH29+AU30=40,AI30>0,AI30<AU30,AU30+AI30=G30),AI30,IF(AND(AH29>40,AH30>40,G30=AI30),AI30,0)))","v":0},{"$f":"AV30","v":0},null,{"$f":"IF(AND(J30>0,AI30>=J30,BB30=0),O30-AI30,IF(AND(J30>0,AI30>0,BB30<=AI30),AI30-BB30,IF(AND(J30>0,AI30>0,BB30>AI30),J30-BB30,0)))","v":0},0,{"$f":"IF(AND(AH30<=40,E30=J30),J30,0)","v":0},{"$f":"IF(AND(AZ30=0),AZ30,IF(AND(AH30>40,E30>=J30),BE30,IF(AND(AH30<=40,E30>J30),J30,0)))","v":0},{"$f":"IF(AND(AH30<=40,E30<J30),O30-J30,0)","v":0},{"$f":"IF(AND(J30=0),J30,IF(AND(J30>0,AI30>0,J30=BC30),BC30,IF(AND(J30>0,AI30>0,J30-BC30),BC30,0)))","v":0},null,{"$f":"BD30","v":0},null,{"$f":"IF(AND(G30>0,E30>0),1,0)","v":0},{"$f":"40-AH30","v":40},0,{"$f":"IF(AND(BH30=1,BL30>40,E30<G30),E30-BJ30,(IF(AND(BH30=1,BL30>0,E30>=G30),G30-BJ30,0)))","v":0},{"$f":"E30","v":0},{"$f":"IF(AND(K30>0,E30>0),1,0)","v":0},{"$f":"IF(AND(BM30=1,J30>8),K30,(IF(AND(BM30=1,J30>0),J30,0)))","v":0},{"$f":"IF(AND(BM30=1,40-BL29>0,40-BL29<8),40-BL29,IF(AND(J30<K30),J30,K30))","v":0},{"$f":"IF(AND(BM30=1,BL30>40,J30<=K30),J30-BO30,IF(AND(BM30=1,BL30>0,J30>K30),K30-BO30,0))","v":0}]
[{"$f":"IF(A30<$O$7,A30+1,IF(A30=$O$7,\"\"))","v":"2023-05-29"},null,null,"Monday",null,null,null,null,null,null,null,null,null,null,{"$f":"SUM(E31:N31)-J31","v":0},{"$f":"IF(AND(ISNUMBER(AA31),ISNUMBER(X31)),AA31*X31,\"\")","v":""},null,{"$f":"IF(AND(ISNUMBER(AB31),ISNUMBER(X31)),AB31*X31,\"\")","v":""},null,null,0,{"$f":"IF(BK31>0,BK31,0)","v":0},null,{"$f":"IF(ISNA(INDEX('Conversion Factors'!$B$6:$B$370,MATCH('May 16 - May 31'!$Z$30:$Z$36,'Conversion Factors'!$A$6:$A$370,0))),\"\",INDEX('Conversion Factors'!$B$6:$B$370,MATCH('May 16 - May 31'!$Z$30:$Z$36,'Conversion Factors'!$A$6:$A$370,0)))","v":7.2229999999999999},null,"2023-05-29","","",null,null,null,null,null,0,{"$f":"IF(AH31>$AI$12,AH31-($AI$12+AI30+AI29),0)","v":0},false,{"$f":"IF(AND(AO31>0,AO31),IF(AP31>0,AP31,IF(AQ31>0,AQ31,IF(AR31>0,AR31,IF(AU31>0,AU31,0)))))","v":false},null,0,null,0,0,0,0,0,{"$f":"IF(AND(AH30<=40),40-AH30,0)","v":40},{"$f":"AS31","v":0},0,{"$f":"AV31","v":0},null,0,0,0,0,0,0,{"$f":"IF(AND(AH30<=40),40-AH30,0)","v":40},{"$f":"BD31","v":0},null,{"$f":"IF(AND(G31>0,E31>0),1,0)","v":0},40,0,0,{"$f":"SUM(E30:E31)","v":0},{"$f":"IF(AND(K31>0,E31>0),1,0)","v":0},{"$f":"IF(AND(BM31=1,J31>8),K31,(IF(AND(BM31=1,J31>0),J31,0)))","v":0},0,0]
["2023-05-30",null,null,"Tuesday",null,null,null,null,null,null,null,null,null,null,0,"",null,"",null,null,0,0,null,{"$f":"IF(ISNA(INDEX('Conversion Factors'!$B$6:$B$370,MATCH('May 16 - May 31'!$Z$30:$Z$36,'Conversion Factors'!$A$6:$A$370,0))),\"\",INDEX('Conversion Factors'!$B$6:$B$370,MATCH('May 16 - May 31'!$Z$30:$Z$36,'Conversion Factors'!$A$6:$A$370,0)))","v":7.2229999999999999},null,"2023-05-30","","",null,null,null,null,null,0,{"$f":"IF(AH32>$AI$12,AH32-($AI$12+AI31+AI30+AI29),0)","v":0},false,false,null,0,null,0,0,0,0,0,40,0,0,0,null,0,0,0,0,0,0,{"$f":"IF(AND(AH31<=40),40-AH31,0)","v":40},0,null,{"$f":"IF(AND(G32>0,E32>0),1,0)","v":0},40,0,0,{"$f":"SUM(E30:E32)","v":0},0,{"$f":"IF(AND(BM32=1,J32>8),K32,(IF(AND(BM32=1,J32>0),J32,0)))","v":0},{"$f":"IF(AND(BM32=1,40-BL31>0,40-BL31<8),40-BL31,IF(AND(J32<K32),J32,K32))","v":0},0]
["2023-05-31",null,null,"Wednesday",null,null,null,null,null,null,null,null,null,null,0,"",null,"",null,null,0,0,null,{"$f":"IF(ISNA(INDEX('Conversion Factors'!$B$6:$B$370,MATCH('May 16 - May 31'!$Z$30:$Z$36,'Conversion Factors'!$A$6:$A$370,0))),\"\",INDEX('Conversion Factors'!$B$6:$B$370,MATCH('May 16 - May 31'!$Z$30:$Z$36,'Conversion Factors'!$A$6:$A$370,0)))","v":7.2229999999999999},null,"2023-05-31","","",null,null,null,null,null,0,{"$f":"IF(AH33>$AI$12,AH33-($AI$12+AI32+AI31+AI30+AI29),0)","v":0},false,false,null,0,null,0,0,0,0,0,40,0,0,0,null,0,0,0,0,0,0,40,0,null,{"$f":"IF(AND(G33>0,E33>0),1,0)","v":0},40,0,0,{"$f":"SUM(E30:E33)","v":0},0,{"$f":"IF(AND(BM33=1,J33>8),K33,(IF(AND(BM33=1,J33>0),J33,0)))","v":0},{"$f":"IF(AND(BM33=1,40-BL32>0,40-BL32<8),40-BL32,IF(AND(J33<K33),J33,K33))","v":0},0]
["",null,null,"Thursday",null,null,null,null,null,null,null,null,null,null,0,"",null,"",null,null,0,0,null,{"$f":"IF(ISNA(INDEX('Conversion Factors'!$B$6:$B$370,MATCH('May 16 - May 31'!$Z$30:$Z$36,'Conversion Factors'!$A$6:$A$370,0))),\"\",INDEX('Conversion Factors'!$B$6:$B$370,MATCH('May 16 - May 31'!$Z$30:$Z$36,'Conversion Factors'!$A$6:$A$370,0)))","v":""},null,"","","",null,null,null,null,null,0,{"$f":"IF(AH34>$AI$12,AH34-($AI$12+AI33+AI32+AI31+AI30+AI29),0)","v":0},false,false,null,0,null,0,0,0,0,0,{"$f":"IF(AND(AH33<=40),40-AH33,0)","v":40},0,0,0,null,0,0,0,0,0,0,40,0,null,0,40,0,0,{"$f":"SUM(E30:E34)","v":0},0,0,0,0]
[false,null,null,"Friday",null,null,null,null,null,null,null,null,null,null,0,"",null,"",null,null,0,0,null,{"$f":"IF(ISNA(INDEX('Conversion Factors'!$B$6:$B$370,MATCH('May 16 - May 31'!$Z$30:$Z$36,'Conversion Factors'!$A$6:$A$370,0))),\"\",INDEX('Conversion Factors'!$B$6:$B$370,MATCH('May 16 - May 31'!$Z$30:$Z$36,'Conversion Factors'!$A$6:$A$370,0)))","v":""},null,false,"","",null,null,null,null,null,0,{"$f":"IF(AH35>$AI$12,AH35-($AI$12+AI34+AI33+AI32+AI31+AI30+AI29),0)","v":0},false,false,null,0,null,0,0,0,0,0,{"$f":"IF(AND(AH34<=40),40-AH34,0)","v":40},0,0,0,null,0,0,0,0,0,0,40,0,null,0,40,0,0,{"$f":"SUM(E30:E35)","v":0},0,0,0,{"$f":"IF(AND(BM35=1,BL35>40,J35<=K35),J35-BO35,IF(AND(BM35=1,BL35>0,J35>K35),K35-BO35,0))","v":0}]
[false,null,null,"Saturday",null,null,null,null,null,null,null,null,null,null,0,"",null,"",null,null,0,0,null,{"$f":"IF(ISNA(INDEX('Conversion Factors'!$B$6:$B$370,MATCH('May 16 - May 31'!$Z$30:$Z$36,'Conversion Factors'!$A$6:$A$370,0))),\"\",INDEX('Conversion Factors'!$B$6:$B$370,MATCH('May 16 - May 31'!$Z$30:$Z$36,'Conversion Factors'!$A$6:$A$370,0)))","v":""},null,false,"","",null,null,null,null,null,0,{"$f":"IF(AH36>$AI$12,AH36-($AI$12+AI35+AI34+AI33+AI32+AI31+AI30+AI29),0)","v":0},false,false,null,0,null,0,0,0,0,0,40,0,0,0,null,0,0,0,0,0,0,40,0,null,0,40,0,0,{"$f":"SUM(E30:E36)","v":0},0,0,0,{"$f":"IF(AND(BM36=1,BL36>40,J36<=K36),J36-BO36,IF(AND(BM36=1,BL36>0,J36>K36),K36-BO36,0))","v":0}]
["Week 3 Totals",null,null,null,{"$f":"SUM(E30:E36)","v":0},0,0,0,0,null,0,0,0,0,{"$f":"SUM(O30:O36)","v":0},{"$f":"-SUM(P30:P36)","v":0},{"$f":"SUM(Q30:Q36)","v":0},{"$f":"SUM(R30:R36)","v":0},{"$f":"IF(E37>40,(E37-40)-V37,0)","v":0},{"$f":"MROUND(AL37,0.25)","v":0},{"$f":"SUM(U30:U36)","v":0},{"$f":"SUM(V30:V36)","v":0},{"$f":"IF(E37-(E11-(G37+K37+F37+H37+I37+L37+M3))-(S37+U37+V37)>0,E37-(E11-(G37+K37+F37+H37+I37+L37+M37))-(S37+U37+V37),0)","v":0},null,null,null,null,null,{"$f":"SUM(F37:N37)","v":0},{"$f":"IF(AND(AG37<40,O37>=AG37),O37-(AG37+S37),IF(AND(O37<AG37,E37=O37),O37-E37,IF(AND(E37>AG37,E37<40),E37-AG37,IF(AND(O37>AG37,E37<AG37),E37-(AG37-AC37),IF(AND(O37>AG37,E37>40),E37-(AG37-AC37+S37),IF(AND(O37>AG37,O37>40),O37-(S37+AG37),0))))))","v":0},{"$f":"AD37-U37-V37","v":0},{"$f":"$W$11","v":"Please Select"},{"$f":"$E$11","v":40},null,{"$f":"IF(AH37>$AI$12,-$AI$12,0)","v":0},null,null,{"$f":"IF(AF37=\"Yes\",S37*1.5,0)","v":0},null,null,null,null,null,null,null,null,null,null,null,null,null,null,null,null,null,null,null,null,null,0,null,null,null,null,null,null,null,{"$f":"SUM(BP30:BP36)","v":0},{"$f":"U37+E11","v":40}]
[{"$f":"IF(A36<$O$7,A36+1,IF(A36=$O$7,\"\"))","v":false},null,null,"Sunday",null,null,null,null,null,null,null,null,null,null,{"$f":"SUM(E38:N38)-J38","v":0},{"$f":"IF(AND(ISNUMBER(AA38),ISNUMBER(X38)),AA38*X38,\"\")","v":""},null,{"$f":"IF(AND(ISNUMBER(AB38),ISNUMBER(X38)),AB38*X38,\"\")","v":""},null,null,0,{"$f":"IF(BK38>0,BK38,0)","v":0},null,{"$f":"IF(ISNA(INDEX('Conversion Factors'!$B$6:$B$370,MATCH('May 16 - May 31'!$Z$38:$Z$44,'Conversion Factors'!$A$6:$A$370,0))),\"\",INDEX('Conversion Factors'!$B$6:$B$370,MATCH('May 16 - May 31'!$Z$38:$Z$44,'Conversion Factors'!$A$6:$A$370,0)))","v":""},null,{"$f":"A38","v":false},{"$f":"IF(AND(ISNUMBER(N38),ISNUMBER($Z$12)),N38/$Z$12,\"\")","v":""},{"$f":"IF(AND(ISNUMBER(Q38),ISNUMBER($Z$12)),Q38/$Z$12,\"\")","v":""},null,null,null,null,null,{"$f":"E38+AH37","v":0},{"$f":"IF(AH38>$AI$12,AH38-($AI$12+AI37),0)","v":0},{"$f":"IF(AND(AZ38>0,AZ38),IF(BA38>0,BA38,IF(BB38>0,BB38,IF(BC38>0,BC38,IF(BF38>0,BF38,\"\")))))","v":false},{"$f":"IF(AND(AO38>0,AO38),IF(AP38>0,AP38,IF(AQ38>0,AQ38,IF(AR38>0,AR38,IF(AU38>0,AU38,\"\")))))","v":false},null,{"$f":"J38","v":0},null,{"$f":"IF(G38=0,0,\"\")","v":0},{"$f":"IF(AND(AH38<=40,E38=G38),G38,0)","v":0},{"$f":"IF(AND(AH38<=40,E38>=G38,G38>0),O38-E38,0)","v":0},{"$f":"IF(AND(AH38<=40,E38<G38),O38-G38,0)","v":0},{"$f":"IF(AND(G38=0),G38,IF(AND(G38>0,AI38>0,G38=AT38),AT38,IF(AND(G38>0,AI38>0,G38-AT38),AT38,0)))","v":0},null,{"$f":"AS38","v":0},{"$f":"IF(AND(AH37+AU38=40,AI38>0,AI38>AU38),AI38-AU38,IF(AND(AH37+AU38=40,AI38>0,AI38<AU38,AU38+AI38=G38),AI38,IF(AND(AH37>40,AH38>40,G38=AI38),AI38,0)))","v":0},{"$f":"AV38","v":0},null,{"$f":"IF(AND(J38>0,AI38>=J38,BB38=0),O38-AI38,IF(AND(J38>0,AI38>0,BB38<=AI38),AI38-BB38,IF(AND(J38>0,AI38>0,BB38>AI38),J38-BB38,0)))","v":0},{"$f":"IF(J38=0,0,\"\")","v":0},{"$f":"IF(AND(AH38<=40,E38=J38),J38,0)","v":0},{"$f":"IF(AND(AZ38=0),AZ38,IF(AND(AH38>40,E38>=J38),BE38,IF(AND(AH38<=40,E38>J38),J38,0)))","v":0},{"$f":"IF(AND(AH38<=40,E38<J38),O38-J38,0)","v":0},{"$f":"IF(AND(J38=0),J38,IF(AND(J38>0,AI38>0,J38=BC38),BC38,IF(AND(J38>0,AI38>0,J38-BC38),BC38,0)))","v":0},null,{"$f":"BD38","v":0},null,{"$f":"IF(AND(G38>0,E38>0),1,0)","v":0},{"$f":"40-AH38","v":40},0,{"$f":"IF(AND(BH38=1,BL38>40,E38<G38),E38-BJ38,(IF(AND(BH38=1,BL38>0,E38>=G38),G38-BJ38,0)))","v":0},{"$f":"E38","v":0},{"$f":"IF(AND(K38>0,E38>0),1,0)","v":0},{"$f":"IF(AND(BM38=1,J38>8),K38,(IF(AND(BM38=1,J38>0),J38,0)))","v":0},{"$f":"IF(AND(BM38=1,40-BL37>0,40-BL37<8),40-BL37,IF(AND(J38<K38),J38,K38))","v":0},{"$f":"IF(AND(BM38=1,BL38>40,J38<=K38),J38-BO38,IF(AND(BM38=1,BL38>0,J38>K38),K38-BO38,0))","v":0}]
[{"$f":"IF(A38<$O$7,A38+1,IF(A38=$O$7,\"\"))","v":false},null,null,"Monday",null,null,null,0,null,null,null,null,null,null,{"$f":"SUM(E39:N39)-J39","v":0},{"$f":"IF(AND(ISNUMBER(AA39),ISNUMBER(X39)),AA39*X39,\"\")","v":""},null,{"$f":"IF(AND(ISNUMBER(AB39),ISNUMBER(X39)),AB39*X39,\"\")","v":""},null,null,0,{"$f":"IF(BK39>0,BK39,0)","v":0},null,{"$f":"IF(ISNA(INDEX('Conversion Factors'!$B$6:$B$370,MATCH('May 16 - May 31'!$Z$38:$Z$44,'Conversion Factors'!$A$6:$A$370,0))),\"\",INDEX('Conversion Factors'!$B$6:$B$370,MATCH('May 16 - May 31'!$Z$38:$Z$44,'Conversion Factors'!$A$6:$A$370,0)))","v":""},null,false,"","",null,null,null,null,null,0,{"$f":"IF(AH39>$AI$12,AH39-($AI$12+AI38+AI37),0)","v":0},false,{"$f":"IF(AND(AO39>0,AO39),IF(AP39>0,AP39,IF(AQ39>0,AQ39,IF(AR39>0,AR39,IF(AU39>0,AU39,0)))))","v":false},null,0,null,0,0,0,0,0,{"$f":"IF(AND(AH38<=40),40-AH38,0)","v":40},{"$f":"AS39","v":0},0,{"$f":"AV39","v":0},null,0,0,0,0,0,0,{"$f":"IF(AND(AH38<=40),40-AH38,0)","v":40},{"$f":"BD39","v":0},null,{"$f":"IF(AND(G39>0,E39>0),1,0)","v":0},40,0,0,{"$f":"SUM(E38:E39)","v":0},{"$f":"IF(AND(K39>0,E39>0),1,0)","v":0},{"$f":"IF(AND(BM39=1,J39>8),K39,(IF(AND(BM39=1,J39>0),J39,0)))","v":0},0,0]
[false,null,null,"Tuesday",null,null,null,null,null,0,0,null,null,null,{"$f":"SUM(E40:N40)-J40","v":0},"",null,"",null,null,0,0,null,{"$f":"IF(ISNA(INDEX('Conversion Factors'!$B$6:$B$370,MATCH('May 16 - May 31'!$Z$38:$Z$44,'Conversion Factors'!$A$6:$A$370,0))),\"\",INDEX('Conversion Factors'!$B$6:$B$370,MATCH('May 16 - May 31'!$Z$38:$Z$44,'Conversion Factors'!$A$6:$A$370,0)))","v":""},null,false,"","",null,null,null,null,null,0,{"$f":"IF(AH40>$AI$12,AH40-($AI$12+AI39+AI38+AI37),0)","v":0},false,false,null,0,null,0,0,0,0,0,40,0,0,0,null,0,0,0,0,0,0,{"$f":"IF(AND(AH39<=40),40-AH39,0)","v":40},0,null,{"$f":"IF(AND(G40>0,E40>0),1,0)","v":0},40,0,0,{"$f":"SUM(E38:E40)","v":0},0,{"$f":"IF(AND(BM40=1,J40>8),K40,(IF(AND(BM40=1,J40>0),J40,0)))","v":0},{"$f":"IF(AND(BM40=1,40-BL39>0,40-BL39<8),40-BL39,IF(AND(J40<K40),J40,K40))","v":0},0]
[false,null,null,"Wednesday",null,null,null,null,null,null,null,null,null,null,0,"",null,"",null,null,0,0,null,{"$f":"IF(ISNA(INDEX('Conversion Factors'!$B$6:$B$370,MATCH('May 16 - May 31'!$Z$38:$Z$44,'Conversion Factors'!$A$6:$A$370,0))),\"\",INDEX('Conversion Factors'!$B$6:$B$370,MATCH('May 16 - May 31'!$Z$38:$Z$44,'Conversion Factors'!$A$6:$A$370,0)))","v":""},null,false,"","",null,null,null,null,null,0,{"$f":"IF(AH41>$AI$12,AH41-($AI$12+AI40+AI39+AI38+AI37),0)","v":0},false,false,null,0,null,0,0,0,0,0,40,0,0,0,null,0,0,0,0,0,0,40,0,null,{"$f":"IF(AND(G41>0,E41>0),1,0)","v":0},40,0,0,{"$f":"SUM(E38:E41)","v":0},0,{"$f":"IF(AND(BM41=1,J41>8),K41,(IF(AND(BM41=1,J41>0),J41,0)))","v":0},{"$f":"IF(AND(BM41=1,40-BL40>0,40-BL40<8),40-BL40,IF(AND(J41<K41),J41,K41))","v":0},0]
[false,null,null,"Thursday",null,null,null,null,null,null,null,null,null,null,0,"",null,"",null,null,0,0,null,{"$f":"IF(ISNA(INDEX('Conversion Factors'!$B$6:$B$370,MATCH('May 16 - May 31'!$Z$38:$Z$44,'Conversion Factors'!$A$6:$A$370,0))),\"\",INDEX('Conversion Factors'!$B$6:$B$370,MATCH('May 16 - May 31'!$Z$38:$Z$44,'Conversion Factors'!$A$6:$A$370,0)))","v":""},null,false,"","",null,null,null,null,null,0,{"$f":"IF(AH42>$AI$12,AH42-($AI$12+AI41+AI40+AI39+AI38+AI37),0)","v":0},false,false,null,0,null,0,0,0,0,0,{"$f":"IF(AND(AH41<=40),40-AH41,0)","v":40},0,0,0,null,0,0,0,0,0,0,40,0,null,0,40,0,0,{"$f":"SUM(E38:E42)","v":0},0,0,0,0]
[false,null,null,"Friday",null,null,null,null,null,null,null,null,null,null,0,"",null,"",null,null,0,0,null,{"$f":"IF(ISNA(INDEX('Conversion Factors'!$B$6:$B$370,MATCH('May 16 - May 31'!$Z$38:$Z$44,'Conversion Factors'!$A$6:$A$370,0))),\"\",INDEX('Conversion Factors'!$B$6:$B$370,MATCH('May 16 - May 31'!$Z$38:$Z$44,'Conversion Factors'!$A$6:$A$370,0)))","v":""},null,false,"","",null,null,null,null,null,0,{"$f":"IF(AH43>$AI$12,AH43-($AI$12+AI42+AI41+AI40+AI39+AI38+AI37),0)","v":0},false,false,null,0,null,0,0,0,0,0,{"$f":"IF(AND(AH42<=40),40-AH42,0)","v":40},0,0,0,null,0,0,0,0,0,0,40,0,null,0,40,0,0,{"$f":"SUM(E38:E43)","v":0},0,0,0,{"$f":"IF(AND(BM43=1,BL43>40,J43<=K43),J43-BO43,IF(AND(BM43=1,BL43>0,J43>K43),K43-BO43,0))","v":0}]
[false,null,null,"Saturday",null,null,null,null,null,null,null,null,null,null,{"$f":"SUM(E44:N44)-J44","v":0},"",null,"",null,null,0,0,null,{"$f":"IF(ISNA(INDEX('Conversion Factors'!$B$6:$B$370,MATCH('May 16 - May 31'!$Z$38:$Z$44,'Conversion Factors'!$A$6:$A$370,0))),\"\",INDEX('Conversion Factors'!$B$6:$B$370,MATCH('May 16 - May 31'!$Z$38:$Z$44,'Conversion Factors'!$A$6:$A$370,0)))","v":""},null,false,"","",null,null,null,null,null,0,{"$f":"IF(AH44>$AI$12,AH44-($AI$12+AI43+AI42+AI41+AI40+AI39+AI38+AI37),0)","v":0},false,false,null,0,null,0,0,0,0,0,40,0,0,0,null,0,0,0,0,0,0,40,0,null,0,40,0,0,{"$f":"SUM(E38:E44)","v":0},0,0,0,{"$f":"IF(AND(BM44=1,BL44>40,J44<=K44),J44-BO44,IF(AND(BM44=1,BL44>0,J44>K44),K44-BO44,0))","v":0}]
["Week 4 Totals",null,null,null,{"$f":"SUM(E38:E44)","v":0},{"$f":"SUM(F38:F44)","v":0},0,0,0,null,0,0,0,0,{"$f":"SUM(O38:O44)","v":0},{"$f":"-SUM(P38:P44)","v":0},{"$f":"SUM(Q38:Q44)","v":0},{"$f":"SUM(R38:R44)","v":0},{"$f":"IF(E45>40,(E45-40)-V45,0)","v":0},{"$f":"MROUND(AL45,0.25)","v":0},{"$f":"SUM(U38:U44)","v":0},{"$f":"SUM(V38:V44)","v":0},{"$f":"IF(E45-(E11-(G45+K45+F45+H45+I45+L45+M45))-(S45+U45+V45)>0,E45-(E11-(G45+K45+F45+H45+I45+L45+M45))-(S45+U45+V45),0)","v":0},null,null,null,null,null,{"$f":"SUM(F45:N45)","v":0},{"$f":"IF(AND(AG45<40,O45>=AG45),O45-(AG45+S45),IF(AND(O45<AG45,E45=O45),O45-E45,IF(AND(E45>AG45,E45<40),E45-AG45,IF(AND(O45>AG45,E45<AG45),E45-(AG45-AC45),IF(AND(O45>AG45,E45>40),E45-(AG45-AC45+S45),IF(AND(O45>AG45,O45>40),O45-(S45+AG45),0))))))","v":0},{"$f":"AD45-U45-V45","v":0},{"$f":"$W$11","v":"Please Select"},{"$f":"$E$11","v":40},null,{"$f":"IF(AH45>$AI$12,-$AI$12,0)","v":0},null,null,{"$f":"IF(AF45=\"Yes\",S45*1.5,0)","v":0},null,null,null,null,null,null,null,null,null,null,null,null,null,null,null,null,null,null,null,null,null,null,null,null,null,null,null,null,null,{"$f":"SUM(BP38:BP44)","v":0},{"$f":"E44+E11","v":40}]
[null,null,null,null,null,null,null,null,"Total-Net Previous Week",null,null,null,null,null,{"$f":"(O21+O29+O37+O45)-O13","v":0},{"$f":"(P21+P29+P37+P45)-P13","v":0},0,0,0,0,0,0,0,0]
[]
[null,null,null,null,null,null,null,null,null,null,null,null,null,null,"Leave/Leave Without Pay Policy"]
["Employee signature",null,null,null,null,null,"Date",null,null,null,null,null,null,null,"Overtime/Compensatory Time"]
["I certify this record is accurate and accounts for my time during the indicated period.",null,null,null,null,null,null,null,null,null,null,null,null,null,"Time Sheet Definitions/Policies"]
[]
[null,null,null,null,null,null,null,null,null,null,"“Actual Work Hours During Administrative Close Period” – Only key the hours actually worked during the admministrative closing period into this field. "]
[]
["Manager signature",null,null,null,null,null,"Date"]
["I certify the hours recorded and coded on this form are correct and in compliance with University policy.",null,null,null,null,null,null,null,null,null,"“Administrative Closing/Leave Period field.”  Entter the number of hours of the declared period of administrative closing. (The total hours worked during the entire day will be entered into the “Actual Hours Worked” field.)"]

{"sheet":"June 1 - June 15","index":29,"n_rows":55,"n_cols":69,"rows_kept":55,"cut":false,"hidden":false,"merged":[[47,14,47,22],[48,14,48,19],[49,14,49,22],[51,10,53,22],[54,10,56,22],[45,8,45,13],[34,0,34,2],[35,0,35,2],[36,0,36,2],[37,0,37,2],[38,0,38,2],[39,0,39,2],[40,0,40,2],[41,0,41,2],[42,0,42,2],[43,0,43,2],[44,0,44,2],[33,0,33,2],[22,0,22,2],[23,0,23,2],[24,0,24,2],[25,0,25,2],[26,0,26,2],[27,0,27,2],[28,0,28,2],[29,0,29,2],[30,0,30,2],[31,0,31,2],[32,0,32,2],[21,0,21,2],[11,0,11,2],[11,29,11,30],[12,0,12,3],[13,0,13,2],[14,0,14,2],[15,0,15,2],[16,0,16,2],[17,0,17,2],[18,0,18,2],[19,0,19,2],[20,0,20,2],[10,40,10,46],[6,2,6,7],[6,8,6,13],[6,14,6,19],[7,2,7,7],[7,8,7,13],[7,14,7,19],[10,0,10,3],[10,4,10,5],[10,6,10,17],[10,18,10,21],[10,22,10,23],[0,0,0,22],[1,0,1,22],[3,0,3,23],[5,2,5,7],[5,8,5,13],[5,14,5,19]]}
["Mississippi State University"]
["Non-Exempt Employee Semi-Monthly Time Report"]
[]
["Instructions:  The Fair Labor Standards Act requires that a record of hours worked on a weekly basis be maintained for all employees except executive, administrative, managerial, faculty, and professional (non-faculty).  Department/unit heads are responsible for compiling and maintaining this record in department files on each covered employee for a period of at least (3) years."]
[]
["MSU ID #:",null,{"$f":"'July 1 - July 15'!C6","v":0},null,null,null,null,null,"Pay period start date:",null,null,null,null,null,{"$f":"'Dates & Notes'!$A$24","v":"2023-06-01"},null,null,null,null,null,null,null,null,null,null,{"$f":"TEXT(O6,\"dddd\")","v":"Thursday"},null,null,null,"Please Select"]
["Name:",null,{"$f":"'July 1 - July 15'!C7","v":0},null,null,null,null,null,"Pay period end date:",null,null,null,null,null,{"$f":"'Dates & Notes'!$B$24","v":"2023-06-15"},null,null,null,null,null,null,null,null,null,null,null,null,null,null,"No"]
["Department:",null,{"$f":"'July 1 - July 15'!C8","v":0},null,null,null,null,null,"Pay Period Number:",null,null,null,null,null,{"$f":"'Dates & Notes'!$C$24","v":11},null,null,null,null,null,null,null,null,null,null,null,null,null,null,"Yes"]
[]
[]
["Employee Scheduled Hours Per Week",null,null,null,40,null,"FIELDS MUST BE ENTERED FOR CALULATIONS TO WORK PROPERLY",null,null,null,null,null,null,null,null,null,null,null,"Receive Compensatory Time",null,null,null,"Please Select",null,null,null,null,null,null,null,null,null,null,null,"Over 40",null,null,null,null,null,"HOW ANALYSIS"]
["Work Week Dates",null,null,"Day of The Week","Actual Hours Worked","Compensatory Time Used","Holiday","Medical Leave","Personal Leave","Actual Wrk Hrs During  Admin Close Period","Administrative Closing/Leave Period","Jury Duty","Military Leave","Leave Without Pay","Totals","DOC-Payroll Conversion","RTO","RTO-Payroll Conversion","Overtime Hours","Hours Transferred to Comp. Record","HOW-Holiday Pay or Admin/Leave Closing","HOT-Holiday Pay","SST-Payroll","Conversion Factor",null,8,"DOC","RTO",null,"SST",null,null,null,"Cumm Actual HRS",40,"Administrative Leave","HOW-Holiday Pay","Comp. Time","Administrative/Schedule",null,"Holiday=0\n1",2,3,4,null,"<=40\n5",null,"HOT Workup","HOT-Holiday Pay (HOLIDAY PAY)",null,"HOT-Administrative HRS","Administrative=0\n1",2,3,4,null,"<=40\n5",null,null,"Holiday Flag","Up to 40","How","Hot","Actual Hours Worked","Admin Flag","Admin","Admin HOW","Admin OVT"]
["Hours-Previous WK (Due to Split WK)",null,null,null,{"$f":"SUM(E14:E17)","v":0},0,0,0,0,0,0,0,0,0,{"$f":"SUM(E13:N13)-J13","v":0},{"$f":"'May 16 - May 31'!P37","v":0},{"$f":"'May 16 - May 31'!Q37","v":0},{"$f":"'May 16 - May 31'!R37","v":0},{"$f":"'May 16 - May 31'!S37","v":0},{"$f":"'May 16 - May 31'!T37","v":0},{"$f":"'May 16 - May 31'!U37","v":0},{"$f":"'May 16 - May 31'!V37","v":0},{"$f":"'May 16 - May 31'!W37","v":0},null,null,null,null,null,null,null,null,null,null,null,null,{"$f":"IF(AND(AM13=0,J13=0),AM13,IF(AND(E13>AM13,J13=0),J13,IF(AND(J13<AM13,AI13=0),J13,IF(AND(AM13=J13,AI13<AM13),AM13-AI13,IF(AND(J13=AM13,AI13=AM13),AI13,IF(AND(J13<AM13,AI13>0),AM13-J13,IF(AND(AM13>J13,AI13<E13),E13-AI13,IF(AND(E13>AM13,AI13=E13),O13-AI13,0))))))))","v":0},{"$f":"IF(AND(G13=0,E13>G13),G13,IF(AND(E13>G13,AI13=0),G13,IF(AND(E13<G13,AI13=0),E13,IF(AND(E13=G13,AI13<G13),G13-AI13,IF(AND(E13=G13,AI13=G13),AI13,IF(AND(E13<G13,AI13>0),G13-E13,IF(AND(E13>G13,AI13<E13),E13-AI13,IF(AND(E13>G13,AI13=E13),O13-AI13,0))))))))","v":0},null,{"$f":"K13","v":0}]
[{"$f":"IF(EXACT(D14,$Z$6)=TRUE,$O$6,IF(A12=0,\"\",IF(A12<$O$7,A12+1,IF(A12=$O$7,\"\"))))","v":false},null,null,"Sunday",{"$f":"'May 16 - May 31'!E30","v":0},{"$f":"'May 16 - May 31'!F30","v":0},{"$f":"'May 16 - May 31'!G30","v":0},{"$f":"'May 16 - May 31'!H30","v":0},{"$f":"'May 16 - May 31'!I30","v":0},{"$f":"'May 16 - May 31'!J30","v":0},{"$f":"'May 16 - May 31'!K30","v":0},{"$f":"'May 16 - May 31'!L30","v":0},{"$f":"'May 16 - May 31'!M30","v":0},{"$f":"'May 16 - May 31'!N30","v":0},{"$f":"SUM(E14:N14)-J14","v":0},{"$f":"IF(AND(ISNUMBER(AA14),ISNUMBER(X14)),AA14*X14,\"\")","v":""},null,{"$f":"IF(AND(ISNUMBER(AB14),ISNUMBER(X14)),AB14*X14,\"\")","v":""},null,null,{"$f":"IF(BJ14>0,BJ14,BN14)","v":0},{"$f":"IF(BK14>0,BK14,0)","v":0},null,{"$f":"IF(ISNA(INDEX('Conversion Factors'!$B$6:$B$371,MATCH('June 1 - June 15'!$Z$14:$Z$20,'Conversion Factors'!$A$6:$A$371,0))),\"\",INDEX('Conversion Factors'!$B$6:$B$371,MATCH('June 1 - June 15'!$Z$14:$Z$20,'Conversion Factors'!$A$6:$A$371,0)))","v":""},null,{"$f":"A14","v":false},{"$f":"IF(AND(ISNUMBER(N14),ISNUMBER($Z$12)),N14/$Z$12,\"\")","v":0},{"$f":"IF(AND(ISNUMBER(Q14),ISNUMBER($Z$12)),Q14/$Z$12,\"\")","v":""},null,null,null,null,null,{"$f":"E14","v":0},{"$f":"IF(AH14>$AI$12,AH14-$AI$12,0)","v":0},{"$f":"IF(AND(AZ14>0,AZ14),IF(BA14>0,BA14,IF(BB14>0,BB14,IF(BC14>0,BC14,IF(BF14>0,BF14,\"\")))))","v":false},{"$f":"IF(AND(AO14>0,AO14),IF(AP14>0,AP14,IF(AQ14>0,AQ14,IF(AR14>0,AR14,IF(AU14>0,AU14,\"\")))))","v":false},null,{"$f":"J14","v":0},null,{"$f":"IF(G14=0,0,\"\")","v":0},{"$f":"IF(AND(AH14<=40,E14=G14),G14,0)","v":0},{"$f":"IF(AND(AH14<=40,E14>=G14,G14>0),O14-E14,0)","v":0},{"$f":"IF(AND(AH14<=40,E14<G14),O14-G14,0)","v":0},{"$f":"IF(AND(G14=0),G14,IF(AND(G14>0,AI14>0,G14=AT14),AT14,IF(AND(G14>0,AI14>0,G14-AT14),AT14,0)))","v":0},null,{"$f":"AS14","v":0},{"$f":"IF(AND(AH13+AU14=40,AI14>0,AI14>AU14),AI14-AU14,IF(AND(AH13+AU14=40,AI14>0,AI14<AU14,AU14+AI14=G14),AI14,IF(AND(AH13>40,AH14>40,G14=AI14),AI14,0)))","v":0},{"$f":"AV14","v":0},null,{"$f":"IF(AND(J14>0,AI14>=J14,BB14=0),O14-AI14,IF(AND(J14>0,AI14>0,BB14<=AI14),AI14-BB14,IF(AND(J14>0,AI14>0,BB14>AI14),J14-BB14,0)))","v":0},{"$f":"IF(J14=0,0,\"\")","v":0},{"$f":"IF(AND(AH14<=40,E14=J14),J14,0)","v":0},{"$f":"IF(AND(AZ14=0),AZ14,IF(AND(AH14>40,E14>=J14),BE14,IF(AND(AH14<=40,E14>J14),J14,0)))","v":0},{"$f":"IF(AND(AH14<=40,E14<J14),O14-J14,0)","v":0},{"$f":"IF(AND(J14=0),J14,IF(AND(J14>0,AI14>0,J14=BC14),BC14,IF(AND(J14>0,AI14>0,J14-BC14),BC14,0)))","v":0},null,{"$f":"BD14","v":0},null,{"$f":"IF(AND(G14>0,E14>0),1,0)","v":0},{"$f":"40-AH14","v":40},{"$f":"IF(AND(BH14=1,E14<8),E14,(IF(AND(BH14=1,E14>0),G14,0)))","v":0},{"$f":"IF(AND(BH14=1,BL14>40,E14<G14),E14-BJ14,(IF(AND(BH14=1,BL14>0,E14>=G14),G14-BJ14,0)))","v":0},{"$f":"E14","v":0},{"$f":"IF(AND(K14>0,E14>0),1,0)","v":0},{"$f":"IF(AND(BM14=1,J14>8),K14,(IF(AND(BM14=1,J14>0),J14,0)))","v":0},{"$f":"IF(AND(BM14=1,40-BL13>0,40-BL13<8),40-BL13,IF(AND(J14<K14),J14,K14))","v":0},{"$f":"IF(AND(BM14=1,BL14>40,J14<=K14),J14-BO14,IF(AND(BM14=1,BL14>0,J14>K14),K14-BO14,0))","v":0}]
[{"$f":"IF(EXACT(D15,$Z$6)=TRUE,$O$6,IF(A14=0,\"\",IF(A14<$O$7,A14+1,IF(A14=$O$7,\"\"))))","v":false},null,null,"Monday",{"$f":"'May 16 - May 31'!E31","v":0},{"$f":"'May 16 - May 31'!F31","v":0},{"$f":"'May 16 - May 31'!G31","v":0},{"$f":"'May 16 - May 31'!H31","v":0},{"$f":"'May 16 - May 31'!I31","v":0},{"$f":"'May 16 - May 31'!J31","v":0},{"$f":"'May 16 - May 31'!K31","v":0},{"$f":"'May 16 - May 31'!L31","v":0},{"$f":"'May 16 - May 31'!M31","v":0},{"$f":"'May 16 - May 31'!N31","v":0},{"$f":"SUM(E15:N15)-J15","v":0},{"$f":"IF(AND(ISNUMBER(AA15),ISNUMBER(X15)),AA15*X15,\"\")","v":""},null,{"$f":"IF(AND(ISNUMBER(AB15),ISNUMBER(X15)),AB15*X15,\"\")","v":""},null,null,{"$f":"IF(BJ15>0,BJ15,BN15)","v":0},{"$f":"IF(BK15>0,BK15,0)","v":0},null,{"$f":"IF(ISNA(INDEX('Conversion Factors'!$B$6:$B$371,MATCH('June 1 - June 15'!$Z$14:$Z$20,'Conversion Factors'!$A$6:$A$371,0))),\"\",INDEX('Conversion Factors'!$B$6:$B$371,MATCH('June 1 - June 15'!$Z$14:$Z$20,'Conversion Factors'!$A$6:$A$371,0)))","v":""},null,false,0,"",null,null,null,null,null,{"$f":"E15+AH14","v":0},{"$f":"IF(AH15>$AI$12,AH15-($AI$12+AI14),0)","v":0},{"$f":"IF(AND(AZ15>0,AZ15),IF(BA15>0,BA15,IF(BB15>0,BB15,IF(BC15>0,BC15,IF(BF15>0,BF15,\"\")))))","v":false},{"$f":"IF(AND(AO15>0,AO15),IF(AP15>0,AP15,IF(AQ15>0,AQ15,IF(AR15>0,AR15,IF(AU15>0,AU15,0)))))","v":false},null,0,null,0,0,0,0,0,{"$f":"IF(AND(AH14<=40),40-AH14,0)","v":40},{"$f":"AS15","v":0},0,{"$f":"AV15","v":0},null,0,0,0,0,0,0,{"$f":"IF(AND(AH14<=40),40-AH14,0)","v":40},{"$f":"BD15","v":0},null,{"$f":"IF(AND(G15>0,E15>0),1,0)","v":0},40,0,0,{"$f":"SUM(E14:E15)","v":0},{"$f":"IF(AND(K15>0,E15>0),1,0)","v":0},{"$f":"IF(AND(BM15=1,J15>8),K15,(IF(AND(BM15=1,J15>0),J15,0)))","v":0},0,0]
[false,null,null,"Tuesday",{"$f":"'May 16 - May 31'!E32","v":0},{"$f":"'May 16 - May 31'!F32","v":0},{"$f":"'May 16 - May 31'!G32","v":0},{"$f":"'May 16 - May 31'!H32","v":0},{"$f":"'May 16 - May 31'!I32","v":0},{"$f":"'May 16 - May 31'!J32","v":0},{"$f":"'May 16 - May 31'!K32","v":0},{"$f":"'May 16 - May 31'!L32","v":0},{"$f":"'May 16 - May 31'!M32","v":0},{"$f":"'May 16 - May 31'!N32","v":0},{"$f":"SUM(E16:N16)-J16","v":0},"",null,"",null,null,{"$f":"IF(BJ16>0,BJ16,BN16)","v":0},0,null,{"$f":"IF(ISNA(INDEX('Conversion Factors'!$B$6:$B$371,MATCH('June 1 - June 15'!$Z$14:$Z$20,'Conversion Factors'!$A$6:$A$371,0))),\"\",INDEX('Conversion Factors'!$B$6:$B$371,MATCH('June 1 - June 15'!$Z$14:$Z$20,'Conversion Factors'!$A$6:$A$371,0)))","v":""},null,false,0,"",null,null,null,null,null,0,{"$f":"IF(AH16>$AI$12,AH16-($AI$12+AI15+AI14),0)","v":0},false,false,null,0,null,0,0,0,0,0,40,0,0,0,null,0,0,0,0,0,0,{"$f":"IF(AND(AH15<=40),40-AH15,0)","v":40},0,null,{"$f":"IF(AND(G16>0,E16>0),1,0)","v":0},40,0,0,{"$f":"SUM(E14:E16)","v":0},0,{"$f":"IF(AND(BM16=1,J16>8),K16,(IF(AND(BM16=1,J16>0),J16,0)))","v":0},{"$f":"IF(AND(BM16=1,40-BL15>0,40-BL15<8),40-BL15,IF(AND(J16<K16),J16,K16))","v":0},0]
[false,null,null,"Wednesday",{"$f":"'May 16 - May 31'!E33","v":0},{"$f":"'May 16 - May 31'!F33","v":0},{"$f":"'May 16 - May 31'!G33","v":0},{"$f":"'May 16 - May 31'!H33","v":0},{"$f":"'May 16 - May 31'!I33","v":0},{"$f":"'May 16 - May 31'!J33","v":0},{"$f":"'May 16 - May 31'!K33","v":0},{"$f":"'May 16 - May 31'!L33","v":0},{"$f":"'May 16 - May 31'!M33","v":0},{"$f":"'May 16 - May 31'!N33","v":0},{"$f":"SUM(E17:N17)-J17","v":0},"",null,"",null,null,0,0,null,{"$f":"IF(ISNA(INDEX('Conversion Factors'!$B$6:$B$371,MATCH('June 1 - June 15'!$Z$14:$Z$20,'Conversion Factors'!$A$6:$A$371,0))),\"\",INDEX('Conversion Factors'!$B$6:$B$371,MATCH('June 1 - June 15'!$Z$14:$Z$20,'Conversion Factors'!$A$6:$A$371,0)))","v":""},null,false,0,"",null,null,null,null,null,0,{"$f":"IF(AH17>$AI$12,AH17-($AI$12+AI16+AI15+AI14),0)","v":0},false,false,null,0,null,0,0,0,0,0,40,0,0,0,null,0,0,0,0,0,0,40,0,null,0,40,0,0,{"$f":"SUM(E14:E17)","v":0},0,{"$f":"IF(AND(BM17=1,J17>8),K17,(IF(AND(BM17=1,J17>0),J17,0)))","v":0},{"$f":"IF(AND(BM17=1,40-BL16>0,40-BL16<8),40-BL16,IF(AND(J17<K17),J17,K17))","v":0},0]
["2023-06-01",null,null,"Thursday",null,null,null,null,null,null,null,null,null,null,0,"",null,"",null,null,0,0,null,{"$f":"IF(ISNA(INDEX('Conversion Factors'!$B$6:$B$371,MATCH('June 1 - June 15'!$Z$14:$Z$20,'Conversion Factors'!$A$6:$A$371,0))),\"\",INDEX('Conversion Factors'!$B$6:$B$371,MATCH('June 1 - June 15'!$Z$14:$Z$20,'Conversion Factors'!$A$6:$A$371,0)))","v":7.8789999999999996},null,"2023-06-01","","",null,null,null,null,null,0,{"$f":"IF(AH18>$AI$12,AH18-($AI$12+AI17+AI16+AI15+AI14),0)","v":0},false,false,null,0,null,0,0,0,0,0,{"$f":"IF(AND(AH17<=40),40-AH17,0)","v":40},0,0,0,null,0,0,0,0,0,0,40,0,null,0,40,0,0,{"$f":"SUM(E14:E18)","v":0},0,0,0,0]
["2023-06-02",null,null,"Friday",null,null,null,null,null,null,null,null,null,null,0,"",null,"",null,null,0,0,null,{"$f":"IF(ISNA(INDEX('Conversion Factors'!$B$6:$B$371,MATCH('June 1 - June 15'!$Z$14:$Z$20,'Conversion Factors'!$A$6:$A$371,0))),\"\",INDEX('Conversion Factors'!$B$6:$B$371,MATCH('June 1 - June 15'!$Z$14:$Z$20,'Conversion Factors'!$A$6:$A$371,0)))","v":7.8789999999999996},null,"2023-06-02","","",null,null,null,null,null,0,{"$f":"IF(AH19>$AI$12,AH19-($AI$12+AI18+AI17+AI16+AI15+AI14),0)","v":0},false,false,null,0,null,0,0,0,0,0,{"$f":"IF(AND(AH18<=40),40-AH18,0)","v":40},0,0,0,null,0,0,0,0,0,0,40,0,null,0,40,0,0,{"$f":"SUM(E14:E19)","v":0},0,0,0,{"$f":"IF(AND(BM19=1,BL19>40,J19<=K19),J19-BO19,IF(AND(BM19=1,BL19>0,J19>K19),K19-BO19,0))","v":0}]
["2023-06-03",null,null,"Saturday",null,null,null,null,null,null,null,null,null,null,{"$f":"SUM(E20:N20)-J20","v":0},"",null,"",null,null,0,0,null,{"$f":"IF(ISNA(INDEX('Conversion Factors'!$B$6:$B$371,MATCH('June 1 - June 15'!$Z$14:$Z$20,'Conversion Factors'!$A$6:$A$371,0))),\"\",INDEX('Conversion Factors'!$B$6:$B$371,MATCH('June 1 - June 15'!$Z$14:$Z$20,'Conversion Factors'!$A$6:$A$371,0)))","v":7.8789999999999996},null,"2023-06-03","","",null,null,null,null,null,0,{"$f":"IF(AH20>$AI$12,AH20-($AI$12+AI19+AI18+AI17+AI16+AI15+AI14),0)","v":0},false,false,null,0,null,0,0,0,0,0,40,0,0,0,null,0,0,0,0,0,0,40,0,null,0,40,0,0,{"$f":"SUM(E14:E20)","v":0},0,0,0,{"$f":"IF(AND(BM20=1,BL20>40,J20<=K20),J20-BO20,IF(AND(BM20=1,BL20>0,J20>K20),K20-BO20,0))","v":0}]
["Week 1 Totals",null,null,null,{"$f":"SUM(E14:E20)","v":0},{"$f":"SUM(F14:F20)","v":0},0,0,0,null,0,0,0,0,{"$f":"SUM(O14:O20)","v":0},{"$f":"-SUM(P14:P20)","v":0},{"$f":"SUM(Q14:Q20)","v":0},{"$f":"SUM(R14:R20)","v":0},{"$f":"IF(E21>40,(E21-40)-V21-BP21,0)","v":0},{"$f":"MROUND(AL21,0.25)","v":0},{"$f":"SUM(U14:U20)","v":0},{"$f":"SUM(V14:V20)","v":0},{"$f":"IF(E21-(E11-(G21+K21+F21+H21+I21+L21+M21))-(S21+U21+V21)>0,E21-(E11-(G21+K21+F21+H21+I21+L21+M21))-(S21+U21+V21),0)","v":0},null,null,null,null,null,{"$f":"SUM(F21:N21)","v":0},{"$f":"IF(AND(AG21<40,O21>=AG21),O21-(AG21+S21),IF(AND(O21<AG21,E21=O21),O21-E21,IF(AND(E21>AG21,E21<40),E21-AG21,IF(AND(O21>AG21,E21<AG21),E21-(AG21-AC21),IF(AND(O21>AG21,E21>40),E21-(AG21-AC21+S21),IF(AND(O21>AG21,O21>40),O21-(S21+AG21),0))))))","v":0},{"$f":"AD21-U21-V21","v":0},{"$f":"$W$11","v":"Please Select"},{"$f":"$E$11","v":40},null,{"$f":"IF(AH21>$AI$12,-$AI$12,0)","v":0},null,null,{"$f":"IF(AF21=\"Yes\",S21*1.5,0)","v":0},null,null,null,null,null,null,null,null,null,null,null,null,null,null,null,null,null,null,null,null,null,null,null,null,null,null,null,null,null,{"$f":"SUM(BP14:BP20)","v":0},{"$f":"E11+U21","v":40}]
[{"$f":"IF(A20=0,\"\",IF(A20<$O$7,A20+1,IF(A20=$O$7,\"\")))","v":"2023-06-04"},null,null,"Sunday",null,null,null,null,null,null,null,null,null,null,{"$f":"SUM(E22:N22)-J22","v":0},{"$f":"IF(AND(ISNUMBER(AA22),ISNUMBER(X22)),AA22*X22,\"\")","v":""},null,{"$f":"IF(AND(ISNUMBER(AB22),ISNUMBER(X22)),AB22*X22,\"\")","v":""},null,null,{"$f":"IF(BJ22>0,BJ22,BN22)","v":0},{"$f":"IF(BK22>0,BK22,0)","v":0},null,{"$f":"IF(ISNA(INDEX('Conversion Factors'!$B$6:$B$371,MATCH('June 1 - June 15'!$Z$22:$Z$28,'Conversion Factors'!$A$6:$A$371,0))),\"\",INDEX('Conversion Factors'!$B$6:$B$371,MATCH('June 1 - June 15'!$Z$22:$Z$28,'Conversion Factors'!$A$6:$A$371,0)))","v":7.8789999999999996},null,{"$f":"A22","v":"2023-06-04"},{"$f":"IF(AND(ISNUMBER(N22),ISNUMBER($Z$12)),N22/$Z$12,\"\")","v":""},{"$f":"IF(AND(ISNUMBER(Q22),ISNUMBER($Z$12)),Q22/$Z$12,\"\")","v":""},null,null,null,null,null,{"$f":"E22+AH21","v":0},{"$f":"IF(AH22>$AI$12,AH22-($AI$12+AI21),0)","v":0},{"$f":"IF(AND(AZ22>0,AZ22),IF(BA22>0,BA22,IF(BB22>0,BB22,IF(BC22>0,BC22,IF(BF22>0,BF22,\"\")))))","v":false},{"$f":"IF(AND(AO22>0,AO22),IF(AP22>0,AP22,IF(AQ22>0,AQ22,IF(AR22>0,AR22,IF(AU22>0,AU22,\"\")))))","v":false},null,{"$f":"J22","v":0},null,{"$f":"IF(G22=0,0,\"\")","v":0},{"$f":"IF(AND(AH22<=40,E22=G22),G22,0)","v":0},{"$f":"IF(AND(AH22<=40,E22>=G22,G22>0),O22-E22,0)","v":0},{"$f":"IF(AND(AH22<=40,E22<G22),O22-G22,0)","v":0},{"$f":"IF(AND(G22=0),G22,IF(AND(G22>0,AI22>0,G22=AT22),AT22,IF(AND(G22>0,AI22>0,G22-AT22),AT22,0)))","v":0},null,{"$f":"AS22","v":0},{"$f":"IF(AND(AH21+AU22=40,AI22>0,AI22>AU22),AI22-AU22,IF(AND(AH21+AU22=40,AI22>0,AI22<AU22,AU22+AI22=G22),AI22,IF(AND(AH21>40,AH22>40,G22=AI22),AI22,0)))","v":0},{"$f":"AV22","v":0},null,{"$f":"IF(AND(J22>0,AI22>0,BB22<=AI22),AI22-BB22,IF(AND(J22>0,AI22>0,BB22>AI22),J22-BB22,0))","v":0},{"$f":"IF(J22=0,0,\"\")","v":0},{"$f":"IF(AND(AH22<=40,E22=J22),J22,0)","v":0},{"$f":"IF(AND(AZ22=0),AZ22,IF(AND(AH22>40,E22>=J22),BE22,IF(AND(AH22<=40,E22>J22),J22,0)))","v":0},{"$f":"IF(AND(AH22<=40,E22<J22),O22-J22,0)","v":0},{"$f":"IF(AND(J22=0),J22,IF(AND(J22>0,AI22>0,J22=BC22),BC22,IF(AND(J22>0,AI22>0,J22-BC22),BC22,0)))","v":0},null,{"$f":"BD22","v":0},null,{"$f":"IF(AND(G22>0,E22>0),1,0)","v":0},{"$f":"40-AH22","v":40},0,{"$f":"IF(AND(BH22=1,BL22>40,E22<G22),E22-BJ22,(IF(AND(BH22=1,BL22>0,E22>=G22),G22-BJ22,0)))","v":0},{"$f":"E22","v":0},{"$f":"IF(AND(K22>0,E22>0),1,0)","v":0},{"$f":"IF(AND(BM22=1,J22>8),K22,(IF(AND(BM22=1,J22>0),J22,0)))","v":0},{"$f":"IF(AND(BM22=1,40-BL21>0,40-BL21<8),40-BL21,IF(AND(J22<K22),J22,K22))","v":0},{"$f":"IF(AND(BM22=1,BL22>40,J22<=K22),J22-BO22,IF(AND(BM22=1,BL22>0,J22>K22),K22-BO22,0))","v":0}]
[{"$f":"IF(A22<$O$7,A22+1,IF(A22=$O$7,\"\"))","v":"2023-06-05"},null,null,"Monday",null,null,null,null,null,null,null,null,null,null,{"$f":"SUM(E23:N23)-J23","v":0},{"$f":"IF(AND(ISNUMBER(AA23),ISNUMBER(X23)),AA23*X23,\"\")","v":""},null,{"$f":"IF(AND(ISNUMBER(AB23),ISNUMBER(X23)),AB23*X23,\"\")","v":""},null,null,{"$f":"IF(BJ23>0,BJ23,BN23)","v":0},{"$f":"IF(BK23>0,BK23,0)","v":0},null,{"$f":"IF(ISNA(INDEX('Conversion Factors'!$B$6:$B$371,MATCH('June 1 - June 15'!$Z$22:$Z$28,'Conversion Factors'!$A$6:$A$371,0))),\"\",INDEX('Conversion Factors'!$B$6:$B$371,MATCH('June 1 - June 15'!$Z$22:$Z$28,'Conversion Factors'!$A$6:$A$371,0)))","v":7.8789999999999996},null,"2023-06-05","","",null,null,null,null,null,0,{"$f":"IF(AH23>$AI$12,AH23-($AI$12+AI22+AI21),0)","v":0},false,{"$f":"IF(AND(AO23>0,AO23),IF(AP23>0,AP23,IF(AQ23>0,AQ23,IF(AR23>0,AR23,IF(AU23>0,AU23,0)))))","v":false},null,0,null,0,0,0,0,0,{"$f":"IF(AND(AH22<=40),40-AH22,0)","v":40},{"$f":"AS23","v":0},0,{"$f":"AV23","v":0},null,{"$f":"IF(AND(J23>0,AI23>0,BB23<=AI23),AI23-BB23,IF(AND(J23>0,AI23>0,BB23>AI23),J23-BB23,0))","v":0},0,0,0,0,0,{"$f":"IF(AND(AH22<=40),40-AH22,0)","v":40},{"$f":"BD23","v":0},null,{"$f":"IF(AND(G23>0,E23>0),1,0)","v":0},40,0,0,{"$f":"SUM(E22:E23)","v":0},{"$f":"IF(AND(K23>0,E23>0),1,0)","v":0},{"$f":"IF(AND(BM23=1,J23>8),K23,(IF(AND(BM23=1,J23>0),J23,0)))","v":0},0,0]
["2023-06-06",null,null,"Tuesday",null,null,null,null,null,null,null,null,null,null,{"$f":"SUM(E24:N24)-J24","v":0},"",null,"",null,null,{"$f":"IF(BJ24>0,BJ24,BN24)","v":0},0,null,{"$f":"IF(ISNA(INDEX('Conversion Factors'!$B$6:$B$371,MATCH('June 1 - June 15'!$Z$22:$Z$28,'Conversion Factors'!$A$6:$A$371,0))),\"\",INDEX('Conversion Factors'!$B$6:$B$371,MATCH('June 1 - June 15'!$Z$22:$Z$28,'Conversion Factors'!$A$6:$A$371,0)))","v":7.8789999999999996},null,"2023-06-06","","",null,null,null,null,null,0,{"$f":"IF(AH24>$AI$12,AH24-($AI$12+AI23+AI22+AI21),0)","v":0},false,false,null,0,null,0,0,0,0,0,40,0,0,0,null,{"$f":"IF(AND(J24>0,AI24>0,BB24<=AI24),AI24-BB24,IF(AND(J24>0,AI24>0,BB24>AI24),J24-BB24,0))","v":0},0,0,0,0,0,{"$f":"IF(AND(AH23<=40),40-AH23,0)","v":40},0,null,{"$f":"IF(AND(G24>0,E24>0),1,0)","v":0},40,0,0,{"$f":"SUM(E22:E24)","v":0},0,{"$f":"IF(AND(BM24=1,J24>8),K24,(IF(AND(BM24=1,J24>0),J24,0)))","v":0},{"$f":"IF(AND(BM24=1,40-BL23>0,40-BL23<8),40-BL23,IF(AND(J24<K24),J24,K24))","v":0},0]
["2023-06-07",null,null,"Wednesday",null,null,null,null,null,null,null,null,null,null,0,"",null,"",null,null,0,0,null,{"$f":"IF(ISNA(INDEX('Conversion Factors'!$B$6:$B$371,MATCH('June 1 - June 15'!$Z$22:$Z$28,'Conversion Factors'!$A$6:$A$371,0))),\"\",INDEX('Conversion Factors'!$B$6:$B$371,MATCH('June 1 - June 15'!$Z$22:$Z$28,'Conversion Factors'!$A$6:$A$371,0)))","v":7.8789999999999996},null,"2023-06-07","","",null,null,null,null,null,0,{"$f":"IF(AH25>$AI$12,AH25-($AI$12+AI24+AI23+AI22+AI21),0)","v":0},false,false,null,0,null,0,0,0,0,0,40,0,0,0,null,{"$f":"IF(AND(J25>0,AI25>0,BB25<=AI25),AI25-BB25,IF(AND(J25>0,AI25>0,BB25>AI25),J25-BB25,0))","v":0},0,0,0,0,0,40,0,null,0,40,0,0,{"$f":"SUM(E22:E25)","v":0},0,{"$f":"IF(AND(BM25=1,J25>8),K25,(IF(AND(BM25=1,J25>0),J25,0)))","v":0},{"$f":"IF(AND(BM25=1,40-BL24>0,40-BL24<8),40-BL24,IF(AND(J25<K25),J25,K25))","v":0},0]
["2023-06-08",null,null,"Thursday",null,null,null,null,null,null,null,null,null,null,0,"",null,"",null,null,0,0,null,{"$f":"IF(ISNA(INDEX('Conversion Factors'!$B$6:$B$371,MATCH('June 1 - June 15'!$Z$22:$Z$28,'Conversion Factors'!$A$6:$A$371,0))),\"\",INDEX('Conversion Factors'!$B$6:$B$371,MATCH('June 1 - June 15'!$Z$22:$Z$28,'Conversion Factors'!$A$6:$A$371,0)))","v":7.8789999999999996},null,"2023-06-08","","",null,null,null,null,null,0,{"$f":"IF(AH26>$AI$12,AH26-($AI$12+AI25+AI24+AI23+AI22+AI21),0)","v":0},false,false,null,0,null,0,0,0,0,0,{"$f":"IF(AND(AH25<=40),40-AH25,0)","v":40},0,0,0,null,{"$f":"IF(AND(J26>0,AI26>=J26,BB26=0),O26-AI26,IF(AND(J26>0,AI26>0,BB26<=AI26),AI26-BB26,IF(AND(J26>0,AI26>0,BB26>AI26),J26-BB26,0)))","v":0},0,0,0,0,0,40,0,null,0,40,0,0,{"$f":"SUM(E22:E26)","v":0},0,0,0,0]
["2023-06-09",null,null,"Friday",null,null,null,null,null,null,null,null,null,null,0,"",null,"",null,null,0,0,null,{"$f":"IF(ISNA(INDEX('Conversion Factors'!$B$6:$B$371,MATCH('June 1 - June 15'!$Z$22:$Z$28,'Conversion Factors'!$A$6:$A$371,0))),\"\",INDEX('Conversion Factors'!$B$6:$B$371,MATCH('June 1 - June 15'!$Z$22:$Z$28,'Conversion Factors'!$A$6:$A$371,0)))","v":7.8789999999999996},null,"2023-06-09","","",null,null,null,null,null,0,{"$f":"IF(AH27>$AI$12,AH27-($AI$12+AI26+AI25+AI24+AI23+AI22+AI21),0)","v":0},false,false,null,0,null,0,0,0,0,0,{"$f":"IF(AND(AH26<=40),40-AH26,0)","v":40},0,0,0,null,{"$f":"IF(AND(J27>0,AI27>=J27,BB27=0),O27-AI27,IF(AND(J27>0,AI27>0,BB27<=AI27),AI27-BB27,IF(AND(J27>0,AI27>0,BB27>AI27),J27-BB27,0)))","v":0},0,0,0,0,0,40,0,null,0,40,0,0,{"$f":"SUM(E22:E27)","v":0},0,0,0,{"$f":"IF(AND(BM27=1,BL27>40,J27<=K27),J27-BO27,IF(AND(BM27=1,BL27>0,J27>K27),K27-BO27,0))","v":0}]
["2023-06-10",null,null,"Saturday",null,null,null,null,null,null,null,null,null,null,{"$f":"SUM(E28:N28)-J28","v":0},"",null,"",null,null,0,0,null,{"$f":"IF(ISNA(INDEX('Conversion Factors'!$B$6:$B$371,MATCH('June 1 - June 15'!$Z$22:$Z$28,'Conversion Factors'!$A$6:$A$371,0))),\"\",INDEX('Conversion Factors'!$B$6:$B$371,MATCH('June 1 - June 15'!$Z$22:$Z$28,'Conversion Factors'!$A$6:$A$371,0)))","v":7.8789999999999996},null,"2023-06-10","","",null,null,null,null,null,0,{"$f":"IF(AH28>$AI$12,AH28-($AI$12+AI27+AI26+AI25+AI24+AI23+AI22+AI21),0)","v":0},false,false,null,0,null,0,0,0,0,0,40,0,0,0,null,{"$f":"IF(AND(J28>0,AI28>=J28,BB28=0),O28-AI28,IF(AND(J28>0,AI28>0,BB28<=AI28),AI28-BB28,IF(AND(J28>0,AI28>0,BB28>AI28),J28-BB28,0)))","v":0},0,0,0,0,0,40,0,null,0,40,0,0,{"$f":"SUM(E22:E28)","v":0},0,0,0,{"$f":"IF(AND(BM28=1,BL28>40,J28<=K28),J28-BO28,IF(AND(BM28=1,BL28>0,J28>K28),K28-BO28,0))","v":0}]
["Week 2 Totals",null,null,null,{"$f":"SUM(E22:E28)","v":0},0,0,0,0,null,0,0,0,0,{"$f":"SUM(O22:O28)","v":0},{"$f":"-SUM(P22:P28)","v":0},{"$f":"SUM(Q22:Q28)","v":0},{"$f":"SUM(R22:R28)","v":0},{"$f":"IF(E29>40,(E29-40)-V29,0)","v":0},{"$f":"MROUND(AL29,0.25)","v":0},{"$f":"SUM(U22:U28)","v":0},{"$f":"SUM(V22:V28)","v":0},{"$f":"IF(E29-(E11-(G29+K29+F29+H29+I29+L29+M29))-(S29+U29+V29)>0,E29-(E11-(G29+K29+F29+H29+I29+L29+M29))-(S29+U29+V29),0)","v":0},null,null,null,null,null,{"$f":"SUM(F29:N29)","v":0},{"$f":"IF(AND(AG29<40,O29>=AG29),O29-(AG29+S29),IF(AND(O29<AG29,E29=O29),O29-E29,IF(AND(E29>AG29,E29<40),E29-AG29,IF(AND(O29>AG29,E29<AG29),E29-(AG29-AC29),IF(AND(O29>AG29,E29>40),E29-(AG29-AC29+S29),IF(AND(O29>AG29,O29>40),O29-(S29+AG29),0))))))","v":0},{"$f":"AD29-U29-V29","v":0},{"$f":"$W$11","v":"Please Select"},{"$f":"$E$11","v":40},null,{"$f":"IF(AH29>$AI$12,-$AI$12,0)","v":0},null,null,{"$f":"IF(AF29=\"Yes\",S29*1.5,0)","v":0},0,null,null,null,null,null,null,null,null,null,null,null,null,0,null,null,null,null,null,null,null,null,null,null,null,null,null,null,null,{"$f":"SUM(BP22:BP28)","v":0},{"$f":"U29+E11","v":40}]
[{"$f":"IF(A28<$O$7,A28+1,IF(A28=$O$7,\"\"))","v":"2023-06-11"},null,null,"Sunday",null,null,null,null,null,null,null,null,null,null,{"$f":"SUM(E30:N30)-J30","v":0},{"$f":"IF(AND(ISNUMBER(AA30),ISNUMBER(X30)),AA30*X30,\"\")","v":""},null,{"$f":"IF(AND(ISNUMBER(AB30),ISNUMBER(X30)),AB30*X30,\"\")","v":""},null,null,{"$f":"IF(BJ30>0,BJ30,BN30)","v":0},{"$f":"IF(BK30>0,BK30,0)","v":0},null,{"$f":"IF(ISNA(INDEX('Conversion Factors'!$B$6:$B$370,MATCH('June 1 - June 15'!$Z$30:$Z$36,'Conversion Factors'!$A$6:$A$370,0))),\"\",INDEX('Conversion Factors'!$B$6:$B$370,MATCH('June 1 - June 15'!$Z$30:$Z$36,'Conversion Factors'!$A$6:$A$370,0)))","v":7.8789999999999996},null,{"$f":"A30","v":"2023-06-11"},{"$f":"IF(AND(ISNUMBER(N30),ISNUMBER($Z$12)),N30/$Z$12,\"\")","v":""},{"$f":"IF(AND(ISNUMBER(Q30),ISNUMBER($Z$12)),Q30/$Z$12,\"\")","v":""},null,null,null,null,null,{"$f":"E30+AH29","v":0},{"$f":"IF(AH30>$AI$12,AH30-($AI$12+AI29),0)","v":0},{"$f":"IF(AND(AZ30>0,AZ30),IF(BA30>0,BA30,IF(BB30>0,BB30,IF(BC30>0,BC30,IF(BF30>0,BF30,\"\")))))","v":false},{"$f":"IF(AND(AO30>0,AO30),IF(AP30>0,AP30,IF(AQ30>0,AQ30,IF(AR30>0,AR30,IF(AU30>0,AU30,\"\")))))","v":false},null,0,null,{"$f":"IF(G30=0,0,\"\")","v":0},{"$f":"IF(AND(AH30<=40,E30=G30),G30,0)","v":0},{"$f":"IF(AND(AH30<=40,E30>=G30,G30>0),O30-E30,0)","v":0},{"$f":"IF(AND(AH30<=40,E30<G30),O30-G30,0)","v":0},{"$f":"IF(AND(G30=0),G30,IF(AND(G30>0,AI30>0,G30=AT30),AT30,IF(AND(G30>0,AI30>0,G30-AT30),AT30,0)))","v":0},null,{"$f":"AS30","v":0},{"$f":"IF(AND(AH29+AU30=40,AI30>0,AI30>AU30),AI30-AU30,IF(AND(AH29+AU30=40,AI30>0,AI30<AU30,AU30+AI30=G30),AI30,IF(AND(AH29>40,AH30>40,G30=AI30),AI30,0)))","v":0},{"$f":"AV30","v":0},null,{"$f":"IF(AND(J30>0,AI30>=J30,BB30=0),O30-AI30,IF(AND(J30>0,AI30>0,BB30<=AI30),AI30-BB30,IF(AND(J30>0,AI30>0,BB30>AI30),J30-BB30,0)))","v":0},0,{"$f":"IF(AND(AH30<=40,E30=J30),J30,0)","v":0},{"$f":"IF(AND(AZ30=0),AZ30,IF(AND(AH30>40,E30>=J30),BE30,IF(AND(AH30<=40,E30>J30),J30,0)))","v":0},{"$f":"IF(AND(AH30<=40,E30<J30),O30-J30,0)","v":0},{"$f":"IF(AND(J30=0),J30,IF(AND(J30>0,AI30>0,J30=BC30),BC30,IF(AND(J30>0,AI30>0,J30-BC30),BC30,0)))","v":0},null,{"$f":"BD30","v":0},null,{"$f":"IF(AND(G30>0,E30>0),1,0)","v":0},{"$f":"40-AH30","v":40},0,{"$f":"IF(AND(BH30=1,BL30>40,E30<G30),E30-BJ30,(IF(AND(BH30=1,BL30>0,E30>=G30),G30-BJ30,0)))","v":0},{"$f":"E30","v":0},{"$f":"IF(AND(K30>0,E30>0),1,0)","v":0},{"$f":"IF(AND(BM30=1,J30>8),K30,(IF(AND(BM30=1,J30>0),J30,0)))","v":0},{"$f":"IF(AND(BM30=1,40-BL29>0,40-BL29<8),40-BL29,IF(AND(J30<K30),J30,K30))","v":0},{"$f":"IF(AND(BM30=1,BL30>40,J30<=K30),J30-BO30,IF(AND(BM30=1,BL30>0,J30>K30),K30-BO30,0))","v":0}]
[{"$f":"IF(A30<$O$7,A30+1,IF(A30=$O$7,\"\"))","v":"2023-06-12"},null,null,"Monday",null,null,null,null,null,null,null,null,null,null,{"$f":"SUM(E31:N31)-J31","v":0},{"$f":"IF(AND(ISNUMBER(AA31),ISNUMBER(X31)),AA31*X31,\"\")","v":""},null,{"$f":"IF(AND(ISNUMBER(AB31),ISNUMBER(X31)),AB31*X31,\"\")","v":""},null,null,0,{"$f":"IF(BK31>0,BK31,0)","v":0},null,{"$f":"IF(ISNA(INDEX('Conversion Factors'!$B$6:$B$370,MATCH('June 1 - June 15'!$Z$30:$Z$36,'Conversion Factors'!$A$6:$A$370,0))),\"\",INDEX('Conversion Factors'!$B$6:$B$370,MATCH('June 1 - June 15'!$Z$30:$Z$36,'Conversion Factors'!$A$6:$A$370,0)))","v":7.8789999999999996},null,"2023-06-12","","",null,null,null,null,null,0,{"$f":"IF(AH31>$AI$12,AH31-($AI$12+AI30+AI29),0)","v":0},false,{"$f":"IF(AND(AO31>0,AO31),IF(AP31>0,AP31,IF(AQ31>0,AQ31,IF(AR31>0,AR31,IF(AU31>0,AU31,0)))))","v":false},null,0,null,0,0,0,0,0,{"$f":"IF(AND(AH30<=40),40-AH30,0)","v":40},{"$f":"AS31","v":0},0,{"$f":"AV31","v":0},null,0,0,0,0,0,0,{"$f":"IF(AND(AH30<=40),40-AH30,0)","v":40},{"$f":"BD31","v":0},null,{"$f":"IF(AND(G31>0,E31>0),1,0)","v":0},40,0,0,{"$f":"SUM(E30:E31)","v":0},{"$f":"IF(AND(K31>0,E31>0),1,0)","v":0},{"$f":"IF(AND(BM31=1,J31>8),K31,(IF(AND(BM31=1,J31>0),J31,0)))","v":0},0,0]
["2023-06-13",null,null,"Tuesday",null,null,null,null,null,null,null,null,null,null,0,"",null,"",null,null,0,0,null,{"$f":"IF(ISNA(INDEX('Conversion Factors'!$B$6:$B$370,MATCH('June 1 - June 15'!$Z$30:$Z$36,'Conversion Factors'!$A$6:$A$370,0))),\"\",INDEX('Conversion Factors'!$B$6:$B$370,MATCH('June 1 - June 15'!$Z$30:$Z$36,'Conversion Factors'!$A$6:$A$370,0)))","v":7.8789999999999996},null,"2023-06-13","","",null,null,null,null,null,0,{"$f":"IF(AH32>$AI$12,AH32-($AI$12+AI31+AI30+AI29),0)","v":0},false,false,null,0,null,0,0,0,0,0,40,0,0,0,null,0,0,0,0,0,0,{"$f":"IF(AND(AH31<=40),40-AH31,0)","v":40},0,null,{"$f":"IF(AND(G32>0,E32>0),1,0)","v":0},40,0,0,{"$f":"SUM(E30:E32)","v":0},0,{"$f":"IF(AND(BM32=1,J32>8),K32,(IF(AND(BM32=1,J32>0),J32,0)))","v":0},{"$f":"IF(AND(BM32=1,40-BL31>0,40-BL31<8),40-BL31,IF(AND(J32<K32),J32,K32))","v":0},0]
["2023-06-14",null,null,"Wednesday",null,null,null,null,null,null,null,null,null,null,0,"",null,"",null,null,0,0,null,{"$f":"IF(ISNA(INDEX('Conversion Factors'!$B$6:$B$370,MATCH('June 1 - June 15'!$Z$30:$Z$36,'Conversion Factors'!$A$6:$A$370,0))),\"\",INDEX('Conversion Factors'!$B$6:$B$370,MATCH('June 1 - June 15'!$Z$30:$Z$36,'Conversion Factors'!$A$6:$A$370,0)))","v":7.8789999999999996},null,"2023-06-14","","",null,null,null,null,null,0,{"$f":"IF(AH33>$AI$12,AH33-($AI$12+AI32+AI31+AI30+AI29),0)","v":0},false,false,null,0,null,0,0,0,0,0,40,0,0,0,null,0,0,0,0,0,0,40,0,null,{"$f":"IF(AND(G33>0,E33>0),1,0)","v":0},40,0,0,{"$f":"SUM(E30:E33)","v":0},0,{"$f":"IF(AND(BM33=1,J33>8),K33,(IF(AND(BM33=1,J33>0),J33,0)))","v":0},{"$f":"IF(AND(BM33=1,40-BL32>0,40-BL32<8),40-BL32,IF(AND(J33<K33),J33,K33))","v":0},0]
["2023-06-15",null,null,"Thursday",null,null,null,null,null,null,null,null,null,null,0,"",null,"",null,null,0,0,null,{"$f":"IF(ISNA(INDEX('Conversion Factors'!$B$6:$B$370,MATCH('June 1 - June 15'!$Z$30:$Z$36,'Conversion Factors'!$A$6:$A$370,0))),\"\",INDEX('Conversion Factors'!$B$6:$B$370,MATCH('June 1 - June 15'!$Z$30:$Z$36,'Conversion Factors'!$A$6:$A$370,0)))","v":7.8789999999999996},null,"2023-06-15","","",null,null,null,null,null,0,{"$f":"IF(AH34>$AI$12,AH34-($AI$12+AI33+AI32+AI31+AI30+AI29),0)","v":0},false,false,null,0,null,0,0,0,0,0,{"$f":"IF(AND(AH33<=40),40-AH33,0)","v":40},0,0,0,null,0,0,0,0,0,0,40,0,null,0,40,0,0,{"$f":"SUM(E30:E34)","v":0},0,0,0,0]
["",null,null,"Friday",null,null,null,null,null,null,null,null,null,null,0,"",null,"",null,null,0,0,null,{"$f":"IF(ISNA(INDEX('Conversion Factors'!$B$6:$B$370,MATCH('June 1 - June 15'!$Z$30:$Z$36,'Conversion Factors'!$A$6:$A$370,0))),\"\",INDEX('Conversion Factors'!$B$6:$B$370,MATCH('June 1 - June 15'!$Z$30:$Z$36,'Conversion Factors'!$A$6:$A$370,0)))","v":""},null,"","","",null,null,null,null,null,0,{"$f":"IF(AH35>$AI$12,AH35-($AI$12+AI34+AI33+AI32+AI31+AI30+AI29),0)","v":0},false,false,null,0,null,0,0,0,0,0,{"$f":"IF(AND(AH34<=40),40-AH34,0)","v":40},0,0,0,null,0,0,0,0,0,0,40,0,null,0,40,0,0,{"$f":"SUM(E30:E35)","v":0},0,0,0,{"$f":"IF(AND(BM35=1,BL35>40,J35<=K35),J35-BO35,IF(AND(BM35=1,BL35>0,J35>K35),K35-BO35,0))","v":0}]
[false,null,null,"Saturday",null,null,null,null,null,null,null,null,null,null,0,"",null,"",null,null,0,0,null,{"$f":"IF(ISNA(INDEX('Conversion Factors'!$B$6:$B$370,MATCH('June 1 - June 15'!$Z$30:$Z$36,'Conversion Factors'!$A$6:$A$370,0))),\"\",INDEX('Conversion Factors'!$B$6:$B$370,MATCH('June 1 - June 15'!$Z$30:$Z$36,'Conversion Factors'!$A$6:$A$370,0)))","v":""},null,false,"","",null,null,null,null,null,0,{"$f":"IF(AH36>$AI$12,AH36-($AI$12+AI35+AI34+AI33+AI32+AI31+AI30+AI29),0)","v":0},false,false,null,0,null,0,0,0,0,0,40,0,0,0,null,0,0,0,0,0,0,40,0,null,0,40,0,0,{"$f":"SUM(E30:E36)","v":0},0,0,0,{"$f":"IF(AND(BM36=1,BL36>40,J36<=K36),J36-BO36,IF(AND(BM36=1,BL36>0,J36>K36),K36-BO36,0))","v":0}]
["Week 3 Totals",null,null,null,{"$f":"SUM(E30:E36)","v":0},0,0,0,0,null,0,0,0,0,{"$f":"SUM(O30:O36)","v":0},{"$f":"-SUM(P30:P36)","v":0},{"$f":"SUM(Q30:Q36)","v":0},{"$f":"SUM(R30:R36)","v":0},{"$f":"IF(E37>40,(E37-40)-V37,0)","v":0},{"$f":"MROUND(AL37,0.25)","v":0},{"$f":"SUM(U30:U36)","v":0},{"$f":"SUM(V30:V36)","v":0},{"$f":"IF(E37-(E11-(G37+K37+F37+H37+I37+L37+M3))-(S37+U37+V37)>0,E37-(E11-(G37+K37+F37+H37+I37+L37+M37))-(S37+U37+V37),0)","v":0},null,null,null,null,null,{"$f":"SUM(F37:N37)","v":0},{"$f":"IF(AND(AG37<40,O37>=AG37),O37-(AG37+S37),IF(AND(O37<AG37,E37=O37),O37-E37,IF(AND(E37>AG37,E37<40),E37-AG37,IF(AND(O37>AG37,E37<AG37),E37-(AG37-AC37),IF(AND(O37>AG37,E37>40),E37-(AG37-AC37+S37),IF(AND(O37>AG37,O37>40),O37-(S37+AG37),0))))))","v":0},{"$f":"AD37-U37-V37","v":0},{"$f":"$W$11","v":"Please Select"},{"$f":"$E$11","v":40},null,{"$f":"IF(AH37>$AI$12,-$AI$12,0)","v":0},null,null,{"$f":"IF(AF37=\"Yes\",S37*1.5,0)","v":0},null,null,null,null,null,null,null,null,null,null,null,null,null,null,null,null,null,null,null,null,null,0,null,null,null,null,null,null,null,{"$f":"SUM(BP30:BP36)","v":0},{"$f":"U37+E11","v":40}]
[{"$f":"IF(A36<$O$7,A36+1,IF(A36=$O$7,\"\"))","v":false},null,null,"Sunday",null,null,null,null,null,null,null,null,null,null,{"$f":"SUM(E38:N38)-J38","v":0},{"$f":"IF(AND(ISNUMBER(AA38),ISNUMBER(X38)),AA38*X38,\"\")","v":""},null,{"$f":"IF(AND(ISNUMBER(AB38),ISNUMBER(X38)),AB38*X38,\"\")","v":""},null,null,0,{"$f":"IF(BK38>0,BK38,0)","v":0},null,{"$f":"IF(ISNA(INDEX('Conversion Factors'!$B$6:$B$370,MATCH('June 1 - June 15'!$Z$38:$Z$44,'Conversion Factors'!$A$6:$A$370,0))),\"\",INDEX('Conversion Factors'!$B$6:$B$370,MATCH('June 1 - June 15'!$Z$38:$Z$44,'Conversion Factors'!$A$6:$A$370,0)))","v":""},null,{"$f":"A38","v":false},{"$f":"IF(AND(ISNUMBER(N38),ISNUMBER($Z$12)),N38/$Z$12,\"\")","v":""},{"$f":"IF(AND(ISNUMBER(Q38),ISNUMBER($Z$12)),Q38/$Z$12,\"\")","v":""},null,null,null,null,null,{"$f":"E38+AH37","v":0},{"$f":"IF(AH38>$AI$12,AH38-($AI$12+AI37),0)","v":0},{"$f":"IF(AND(AZ38>0,AZ38),IF(BA38>0,BA38,IF(BB38>0,BB38,IF(BC38>0,BC38,IF(BF38>0,BF38,\"\")))))","v":false},{"$f":"IF(AND(AO38>0,AO38),IF(AP38>0,AP38,IF(AQ38>0,AQ38,IF(AR38>0,AR38,IF(AU38>0,AU38,\"\")))))","v":false},null,{"$f":"J38","v":0},null,{"$f":"IF(G38=0,0,\"\")","v":0},{"$f":"IF(AND(AH38<=40,E38=G38),G38,0)","v":0},{"$f":"IF(AND(AH38<=40,E38>=G38,G38>0),O38-E38,0)","v":0},{"$f":"IF(AND(AH38<=40,E38<G38),O38-G38,0)","v":0},{"$f":"IF(AND(G38=0),G38,IF(AND(G38>0,AI38>0,G38=AT38),AT38,IF(AND(G38>0,AI38>0,G38-AT38),AT38,0)))","v":0},null,{"$f":"AS38","v":0},{"$f":"IF(AND(AH37+AU38=40,AI38>0,AI38>AU38),AI38-AU38,IF(AND(AH37+AU38=40,AI38>0,AI38<AU38,AU38+AI38=G38),AI38,IF(AND(AH37>40,AH38>40,G38=AI38),AI38,0)))","v":0},{"$f":"AV38","v":0},null,{"$f":"IF(AND(J38>0,AI38>=J38,BB38=0),O38-AI38,IF(AND(J38>0,AI38>0,BB38<=AI38),AI38-BB38,IF(AND(J38>0,AI38>0,BB38>AI38),J38-BB38,0)))","v":0},{"$f":"IF(J38=0,0,\"\")","v":0},{"$f":"IF(AND(AH38<=40,E38=J38),J38,0)","v":0},{"$f":"IF(AND(AZ38=0),AZ38,IF(AND(AH38>40,E38>=J38),BE38,IF(AND(AH38<=40,E38>J38),J38,0)))","v":0},{"$f":"IF(AND(AH38<=40,E38<J38),O38-J38,0)","v":0},{"$f":"IF(AND(J38=0),J38,IF(AND(J38>0,AI38>0,J38=BC38),BC38,IF(AND(J38>0,AI38>0,J38-BC38),BC38,0)))","v":0},null,{"$f":"BD38","v":0},null,{"$f":"IF(AND(G38>0,E38>0),1,0)","v":0},{"$f":"40-AH38","v":40},0,{"$f":"IF(AND(BH38=1,BL38>40,E38<G38),E38-BJ38,(IF(AND(BH38=1,BL38>0,E38>=G38),G38-BJ38,0)))","v":0},{"$f":"E38","v":0},{"$f":"IF(AND(K38>0,E38>0),1,0)","v":0},{"$f":"IF(AND(BM38=1,J38>8),K38,(IF(AND(BM38=1,J38>0),J38,0)))","v":0},{"$f":"IF(AND(BM38=1,40-BL37>0,40-BL37<8),40-BL37,IF(AND(J38<K38),J38,K38))","v":0},{"$f":"IF(AND(BM38=1,BL38>40,J38<=K38),J38-BO38,IF(AND(BM38=1,BL38>0,J38>K38),K38-BO38,0))","v":0}]
[{"$f":"IF(A38<$O$7,A38+1,IF(A38=$O$7,\"\"))","v":false},null,null,"Monday",null,null,null,0,null,null,null,null,null,null,{"$f":"SUM(E39:N39)-J39","v":0},{"$f":"IF(AND(ISNUMBER(AA39),ISNUMBER(X39)),AA39*X39,\"\")","v":""},null,{"$f":"IF(AND(ISNUMBER(AB39),ISNUMBER(X39)),AB39*X39,\"\")","v":""},null,null,0,{"$f":"IF(BK39>0,BK39,0)","v":0},null,{"$f":"IF(ISNA(INDEX('Conversion Factors'!$B$6:$B$370,MATCH('June 1 - June 15'!$Z$38:$Z$44,'Conversion Factors'!$A$6:$A$370,0))),\"\",INDEX('Conversion Factors'!$B$6:$B$370,MATCH('June 1 - June 15'!$Z$38:$Z$44,'Conversion Factors'!$A$6:$A$370,0)))","v":""},null,false,"","",null,null,null,null,null,0,{"$f":"IF(AH39>$AI$12,AH39-($AI$12+AI38+AI37),0)","v":0},false,{"$f":"IF(AND(AO39>0,AO39),IF(AP39>0,AP39,IF(AQ39>0,AQ39,IF(AR39>0,AR39,IF(AU39>0,AU39,0)))))","v":false},null,0,null,0,0,0,0,0,{"$f":"IF(AND(AH38<=40),40-AH38,0)","v":40},{"$f":"AS39","v":0},0,{"$f":"AV39","v":0},null,0,0,0,0,0,0,{"$f":"IF(AND(AH38<=40),40-AH38,0)","v":40},{"$f":"BD39","v":0},null,{"$f":"IF(AND(G39>0,E39>0),1,0)","v":0},40,0,0,{"$f":"SUM(E38:E39)","v":0},{"$f":"IF(AND(K39>0,E39>0),1,0)","v":0},{"$f":"IF(AND(BM39=1,J39>8),K39,(IF(AND(BM39=1,J39>0),J39,0)))","v":0},0,0]
[false,null,null,"Tuesday",null,null,null,null,null,0,0,null,null,null,{"$f":"SUM(E40:N40)-J40","v":0},"",null,"",null,null,0,0,null,{"$f":"IF(ISNA(INDEX('Conversion Factors'!$B$6:$B$370,MATCH('June 1 - June 15'!$Z$38:$Z$44,'Conversion Factors'!$A$6:$A$370,0))),\"\",INDEX('Conversion Factors'!$B$6:$B$370,MATCH('June 1 - June 15'!$Z$38:$Z$44,'Conversion Factors'!$A$6:$A$370,0)))","v":""},null,false,"","",null,null,null,null,null,0,{"$f":"IF(AH40>$AI$12,AH40-($AI$12+AI39+AI38+AI37),0)","v":0},false,false,null,0,null,0,0,0,0,0,40,0,0,0,null,0,0,0,0,0,0,{"$f":"IF(AND(AH39<=40),40-AH39,0)","v":40},0,null,{"$f":"IF(AND(G40>0,E40>0),1,0)","v":0},40,0,0,{"$f":"SUM(E38:E40)","v":0},0,{"$f":"IF(AND(BM40=1,J40>8),K40,(IF(AND(BM40=1,J40>0),J40,0)))","v":0},{"$f":"IF(AND(BM40=1,40-BL39>0,40-BL39<8),40-BL39,IF(AND(J40<K40),J40,K40))","v":0},0]
[false,null,null,"Wednesday",null,null,null,null,null,null,null,null,null,null,0,"",null,"",null,null,0,0,null,{"$f":"IF(ISNA(INDEX('Conversion Factors'!$B$6:$B$370,MATCH('June 1 - June 15'!$Z$38:$Z$44,'Conversion Factors'!$A$6:$A$370,0))),\"\",INDEX('Conversion Factors'!$B$6:$B$370,MATCH('June 1 - June 15'!$Z$38:$Z$44,'Conversion Factors'!$A$6:$A$370,0)))","v":""},null,false,"","",null,null,null,null,null,0,{"$f":"IF(AH41>$AI$12,AH41-($AI$12+AI40+AI39+AI38+AI37),0)","v":0},false,false,null,0,null,0,0,0,0,0,40,0,0,0,null,0,0,0,0,0,0,40,0,null,{"$f":"IF(AND(G41>0,E41>0),1,0)","v":0},40,0,0,{"$f":"SUM(E38:E41)","v":0},0,{"$f":"IF(AND(BM41=1,J41>8),K41,(IF(AND(BM41=1,J41>0),J41,0)))","v":0},{"$f":"IF(AND(BM41=1,40-BL40>0,40-BL40<8),40-BL40,IF(AND(J41<K41),J41,K41))","v":0},0]
[false,null,null,"Thursday",null,null,null,null,null,null,null,null,null,null,0,"",null,"",null,null,0,0,null,{"$f":"IF(ISNA(INDEX('Conversion Factors'!$B$6:$B$370,MATCH('June 1 - June 15'!$Z$38:$Z$44,'Conversion Factors'!$A$6:$A$370,0))),\"\",INDEX('Conversion Factors'!$B$6:$B$370,MATCH('June 1 - June 15'!$Z$38:$Z$44,'Conversion Factors'!$A$6:$A$370,0)))","v":""},null,false,"","",null,null,null,null,null,0,{"$f":"IF(AH42>$AI$12,AH42-($AI$12+AI41+AI40+AI39+AI38+AI37),0)","v":0},false,false,null,0,null,0,0,0,0,0,{"$f":"IF(AND(AH41<=40),40-AH41,0)","v":40},0,0,0,null,0,0,0,0,0,0,40,0,null,0,40,0,0,{"$f":"SUM(E38:E42)","v":0},0,0,0,0]
[false,null,null,"Friday",null,null,null,null,null,null,null,null,null,null,0,"",null,"",null,null,0,0,null,{"$f":"IF(ISNA(INDEX('Conversion Factors'!$B$6:$B$370,MATCH('June 1 - June 15'!$Z$38:$Z$44,'Conversion Factors'!$A$6:$A$370,0))),\"\",INDEX('Conversion Factors'!$B$6:$B$370,MATCH('June 1 - June 15'!$Z$38:$Z$44,'Conversion Factors'!$A$6:$A$370,0)))","v":""},null,false,"","",null,null,null,null,null,0,{"$f":"IF(AH43>$AI$12,AH43-($AI$12+AI42+AI41+AI40+AI39+AI38+AI37),0)","v":0},false,false,null,0,null,0,0,0,0,0,{"$f":"IF(AND(AH42<=40),40-AH42,0)","v":40},0,0,0,null,0,0,0,0,0,0,40,0,null,0,40,0,0,{"$f":"SUM(E38:E43)","v":0},0,0,0,{"$f":"IF(AND(BM43=1,BL43>40,J43<=K43),J43-BO43,IF(AND(BM43=1,BL43>0,J43>K43),K43-BO43,0))","v":0}]
[false,null,null,"Saturday",null,null,null,null,null,null,null,null,null,null,{"$f":"SUM(E44:N44)-J44","v":0},"",null,"",null,null,0,0,null,{"$f":"IF(ISNA(INDEX('Conversion Factors'!$B$6:$B$370,MATCH('June 1 - June 15'!$Z$38:$Z$44,'Conversion Factors'!$A$6:$A$370,0))),\"\",INDEX('Conversion Factors'!$B$6:$B$370,MATCH('June 1 - June 15'!$Z$38:$Z$44,'Conversion Factors'!$A$6:$A$370,0)))","v":""},null,false,"","",null,null,null,null,null,0,{"$f":"IF(AH44>$AI$12,AH44-($AI$12+AI43+AI42+AI41+AI40+AI39+AI38+AI37),0)","v":0},false,false,null,0,null,0,0,0,0,0,40,0,0,0,null,0,0,0,0,0,0,40,0,null,0,40,0,0,{"$f":"SUM(E38:E44)","v":0},0,0,0,{"$f":"IF(AND(BM44=1,BL44>40,J44<=K44),J44-BO44,IF(AND(BM44=1,BL44>0,J44>K44),K44-BO44,0))","v":0}]
["Week 4 Totals",null,null,null,{"$f":"SUM(E38:E44)","v":0},{"$f":"SUM(F38:F44)","v":0},0,0,0,null,0,0,0,0,{"$f":"SUM(O38:O44)","v":0},{"$f":"-SUM(P38:P44)","v":0},{"$f":"SUM(Q38:Q44)","v":0},{"$f":"SUM(R38:R44)","v":0},{"$f":"IF(E45>40,(E45-40)-V45,0)","v":0},{"$f":"MROUND(AL45,0.25)","v":0},{"$f":"SUM(U38:U44)","v":0},{"$f":"SUM(V38:V44)","v":0},{"$f":"IF(E45-(E11-(G45+K45+F45+H45+I45+L45+M45))-(S45+U45+V45)>0,E45-(E11-(G45+K45+F45+H45+I45+L45+M45))-(S45+U45+V45),0)","v":0},null,null,null,null,null,{"$f":"SUM(F45:N45)","v":0},{"$f":"IF(AND(AG45<40,O45>=AG45),O45-(AG45+S45),IF(AND(O45<AG45,E45=O45),O45-E45,IF(AND(E45>AG45,E45<40),E45-AG45,IF(AND(O45>AG45,E45<AG45),E45-(AG45-AC45),IF(AND(O45>AG45,E45>40),E45-(AG45-AC45+S45),IF(AND(O45>AG45,O45>40),O45-(S45+AG45),0))))))","v":0},{"$f":"AD45-U45-V45","v":0},{"$f":"$W$11","v":"Please Select"},{"$f":"$E$11","v":40},null,{"$f":"IF(AH45>$AI$12,-$AI$12,0)","v":0},null,null,{"$f":"IF(AF45=\"Yes\",S45*1.5,0)","v":0},null,null,null,null,null,null,null,null,null,null,null,null,null,null,null,null,null,null,null,null,null,null,null,null,null,null,null,null,null,{"$f":"SUM(BP38:BP44)","v":0},{"$f":"E44+E11","v":40}]
[null,null,null,null,null,null,null,null,"Total-Net Previous Week",null,null,null,null,null,{"$f":"(O21+O29+O37+O45)-O13","v":0},{"$f":"(P21+P29+P37+P45)-P13","v":0},{"$f":"(Q21+Q29+Q37+Q45)-Q13","v":0},0,0,0,0,0,0,0]
[]
[null,null,null,null,null,null,null,null,null,null,null,null,null,null,"Leave/Leave Without Pay Policy"]
["Employee signature",null,null,null,null,null,"Date",null,null,null,null,null,null,null,"Overtime/Compensatory Time"]
["I certify this record is accurate and accounts for my time during the indicated period.",null,null,null,null,null,null,null,null,null,null,null,null,null,"Time Sheet Definitions/Policies"]
[]
[null,null,null,null,null,null,null,null,null,null,"“Actual Work Hours During Administrative Close Period” – Only key the hours actually worked during the admministrative closing period into this field. "]
[]
["Manager signature",null,null,null,null,null,"Date"]
["I certify the hours recorded and coded on this form are correct and in compliance with University policy.",null,null,null,null,null,null,null,null,null,"“Administrative Closing/Leave Period field.”  Entter the number of hours of the declared period of administrative closing. (The total hours worked during the entire day will be entered into the “Actual Hours Worked” field.)"]

{"sheet":"June 16 - June 30","index":30,"n_rows":55,"n_cols":69,"rows_kept":55,"cut":false,"hidden":false,"merged":[[47,14,47,22],[48,14,48,19],[49,14,49,22],[51,10,53,22],[54,10,56,22],[45,8,45,13],[34,0,34,2],[35,0,35,2],[36,0,36,2],[37,0,37,2],[38,0,38,2],[39,0,39,2],[40,0,40,2],[41,0,41,2],[42,0,42,2],[43,0,43,2],[44,0,44,2],[33,0,33,2],[22,0,22,2],[23,0,23,2],[24,0,24,2],[25,0,25,2],[26,0,26,2],[27,0,27,2],[28,0,28,2],[29,0,29,2],[30,0,30,2],[31,0,31,2],[32,0,32,2],[21,0,21,2],[11,0,11,2],[11,29,11,30],[12,0,12,3],[13,0,13,2],[14,0,14,2],[15,0,15,2],[16,0,16,2],[17,0,17,2],[18,0,18,2],[19,0,19,2],[20,0,20,2],[10,40,10,46],[6,2,6,7],[6,8,6,13],[6,14,6,19],[7,2,7,7],[7,8,7,13],[7,14,7,19],[10,0,10,3],[10,4,10,5],[10,6,10,17],[10,18,10,21],[10,22,10,23],[0,0,0,22],[1,0,1,22],[3,0,3,23],[5,2,5,7],[5,8,5,13],[5,14,5,19]]}
["Mississippi State University"]
["Non-Exempt Employee Semi-Monthly Time Report"]
[]
["Instructions:  The Fair Labor Standards Act requires that a record of hours worked on a weekly basis be maintained for all employees except executive, administrative, managerial, faculty, and professional (non-faculty).  Department/unit heads are responsible for compiling and maintaining this record in department files on each covered employee for a period of at least (3) years."]
[]
["MSU ID #:",null,{"$f":"'July 1 - July 15'!C6","v":0},null,null,null,null,null,"Pay period start date:",null,null,null,null,null,{"$f":"'Dates & Notes'!$A$25","v":"2023-06-16"},null,null,null,null,null,null,null,null,null,null,{"$f":"TEXT(O6,\"dddd\")","v":"Friday"},null,null,null,"Please Select"]
["Name:",null,{"$f":"'July 1 - July 15'!C7","v":0},null,null,null,null,null,"Pay period end date:",null,null,null,null,null,{"$f":"'Dates & Notes'!$B$25","v":"2023-06-30"},null,null,null,null,null,null,null,null,null,null,null,null,null,null,"No"]
["Department:",null,{"$f":"'July 1 - July 15'!C8","v":0},null,null,null,null,null,"Pay Period Number:",null,null,null,null,null,{"$f":"'Dates & Notes'!$C$25","v":12},null,null,null,null,null,null,null,null,null,null,null,null,null,null,"Yes"]
[]
[]
["Employee Scheduled Hours Per Week",null,null,null,40,null,"FIELDS MUST BE ENTERED FOR CALULATIONS TO WORK PROPERLY",null,null,null,null,null,null,null,null,null,null,null,"Receive Compensatory Time",null,null,null,"Please Select",null,null,null,null,null,null,null,null,null,null,null,"Over 40",null,null,null,null,null,"HOW ANALYSIS"]
["Work Week Dates",null,null,"Day of The Week","Actual Hours Worked","Compensatory Time Used","Holiday","Medical Leave","Personal Leave","Actual Wrk Hrs During  Admin Close Period","Administrative Closing/Leave Period","Jury Duty","Military Leave","Leave Without Pay","Totals","DOC-Payroll Conversion","RTO","RTO-Payroll Conversion","Overtime Hours","Hours Transferred to Comp. Record","HOW-Holiday Pay or Admin/Leave Closing","HOT-Holiday Pay","SST-Payroll","Conversion Factor",null,8,"DOC","RTO",null,"SST",null,null,null,"Cumm Actual HRS",40,"Administrative Leave","HOW-Holiday Pay","Comp. Time","Administrative/Schedule",null,"Holiday=0\n1",2,3,4,null,"<=40\n5",null,"HOT Workup","HOT-Holiday Pay (HOLIDAY PAY)",null,"HOT-Administrative HRS","Administrative=0\n1",2,3,4,null,"<=40\n5",null,null,"Holiday Flag","Up to 40","How","Hot","Actual Hours Worked","Admin Flag","Admin","Admin HOW","Admin OVT"]
["Hours-Previous WK (Due to Split WK)",null,null,null,{"$f":"SUM(E14:E18)","v":0},0,0,0,0,0,0,0,0,0,{"$f":"SUM(E13:N13)-J13","v":0},null,null,null,null,null,null,null,null,null,null,null,null,null,null,null,null,null,null,null,null,{"$f":"IF(AND(AM13=0,J13=0),AM13,IF(AND(E13>AM13,J13=0),J13,IF(AND(J13<AM13,AI13=0),J13,IF(AND(AM13=J13,AI13<AM13),AM13-AI13,IF(AND(J13=AM13,AI13=AM13),AI13,IF(AND(J13<AM13,AI13>0),AM13-J13,IF(AND(AM13>J13,AI13<E13),E13-AI13,IF(AND(E13>AM13,AI13=E13),O13-AI13,0))))))))","v":0},{"$f":"IF(AND(G13=0,E13>G13),G13,IF(AND(E13>G13,AI13=0),G13,IF(AND(E13<G13,AI13=0),E13,IF(AND(E13=G13,AI13<G13),G13-AI13,IF(AND(E13=G13,AI13=G13),AI13,IF(AND(E13<G13,AI13>0),G13-E13,IF(AND(E13>G13,AI13<E13),E13-AI13,IF(AND(E13>G13,AI13=E13),O13-AI13,0))))))))","v":0},null,{"$f":"K13","v":0}]
[{"$f":"IF(EXACT(D14,$Z$6)=TRUE,$O$6,IF(A12=0,\"\",IF(A12<$O$7,A12+1,IF(A12=$O$7,\"\"))))","v":false},null,null,"Sunday",{"$f":"'June 1 - June 15'!E30","v":0},{"$f":"'June 1 - June 15'!F30","v":0},{"$f":"'June 1 - June 15'!G30","v":0},{"$f":"'June 1 - June 15'!H30","v":0},{"$f":"'June 1 - June 15'!I30","v":0},{"$f":"'June 1 - June 15'!J30","v":0},{"$f":"'June 1 - June 15'!K30","v":0},{"$f":"'June 1 - June 15'!L30","v":0},{"$f":"'June 1 - June 15'!M30","v":0},{"$f":"'June 1 - June 15'!N30","v":0},{"$f":"SUM(E14:N14)-J14","v":0},{"$f":"IF(AND(ISNUMBER(AA14),ISNUMBER(X14)),AA14*X14,\"\")","v":""},null,{"$f":"IF(AND(ISNUMBER(AB14),ISNUMBER(X14)),AB14*X14,\"\")","v":""},null,null,{"$f":"IF(BJ14>0,BJ14,BN14)","v":0},{"$f":"IF(BK14>0,BK14,0)","v":0},null,{"$f":"IF(ISNA(INDEX('Conversion Factors'!$B$6:$B$371,MATCH('June 16 - June 30'!$Z$14:$Z$20,'Conversion Factors'!$A$6:$A$371,0))),\"\",INDEX('Conversion Factors'!$B$6:$B$371,MATCH('June 16 - June 30'!$Z$14:$Z$20,'Conversion Factors'!$A$6:$A$371,0)))","v":""},null,{"$f":"A14","v":false},{"$f":"IF(AND(ISNUMBER(N14),ISNUMBER($Z$12)),N14/$Z$12,\"\")","v":0},{"$f":"IF(AND(ISNUMBER(Q14),ISNUMBER($Z$12)),Q14/$Z$12,\"\")","v":""},null,null,null,null,null,{"$f":"E14","v":0},{"$f":"IF(AH14>$AI$12,AH14-$AI$12,0)","v":0},{"$f":"IF(AND(AZ14>0,AZ14),IF(BA14>0,BA14,IF(BB14>0,BB14,IF(BC14>0,BC14,IF(BF14>0,BF14,\"\")))))","v":false},{"$f":"IF(AND(AO14>0,AO14),IF(AP14>0,AP14,IF(AQ14>0,AQ14,IF(AR14>0,AR14,IF(AU14>0,AU14,\"\")))))","v":false},null,{"$f":"J14","v":0},null,{"$f":"IF(G14=0,0,\"\")","v":0},{"$f":"IF(AND(AH14<=40,E14=G14),G14,0)","v":0},{"$f":"IF(AND(AH14<=40,E14>=G14,G14>0),O14-E14,0)","v":0},{"$f":"IF(AND(AH14<=40,E14<G14),O14-G14,0)","v":0},{"$f":"IF(AND(G14=0),G14,IF(AND(G14>0,AI14>0,G14=AT14),AT14,IF(AND(G14>0,AI14>0,G14-AT14),AT14,0)))","v":0},null,{"$f":"AS14","v":0},{"$f":"IF(AND(AH13+AU14=40,AI14>0,AI14>AU14),AI14-AU14,IF(AND(AH13+AU14=40,AI14>0,AI14<AU14,AU14+AI14=G14),AI14,IF(AND(AH13>40,AH14>40,G14=AI14),AI14,0)))","v":0},{"$f":"AV14","v":0},null,{"$f":"IF(AND(J14>0,AI14>=J14,BB14=0),O14-AI14,IF(AND(J14>0,AI14>0,BB14<=AI14),AI14-BB14,IF(AND(J14>0,AI14>0,BB14>AI14),J14-BB14,0)))","v":0},{"$f":"IF(J14=0,0,\"\")","v":0},{"$f":"IF(AND(AH14<=40,E14=J14),J14,0)","v":0},{"$f":"IF(AND(AZ14=0),AZ14,IF(AND(AH14>40,E14>=J14),BE14,IF(AND(AH14<=40,E14>J14),J14,0)))","v":0},{"$f":"IF(AND(AH14<=40,E14<J14),O14-J14,0)","v":0},{"$f":"IF(AND(J14=0),J14,IF(AND(J14>0,AI14>0,J14=BC14),BC14,IF(AND(J14>0,AI14>0,J14-BC14),BC14,0)))","v":0},null,{"$f":"BD14","v":0},null,{"$f":"IF(AND(G14>0,E14>0),1,0)","v":0},{"$f":"40-AH14","v":40},{"$f":"IF(AND(BH14=1,E14<8),E14,(IF(AND(BH14=1,E14>0),G14,0)))","v":0},{"$f":"IF(AND(BH14=1,BL14>40,E14<G14),E14-BJ14,(IF(AND(BH14=1,BL14>0,E14>=G14),G14-BJ14,0)))","v":0},{"$f":"E14","v":0},{"$f":"IF(AND(K14>0,E14>0),1,0)","v":0},{"$f":"IF(AND(BM14=1,J14>8),K14,(IF(AND(BM14=1,J14>0),J14,0)))","v":0},{"$f":"IF(AND(BM14=1,40-BL13>0,40-BL13<8),40-BL13,IF(AND(J14<K14),J14,K14))","v":0},{"$f":"IF(AND(BM14=1,BL14>40,J14<=K14),J14-BO14,IF(AND(BM14=1,BL14>0,J14>K14),K14-BO14,0))","v":0}]
[{"$f":"IF(EXACT(D15,$Z$6)=TRUE,$O$6,IF(A14=0,\"\",IF(A14<$O$7,A14+1,IF(A14=$O$7,\"\"))))","v":false},null,null,"Monday",{"$f":"'June 1 - June 15'!E31","v":0},{"$f":"'June 1 - June 15'!F31","v":0},{"$f":"'June 1 - June 15'!G31","v":0},{"$f":"'June 1 - June 15'!H31","v":0},{"$f":"'June 1 - June 15'!I31","v":0},{"$f":"'June 1 - June 15'!J31","v":0},{"$f":"'June 1 - June 15'!K31","v":0},{"$f":"'June 1 - June 15'!L31","v":0},{"$f":"'June 1 - June 15'!M31","v":0},{"$f":"'June 1 - June 15'!N31","v":0},{"$f":"SUM(E15:N15)-J15","v":0},{"$f":"IF(AND(ISNUMBER(AA15),ISNUMBER(X15)),AA15*X15,\"\")","v":""},null,{"$f":"IF(AND(ISNUMBER(AB15),ISNUMBER(X15)),AB15*X15,\"\")","v":""},null,null,{"$f":"IF(BJ15>0,BJ15,BN15)","v":0},{"$f":"IF(BK15>0,BK15,0)","v":0},null,{"$f":"IF(ISNA(INDEX('Conversion Factors'!$B$6:$B$371,MATCH('June 16 - June 30'!$Z$14:$Z$20,'Conversion Factors'!$A$6:$A$371,0))),\"\",INDEX('Conversion Factors'!$B$6:$B$371,MATCH('June 16 - June 30'!$Z$14:$Z$20,'Conversion Factors'!$A$6:$A$371,0)))","v":""},null,false,0,"",null,null,null,null,null,{"$f":"E15+AH14","v":0},{"$f":"IF(AH15>$AI$12,AH15-($AI$12+AI14),0)","v":0},{"$f":"IF(AND(AZ15>0,AZ15),IF(BA15>0,BA15,IF(BB15>0,BB15,IF(BC15>0,BC15,IF(BF15>0,BF15,\"\")))))","v":false},{"$f":"IF(AND(AO15>0,AO15),IF(AP15>0,AP15,IF(AQ15>0,AQ15,IF(AR15>0,AR15,IF(AU15>0,AU15,0)))))","v":false},null,0,null,0,0,0,0,0,{"$f":"IF(AND(AH14<=40),40-AH14,0)","v":40},{"$f":"AS15","v":0},0,{"$f":"AV15","v":0},null,0,0,0,0,0,0,{"$f":"IF(AND(AH14<=40),40-AH14,0)","v":40},{"$f":"BD15","v":0},null,{"$f":"IF(AND(G15>0,E15>0),1,0)","v":0},40,0,0,{"$f":"SUM(E14:E15)","v":0},{"$f":"IF(AND(K15>0,E15>0),1,0)","v":0},{"$f":"IF(AND(BM15=1,J15>8),K15,(IF(AND(BM15=1,J15>0),J15,0)))","v":0},0,0]
[false,null,null,"Tuesday",{"$f":"'June 1 - June 15'!E32","v":0},{"$f":"'June 1 - June 15'!F32","v":0},{"$f":"'June 1 - June 15'!G32","v":0},{"$f":"'June 1 - June 15'!H32","v":0},{"$f":"'June 1 - June 15'!I32","v":0},{"$f":"'June 1 - June 15'!J32","v":0},{"$f":"'June 1 - June 15'!K32","v":0},{"$f":"'June 1 - June 15'!L32","v":0},{"$f":"'June 1 - June 15'!M32","v":0},{"$f":"'June 1 - June 15'!N32","v":0},{"$f":"SUM(E16:N16)-J16","v":0},"",null,"",null,null,{"$f":"IF(BJ16>0,BJ16,BN16)","v":0},0,null,{"$f":"IF(ISNA(INDEX('Conversion Factors'!$B$6:$B$371,MATCH('June 16 - June 30'!$Z$14:$Z$20,'Conversion Factors'!$A$6:$A$371,0))),\"\",INDEX('Conversion Factors'!$B$6:$B$371,MATCH('June 16 - June 30'!$Z$14:$Z$20,'Conversion Factors'!$A$6:$A$371,0)))","v":""},null,false,0,"",null,null,null,null,null,0,{"$f":"IF(AH16>$AI$12,AH16-($AI$12+AI15+AI14),0)","v":0},false,false,null,0,null,0,0,0,0,0,40,0,0,0,null,0,0,0,0,0,0,{"$f":"IF(AND(AH15<=40),40-AH15,0)","v":40},0,null,{"$f":"IF(AND(G16>0,E16>0),1,0)","v":0},40,0,0,{"$f":"SUM(E14:E16)","v":0},0,{"$f":"IF(AND(BM16=1,J16>8),K16,(IF(AND(BM16=1,J16>0),J16,0)))","v":0},{"$f":"IF(AND(BM16=1,40-BL15>0,40-BL15<8),40-BL15,IF(AND(J16<K16),J16,K16))","v":0},0]
[false,null,null,"Wednesday",{"$f":"'June 1 - June 15'!E33","v":0},{"$f":"'June 1 - June 15'!F33","v":0},{"$f":"'June 1 - June 15'!G33","v":0},{"$f":"'June 1 - June 15'!H33","v":0},{"$f":"'June 1 - June 15'!I33","v":0},{"$f":"'June 1 - June 15'!J33","v":0},{"$f":"'June 1 - June 15'!K33","v":0},{"$f":"'June 1 - June 15'!L33","v":0},{"$f":"'June 1 - June 15'!M33","v":0},{"$f":"'June 1 - June 15'!N33","v":0},{"$f":"SUM(E17:N17)-J17","v":0},"",null,"",null,null,0,0,null,{"$f":"IF(ISNA(INDEX('Conversion Factors'!$B$6:$B$371,MATCH('June 16 - June 30'!$Z$14:$Z$20,'Conversion Factors'!$A$6:$A$371,0))),\"\",INDEX('Conversion Factors'!$B$6:$B$371,MATCH('June 16 - June 30'!$Z$14:$Z$20,'Conversion Factors'!$A$6:$A$371,0)))","v":""},null,false,0,"",null,null,null,null,null,0,{"$f":"IF(AH17>$AI$12,AH17-($AI$12+AI16+AI15+AI14),0)","v":0},false,false,null,0,null,0,0,0,0,0,40,0,0,0,null,0,0,0,0,0,0,40,0,null,0,40,0,0,{"$f":"SUM(E14:E17)","v":0},0,{"$f":"IF(AND(BM17=1,J17>8),K17,(IF(AND(BM17=1,J17>0),J17,0)))","v":0},{"$f":"IF(AND(BM17=1,40-BL16>0,40-BL16<8),40-BL16,IF(AND(J17<K17),J17,K17))","v":0},0]
[false,null,null,"Thursday",{"$f":"'June 1 - June 15'!E34","v":0},{"$f":"'June 1 - June 15'!F34","v":0},{"$f":"'June 1 - June 15'!G34","v":0},{"$f":"'June 1 - June 15'!H34","v":0},{"$f":"'June 1 - June 15'!I34","v":0},{"$f":"'June 1 - June 15'!J34","v":0},{"$f":"'June 1 - June 15'!K34","v":0},{"$f":"'June 1 - June 15'!L34","v":0},{"$f":"'June 1 - June 15'!M34","v":0},{"$f":"'June 1 - June 15'!N34","v":0},0,"",null,"",null,null,0,0,null,{"$f":"IF(ISNA(INDEX('Conversion Factors'!$B$6:$B$371,MATCH('June 16 - June 30'!$Z$14:$Z$20,'Conversion Factors'!$A$6:$A$371,0))),\"\",INDEX('Conversion Factors'!$B$6:$B$371,MATCH('June 16 - June 30'!$Z$14:$Z$20,'Conversion Factors'!$A$6:$A$371,0)))","v":""},null,false,0,"",null,null,null,null,null,0,{"$f":"IF(AH18>$AI$12,AH18-($AI$12+AI17+AI16+AI15+AI14),0)","v":0},false,false,null,0,null,0,0,0,0,0,{"$f":"IF(AND(AH17<=40),40-AH17,0)","v":40},0,0,0,null,0,0,0,0,0,0,40,0,null,0,40,0,0,{"$f":"SUM(E14:E18)","v":0},0,0,0,0]
["2023-06-16",null,null,"Friday",null,null,null,null,null,null,null,null,null,null,0,"",null,"",null,null,0,0,null,{"$f":"IF(ISNA(INDEX('Conversion Factors'!$B$6:$B$371,MATCH('June 16 - June 30'!$Z$14:$Z$20,'Conversion Factors'!$A$6:$A$371,0))),\"\",INDEX('Conversion Factors'!$B$6:$B$371,MATCH('June 16 - June 30'!$Z$14:$Z$20,'Conversion Factors'!$A$6:$A$371,0)))","v":7.8789999999999996},null,"2023-06-16","","",null,null,null,null,null,0,{"$f":"IF(AH19>$AI$12,AH19-($AI$12+AI18+AI17+AI16+AI15+AI14),0)","v":0},false,false,null,0,null,0,0,0,0,0,{"$f":"IF(AND(AH18<=40),40-AH18,0)","v":40},0,0,0,null,0,0,0,0,0,0,40,0,null,0,40,0,0,{"$f":"SUM(E14:E19)","v":0},0,0,0,{"$f":"IF(AND(BM19=1,BL19>40,J19<=K19),J19-BO19,IF(AND(BM19=1,BL19>0,J19>K19),K19-BO19,0))","v":0}]
["2023-06-17",null,null,"Saturday",null,null,null,null,null,null,null,null,null,null,{"$f":"SUM(E20:N20)-J20","v":0},"",null,"",null,null,0,0,null,{"$f":"IF(ISNA(INDEX('Conversion Factors'!$B$6:$B$371,MATCH('June 16 - June 30'!$Z$14:$Z$20,'Conversion Factors'!$A$6:$A$371,0))),\"\",INDEX('Conversion Factors'!$B$6:$B$371,MATCH('June 16 - June 30'!$Z$14:$Z$20,'Conversion Factors'!$A$6:$A$371,0)))","v":7.8789999999999996},null,"2023-06-17","","",null,null,null,null,null,0,{"$f":"IF(AH20>$AI$12,AH20-($AI$12+AI19+AI18+AI17+AI16+AI15+AI14),0)","v":0},false,false,null,0,null,0,0,0,0,0,40,0,0,0,null,0,0,0,0,0,0,40,0,null,0,40,0,0,{"$f":"SUM(E14:E20)","v":0},0,0,0,{"$f":"IF(AND(BM20=1,BL20>40,J20<=K20),J20-BO20,IF(AND(BM20=1,BL20>0,J20>K20),K20-BO20,0))","v":0}]
["Week 1 Totals",null,null,null,{"$f":"SUM(E14:E20)","v":0},{"$f":"SUM(F14:F20)","v":0},0,0,0,null,0,0,0,0,{"$f":"SUM(O14:O20)","v":0},{"$f":"-SUM(P14:P20)","v":0},{"$f":"SUM(Q14:Q20)","v":0},{"$f":"SUM(R14:R20)","v":0},{"$f":"IF(E21>40,(E21-40)-V21-BP21,0)","v":0},{"$f":"MROUND(AL21,0.25)","v":0},{"$f":"SUM(U14:U20)","v":0},{"$f":"SUM(V14:V20)","v":0},{"$f":"IF(E21-(E11-(G21+K21+F21+H21+I21+L21+M21))-(S21+U21+V21)>0,E21-(E11-(G21+K21+F21+H21+I21+L21+M21))-(S21+U21+V21),0)","v":0},null,null,null,null,null,{"$f":"SUM(F21:N21)","v":0},{"$f":"IF(AND(AG21<40,O21>=AG21),O21-(AG21+S21),IF(AND(O21<AG21,E21=O21),O21-E21,IF(AND(E21>AG21,E21<40),E21-AG21,IF(AND(O21>AG21,E21<AG21),E21-(AG21-AC21),IF(AND(O21>AG21,E21>40),E21-(AG21-AC21+S21),IF(AND(O21>AG21,O21>40),O21-(S21+AG21),0))))))","v":0},{"$f":"AD21-U21-V21","v":0},{"$f":"$W$11","v":"Please Select"},{"$f":"$E$11","v":40},null,{"$f":"IF(AH21>$AI$12,-$AI$12,0)","v":0},null,null,{"$f":"IF(AF21=\"Yes\",S21*1.5,0)","v":0},null,null,null,null,null,null,null,null,null,null,null,null,null,null,null,null,null,null,null,null,null,null,null,null,null,null,null,null,null,{"$f":"SUM(BP14:BP20)","v":0},{"$f":"E11+U21","v":40}]
[{"$f":"IF(A20=0,\"\",IF(A20<$O$7,A20+1,IF(A20=$O$7,\"\")))","v":"2023-06-18"},null,null,"Sunday",null,null,null,null,null,null,null,null,null,null,{"$f":"SUM(E22:N22)-J22","v":0},{"$f":"IF(AND(ISNUMBER(AA22),ISNUMBER(X22)),AA22*X22,\"\")","v":""},null,{"$f":"IF(AND(ISNUMBER(AB22),ISNUMBER(X22)),AB22*X22,\"\")","v":""},null,null,{"$f":"IF(BJ22>0,BJ22,BN22)","v":0},{"$f":"IF(BK22>0,BK22,0)","v":0},null,{"$f":"IF(ISNA(INDEX('Conversion Factors'!$B$6:$B$371,MATCH('June 16 - June 30'!$Z$22:$Z$28,'Conversion Factors'!$A$6:$A$371,0))),\"\",INDEX('Conversion Factors'!$B$6:$B$371,MATCH('June 16 - June 30'!$Z$22:$Z$28,'Conversion Factors'!$A$6:$A$371,0)))","v":7.8789999999999996},null,{"$f":"A22","v":"2023-06-18"},{"$f":"IF(AND(ISNUMBER(N22),ISNUMBER($Z$12)),N22/$Z$12,\"\")","v":""},{"$f":"IF(AND(ISNUMBER(Q22),ISNUMBER($Z$12)),Q22/$Z$12,\"\")","v":""},null,null,null,null,null,{"$f":"E22+AH21","v":0},{"$f":"IF(AH22>$AI$12,AH22-($AI$12+AI21),0)","v":0},{"$f":"IF(AND(AZ22>0,AZ22),IF(BA22>0,BA22,IF(BB22>0,BB22,IF(BC22>0,BC22,IF(BF22>0,BF22,\"\")))))","v":false},{"$f":"IF(AND(AO22>0,AO22),IF(AP22>0,AP22,IF(AQ22>0,AQ22,IF(AR22>0,AR22,IF(AU22>0,AU22,\"\")))))","v":false},null,{"$f":"J22","v":0},null,{"$f":"IF(G22=0,0,\"\")","v":0},{"$f":"IF(AND(AH22<=40,E22=G22),G22,0)","v":0},{"$f":"IF(AND(AH22<=40,E22>=G22,G22>0),O22-E22,0)","v":0},{"$f":"IF(AND(AH22<=40,E22<G22),O22-G22,0)","v":0},{"$f":"IF(AND(G22=0),G22,IF(AND(G22>0,AI22>0,G22=AT22),AT22,IF(AND(G22>0,AI22>0,G22-AT22),AT22,0)))","v":0},null,{"$f":"AS22","v":0},{"$f":"IF(AND(AH21+AU22=40,AI22>0,AI22>AU22),AI22-AU22,IF(AND(AH21+AU22=40,AI22>0,AI22<AU22,AU22+AI22=G22),AI22,IF(AND(AH21>40,AH22>40,G22=AI22),AI22,0)))","v":0},{"$f":"AV22","v":0},null,{"$f":"IF(AND(J22>0,AI22>0,BB22<=AI22),AI22-BB22,IF(AND(J22>0,AI22>0,BB22>AI22),J22-BB22,0))","v":0},{"$f":"IF(J22=0,0,\"\")","v":0},{"$f":"IF(AND(AH22<=40,E22=J22),J22,0)","v":0},{"$f":"IF(AND(AZ22=0),AZ22,IF(AND(AH22>40,E22>=J22),BE22,IF(AND(AH22<=40,E22>J22),J22,0)))","v":0},{"$f":"IF(AND(AH22<=40,E22<J22),O22-J22,0)","v":0},{"$f":"IF(AND(J22=0),J22,IF(AND(J22>0,AI22>0,J22=BC22),BC22,IF(AND(J22>0,AI22>0,J22-BC22),BC22,0)))","v":0},null,{"$f":"BD22","v":0},null,{"$f":"IF(AND(G22>0,E22>0),1,0)","v":0},{"$f":"40-AH22","v":40},0,{"$f":"IF(AND(BH22=1,BL22>40,E22<G22),E22-BJ22,(IF(AND(BH22=1,BL22>0,E22>=G22),G22-BJ22,0)))","v":0},{"$f":"E22","v":0},{"$f":"IF(AND(K22>0,E22>0),1,0)","v":0},{"$f":"IF(AND(BM22=1,J22>8),K22,(IF(AND(BM22=1,J22>0),J22,0)))","v":0},{"$f":"IF(AND(BM22=1,40-BL21>0,40-BL21<8),40-BL21,IF(AND(J22<K22),J22,K22))","v":0},{"$f":"IF(AND(BM22=1,BL22>40,J22<=K22),J22-BO22,IF(AND(BM22=1,BL22>0,J22>K22),K22-BO22,0))","v":0}]
[{"$f":"IF(A22<$O$7,A22+1,IF(A22=$O$7,\"\"))","v":"2023-06-19"},null,null,"Monday",null,null,null,null,null,null,null,null,null,null,{"$f":"SUM(E23:N23)-J23","v":0},{"$f":"IF(AND(ISNUMBER(AA23),ISNUMBER(X23)),AA23*X23,\"\")","v":""},null,{"$f":"IF(AND(ISNUMBER(AB23),ISNUMBER(X23)),AB23*X23,\"\")","v":""},null,null,{"$f":"IF(BJ23>0,BJ23,BN23)","v":0},{"$f":"IF(BK23>0,BK23,0)","v":0},null,{"$f":"IF(ISNA(INDEX('Conversion Factors'!$B$6:$B$371,MATCH('June 16 - June 30'!$Z$22:$Z$28,'Conversion Factors'!$A$6:$A$371,0))),\"\",INDEX('Conversion Factors'!$B$6:$B$371,MATCH('June 16 - June 30'!$Z$22:$Z$28,'Conversion Factors'!$A$6:$A$371,0)))","v":7.8789999999999996},null,"2023-06-19","","",null,null,null,null,null,0,{"$f":"IF(AH23>$AI$12,AH23-($AI$12+AI22+AI21),0)","v":0},false,{"$f":"IF(AND(AO23>0,AO23),IF(AP23>0,AP23,IF(AQ23>0,AQ23,IF(AR23>0,AR23,IF(AU23>0,AU23,0)))))","v":false},null,0,null,0,0,0,0,0,{"$f":"IF(AND(AH22<=40),40-AH22,0)","v":40},{"$f":"AS23","v":0},0,{"$f":"AV23","v":0},null,{"$f":"IF(AND(J23>0,AI23>0,BB23<=AI23),AI23-BB23,IF(AND(J23>0,AI23>0,BB23>AI23),J23-BB23,0))","v":0},0,0,0,0,0,{"$f":"IF(AND(AH22<=40),40-AH22,0)","v":40},{"$f":"BD23","v":0},null,{"$f":"IF(AND(G23>0,E23>0),1,0)","v":0},40,0,0,{"$f":"SUM(E22:E23)","v":0},{"$f":"IF(AND(K23>0,E23>0),1,0)","v":0},{"$f":"IF(AND(BM23=1,J23>8),K23,(IF(AND(BM23=1,J23>0),J23,0)))","v":0},0,0]
["2023-06-20",null,null,"Tuesday",null,null,null,null,null,null,null,null,null,null,{"$f":"SUM(E24:N24)-J24","v":0},"",null,"",null,null,{"$f":"IF(BJ24>0,BJ24,BN24)","v":0},0,null,{"$f":"IF(ISNA(INDEX('Conversion Factors'!$B$6:$B$371,MATCH('June 16 - June 30'!$Z$22:$Z$28,'Conversion Factors'!$A$6:$A$371,0))),\"\",INDEX('Conversion Factors'!$B$6:$B$371,MATCH('June 16 - June 30'!$Z$22:$Z$28,'Conversion Factors'!$A$6:$A$371,0)))","v":7.8789999999999996},null,"2023-06-20","","",null,null,null,null,null,0,{"$f":"IF(AH24>$AI$12,AH24-($AI$12+AI23+AI22+AI21),0)","v":0},false,false,null,0,null,0,0,0,0,0,40,0,0,0,null,{"$f":"IF(AND(J24>0,AI24>0,BB24<=AI24),AI24-BB24,IF(AND(J24>0,AI24>0,BB24>AI24),J24-BB24,0))","v":0},0,0,0,0,0,{"$f":"IF(AND(AH23<=40),40-AH23,0)","v":40},0,null,{"$f":"IF(AND(G24>0,E24>0),1,0)","v":0},40,0,0,{"$f":"SUM(E22:E24)","v":0},0,{"$f":"IF(AND(BM24=1,J24>8),K24,(IF(AND(BM24=1,J24>0),J24,0)))","v":0},{"$f":"IF(AND(BM24=1,40-BL23>0,40-BL23<8),40-BL23,IF(AND(J24<K24),J24,K24))","v":0},0]
["2023-06-21",null,null,"Wednesday",null,null,null,null,null,null,null,null,null,null,0,"",null,"",null,null,0,0,null,{"$f":"IF(ISNA(INDEX('Conversion Factors'!$B$6:$B$371,MATCH('June 16 - June 30'!$Z$22:$Z$28,'Conversion Factors'!$A$6:$A$371,0))),\"\",INDEX('Conversion Factors'!$B$6:$B$371,MATCH('June 16 - June 30'!$Z$22:$Z$28,'Conversion Factors'!$A$6:$A$371,0)))","v":7.8789999999999996},null,"2023-06-21","","",null,null,null,null,null,0,{"$f":"IF(AH25>$AI$12,AH25-($AI$12+AI24+AI23+AI22+AI21),0)","v":0},false,false,null,0,null,0,0,0,0,0,40,0,0,0,null,{"$f":"IF(AND(J25>0,AI25>0,BB25<=AI25),AI25-BB25,IF(AND(J25>0,AI25>0,BB25>AI25),J25-BB25,0))","v":0},0,0,0,0,0,40,0,null,0,40,0,0,{"$f":"SUM(E22:E25)","v":0},0,{"$f":"IF(AND(BM25=1,J25>8),K25,(IF(AND(BM25=1,J25>0),J25,0)))","v":0},{"$f":"IF(AND(BM25=1,40-BL24>0,40-BL24<8),40-BL24,IF(AND(J25<K25),J25,K25))","v":0},0]
["2023-06-22",null,null,"Thursday",null,null,null,null,null,null,null,null,null,null,0,"",null,"",null,null,0,0,null,{"$f":"IF(ISNA(INDEX('Conversion Factors'!$B$6:$B$371,MATCH('June 16 - June 30'!$Z$22:$Z$28,'Conversion Factors'!$A$6:$A$371,0))),\"\",INDEX('Conversion Factors'!$B$6:$B$371,MATCH('June 16 - June 30'!$Z$22:$Z$28,'Conversion Factors'!$A$6:$A$371,0)))","v":7.8789999999999996},null,"2023-06-22","","",null,null,null,null,null,0,{"$f":"IF(AH26>$AI$12,AH26-($AI$12+AI25+AI24+AI23+AI22+AI21),0)","v":0},false,false,null,0,null,0,0,0,0,0,{"$f":"IF(AND(AH25<=40),40-AH25,0)","v":40},0,0,0,null,{"$f":"IF(AND(J26>0,AI26>=J26,BB26=0),O26-AI26,IF(AND(J26>0,AI26>0,BB26<=AI26),AI26-BB26,IF(AND(J26>0,AI26>0,BB26>AI26),J26-BB26,0)))","v":0},0,0,0,0,0,40,0,null,0,40,0,0,{"$f":"SUM(E22:E26)","v":0},0,0,0,0]
["2023-06-23",null,null,"Friday",null,null,null,null,null,null,null,null,null,null,0,"",null,"",null,null,0,0,null,{"$f":"IF(ISNA(INDEX('Conversion Factors'!$B$6:$B$371,MATCH('June 16 - June 30'!$Z$22:$Z$28,'Conversion Factors'!$A$6:$A$371,0))),\"\",INDEX('Conversion Factors'!$B$6:$B$371,MATCH('June 16 - June 30'!$Z$22:$Z$28,'Conversion Factors'!$A$6:$A$371,0)))","v":7.8789999999999996},null,"2023-06-23","","",null,null,null,null,null,0,{"$f":"IF(AH27>$AI$12,AH27-($AI$12+AI26+AI25+AI24+AI23+AI22+AI21),0)","v":0},false,false,null,0,null,0,0,0,0,0,{"$f":"IF(AND(AH26<=40),40-AH26,0)","v":40},0,0,0,null,{"$f":"IF(AND(J27>0,AI27>=J27,BB27=0),O27-AI27,IF(AND(J27>0,AI27>0,BB27<=AI27),AI27-BB27,IF(AND(J27>0,AI27>0,BB27>AI27),J27-BB27,0)))","v":0},0,0,0,0,0,40,0,null,0,40,0,0,{"$f":"SUM(E22:E27)","v":0},0,0,0,{"$f":"IF(AND(BM27=1,BL27>40,J27<=K27),J27-BO27,IF(AND(BM27=1,BL27>0,J27>K27),K27-BO27,0))","v":0}]
["2023-06-24",null,null,"Saturday",null,null,null,null,null,null,null,null,null,null,{"$f":"SUM(E28:N28)-J28","v":0},"",null,"",null,null,0,0,null,{"$f":"IF(ISNA(INDEX('Conversion Factors'!$B$6:$B$371,MATCH('June 16 - June 30'!$Z$22:$Z$28,'Conversion Factors'!$A$6:$A$371,0))),\"\",INDEX('Conversion Factors'!$B$6:$B$371,MATCH('June 16 - June 30'!$Z$22:$Z$28,'Conversion Factors'!$A$6:$A$371,0)))","v":7.8789999999999996},null,"2023-06-24","","",null,null,null,null,null,0,{"$f":"IF(AH28>$AI$12,AH28-($AI$12+AI27+AI26+AI25+AI24+AI23+AI22+AI21),0)","v":0},false,false,null,0,null,0,0,0,0,0,40,0,0,0,null,{"$f":"IF(AND(J28>0,AI28>=J28,BB28=0),O28-AI28,IF(AND(J28>0,AI28>0,BB28<=AI28),AI28-BB28,IF(AND(J28>0,AI28>0,BB28>AI28),J28-BB28,0)))","v":0},0,0,0,0,0,40,0,null,0,40,0,0,{"$f":"SUM(E22:E28)","v":0},0,0,0,{"$f":"IF(AND(BM28=1,BL28>40,J28<=K28),J28-BO28,IF(AND(BM28=1,BL28>0,J28>K28),K28-BO28,0))","v":0}]
["Week 2 Totals",null,null,null,{"$f":"SUM(E22:E28)","v":0},0,0,0,0,null,0,0,0,0,{"$f":"SUM(O22:O28)","v":0},{"$f":"-SUM(P22:P28)","v":0},{"$f":"SUM(Q22:Q28)","v":0},{"$f":"SUM(R22:R28)","v":0},{"$f":"IF(E29>40,(E29-40)-V29,0)","v":0},{"$f":"MROUND(AL29,0.25)","v":0},{"$f":"SUM(U22:U28)","v":0},{"$f":"SUM(V22:V28)","v":0},{"$f":"IF(E29-(E11-(G29+K29+F29+H29+I29+L29+M29))-(S29+U29+V29)>0,E29-(E11-(G29+K29+F29+H29+I29+L29+M29))-(S29+U29+V29),0)","v":0},null,null,null,null,null,{"$f":"SUM(F29:N29)","v":0},{"$f":"IF(AND(AG29<40,O29>=AG29),O29-(AG29+S29),IF(AND(O29<AG29,E29=O29),O29-E29,IF(AND(E29>AG29,E29<40),E29-AG29,IF(AND(O29>AG29,E29<AG29),E29-(AG29-AC29),IF(AND(O29>AG29,E29>40),E29-(AG29-AC29+S29),IF(AND(O29>AG29,O29>40),O29-(S29+AG29),0))))))","v":0},{"$f":"AD29-U29-V29","v":0},{"$f":"$W$11","v":"Please Select"},{"$f":"$E$11","v":40},null,{"$f":"IF(AH29>$AI$12,-$AI$12,0)","v":0},null,null,{"$f":"IF(AF29=\"Yes\",S29*1.5,0)","v":0},0,null,null,null,null,null,null,null,null,null,null,null,null,0,null,null,null,null,null,null,null,null,null,null,null,null,null,null,null,{"$f":"SUM(BP22:BP28)","v":0},{"$f":"U29+E11","v":40}]
[{"$f":"IF(A28<$O$7,A28+1,IF(A28=$O$7,\"\"))","v":"2023-06-25"},null,null,"Sunday",null,null,null,null,null,null,null,null,null,null,{"$f":"SUM(E30:N30)-J30","v":0},{"$f":"IF(AND(ISNUMBER(AA30),ISNUMBER(X30)),AA30*X30,\"\")","v":""},null,{"$f":"IF(AND(ISNUMBER(AB30),ISNUMBER(X30)),AB30*X30,\"\")","v":""},null,null,{"$f":"IF(BJ30>0,BJ30,BN30)","v":0},{"$f":"IF(BK30>0,BK30,0)","v":0},null,{"$f":"IF(ISNA(INDEX('Conversion Factors'!$B$6:$B$370,MATCH('June 16 - June 30'!$Z$30:$Z$36,'Conversion Factors'!$A$6:$A$370,0))),\"\",INDEX('Conversion Factors'!$B$6:$B$370,MATCH('June 16 - June 30'!$Z$30:$Z$36,'Conversion Factors'!$A$6:$A$370,0)))","v":7.8789999999999996},null,{"$f":"A30","v":"2023-06-25"},{"$f":"IF(AND(ISNUMBER(N30),ISNUMBER($Z$12)),N30/$Z$12,\"\")","v":""},{"$f":"IF(AND(ISNUMBER(Q30),ISNUMBER($Z$12)),Q30/$Z$12,\"\")","v":""},null,null,null,null,null,{"$f":"E30+AH29","v":0},{"$f":"IF(AH30>$AI$12,AH30-($AI$12+AI29),0)","v":0},{"$f":"IF(AND(AZ30>0,AZ30),IF(BA30>0,BA30,IF(BB30>0,BB30,IF(BC30>0,BC30,IF(BF30>0,BF30,\"\")))))","v":false},{"$f":"IF(AND(AO30>0,AO30),IF(AP30>0,AP30,IF(AQ30>0,AQ30,IF(AR30>0,AR30,IF(AU30>0,AU30,\"\")))))","v":false},null,0,null,{"$f":"IF(G30=0,0,\"\")","v":0},{"$f":"IF(AND(AH30<=40,E30=G30),G30,0)","v":0},{"$f":"IF(AND(AH30<=40,E30>=G30,G30>0),O30-E30,0)","v":0},{"$f":"IF(AND(AH30<=40,E30<G30),O30-G30,0)","v":0},{"$f":"IF(AND(G30=0),G30,IF(AND(G30>0,AI30>0,G30=AT30),AT30,IF(AND(G30>0,AI30>0,G30-AT30),AT30,0)))","v":0},null,{"$f":"AS30","v":0},{"$f":"IF(AND(AH29+AU30=40,AI30>0,AI30>AU30),AI30-AU30,IF(AND(AH29+AU30=40,AI30>0,AI30<AU30,AU30+AI30=G30),AI30,IF(AND(AH29>40,AH30>40,G30=AI30),AI30,0)))","v":0},{"$f":"AV30","v":0},null,{"$f":"IF(AND(J30>0,AI30>=J30,BB30=0),O30-AI30,IF(AND(J30>0,AI30>0,BB30<=AI30),AI30-BB30,IF(AND(J30>0,AI30>0,BB30>AI30),J30-BB30,0)))","v":0},0,{"$f":"IF(AND(AH30<=40,E30=J30),J30,0)","v":0},{"$f":"IF(AND(AZ30=0),AZ30,IF(AND(AH30>40,E30>=J30),BE30,IF(AND(AH30<=40,E30>J30),J30,0)))","v":0},{"$f":"IF(AND(AH30<=40,E30<J30),O30-J30,0)","v":0},{"$f":"IF(AND(J30=0),J30,IF(AND(J30>0,AI30>0,J30=BC30),BC30,IF(AND(J30>0,AI30>0,J30-BC30),BC30,0)))","v":0},null,{"$f":"BD30","v":0},null,{"$f":"IF(AND(G30>0,E30>0),1,0)","v":0},{"$f":"40-AH30","v":40},0,{"$f":"IF(AND(BH30=1,BL30>40,E30<G30),E30-BJ30,(IF(AND(BH30=1,BL30>0,E30>=G30),G30-BJ30,0)))","v":0},{"$f":"E30","v":0},{"$f":"IF(AND(K30>0,E30>0),1,0)","v":0},{"$f":"IF(AND(BM30=1,J30>8),K30,(IF(AND(BM30=1,J30>0),J30,0)))","v":0},{"$f":"IF(AND(BM30=1,40-BL29>0,40-BL29<8),40-BL29,IF(AND(J30<K30),J30,K30))","v":0},{"$f":"IF(AND(BM30=1,BL30>40,J30<=K30),J30-BO30,IF(AND(BM30=1,BL30>0,J30>K30),K30-BO30,0))","v":0}]
[{"$f":"IF(A30<$O$7,A30+1,IF(A30=$O$7,\"\"))","v":"2023-06-26"},null,null,"Monday",null,null,null,null,null,null,null,null,null,null,{"$f":"SUM(E31:N31)-J31","v":0},{"$f":"IF(AND(ISNUMBER(AA31),ISNUMBER(X31)),AA31*X31,\"\")","v":""},null,{"$f":"IF(AND(ISNUMBER(AB31),ISNUMBER(X31)),AB31*X31,\"\")","v":""},null,null,0,{"$f":"IF(BK31>0,BK31,0)","v":0},null,{"$f":"IF(ISNA(INDEX('Conversion Factors'!$B$6:$B$370,MATCH('June 16 - June 30'!$Z$30:$Z$36,'Conversion Factors'!$A$6:$A$370,0))),\"\",INDEX('Conversion Factors'!$B$6:$B$370,MATCH('June 16 - June 30'!$Z$30:$Z$36,'Conversion Factors'!$A$6:$A$370,0)))","v":7.8789999999999996},null,"2023-06-26","","",null,null,null,null,null,0,{"$f":"IF(AH31>$AI$12,AH31-($AI$12+AI30+AI29),0)","v":0},false,{"$f":"IF(AND(AO31>0,AO31),IF(AP31>0,AP31,IF(AQ31>0,AQ31,IF(AR31>0,AR31,IF(AU31>0,AU31,0)))))","v":false},null,0,null,0,0,0,0,0,{"$f":"IF(AND(AH30<=40),40-AH30,0)","v":40},{"$f":"AS31","v":0},0,{"$f":"AV31","v":0},null,0,0,0,0,0,0,{"$f":"IF(AND(AH30<=40),40-AH30,0)","v":40},{"$f":"BD31","v":0},null,{"$f":"IF(AND(G31>0,E31>0),1,0)","v":0},40,0,0,{"$f":"SUM(E30:E31)","v":0},{"$f":"IF(AND(K31>0,E31>0),1,0)","v":0},{"$f":"IF(AND(BM31=1,J31>8),K31,(IF(AND(BM31=1,J31>0),J31,0)))","v":0},0,0]
["2023-06-27",null,null,"Tuesday",null,null,null,null,null,null,null,null,null,null,0,"",null,"",null,null,0,0,null,{"$f":"IF(ISNA(INDEX('Conversion Factors'!$B$6:$B$370,MATCH('June 16 - June 30'!$Z$30:$Z$36,'Conversion Factors'!$A$6:$A$370,0))),\"\",INDEX('Conversion Factors'!$B$6:$B$370,MATCH('June 16 - June 30'!$Z$30:$Z$36,'Conversion Factors'!$A$6:$A$370,0)))","v":7.8789999999999996},null,"2023-06-27","","",null,null,null,null,null,0,{"$f":"IF(AH32>$AI$12,AH32-($AI$12+AI31+AI30+AI29),0)","v":0},false,false,null,0,null,0,0,0,0,0,40,0,0,0,null,0,0,0,0,0,0,{"$f":"IF(AND(AH31<=40),40-AH31,0)","v":40},0,null,{"$f":"IF(AND(G32>0,E32>0),1,0)","v":0},40,0,0,{"$f":"SUM(E30:E32)","v":0},0,{"$f":"IF(AND(BM32=1,J32>8),K32,(IF(AND(BM32=1,J32>0),J32,0)))","v":0},{"$f":"IF(AND(BM32=1,40-BL31>0,40-BL31<8),40-BL31,IF(AND(J32<K32),J32,K32))","v":0},0]
["2023-06-28",null,null,"Wednesday",null,null,null,null,null,null,null,null,null,null,0,"",null,"",null,null,0,0,null,{"$f":"IF(ISNA(INDEX('Conversion Factors'!$B$6:$B$370,MATCH('June 16 - June 30'!$Z$30:$Z$36,'Conversion Factors'!$A$6:$A$370,0))),\"\",INDEX('Conversion Factors'!$B$6:$B$370,MATCH('June 16 - June 30'!$Z$30:$Z$36,'Conversion Factors'!$A$6:$A$370,0)))","v":7.8789999999999996},null,"2023-06-28","","",null,null,null,null,null,0,{"$f":"IF(AH33>$AI$12,AH33-($AI$12+AI32+AI31+AI30+AI29),0)","v":0},false,false,null,0,null,0,0,0,0,0,40,0,0,0,null,0,0,0,0,0,0,40,0,null,{"$f":"IF(AND(G33>0,E33>0),1,0)","v":0},40,0,0,{"$f":"SUM(E30:E33)","v":0},0,{"$f":"IF(AND(BM33=1,J33>8),K33,(IF(AND(BM33=1,J33>0),J33,0)))","v":0},{"$f":"IF(AND(BM33=1,40-BL32>0,40-BL32<8),40-BL32,IF(AND(J33<K33),J33,K33))","v":0},0]
["2023-06-29",null,null,"Thursday",null,null,null,null,null,null,null,null,null,null,0,"",null,"",null,null,0,0,null,{"$f":"IF(ISNA(INDEX('Conversion Factors'!$B$6:$B$370,MATCH('June 16 - June 30'!$Z$30:$Z$36,'Conversion Factors'!$A$6:$A$370,0))),\"\",INDEX('Conversion Factors'!$B$6:$B$370,MATCH('June 16 - June 30'!$Z$30:$Z$36,'Conversion Factors'!$A$6:$A$370,0)))","v":7.8789999999999996},null,"2023-06-29","","",null,null,null,null,null,0,{"$f":"IF(AH34>$AI$12,AH34-($AI$12+AI33+AI32+AI31+AI30+AI29),0)","v":0},false,false,null,0,null,0,0,0,0,0,{"$f":"IF(AND(AH33<=40),40-AH33,0)","v":40},0,0,0,null,0,0,0,0,0,0,40,0,null,0,40,0,0,{"$f":"SUM(E30:E34)","v":0},0,0,0,0]
["2023-06-30",null,null,"Friday",null,null,null,null,null,null,null,null,null,null,0,"",null,"",null,null,0,0,null,{"$f":"IF(ISNA(INDEX('Conversion Factors'!$B$6:$B$370,MATCH('June 16 - June 30'!$Z$30:$Z$36,'Conversion Factors'!$A$6:$A$370,0))),\"\",INDEX('Conversion Factors'!$B$6:$B$370,MATCH('June 16 - June 30'!$Z$30:$Z$36,'Conversion Factors'!$A$6:$A$370,0)))","v":7.8789999999999996},null,"2023-06-30","","",null,null,null,null,null,0,{"$f":"IF(AH35>$AI$12,AH35-($AI$12+AI34+AI33+AI32+AI31+AI30+AI29),0)","v":0},false,false,null,0,null,0,0,0,0,0,{"$f":"IF(AND(AH34<=40),40-AH34,0)","v":40},0,0,0,null,0,0,0,0,0,0,40,0,null,0,40,0,0,{"$f":"SUM(E30:E35)","v":0},0,0,0,{"$f":"IF(AND(BM35=1,BL35>40,J35<=K35),J35-BO35,IF(AND(BM35=1,BL35>0,J35>K35),K35-BO35,0))","v":0}]
["",null,null,"Saturday",null,null,null,null,null,null,null,null,null,null,0,"",null,"",null,null,0,0,null,{"$f":"IF(ISNA(INDEX('Conversion Factors'!$B$6:$B$370,MATCH('June 16 - June 30'!$Z$30:$Z$36,'Conversion Factors'!$A$6:$A$370,0))),\"\",INDEX('Conversion Factors'!$B$6:$B$370,MATCH('June 16 - June 30'!$Z$30:$Z$36,'Conversion Factors'!$A$6:$A$370,0)))","v":""},null,"","","",null,null,null,null,null,0,{"$f":"IF(AH36>$AI$12,AH36-($AI$12+AI35+AI34+AI33+AI32+AI31+AI30+AI29),0)","v":0},false,false,null,0,null,0,0,0,0,0,40,0,0,0,null,0,0,0,0,0,0,40,0,null,0,40,0,0,{"$f":"SUM(E30:E36)","v":0},0,0,0,{"$f":"IF(AND(BM36=1,BL36>40,J36<=K36),J36-BO36,IF(AND(BM36=1,BL36>0,J36>K36),K36-BO36,0))","v":0}]
["Week 3 Totals",null,null,null,{"$f":"SUM(E30:E36)","v":0},0,0,0,0,null,0,0,0,0,{"$f":"SUM(O30:O36)","v":0},{"$f":"-SUM(P30:P36)","v":0},{"$f":"SUM(Q30:Q36)","v":0},{"$f":"SUM(R30:R36)","v":0},{"$f":"IF(E37>40,(E37-40)-V37,0)","v":0},{"$f":"MROUND(AL37,0.25)","v":0},{"$f":"SUM(U30:U36)","v":0},{"$f":"SUM(V30:V36)","v":0},{"$f":"IF(E37-(E11-(G37+K37+F37+H37+I37+L37+M3))-(S37+U37+V37)>0,E37-(E11-(G37+K37+F37+H37+I37+L37+M37))-(S37+U37+V37),0)","v":0},null,null,null,null,null,{"$f":"SUM(F37:N37)","v":0},{"$f":"IF(AND(AG37<40,O37>=AG37),O37-(AG37+S37),IF(AND(O37<AG37,E37=O37),O37-E37,IF(AND(E37>AG37,E37<40),E37-AG37,IF(AND(O37>AG37,E37<AG37),E37-(AG37-AC37),IF(AND(O37>AG37,E37>40),E37-(AG37-AC37+S37),IF(AND(O37>AG37,O37>40),O37-(S37+AG37),0))))))","v":0},{"$f":"AD37-U37-V37","v":0},{"$f":"$W$11","v":"Please Select"},{"$f":"$E$11","v":40},null,{"$f":"IF(AH37>$AI$12,-$AI$12,0)","v":0},null,null,{"$f":"IF(AF37=\"Yes\",S37*1.5,0)","v":0},null,null,null,null,null,null,null,null,null,null,null,null,null,null,null,null,null,null,null,null,null,0,null,null,null,null,null,null,null,{"$f":"SUM(BP30:BP36)","v":0},{"$f":"U37+E11","v":40}]
[{"$f":"IF(A36<$O$7,A36+1,IF(A36=$O$7,\"\"))","v":false},null,null,"Sunday",null,null,null,null,null,null,null,null,null,null,{"$f":"SUM(E38:N38)-J38","v":0},{"$f":"IF(AND(ISNUMBER(AA38),ISNUMBER(X38)),AA38*X38,\"\")","v":""},null,{"$f":"IF(AND(ISNUMBER(AB38),ISNUMBER(X38)),AB38*X38,\"\")","v":""},null,null,0,{"$f":"IF(BK38>0,BK38,0)","v":0},null,{"$f":"IF(ISNA(INDEX('Conversion Factors'!$B$6:$B$370,MATCH('June 16 - June 30'!$Z$38:$Z$44,'Conversion Factors'!$A$6:$A$370,0))),\"\",INDEX('Conversion Factors'!$B$6:$B$370,MATCH('June 16 - June 30'!$Z$38:$Z$44,'Conversion Factors'!$A$6:$A$370,0)))","v":""},null,{"$f":"A38","v":false},{"$f":"IF(AND(ISNUMBER(N38),ISNUMBER($Z$12)),N38/$Z$12,\"\")","v":""},{"$f":"IF(AND(ISNUMBER(Q38),ISNUMBER($Z$12)),Q38/$Z$12,\"\")","v":""},null,null,null,null,null,{"$f":"E38+AH37","v":0},{"$f":"IF(AH38>$AI$12,AH38-($AI$12+AI37),0)","v":0},{"$f":"IF(AND(AZ38>0,AZ38),IF(BA38>0,BA38,IF(BB38>0,BB38,IF(BC38>0,BC38,IF(BF38>0,BF38,\"\")))))","v":false},{"$f":"IF(AND(AO38>0,AO38),IF(AP38>0,AP38,IF(AQ38>0,AQ38,IF(AR38>0,AR38,IF(AU38>0,AU38,\"\")))))","v":false},null,{"$f":"J38","v":0},null,{"$f":"IF(G38=0,0,\"\")","v":0},{"$f":"IF(AND(AH38<=40,E38=G38),G38,0)","v":0},{"$f":"IF(AND(AH38<=40,E38>=G38,G38>0),O38-E38,0)","v":0},{"$f":"IF(AND(AH38<=40,E38<G38),O38-G38,0)","v":0},{"$f":"IF(AND(G38=0),G38,IF(AND(G38>0,AI38>0,G38=AT38),AT38,IF(AND(G38>0,AI38>0,G38-AT38),AT38,0)))","v":0},null,{"$f":"AS38","v":0},{"$f":"IF(AND(AH37+AU38=40,AI38>0,AI38>AU38),AI38-AU38,IF(AND(AH37+AU38=40,AI38>0,AI38<AU38,AU38+AI38=G38),AI38,IF(AND(AH37>40,AH38>40,G38=AI38),AI38,0)))","v":0},{"$f":"AV38","v":0},null,{"$f":"IF(AND(J38>0,AI38>=J38,BB38=0),O38-AI38,IF(AND(J38>0,AI38>0,BB38<=AI38),AI38-BB38,IF(AND(J38>0,AI38>0,BB38>AI38),J38-BB38,0)))","v":0},{"$f":"IF(J38=0,0,\"\")","v":0},{"$f":"IF(AND(AH38<=40,E38=J38),J38,0)","v":0},{"$f":"IF(AND(AZ38=0),AZ38,IF(AND(AH38>40,E38>=J38),BE38,IF(AND(AH38<=40,E38>J38),J38,0)))","v":0},{"$f":"IF(AND(AH38<=40,E38<J38),O38-J38,0)","v":0},{"$f":"IF(AND(J38=0),J38,IF(AND(J38>0,AI38>0,J38=BC38),BC38,IF(AND(J38>0,AI38>0,J38-BC38),BC38,0)))","v":0},null,{"$f":"BD38","v":0},null,{"$f":"IF(AND(G38>0,E38>0),1,0)","v":0},{"$f":"40-AH38","v":40},0,{"$f":"IF(AND(BH38=1,BL38>40,E38<G38),E38-BJ38,(IF(AND(BH38=1,BL38>0,E38>=G38),G38-BJ38,0)))","v":0},{"$f":"E38","v":0},{"$f":"IF(AND(K38>0,E38>0),1,0)","v":0},{"$f":"IF(AND(BM38=1,J38>8),K38,(IF(AND(BM38=1,J38>0),J38,0)))","v":0},{"$f":"IF(AND(BM38=1,40-BL37>0,40-BL37<8),40-BL37,IF(AND(J38<K38),J38,K38))","v":0},{"$f":"IF(AND(BM38=1,BL38>40,J38<=K38),J38-BO38,IF(AND(BM38=1,BL38>0,J38>K38),K38-BO38,0))","v":0}]
[{"$f":"IF(A38<$O$7,A38+1,IF(A38=$O$7,\"\"))","v":false},null,null,"Monday",null,null,null,0,null,null,null,null,null,null,{"$f":"SUM(E39:N39)-J39","v":0},{"$f":"IF(AND(ISNUMBER(AA39),ISNUMBER(X39)),AA39*X39,\"\")","v":""},null,{"$f":"IF(AND(ISNUMBER(AB39),ISNUMBER(X39)),AB39*X39,\"\")","v":""},null,null,0,{"$f":"IF(BK39>0,BK39,0)","v":0},null,{"$f":"IF(ISNA(INDEX('Conversion Factors'!$B$6:$B$370,MATCH('June 16 - June 30'!$Z$38:$Z$44,'Conversion Factors'!$A$6:$A$370,0))),\"\",INDEX('Conversion Factors'!$B$6:$B$370,MATCH('June 16 - June 30'!$Z$38:$Z$44,'Conversion Factors'!$A$6:$A$370,0)))","v":""},null,false,"","",null,null,null,null,null,0,{"$f":"IF(AH39>$AI$12,AH39-($AI$12+AI38+AI37),0)","v":0},false,{"$f":"IF(AND(AO39>0,AO39),IF(AP39>0,AP39,IF(AQ39>0,AQ39,IF(AR39>0,AR39,IF(AU39>0,AU39,0)))))","v":false},null,0,null,0,0,0,0,0,{"$f":"IF(AND(AH38<=40),40-AH38,0)","v":40},{"$f":"AS39","v":0},0,{"$f":"AV39","v":0},null,0,0,0,0,0,0,{"$f":"IF(AND(AH38<=40),40-AH38,0)","v":40},{"$f":"BD39","v":0},null,{"$f":"IF(AND(G39>0,E39>0),1,0)","v":0},40,0,0,{"$f":"SUM(E38:E39)","v":0},{"$f":"IF(AND(K39>0,E39>0),1,0)","v":0},{"$f":"IF(AND(BM39=1,J39>8),K39,(IF(AND(BM39=1,J39>0),J39,0)))","v":0},0,0]
[false,null,null,"Tuesday",null,null,null,null,null,0,0,null,null,null,{"$f":"SUM(E40:N40)-J40","v":0},"",null,"",null,null,0,0,null,{"$f":"IF(ISNA(INDEX('Conversion Factors'!$B$6:$B$370,MATCH('June 16 - June 30'!$Z$38:$Z$44,'Conversion Factors'!$A$6:$A$370,0))),\"\",INDEX('Conversion Factors'!$B$6:$B$370,MATCH('June 16 - June 30'!$Z$38:$Z$44,'Conversion Factors'!$A$6:$A$370,0)))","v":""},null,false,"","",null,null,null,null,null,0,{"$f":"IF(AH40>$AI$12,AH40-($AI$12+AI39+AI38+AI37),0)","v":0},false,false,null,0,null,0,0,0,0,0,40,0,0,0,null,0,0,0,0,0,0,{"$f":"IF(AND(AH39<=40),40-AH39,0)","v":40},0,null,{"$f":"IF(AND(G40>0,E40>0),1,0)","v":0},40,0,0,{"$f":"SUM(E38:E40)","v":0},0,{"$f":"IF(AND(BM40=1,J40>8),K40,(IF(AND(BM40=1,J40>0),J40,0)))","v":0},{"$f":"IF(AND(BM40=1,40-BL39>0,40-BL39<8),40-BL39,IF(AND(J40<K40),J40,K40))","v":0},0]
[false,null,null,"Wednesday",null,null,null,null,null,null,null,null,null,null,0,"",null,"",null,null,0,0,null,{"$f":"IF(ISNA(INDEX('Conversion Factors'!$B$6:$B$370,MATCH('June 16 - June 30'!$Z$38:$Z$44,'Conversion Factors'!$A$6:$A$370,0))),\"\",INDEX('Conversion Factors'!$B$6:$B$370,MATCH('June 16 - June 30'!$Z$38:$Z$44,'Conversion Factors'!$A$6:$A$370,0)))","v":""},null,false,"","",null,null,null,null,null,0,{"$f":"IF(AH41>$AI$12,AH41-($AI$12+AI40+AI39+AI38+AI37),0)","v":0},false,false,null,0,null,0,0,0,0,0,40,0,0,0,null,0,0,0,0,0,0,40,0,null,{"$f":"IF(AND(G41>0,E41>0),1,0)","v":0},40,0,0,{"$f":"SUM(E38:E41)","v":0},0,{"$f":"IF(AND(BM41=1,J41>8),K41,(IF(AND(BM41=1,J41>0),J41,0)))","v":0},{"$f":"IF(AND(BM41=1,40-BL40>0,40-BL40<8),40-BL40,IF(AND(J41<K41),J41,K41))","v":0},0]
[false,null,null,"Thursday",null,null,null,null,null,null,null,null,null,null,0,"",null,"",null,null,0,0,null,{"$f":"IF(ISNA(INDEX('Conversion Factors'!$B$6:$B$370,MATCH('June 16 - June 30'!$Z$38:$Z$44,'Conversion Factors'!$A$6:$A$370,0))),\"\",INDEX('Conversion Factors'!$B$6:$B$370,MATCH('June 16 - June 30'!$Z$38:$Z$44,'Conversion Factors'!$A$6:$A$370,0)))","v":""},null,false,"","",null,null,null,null,null,0,{"$f":"IF(AH42>$AI$12,AH42-($AI$12+AI41+AI40+AI39+AI38+AI37),0)","v":0},false,false,null,0,null,0,0,0,0,0,{"$f":"IF(AND(AH41<=40),40-AH41,0)","v":40},0,0,0,null,0,0,0,0,0,0,40,0,null,0,40,0,0,{"$f":"SUM(E38:E42)","v":0},0,0,0,0]
[false,null,null,"Friday",null,null,null,null,null,null,null,null,null,null,0,"",null,"",null,null,0,0,null,{"$f":"IF(ISNA(INDEX('Conversion Factors'!$B$6:$B$370,MATCH('June 16 - June 30'!$Z$38:$Z$44,'Conversion Factors'!$A$6:$A$370,0))),\"\",INDEX('Conversion Factors'!$B$6:$B$370,MATCH('June 16 - June 30'!$Z$38:$Z$44,'Conversion Factors'!$A$6:$A$370,0)))","v":""},null,false,"","",null,null,null,null,null,0,{"$f":"IF(AH43>$AI$12,AH43-($AI$12+AI42+AI41+AI40+AI39+AI38+AI37),0)","v":0},false,false,null,0,null,0,0,0,0,0,{"$f":"IF(AND(AH42<=40),40-AH42,0)","v":40},0,0,0,null,0,0,0,0,0,0,40,0,null,0,40,0,0,{"$f":"SUM(E38:E43)","v":0},0,0,0,{"$f":"IF(AND(BM43=1,BL43>40,J43<=K43),J43-BO43,IF(AND(BM43=1,BL43>0,J43>K43),K43-BO43,0))","v":0}]
[false,null,null,"Saturday",null,null,null,null,null,null,null,null,null,null,{"$f":"SUM(E44:N44)-J44","v":0},"",null,"",null,null,0,0,null,{"$f":"IF(ISNA(INDEX('Conversion Factors'!$B$6:$B$370,MATCH('June 16 - June 30'!$Z$38:$Z$44,'Conversion Factors'!$A$6:$A$370,0))),\"\",INDEX('Conversion Factors'!$B$6:$B$370,MATCH('June 16 - June 30'!$Z$38:$Z$44,'Conversion Factors'!$A$6:$A$370,0)))","v":""},null,false,"","",null,null,null,null,null,0,{"$f":"IF(AH44>$AI$12,AH44-($AI$12+AI43+AI42+AI41+AI40+AI39+AI38+AI37),0)","v":0},false,false,null,0,null,0,0,0,0,0,40,0,0,0,null,0,0,0,0,0,0,40,0,null,0,40,0,0,{"$f":"SUM(E38:E44)","v":0},0,0,0,{"$f":"IF(AND(BM44=1,BL44>40,J44<=K44),J44-BO44,IF(AND(BM44=1,BL44>0,J44>K44),K44-BO44,0))","v":0}]
["Week 4 Totals",null,null,null,{"$f":"SUM(E38:E44)","v":0},{"$f":"SUM(F38:F44)","v":0},0,0,0,null,0,0,0,0,{"$f":"SUM(O38:O44)","v":0},{"$f":"-SUM(P38:P44)","v":0},{"$f":"SUM(Q38:Q44)","v":0},{"$f":"SUM(R38:R44)","v":0},{"$f":"IF(E45>40,(E45-40)-V45,0)","v":0},{"$f":"MROUND(AL45,0.25)","v":0},{"$f":"SUM(U38:U44)","v":0},{"$f":"SUM(V38:V44)","v":0},{"$f":"IF(E45-(E11-(G45+K45+F45+H45+I45+L45+M45))-(S45+U45+V45)>0,E45-(E11-(G45+K45+F45+H45+I45+L45+M45))-(S45+U45+V45),0)","v":0},null,null,null,null,null,{"$f":"SUM(F45:N45)","v":0},{"$f":"IF(AND(AG45<40,O45>=AG45),O45-(AG45+S45),IF(AND(O45<AG45,E45=O45),O45-E45,IF(AND(E45>AG45,E45<40),E45-AG45,IF(AND(O45>AG45,E45<AG45),E45-(AG45-AC45),IF(AND(O45>AG45,E45>40),E45-(AG45-AC45+S45),IF(AND(O45>AG45,O45>40),O45-(S45+AG45),0))))))","v":0},{"$f":"AD45-U45-V45","v":0},{"$f":"$W$11","v":"Please Select"},{"$f":"$E$11","v":40},null,{"$f":"IF(AH45>$AI$12,-$AI$12,0)","v":0},null,null,{"$f":"IF(AF45=\"Yes\",S45*1.5,0)","v":0},null,null,null,null,null,null,null,null,null,null,null,null,null,null,null,null,null,null,null,null,null,null,null,null,null,null,null,null,null,{"$f":"SUM(BP38:BP44)","v":0},{"$f":"E44+E11","v":40}]
[null,null,null,null,null,null,null,null,"Total-Net Previous Week",null,null,null,null,null,{"$f":"(O21+O29+O37+O45)-O13","v":0},{"$f":"(P21+P29+P37+P45)-P13","v":0},0,0,0,0,0,0,0,0]
[]
[null,null,null,null,null,null,null,null,null,null,null,null,null,null,"Leave/Leave Without Pay Policy"]
["Employee signature",null,null,null,null,null,"Date",null,null,null,null,null,null,null,"Overtime/Compensatory Time"]
["I certify this record is accurate and accounts for my time during the indicated period.",null,null,null,null,null,null,null,null,null,null,null,null,null,"Time Sheet Definitions/Policies"]
[]
[null,null,null,null,null,null,null,null,null,null,"“Actual Work Hours During Administrative Close Period” – Only key the hours actually worked during the admministrative closing period into this field. "]
[]
["Manager signature",null,null,null,null,null,"Date"]
["I certify the hours recorded and coded on this form are correct and in compliance with University policy.",null,null,null,null,null,null,null,null,null,"“Administrative Closing/Leave Period field.”  Entter the number of hours of the declared period of administrative closing. (The total hours worked during the entire day will be entered into the “Actual Hours Worked” field.)"]